{"text_format":"1","workbook":"xlsx","n_sheets":3,"sheets":["Market Data","Long or Short","Trading Rule"],"not_rendered":{"charts":4,"images":0,"macros":1,"external_links":0,"defined_names":3,"comments":0,"pivot_tables":0},"unopened":[],"bounds":{"document_bytes":16777216,"sheet_cells":100000,"rows_first":2000,"rows_last":500,"rows_between":2000,"halvings":0,"cell_chars":16384,"cell_head_chars":4096},"cells_cut":0,"cells_raw":0,"read":"whole","date_system":"1900"}

{"sheet":"Market Data","index":0,"n_rows":3315,"n_cols":6,"rows_kept":3315,"cut":false,"hidden":false,"merged":[]}
[]
[null,"DAX Index"]
[]
[null,"Date","Open","High","Low","Close"]
[null,19991230,8863.5,8935.5,8853.5,8930.5]
[null,20000103,9091.5,9113.5,8670.5,8708]
[null,20000104,8703.5,8703.5,8459.5,8533.5]
[null,20000105,8370.5,8525.5,8366.5,8435.5]
[null,20000106,8427.5,8480.5,8341,8409]
[null,20000107,8463.5,8738.5,8452.5,8733.5]
[null,20000110,8833.5,8922.5,8805.5,8863.5]
[null,20000111,8843.5,8884.5,8764.5,8842]
[null,20000112,8763.5,8850,8732,8841.5]
[null,20000113,8843.5,9048.5,8827,8912.5]
[null,20000114,8953.5,9149.5,8953.5,9132.5]
[null,20000117,9166.5,9229.5,9050,9210.5]
[null,20000118,9210.5,9241.5,8993.5,9026.5]
[null,20000119,8993.5,9052.5,8918.5,9031.5]
[null,20000120,9119.5,9131,9011,9043.5]
[null,20000121,8973.5,9036.5,8866.5,8916]
[null,20000124,8963.5,9023.5,8850.5,8853.5]
[null,20000125,8784.5,8836.5,8745.5,8794.5]
[null,20000126,8819.5,8908,8762.5,8893]
[null,20000127,8927.5,9100.5,8866.5,9064.5]
[null,20000128,9043.5,9148,8968.5,8998.5]
[null,20000131,8932.5,8936,8737.5,8761.5]
[null,20000201,8864.5,8958.5,8822.5,8944.5]
[null,20000202,9002.5,9084.5,8954.5,9083]
[null,20000203,9103.5,9271.5,9056,9261.5]
[null,20000204,9321,9377.5,9249.5,9303.5]
[null,20000207,9304.5,9331,9171.5,9219]
[null,20000208,9211.5,9481.5,9203.5,9445.5]
[null,20000209,9466.5,9589.5,9439.5,9562.5]
[null,20000210,9449.5,9596.5,9432,9574.5]
[null,20000211,9651.5,9738.5,9499.5,9613.5]
[null,20000214,9504.5,9587,9468.5,9551.5]
[null,20000215,9562.5,9610,9333.5,9340]
[null,20000216,9466,9488.5,9268.5,9430]
[null,20000217,9427.5,9555.5,9309,9540.5]
[null,20000218,9511.5,9580.5,9467,9499.5]
[null,20000221,9386.5,9476.5,9363.5,9470.5]
[null,20000222,9463.5,9636.5,9454.5,9533]
[null,20000223,9563,9689.5,9552.5,9615]
[null,20000224,9693.5,9727.5,9491.5,9543.5]
[null,20000225,9656.5,9696.5,9568.5,9689]
[null,20000228,9643.5,9668.5,9404.5,9493.5]
[null,20000229,9553.5,9620,9527.5,9591.5]
[null,20000301,9639.5,9681.5,9530.5,9630.5]
[null,20000302,9643,9863.5,9539,9858.5]
[null,20000303,9843.5,9936.5,9794,9874]
[null,20000306,9878.5,9915.5,9838.5,9882.5]
[null,20000307,9942.5,10039.5,9829,9966.5]
[null,20000308,9906.5,10019.5,9858.5,9883.5]
[null,20000309,9960.5,9978.5,9785,9870.5]
[null,20000310,9953.5,9962.5,9860,9892.5]
[null,20000313,9843.5,9843.5,9548.5,9596.5]
[null,20000314,9633.5,9658.5,9549.5,9563.5]
[null,20000315,9457.5,9494.5,9314,9344.5]
[null,20000316,9416.5,9539.5,9368.5,9495]
[null,20000317,9679.5,9722,9462.5,9623.5]
[null,20000320,9661.5,9775.5,9627,9763.5]
[null,20000321,9744.5,9751,9631,9702.5]
[null,20000322,9765.5,9842,9676,9692.5]
[null,20000323,9731,9754.5,9561.5,9645.5]
[null,20000324,9697.5,9807.5,9639.5,9796.5]
[null,20000327,9804.5,9824.5,9722,9791.5]
[null,20000328,9784.5,9927.5,9776.5,9817.5]
[null,20000329,9806.5,9856,9751.5,9780.5]
[null,20000330,9674.5,9686.5,9505.5,9542.5]
[null,20000331,9519.5,9597.5,9409.5,9449.5]
[null,20000403,9455.5,9527.5,9288,9319]
[null,20000404,9364.5,9452.5,9344.5,9426.5]
[null,20000405,9366.5,9422,9089.5,9190.5]
[null,20000406,9251.5,9358.5,9196.5,9330]
[null,20000407,9364.5,9404.5,9271,9392]
[null,20000410,9444.5,9484.5,9382,9409.5]
[null,20000411,9259.5,9357,9249.5,9319.5]
[null,20000412,9346.5,9392,9286,9294.5]
[null,20000413,9194.5,9322.5,9167.5,9318.5]
[null,20000414,9224.5,9279.5,9033.5,9069.5]
[null,20000417,8824.5,9059.5,8781.5,9048.5]
[null,20000418,9118.5,9130,8963,9091.5]
[null,20000419,9164.5,9169,9009.5,9077]
[null,20000420,9076.5,9101,9036.5,9064.5]
[null,20000425,9035.5,9225,8960.5,9167.5]
[null,20000426,9214.5,9317.5,9178,9245.5]
[null,20000427,9249.5,9289,9017.5,9064.5]
[null,20000428,9164.5,9305.5,9135.5,9305.5]
[null,20000502,9339.5,9436,9334.5,9424.5]
[null,20000503,9367.5,9443,9219.5,9224.5]
[null,20000504,9229.5,9293.5,9185.5,9253]
[null,20000505,9274.5,9374,9199.5,9370.5]
[null,20000508,9375.5,9396.5,9247.5,9267]
[null,20000509,9254.5,9270,9092,9121.5]
[null,20000510,9094.5,9196.5,8962.5,8986.5]
[null,20000511,8927.5,9143.5,8876,9137.5]
[null,20000512,9135.5,9194.5,9064,9125]
[null,20000515,9138.5,9138.5,9053.5,9064.5]
[null,20000516,9125.5,9264.5,9113,9247.5]
[null,20000517,9210.5,9210.5,9054.5,9073.5]
[null,20000518,9049.5,9121.5,9014.5,9019.5]
[null,20000519,9012.5,9012.5,8813,8855]
[null,20000522,8847.5,8899.5,8680,8780]
[null,20000523,8836.5,8878,8737.5,8791.5]
[null,20000524,8675.5,8728.5,8656,8708.5]
[null,20000525,8757.5,8857,8742.5,8806.5]
[null,20000526,8726.5,8833,8685.5,8802.5]
[null,20000529,8858.5,8887,8839,8880.5]
[null,20000530,8896.5,9012,8891.5,8973.5]
[null,20000531,9054.5,9059.5,8956.5,8974.5]
[null,20000601,9014.5,9134.5,9004,9122.5]
[null,20000602,9110.5,9314.5,9099.5,9289.5]
[null,20000605,9290.5,9300,9205.5,9255.5]
[null,20000606,9264.5,9319.5,9150.5,9206.5]
[null,20000607,9164.5,9178.5,9096,9141.5]
[null,20000608,9178.5,9242.5,9060.5,9117.5]
[null,20000609,9142.5,9209,9077,9081.5]
[null,20000612,9124.5,9165,9068.5,9085.5]
[null,20000613,9080.5,9159.5,9017.5,9116.5]
[null,20000614,9147,9223,9096,9204]
[null,20000615,9198,9236,9168,9195.5]
[null,20000616,9224.5,9228,9083,9105.5]
[null,20000619,9033,9073,8974,9068.5]
[null,20000620,9079.5,9110,9040.5,9060.5]
[null,20000621,9043,9081,8929,8976]
[null,20000622,8988,9013,8859,8898.5]
[null,20000623,8898,8919,8817,8818]
[null,20000626,8813,8926.5,8800,8868]
[null,20000627,8873,8901,8795,8876.5]
[null,20000628,8901,8904.5,8835,8893]
[null,20000629,8883,8883,8671,8705]
[null,20000630,8738,8783,8696.5,8713]
[null,20000703,8733,8791.5,8664,8791.5]
[null,20000704,8748,8806,8730.5,8773]
[null,20000705,8782,8917.5,8768,8799]
[null,20000706,8778,8805.5,8718,8783]
[null,20000707,8804.5,8879.5,8733,8871]
[null,20000710,8887.5,8951,8851,8889]
[null,20000711,8873,8884.5,8776.5,8819]
[null,20000712,8849.5,8922,8836,8888.5]
[null,20000713,8884,9011.5,8823,9007]
[null,20000714,9014,9161,8985,9142]
[null,20000717,9168.5,9243,9140.5,9236]
[null,20000718,9208,9273,9173,9207]
[null,20000719,9207,9213.5,9137,9178]
[null,20000720,9148,9308,9143,9303]
[null,20000721,9294,9312.5,9188,9197.5]
[null,20000724,9168.5,9243.5,9120,9122]
[null,20000725,9114,9170,9105.5,9148]
[null,20000726,9159,9168,9061.5,9083]
[null,20000727,9082,9141,8975.5,8990.5]
[null,20000728,8994,9034,8878,8933]
[null,20000731,8933,9060,8914,9035]
[null,20000801,9034,9039,8898.5,8957]
[null,20000802,8978,9004,8872,8926]
[null,20000803,8879,8898.5,8757,8803]
[null,20000804,8834,8908,8805,8823]
[null,20000807,8848,8937,8837,8933]
[null,20000808,8918,8992.5,8883,8944]
[null,20000809,8972,9063.5,8971,9038]
[null,20000810,9013,9108.5,9010,9069.5]
[null,20000811,9063,9125,9019,9114]
[null,20000814,9129,9162,9090,9111]
[null,20000815,9157,9167.5,9071,9083]
[null,20000816,9103,9156,9082.5,9119]
[null,20000817,9118,9126,8998,9060]
[null,20000818,9063,9112,9007,9010.5]
[null,20000821,9038,9038,8933.5,8976]
[null,20000822,8998,9074,8991.5,9037]
[null,20000823,9043,9043,8938,9002]
[null,20000824,9058,9063.5,8994,8998]
[null,20000825,9024,9120,9015,9108]
[null,20000828,9119,9182,9088.5,9126]
[null,20000829,9105.5,9109.5,9049,9068]
[null,20000830,9055,9057,8954,8959]
[null,20000831,8976,9031,8943,9023]
[null,20000901,9005,9175.5,9005,9133.5]
[null,20000904,9138,9231,9137,9222]
[null,20000905,9221.5,9221.5,9146,9169]
[null,20000906,9163,9209,9088,9091]
[null,20000907,9070,9157,9059.5,9143]
[null,20000908,9151.5,9163,9019,9029.5]
[null,20000911,9022,9041,8964.5,8987.5]
[null,20000912,8948,8970,8896,8908.5]
[null,20000913,8919.5,8930,8757,8773]
[null,20000914,8788.5,8859,8762,8811.5]
[null,20000915,8794.5,8837.5,8727.5,8776.5]
[null,20000918,8704.5,8736.5,8625.5,8640]
[null,20000919,8629.5,8685,8601,8683.5]
[null,20000920,8710.5,8719,8475.5,8498]
[null,20000921,8552.5,8563,8330,8413.5]
[null,20000922,8239.5,8481,8239,8466.5]
[null,20000925,8519.5,8569.5,8489.5,8519.5]
[null,20000926,8499,8589.5,8475.5,8499]
[null,20000927,8469.5,8607,8460.5,8526.5]
[null,20000928,8536.5,8594.5,8462,8587.5]
[null,20000929,8569.5,8630.5,8516,8548.5]
[null,20001002,8524.5,8651.5,8510,8619.5]
[null,20001004,8599.5,8636,8497,8568]
[null,20001005,8583.5,8652.5,8570,8615]
[null,20001006,8634.5,8661.5,8444.5,8468]
[null,20001009,8471.5,8492.5,8357.5,8419]
[null,20001010,8448.5,8466,8394.5,8414.5]
[null,20001011,8334.5,8375.5,8200,8297]
[null,20001012,8324.5,8379.5,8099.5,8175.5]
[null,20001013,8144.5,8374.5,8109.5,8361.5]
[null,20001016,8414.5,8418.5,8306,8352.5]
[null,20001017,8350,8397,8257,8263.5]
[null,20001018,8219,8243.5,8015.5,8209]
[null,20001019,8234.5,8347,8222,8314.5]
[null,20001020,8350.5,8382,8258,8338.5]
[null,20001023,8367.5,8372,8260,8357]
[null,20001024,8361.5,8558.5,8326.5,8541]
[null,20001025,8481,8529.5,8414.5,8478]
[null,20001026,8454.5,8573.5,8449.5,8458]
[null,20001027,8559.5,8652.5,8546,8645.5]
[null,20001030,8633.5,8672.5,8595.5,8667.5]
[null,20001031,8673.5,8810.5,8669.5,8798.5]
[null,20001101,8807.5,8818.5,8728,8779.5]
[null,20001102,8791.5,8858.5,8775.5,8802.5]
[null,20001103,8824.5,8869.5,8788,8848]
[null,20001106,8870.5,8898,8822.5,8851.5]
[null,20001107,8852.5,8852.5,8742,8792]
[null,20001108,8828.5,8844,8709.5,8729]
[null,20001109,8689.5,8733,8637.5,8643]
[null,20001110,8669.5,8718.5,8536,8542.5]
[null,20001113,8514,8532,8394.5,8451.5]
[null,20001114,8488.5,8661.5,8485.5,8659.5]
[null,20001115,8635.5,8663.5,8583,8646.5]
[null,20001116,8619.5,8621,8505,8512.5]
[null,20001117,8484.5,8542.5,8414.5,8434.5]
[null,20001120,8454.5,8498.5,8289.5,8296]
[null,20001121,8312.5,8379.5,8287.5,8364.5]
[null,20001122,8320.5,8329,8170,8205.5]
[null,20001123,8209.5,8316.5,8156.5,8296.5]
[null,20001124,8323.5,8404.5,8262.5,8354.5]
[null,20001127,8410.5,8496.5,8369.5,8382.5]
[null,20001128,8371.5,8412,8297,8319.5]
[null,20001129,8273.5,8348,8221.5,8288.5]
[null,20001130,8234.5,8254.5,8050,8074.5]
[null,20001201,8159.5,8230.5,8140,8194.5]
[null,20001204,8184.5,8191.5,8028.5,8114]
[null,20001205,8156.5,8319,8148.5,8307.5]
[null,20001206,8374.5,8397,8286.5,8292.5]
[null,20001207,8255.5,8334,8178.5,8249.5]
[null,20001208,8279.5,8428.5,8279.5,8356.5]
[null,20001211,8423.5,8485,8406,8464.5]
[null,20001212,8463.5,8491,8407.5,8413.5]
[null,20001213,8464.5,8480.5,8259.5,8286.5]
[null,20001214,8239.5,8254.5,8122,8149.5]
[null,20001215,8069.5,8110.5,8015.5,8023]
[null,20001218,8061.5,8144,8023,8033]
[null,20001219,8051,8179.5,7973.5,8168.5]
[null,20001220,8043.5,8098.5,7885.5,7918.5]
[null,20001221,7888.5,7960.5,7769,7876.5]
[null,20001222,7917.5,7947.5,7860.5,7932.5]
[null,20001227,7961.5,8023.5,7930.5,8003.5]
[null,20001228,8038.5,8058,7985,7993.5]
["Historical",20001229,8058.5,8133.5,8025,8098.5]
["Data",20010102,8068.5,8098.5,7929.5,7938.5]
[null,20010103,7898.5,8122.5,7825,8087.5]
[null,20010104,8168.5,8173,8016.5,8033.5]
[null,20010105,8068.5,8132.5,7995,8024]
[null,20010108,8012.5,8082.5,8003.5,8024]
[null,20010109,8100.5,8114.5,8005,8028.5]
[null,20010110,8058.5,8063.5,7937,7997]
[null,20010111,7997,8132,7984,8126]
[null,20010112,8128.5,8197.5,8116,8142.5]
[null,20010115,8166,8202,8136,8175.5]
[null,20010116,8178.5,8182,8094.5,8159.5]
[null,20010117,8199.5,8315,8199.5,8285.5]
[null,20010118,8263.5,8300,8233.5,8289]
[null,20010119,8348.5,8378,8274.5,8303]
[null,20010122,8308.5,8332.5,8237.5,8298]
[null,20010123,8300.5,8348.5,8244.5,8343.5]
[null,20010124,8366,8392,8325.5,8336]
[null,20010125,8337.5,8415.5,8314.5,8380.5]
[null,20010126,8315,8338.5,8290,8331.5]
[null,20010129,8331.5,8388.5,8297,8381.5]
[null,20010130,8382.5,8426.5,8341.5,8364.5]
[null,20010131,8379.5,8423,8354.5,8401]
[null,20010201,8377.5,8397,8336.5,8353.5]
[null,20010202,8383.5,8386.5,8259,8268]
[null,20010205,8235.5,8268.5,8229,8263.5]
[null,20010206,8270.5,8322.5,8250.5,8306.5]
[null,20010207,8270.5,8278,8217.5,8218.5]
[null,20010208,8232.5,8292,8211,8256.5]
[null,20010209,8229.5,8238.5,8124.5,8127]
[null,20010212,8140.5,8197.5,8129,8190]
[null,20010213,8206.5,8228.5,8167,8192]
[null,20010214,8153.5,8165.5,8076,8112.5]
[null,20010215,8130.5,8200.5,8104.5,8188.5]
[null,20010216,8138.5,8151,8073.5,8073.5]
[null,20010219,8098.5,8111,8068.5,8089.5]
[null,20010220,8099.5,8149,8042,8063.5]
[null,20010221,8028.5,8034.5,7929,7966.5]
[null,20010222,7929.5,7977,7836,7881.5]
[null,20010223,7916.5,7933.5,7675.5,7680.5]
[null,20010226,7772.5,7826.5,7742,7793.5]
[null,20010227,7806,7872.5,7771.5,7807.5]
[null,20010228,7793.5,7900,7780,7813]
[null,20010301,7773.5,7786.5,7703.5,7710]
[null,20010302,7718.5,7793.5,7657,7787.5]
[null,20010305,7787.5,7822,7739,7796]
[null,20010306,7838.5,7915.5,7835.5,7905.5]
[null,20010307,7867.5,7948.5,7859,7923]
[null,20010308,7933.5,7943.5,7850.5,7864.5]
[null,20010309,7833.5,7867.5,7793.5,7816.5]
[null,20010312,7753.5,7758.5,7643,7645]
[null,20010313,7565.5,7616.5,7531,7566]
[null,20010314,7603.5,7603.5,7254.5,7385.5]
[null,20010315,7441,7476.5,7357.5,7447]
[null,20010316,7456,7464.5,7320.5,7334.5]
[null,20010319,7365,7406.5,7238.5,7261.5]
[null,20010320,7320,7379.5,7300.5,7371.5]
[null,20010321,7269.5,7322.5,7188.5,7214.5]
[null,20010322,7187.5,7201.5,6939,6969.5]
[null,20010323,7089.5,7161.5,7052.5,7138.5]
[null,20010326,7207.5,7343.5,7185,7338]
[null,20010327,7294.5,7505,7275,7495.5]
[null,20010328,7454.5,7466.5,7361.5,7381.5]
[null,20010329,7342.5,7463.5,7293,7454.5]
[null,20010330,7424.5,7524.5,7379.5,7390]
[null,20010402,7488.5,7489.5,7276.5,7293.5]
[null,20010403,7273.5,7284,7091,7115]
[null,20010404,7089.5,7213.5,6962.5,7170]
[null,20010405,7230.5,7367.5,7208.5,7355]
[null,20010406,7396.5,7398,7230,7270]
[null,20010409,7254.5,7394,7251.5,7361.5]
[null,20010410,7372,7494.5,7365.5,7465]
[null,20010411,7454.5,7594.5,7449.5,7522.5]
[null,20010412,7543.5,7607.5,7487.5,7599.5]
[null,20010417,7502.5,7543,7406.5,7507]
[null,20010418,7622.5,7778.5,7608.5,7752.5]
[null,20010419,7759.5,7767.5,7686,7760.5]
[null,20010420,7776.5,7783.5,7679,7698.5]
[null,20010423,7694.5,7696.5,7610,7631.5]
[null,20010424,7639.5,7745,7634.5,7716.5]
[null,20010425,7665.5,7726.5,7641.5,7720]
[null,20010426,7722.5,7749.5,7637.5,7731.5]
[null,20010427,7680.5,7777.5,7654.5,7758.5]
[null,20010430,7774.5,7860,7764.5,7844.5]
[null,20010502,7859.5,7868,7771,7809]
[null,20010503,7819.5,7828.5,7643.5,7655.5]
[null,20010504,7664.5,7727,7585,7724]
[null,20010507,7738.5,7777.5,7678,7703.5]
[null,20010508,7684.5,7758.5,7653,7689.5]
[null,20010509,7659.5,7678.5,7604.5,7642.5]
[null,20010510,7655,7800.5,7655,7756.5]
[null,20010511,7714.5,7770.5,7697,7710.5]
[null,20010514,7684.5,7689,7615.5,7627.5]
[null,20010515,7670.5,7675.5,7597.5,7624.5]
[null,20010516,7614.5,7754.5,7531,7748.5]
[null,20010517,7801.5,7809.5,7712,7738.5]
[null,20010518,7709.5,7793.5,7696.5,7762.5]
[null,20010521,7789.5,7841.5,7709.5,7817.5]
[null,20010522,7843.5,7917,7820.5,7841.5]
[null,20010523,7817.5,7867.5,7786,7814.5]
[null,20010524,7785.5,7887.5,7774.5,7851.5]
[null,20010525,7851.5,7879.5,7779,7799.5]
[null,20010528,7779.5,7849.5,7760,7788.5]
[null,20010529,7793.5,7816,7686.5,7694]
[null,20010530,7664.5,7682.5,7616.5,7619.5]
[null,20010531,7594.5,7727.5,7563,7717]
[null,20010601,7679.5,7750,7624.5,7708]
[null,20010604,7714.5,7760.5,7708.5,7736.5]
[null,20010605,7774.5,7833.5,7723,7828.5]
[null,20010606,7840.5,7844.5,7742,7772.5]
[null,20010607,7769.5,7791.5,7725.5,7782.5]
[null,20010608,7799.5,7837,7737,7746.5]
[null,20010611,7746.5,7797.5,7704.5,7735.5]
[null,20010612,7729.5,7739,7593.5,7628.5]
[null,20010613,7664,7713.5,7644,7688]
[null,20010614,7659,7663,7582,7589.5]
[null,20010615,7554,7589,7451,7495]
[null,20010618,7514,7514,7412,7433.5]
[null,20010619,7454,7542,7449,7490]
[null,20010620,7425,7454,7374,7432]
[null,20010621,7478.5,7486,7392,7476]
[null,20010622,7472,7512,7428,7462]
[null,20010625,7434,7508,7425,7458]
[null,20010626,7427,7435.5,7319,7401]
[null,20010627,7394,7408,7366.5,7390]
[null,20010628,7373,7529,7308,7527]
[null,20010629,7524,7617.5,7508,7609]
[null,20010702,7567.5,7684.5,7552,7661.5]
[null,20010703,7644,7661,7588.5,7617]
[null,20010704,7616,7633,7546.5,7555]
[null,20010705,7494.5,7594.5,7484,7538]
[null,20010706,7482,7495,7391,7408.5]
[null,20010709,7424,7443,7332,7421]
[null,20010710,7426,7470,7346,7346]
[null,20010711,7294,7355.5,7274,7344.5]
[null,20010712,7434,7466,7401.5,7434]
[null,20010713,7435,7489.5,7387,7475]
[null,20010716,7469,7469,7374,7384]
[null,20010717,7364,7390,7324,7389]
[null,20010718,7352,7357.5,7246.5,7259]
[null,20010719,7290,7358,7240.5,7334]
[null,20010720,7294,7316.5,7244,7284.5]
[null,20010723,7264,7381.5,7235.5,7334]
[null,20010724,7274,7319.5,7193,7193.5]
[null,20010725,7211,7264,7080.5,7104]
[null,20010726,7154,7203.5,7105.5,7199]
[null,20010727,7224,7311,7218,7290]
[null,20010730,7254,7364,7244,7322]
[null,20010731,7324,7393,7287.5,7382.5]
[null,20010801,7356,7394,7342.5,7371]
[null,20010802,7379,7462,7289,7304.5]
[null,20010803,7327,7337.5,7267.5,7282]
[null,20010806,7282,7331,7235,7288]
[null,20010807,7259,7313,7217.5,7278]
[null,20010808,7236.5,7258,7136.5,7146]
[null,20010809,7089,7111,6992,7034]
[null,20010810,7059,7095.5,6907,6965.5]
[null,20010813,6961.5,7023.5,6921.5,6996]
[null,20010814,7031,7092,7011.5,7044]
[null,20010815,7021,7053,6945,6974.5]
[null,20010816,6924,6932,6850.5,6884]
[null,20010817,6902.5,6932,6688,6730]
[null,20010820,6724,6781.5,6640,6704.5]
[null,20010821,6734,6768,6684,6744.5]
[null,20010822,6672,6839,6658.5,6737.5]
[null,20010823,6760,6794,6697.5,6765.5]
[null,20010824,6797,6942,6791,6924]
[null,20010827,6930,6968,6892,6920]
[null,20010828,6919,6966,6794.5,6820]
[null,20010829,6789,6859,6751,6809]
[null,20010830,6825,6844.5,6661.5,6673]
[null,20010831,6679,6737,6641,6691]
[null,20010903,6669,6680.5,6569.5,6605]
[null,20010904,6672,6732,6538.5,6712]
[null,20010905,6634,6658,6527,6560]
[null,20010906,6609,6614,6350.5,6381]
[null,20010907,6404,6416,6207,6220]
[null,20010910,6207,6261,6029,6179.5]
[null,20010911,6219,6287,5617,5763]
[null,20010912,5674,5904,5647,5829]
[null,20010913,5881,5896,5774,5864.5]
[null,20010914,5893,5938,5620,5644]
[null,20010917,5658.5,5840.5,5481,5718.5]
[null,20010918,5658.5,5714,5618,5688]
[null,20010919,5692,5779,5508,5525.5]
[null,20010920,5599.5,5601,5263,5272.5]
[null,20010921,5214,5322,5024,5297.5]
[null,20010924,5404,5547,5357,5540]
[null,20010925,5466,5624,5437.5,5507]
[null,20010926,5562,5675,5519,5544]
[null,20010927,5554,5662,5535.5,5655]
[null,20010928,5739,5813,5729.5,5765.5]
[null,20011001,5779,5779,5667.5,5753]
[null,20011002,5734,5789,5644,5762.5]
[null,20011003,5764,5932.5,5667.5,5915]
[null,20011004,5935.5,6047,5901,6039]
[null,20011005,5974,6083,5931.5,5973]
[null,20011008,5865.5,5997,5817,5967]
[null,20011009,5949,6032.5,5920.5,5965.5]
[null,20011010,5934,6117,5909.5,6097]
[null,20011011,6130,6226,6105,6184]
[null,20011012,6194,6204,6067.5,6078]
[null,20011015,6079,6112,5984,6036]
[null,20011016,6041.5,6133,5997.5,6129]
[null,20011017,6174,6269,6092,6114]
[null,20011018,6009,6094,5995.5,6033.5]
[null,20011019,6038,6078,5925,5992.5]
[null,20011022,6014,6121,5960,6080]
[null,20011023,6119,6220,6114,6193.5]
[null,20011024,6161,6325,6137,6275]
[null,20011025,6274.5,6359.5,6135,6180.5]
[null,20011026,6256,6298.5,6206,6293.5]
[null,20011029,6254,6258,6141.5,6154]
[null,20011030,6078.5,6093.5,5956.5,6042]
[null,20011031,6011,6109,5934,6032.5]
[null,20011101,6032,6118,5955.5,6103.5]
[null,20011102,6120,6131,6041.5,6047.5]
[null,20011105,6089,6237,6084,6233.5]
[null,20011106,6249,6296,6189,6196]
[null,20011107,6227,6341,6151,6337]
[null,20011108,6310.5,6485,6309,6436]
[null,20011109,6387.5,6434,6362,6385.5]
[null,20011112,6377,6380.5,6122,6306]
[null,20011113,6328.5,6451,6317.5,6427]
[null,20011114,6430,6521.5,6411,6423]
[null,20011115,6504,6550.5,6438,6500.5]
[null,20011116,6489.5,6590,6461.5,6512.5]
[null,20011119,6563,6670.5,6540,6653]
[null,20011120,6597,6683,6537.5,6591]
[null,20011121,6554,6625,6515,6553.5]
[null,20011122,6566,6621,6550,6585.5]
[null,20011123,6604,6629,6480,6623]
[null,20011126,6659,6689,6571.5,6594.5]
[null,20011127,6588,6616,6432.5,6514.5]
[null,20011128,6449,6483,6379,6395]
[null,20011129,6364,6444,6358,6389]
[null,20011130,6435,6508.5,6422,6438]
[null,20011203,6419,6463.5,6336,6462.5]
[null,20011204,6459.5,6505,6441,6486]
[null,20011205,6564,6749,6562,6733]
[null,20011206,6712,6801,6705,6733]
[null,20011207,6747,6766,6668.5,6681]
[null,20011210,6664,6675,6570.5,6592.5]
[null,20011211,6586,6631,6537,6597]
[null,20011212,6612,6655.5,6487,6517.5]
[null,20011213,6506.5,6557,6406.5,6417]
[null,20011214,6400,6444,6359,6384]
[null,20011217,6390,6560.5,6360.5,6549]
[null,20011218,6544,6574.5,6490,6496]
[null,20011219,6466.5,6517,6405,6453.5]
[null,20011220,6446.5,6484.5,6377.5,6423]
[null,20011221,6356.5,6480,6324.5,6476.5]
[null,20011227,6541.5,6576.5,6491.5,6576.5]
[null,20011228,6576.5,6627.5,6571,6605]
[null,20020102,6596.5,6643.5,6553,6615.5]
[null,20020103,6636.5,6739,6626.5,6730.5]
[null,20020104,6764.5,6805.5,6709.5,6746.5]
[null,20020107,6746.5,6797.5,6668.5,6675.5]
[null,20020108,6655.5,6709.5,6632,6680]
[null,20020109,6680.5,6754.5,6627,6744.5]
[null,20020110,6676.5,6699.5,6618,6669.5]
[null,20020111,6663.5,6719.5,6633,6663.5]
[null,20020114,6635.5,6636.5,6499,6513.5]
[null,20020115,6506.5,6553.5,6473.5,6514]
[null,20020116,6484.5,6498,6416.5,6434.5]
[null,20020117,6462.5,6581,6456,6571.5]
[null,20020118,6516.5,6579,6505.5,6557]
[null,20020121,6556.5,6559.5,6463.5,6516.5]
[null,20020122,6485.5,6578,6470,6478.5]
[null,20020123,6471.5,6612,6436.5,6606.5]
[null,20020124,6601.5,6660.5,6586,6607.5]
[null,20020125,6607.5,6613,6520,6596.5]
[null,20020128,6601.5,6644,6568.5,6586.5]
[null,20020129,6626.5,6645.5,6509,6512.5]
[null,20020130,6461.5,6506,6419.5,6505]
[null,20020131,6541.5,6556.5,6489.5,6551]
[null,20020201,6561.5,6602.5,6512.5,6534.5]
[null,20020204,6531.5,6531.5,6425.5,6441.5]
[null,20020205,6382.5,6411,6306.5,6366]
[null,20020206,6354,6382.5,6211,6236.5]
[null,20020207,6216,6308.5,6160.5,6290.5]
[null,20020208,6265,6326,6244,6245]
[null,20020211,6331.5,6380,6301.5,6378]
[null,20020212,6391.5,6405,6288.5,6301]
[null,20020213,6341.5,6378.5,6262.5,6363.5]
[null,20020214,6381.5,6423.5,6343,6398.5]
[null,20020215,6391.5,6400,6279.5,6283]
[null,20020218,6289.5,6326.5,6267.5,6276.5]
[null,20020219,6246.5,6255,6185.5,6203.5]
[null,20020220,6191.5,6233,6131.5,6211]
[null,20020221,6264,6295.5,6215.5,6256.5]
[null,20020222,6196.5,6213,6157,6169.5]
[null,20020225,6202,6299,6153,6294]
[null,20020226,6304.5,6362,6285,6327]
[null,20020227,6352.5,6433.5,6349,6382.5]
[null,20020228,6365.5,6498.5,6348,6476.5]
[null,20020301,6436.5,6541,6432,6536.5]
[null,20020304,6587,6688.5,6582.5,6661.5]
[null,20020305,6667.5,6707.5,6629.5,6645.5]
[null,20020306,6643,6720.5,6618.5,6712.5]
[null,20020307,6752.5,6790.5,6685,6698.5]
[null,20020308,6726.5,6797.5,6709,6772.5]
[null,20020311,6754.5,6820.5,6718,6779.5]
[null,20020312,6750.5,6752.5,6663,6710.5]
[null,20020313,6696.5,6757,6652.5,6652.5]
[null,20020314,6663.5,6709.5,6651,6702]
[null,20020315,6691.5,6814,6666.5,6803.5]
[null,20020318,6806.5,6884,6802.5,6839]
[null,20020319,6844.5,6886.5,6829.5,6881]
[null,20020320,6854.5,6861,6768.5,6778]
[null,20020321,6756.5,6802.5,6723.5,6770]
[null,20020322,6800.5,6818.5,6743.5,6768.5]
[null,20020325,6772,6816.5,6718.5,6735]
[null,20020326,6711.5,6813,6707.5,6794]
[null,20020327,6792,6801,6743.5,6758.5]
[null,20020328,6762.5,6836.5,6761.5,6762.5]
[null,20020402,6776.5,6785.5,6698,6715.5]
[null,20020403,6712.5,6730.5,6672,6688.5]
[null,20020404,6673.5,6697,6618,6652.5]
[null,20020405,6659.5,6701,6641,6664.5]
[null,20020408,6660,6663.5,6531.5,6576.5]
[null,20020409,6619,6634.5,6559.5,6563.5]
[null,20020410,6556,6680,6539,6666.5]
[null,20020411,6671.5,6692,6562.5,6584]
[null,20020412,6582.5,6614.5,6549.5,6578]
[null,20020415,6596.5,6641,6565.5,6629.5]
[null,20020416,6654.5,6742,6654,6733.5]
[null,20020417,6764,6777,6710.5,6714]
[null,20020418,6722.5,6775,6593.5,6654]
[null,20020419,6646.5,6691.5,6619.5,6674.5]
[null,20020422,6675.5,6676,6570.5,6615.5]
[null,20020423,6638,6644.5,6543,6589.5]
[null,20020424,6588.5,6618.5,6538.5,6559.5]
[null,20020425,6546.5,6550.5,6402,6432]
[null,20020426,6471.5,6494.5,6376,6389.5]
[null,20020429,6381.5,6397,6335.5,6379.5]
[null,20020430,6377.5,6431.5,6320,6427]
[null,20020502,6427.5,6447.5,6343.5,6351]
[null,20020503,6335.5,6412.5,6267.5,6275.5]
[null,20020506,6285.5,6315.5,6264.5,6286.5]
[null,20020507,6229.5,6281,6160,6264]
[null,20020508,6297.5,6414,6297.5,6401.5]
[null,20020509,6396.5,6416,6340.5,6351.5]
[null,20020510,6333.5,6371.5,6230.5,6236.5]
[null,20020513,6232.5,6376,6218,6361.5]
[null,20020514,6361.5,6454,6339,6423.5]
[null,20020515,6456.5,6463.5,6387.5,6456.5]
[null,20020516,6438.5,6486.5,6416.5,6435]
[null,20020517,6469.5,6510.5,6401.5,6408.5]
[null,20020520,6440.5,6444.5,6363.5,6386.5]
[null,20020521,6363,6442.5,6328.5,6374]
[null,20020522,6336.5,6379,6268.5,6319]
[null,20020523,6326.5,6331.5,6238.5,6251]
[null,20020524,6306,6319.5,6259,6279]
[null,20020527,6287.5,6354.5,6283.5,6331.5]
[null,20020528,6341.5,6397,6271,6282.5]
[null,20020529,6276.5,6286.5,6230.5,6258.5]
[null,20020530,6239.5,6246.5,6117.5,6125.5]
[null,20020531,6159.5,6235.5,6144.5,6176.5]
[null,20020603,6176.5,6229,6097.5,6110.5]
[null,20020604,6066.5,6073,5956,6011]
[null,20020605,6051.5,6062,5975,5990]
[null,20020606,6016.5,6089.5,5988.5,6011]
[null,20020607,5914.5,5978,5885,5969]
[null,20020610,5991.5,6033.5,5919,5960.5]
[null,20020611,5963.5,6060.5,5926.5,6000.5]
[null,20020612,5932.5,5945.5,5848.5,5893]
[null,20020613,5941.5,5954.5,5813.5,5854.5]
[null,20020614,5807.5,5814.5,5624,5671.5]
[null,20020617,5716.5,5855,5705,5852.5]
[null,20020618,5867.5,5867.5,5766.5,5787]
[null,20020619,5703,5767.5,5688,5724]
[null,20020620,5697.5,5736,5569,5613]
[null,20020621,5569.5,5680.5,5515,5593]
[null,20020624,5597.5,5662.5,5412,5509]
[null,20020625,5547.5,5626,5538.5,5561.5]
[null,20020626,5327.5,5524.5,5314.5,5462.5]
[null,20020627,5530.5,5608.5,5487.5,5592.5]
[null,20020628,5674.5,5753,5645.5,5749]
[null,20020701,5693,5807.5,5678.5,5713.5]
[null,20020702,5649,5672,5526,5565]
[null,20020703,5592.5,5612,5462.5,5500.5]
[null,20020704,5582.5,5615.5,5539.5,5615.5]
[null,20020705,5640,5832.5,5640,5828.5]
[null,20020708,5767.5,5835.5,5750,5792]
[null,20020709,5802.5,5841.5,5700.5,5722.5]
[null,20020710,5664,5711.5,5544,5557]
[null,20020711,5500.5,5537,5392.5,5507]
[null,20020712,5602.5,5616.5,5423.5,5483]
[null,20020715,5457.5,5497.5,5281,5293.5]
[null,20020716,5404.5,5406.5,5174.5,5317.5]
[null,20020717,5292.5,5462.5,5255.5,5420.5]
[null,20020718,5407.5,5507,5384,5447]
[null,20020719,5344,5372.5,5223.5,5262.5]
[null,20020722,5194.5,5202.5,4982.5,5065.5]
[null,20020723,5120.5,5159,4852.5,4888.5]
[null,20020724,4897,4996,4608.5,4995]
[null,20020725,5056.5,5059,4813.5,4822.5]
[null,20020726,4887.5,4930,4712.5,4905]
[null,20020729,4967.5,5181.5,4945.5,5175.5]
[null,20020730,5178.5,5226.5,5085.5,5215]
[null,20020731,5178.5,5292.5,5042.5,5047]
[null,20020801,5027.5,5156,4888.5,4955.5]
[null,20020802,4938.5,4970.5,4839,4853.5]
[null,20020805,4877.5,4877.5,4667.5,4685.5]
[null,20020806,4647.5,4948.5,4574.5,4878]
[null,20020807,4902,4975.5,4778.5,4784.5]
[null,20020808,4907.5,5011.5,4872.5,5009.5]
[null,20020809,4992.5,5091,4949,5075.5]
[null,20020812,5026.5,5056.5,4978.5,5012.5]
[null,20020813,5002.5,5047.5,4892.5,5022.5]
[null,20020814,4920.5,4970.5,4878.5,4939]
[null,20020815,5027.5,5067.5,4980,4995]
[null,20020816,5009.5,5046,4894,5028.5]
[null,20020819,4987.5,5187.5,4969,5183.5]
[null,20020820,5165,5210.5,5101.5,5120]
[null,20020821,5145.5,5245,5124,5206]
[null,20020822,5222.5,5267.5,5190,5219]
[null,20020823,5248.5,5264,5151,5158.5]
[null,20020826,5181.5,5237.5,5082.5,5128.5]
[null,20020827,5128,5237.5,5102,5183]
[null,20020828,5157.5,5157.5,5015.5,5039.5]
[null,20020829,5014.5,5034.5,4914,5005.5]
[null,20020830,5006.5,5056.5,4938,5050]
[null,20020902,5007.5,5007.5,4928,4950.5]
[null,20020903,4887.5,4890.5,4733,4740.5]
[null,20020904,4729.5,4797,4680,4766]
[null,20020905,4772.5,4799.5,4627.5,4690]
[null,20020906,4722.5,4813,4681.5,4812.5]
[null,20020909,4778.5,4790.5,4712.5,4755]
[null,20020910,4787.5,4851.5,4783.5,4813.5]
[null,20020911,4847.5,4948,4794.5,4905.5]
[null,20020912,4867.5,4895,4750.5,4765.5]
[null,20020913,4697.5,4722.5,4604.5,4701]
[null,20020916,4702.5,4709.5,4615.5,4644.5]
[null,20020917,4762.5,4774,4573,4608]
[null,20020918,4542.5,4561,4441.5,4465]
[null,20020919,4471,4491.5,4348.5,4362]
[null,20020920,4306.5,4425.5,4287.5,4415.5]
[null,20020923,4352.5,4436,4218,4252]
[null,20020924,4247.5,4289,4098,4215.5]
[null,20020925,4157.5,4315.5,4131.5,4289.5]
[null,20020926,4301.5,4394.5,4253.5,4338.5]
[null,20020927,4351.5,4381,4207.5,4208]
[null,20020930,4153.5,4164.5,4043,4125.5]
[null,20021001,4149.5,4221.5,4053,4193]
[null,20021002,4256,4300.5,4140,4239.5]
[null,20021003,4151.5,4266,4128,4150.5]
[null,20021004,4132.5,4171,3997,4011.5]
[null,20021007,3998.5,4033.5,3942.5,3997.5]
[null,20021008,4017.5,4045.5,3860,3939]
[null,20021009,3917.5,3928.5,3838,3926.5]
[null,20021010,3869.5,4043.5,3868,4032]
[null,20021011,4036.5,4234,4031,4228]
[null,20021014,4197.5,4231,4108,4176.5]
[null,20021015,4229.5,4356.5,4221.5,4336.5]
[null,20021016,4296.5,4429.5,4283.5,4324.5]
[null,20021017,4403.5,4509.5,4403.5,4490]
[null,20021018,4525.5,4526,4403,4484]
[null,20021021,4459,4589,4414.5,4586.5]
[null,20021022,4521.5,4617.5,4458.5,4460.5]
[null,20021023,4531.5,4552.5,4300.5,4353.5]
[null,20021024,4390,4449.5,4339,4394.5]
[null,20021025,4364.5,4439,4333.5,4421]
[null,20021028,4463,4553,4463,4490.5]
[null,20021029,4463.5,4507.5,4327.5,4342]
[null,20021030,4396.5,4459,4314,4450.5]
[null,20021031,4436.5,4533,4402.5,4489.5]
[null,20021101,4471.5,4493.5,4371,4477.5]
[null,20021104,4557,4649,4557,4645.5]
[null,20021105,4612,4714.5,4583.5,4679]
[null,20021106,4733.5,4761,4594,4618]
[null,20021107,4629.5,4649.5,4442.5,4489.5]
[null,20021108,4443,4491,4387.5,4388]
[null,20021111,4349.5,4387.5,4319.5,4337.5]
[null,20021112,4378.5,4451.5,4339,4429.5]
[null,20021113,4391.5,4434.5,4299,4385.5]
[null,20021114,4379.5,4509.5,4347.5,4491]
[null,20021115,4511.5,4547.5,4463.5,4499.5]
[null,20021118,4531.5,4575.5,4495,4523]
[null,20021119,4466,4535,4455.5,4533.5]
[null,20021120,4531.5,4538.5,4427,4527]
[null,20021121,4566.5,4615.5,4538,4604.5]
[null,20021122,4621.5,4649,4586.5,4635.5]
[null,20021125,4645,4676.5,4588,4610.5]
[null,20021126,4606.5,4645.5,4491,4496]
[null,20021127,4486.5,4653.5,4454,4638]
[null,20021128,4641.5,4686,4612.5,4681]
[null,20021129,4680.5,4713.5,4644.5,4660]
[null,20021202,4690,4786,4670,4673]
[null,20021203,4700.5,4717.5,4584.5,4596.5]
[null,20021204,4561.5,4639.5,4543,4633]
[null,20021205,4643.5,4696,4492.5,4531.5]
[null,20021206,4539,4552.5,4413,4500]
[null,20021209,4502.5,4529,4371.5,4378]
[null,20021210,4385.5,4481,4372,4464]
[null,20021211,4454.5,4519,4438.5,4489.5]
[null,20021212,4477,4515.5,4402.5,4418.5]
[null,20021213,4406.5,4411.5,4337.5,4361.5]
[null,20021216,4351.5,4499,4332,4499]
[null,20021217,4502,4526.5,4438,4448]
[null,20021218,4419,4437,4324,4341.5]
[null,20021219,4358,4401,4225.5,4254.5]
[null,20021220,4298,4342.5,4246,4337]
[null,20021223,4334,4354,4261,4284.5]
[null,20021227,4273,4286,4139,4143.5]
[null,20021230,4149,4200.5,4133,4183.5]
[null,20030102,4201.5,4379,4197,4378]
[null,20030103,4372,4423,4367,4395]
[null,20030106,4405,4448.5,4329,4442.5]
[null,20030107,4432,4446.5,4365.5,4401]
[null,20030108,4380,4386.5,4293.5,4312]
[null,20030109,4327,4341.5,4226,4316]
[null,20030110,4341.5,4393,4282.5,4337]
[null,20030113,4384,4423.5,4346,4368]
[null,20030114,4368,4437.5,4351,4417]
[null,20030115,4428,4441.5,4330.5,4334]
[null,20030116,4333,4379,4315.5,4344]
[null,20030117,4314,4323,4214,4217]
[null,20030120,4239,4261.5,4186,4210.5]
[null,20030121,4230,4250.5,4153,4169]
[null,20030122,4159,4192,4056,4090]
[null,20030123,4139,4155,4064.5,4104]
[null,20030124,4084,4118.5,4003,4009.5]
[null,20030127,4015,4021,3902,3932.5]
[null,20030128,3973.5,3996.5,3904,3968.5]
[null,20030129,3928,4036,3851.5,4010]
[null,20030130,3999,4033,3950,3956.5]
[null,20030131,3917,4042.5,3909,4038.5]
[null,20030203,4054,4096,4021,4044]
[null,20030204,4011,4017.5,3904,3914.5]
[null,20030205,3919,4029.5,3870,4024]
[null,20030206,3960.5,4009,3904,3917]
[null,20030207,3934,3957.5,3846,3849]
[null,20030210,3868,3881.5,3814.5,3858]
[null,20030211,3893.5,3953,3870,3908]
[null,20030212,3881,3906,3850,3871]
[null,20030213,3826,3886,3819,3842]
[null,20030214,3874,4004,3864,3950.5]
[null,20030217,3999,4011,3964,3990.5]
[null,20030218,3977,4038.5,3958.5,4010.5]
[null,20030219,3987,4009,3900.5,3901.5]
[null,20030220,3932,3955.5,3860,3875]
[null,20030221,3861.5,3932.5,3847.5,3925]
[null,20030224,3921,3930.5,3854,3860]
[null,20030225,3829,3838,3731,3761]
[null,20030226,3792.5,3805,3716.5,3745]
[null,20030227,3737,3799,3717,3778.5]
[null,20030228,3779.5,3867,3761,3820.5]
[null,20030303,3859,3892,3815,3828]
[null,20030304,3803,3814,3758.5,3785.5]
[null,20030305,3760,3824,3737,3797.5]
[null,20030306,3807,3813.5,3712,3719.5]
[null,20030307,3698.5,3749,3673.5,3719]
[null,20030310,3716,3723,3604,3606]
[null,20030311,3612,3629.5,3538.5,3578]
[null,20030312,3568,3599,3466,3479]
[null,20030313,3529,3626,3511,3625.5]
[null,20030314,3682,3767,3651.5,3675.5]
[null,20030317,3619,3803.5,3605.5,3780.5]
[null,20030318,3814,3906,3772,3858]
[null,20030319,3829,3956,3801.5,3895.5]
[null,20030320,3837,3937,3830,3895.5]
[null,20030321,3902,4013.5,3902,3993]
[null,20030324,3925,3934,3835,3846]
[null,20030325,3819,3919,3759.5,3907.5]
[null,20030326,3903,3960,3865.5,3868.5]
[null,20030327,3849,3873,3787,3872]
[null,20030328,3855,3856.5,3774,3825]
[null,20030331,3734,3737.5,3672.5,3702]
[null,20030401,3732,3751,3669.5,3714]
[null,20030402,3780,3857.5,3761,3853]
[null,20030403,3842,3923,3830,3833]
[null,20030404,3858,3935,3828,3920]
[null,20030407,4027,4093.5,4027,4081]
[null,20030408,4039,4088,4018,4042]
[null,20030409,3996,4103,3972.5,4012.5]
[null,20030410,3981.5,4042,3960,3977]
[null,20030411,3990,4079.5,3987.5,4004]
[null,20030414,4037,4065,3974.5,4061.5]
[null,20030415,4087,4144,4082.5,4112]
[null,20030416,4182,4186.5,4098.5,4110]
[null,20030417,4097,4179,4077,4172]
[null,20030422,4155,4243,4116,4235.5]
[null,20030423,4248,4277,4207.5,4230.5]
[null,20030424,4218,4247,4154,4173.5]
[null,20030425,4167,4184.5,4100.5,4119]
[null,20030428,4104,4226,4091,4222.5]
[null,20030429,4238,4280,4188.5,4192]
[null,20030430,4205,4242,4186,4195]
[null,20030502,4187.5,4255.5,4158.5,4250]
[null,20030505,4275,4314.5,4250,4284.5]
[null,20030506,4268,4336,4248,4329.5]
[null,20030507,4311,4340,4263,4271.5]
[null,20030508,4260.5,4288.5,4153,4158]
[null,20030509,4187,4213.5,4130,4211]
[null,20030512,4239,4242,4140,4203.5]
[null,20030513,4210,4222,4151,4171]
[null,20030514,4176,4232.5,4157.5,4192]
[null,20030515,4181.5,4259.5,4170,4252]
[null,20030516,4239,4299,4219,4261.5]
[null,20030519,4205,4211,4104.5,4108]
[null,20030520,4118.5,4145,4087.5,4112]
[null,20030521,4113.5,4117.5,4040.5,4080.5]
[null,20030522,4088,4127,4084.5,4126]
[null,20030523,4142,4157,4070,4099.5]
[null,20030526,4104,4122.5,4078,4100]
[null,20030527,4087,4141.5,4035.5,4136.5]
[null,20030528,4162,4227,4159.5,4178]
[null,20030529,4187,4235.5,4163.5,4174]
[null,20030530,4177,4266,4175,4259]
[null,20030602,4306,4334,4283,4327]
[null,20030603,4282,4311,4268.5,4286]
[null,20030604,4306,4367,4286,4336]
[null,20030605,4352,4373.5,4284,4306.5]
[null,20030606,4346.5,4412.5,4336.5,4392]
[null,20030609,4380,4398,4339,4362]
[null,20030610,4342,4415.5,4337,4403]
[null,20030611,4426,4456,4396.5,4446.5]
[null,20030612,4471,4518,4469,4481]
[null,20030613,4494,4510.5,4419.5,4425.5]
[null,20030616,4405,4527,4384,4525.5]
[null,20030617,4562,4586,4527,4549]
[null,20030618,4558,4580,4526,4570]
[null,20030619,4581.5,4587,4477,4493]
[null,20030620,4495,4531,4482,4507]
[null,20030623,4492,4510,4432,4453.5]
[null,20030624,4454,4493,4426,4491.5]
[null,20030625,4490,4499,4441,4458]
[null,20030626,4429,4509,4418,4496]
[null,20030627,4513,4525,4466,4468.5]
[null,20030630,4489,4533.5,4441,4473.5]
[null,20030701,4460,4468.5,4378,4410]
[null,20030702,4460,4505,4443.5,4501]
[null,20030703,4486,4524,4455.5,4487]
[null,20030704,4488.5,4507.5,4472,4503]
[null,20030707,4531,4619,4531,4609]
[null,20030708,4602,4624,4567,4594.5]
[null,20030709,4598,4618.5,4557.5,4583]
[null,20030710,4572,4578,4512,4526]
[null,20030711,4509,4593,4504,4579]
[null,20030714,4594.5,4663,4590.5,4655]
[null,20030715,4631,4688.5,4629.5,4651.5]
[null,20030716,4674,4690.5,4615.5,4639.5]
[null,20030717,4620,4625.5,4570.5,4591.5]
[null,20030718,4593,4637,4585.5,4623.5]
[null,20030721,4645,4650,4536,4538]
[null,20030722,4573.5,4581,4512,4563]
[null,20030723,4594,4596,4532.5,4562.5]
[null,20030724,4566,4633.5,4537,4625]
[null,20030725,4585,4633,4568,4610.5]
[null,20030728,4645,4682.5,4640,4668]
[null,20030729,4670,4709.5,4628,4674]
[null,20030730,4656,4709,4651,4695]
[null,20030731,4693,4740.5,4653.5,4723.5]
[null,20030801,4712,4730.5,4656.5,4687]
[null,20030804,4672,4720,4617,4652]
[null,20030805,4672,4713,4652.5,4689]
[null,20030806,4635,4656,4570.5,4622]
[null,20030807,4615.5,4616,4552,4579]
[null,20030808,4588,4621,4560,4573]
[null,20030811,4600,4616,4562.5,4591.5]
[null,20030812,4603,4652.5,4596.5,4637]
[null,20030813,4666,4683,4628,4643]
[null,20030814,4657,4705,4631,4704]
[null,20030815,4696,4724.5,4684.5,4695]
[null,20030818,4710,4760,4705,4759]
[null,20030819,4781.5,4802.5,4736.5,4751]
[null,20030820,4770,4770,4712.5,4751]
[null,20030821,4750.5,4818,4750,4808.5]
[null,20030822,4787,4840,4784,4797]
[null,20030825,4791,4791,4738.5,4752.5]
[null,20030826,4754.5,4804.5,4687,4702]
[null,20030827,4733,4743,4700.5,4736]
[null,20030828,4740,4781.5,4712.5,4752]
[null,20030829,4775,4781.5,4725,4735.5]
[null,20030901,4764.5,4829,4764,4824]
[null,20030902,4816,4841,4779.5,4814]
[null,20030903,4848,4905.5,4848,4898.5]
[null,20030904,4884.5,4923,4877,4918.5]
[null,20030905,4917,4926.5,4846.5,4858]
[null,20030908,4874,4905,4859,4893]
[null,20030909,4917,4917,4830,4840]
[null,20030910,4830,4830,4769,4788]
[null,20030911,4761,4812,4742,4807]
[null,20030912,4810,4821,4717.5,4739.5]
[null,20030915,4771,4793.5,4751,4767]
[null,20030916,4775,4816.5,4753.5,4810.5]
[null,20030917,4853,4860,4796,4798]
[null,20030918,4815,4873,4798.5,4871.5]
[null,20030919,4867.5,4877.5,4828.5,4835]
[null,20030922,4748,4785,4700.5,4704]
[null,20030923,4722,4730,4639,4649.5]
[null,20030924,4681.5,4694.5,4523,4546]
[null,20030925,4544,4603,4544,4571]
[null,20030926,4549,4588,4514.5,4569]
[null,20030929,4553,4605,4521,4551]
[null,20030930,4540,4572,4442.5,4494.5]
[null,20031001,4489,4561,4457,4559.5]
[null,20031002,4580.5,4598,4510.5,4525]
[null,20031003,4554,4683.5,4531.5,4656.5]
[null,20031006,4637.5,4657.5,4619,4647]
[null,20031007,4654,4655,4571.5,4590.5]
[null,20031008,4600,4671.5,4582.5,4639]
[null,20031009,4653,4733,4627,4721.5]
[null,20031010,4709,4753,4694.5,4714.5]
[null,20031013,4734,4795,4734,4781]
[null,20031014,4800,4810,4742.5,4778]
[null,20031015,4810,4847,4780.5,4804]
[null,20031016,4789.5,4836,4761.5,4817]
[null,20031017,4799,4833,4747,4748.5]
[null,20031020,4763,4808,4733,4801]
[null,20031021,4821,4832.5,4773.5,4822]
[null,20031022,4796,4811,4725.5,4730]
[null,20031023,4676,4742.5,4668.5,4740.5]
[null,20031024,4716,4728,4675,4691]
[null,20031027,4726,4767.5,4717,4758.5]
[null,20031028,4780,4840.5,4776,4837]
[null,20031029,4853.5,4864,4820,4859.5]
[null,20031030,4855,4913,4818.5,4884.5]
[null,20031031,4864,4897.5,4847,4885]
[null,20031103,4888.5,4995.5,4884.5,4994]
[null,20031104,4981,5006.5,4960,4967.5]
[null,20031105,4961,4993,4924,4969]
[null,20031106,4966,4997.5,4916.5,4987]
[null,20031107,4993,5051,4993,5017]
[null,20031110,4995,5025,4968.5,4989.5]
[null,20031111,4947,4986,4934.5,4978]
[null,20031112,4970,5013,4930,5012.5]
[null,20031113,5037,5048,4971,4997.5]
[null,20031114,4986,5050,4979,5026]
[null,20031117,4947.5,4962.5,4896,4906.5]
[null,20031118,4940,4949.5,4856,4856]
[null,20031119,4837,4894,4827.5,4890]
[null,20031120,4903,4905,4796,4892]
[null,20031121,4865.5,4892,4849.5,4867]
[null,20031124,4882,4982.5,4879.5,4979.5]
[null,20031125,4969.5,5001,4958.5,4971]
[null,20031126,4968.5,5019.5,4936,4964]
[null,20031127,4979,4987.5,4959.5,4982]
[null,20031128,4983.5,5001.5,4920,4973.5]
[null,20031201,5011,5064,5008.5,5057.5]
[null,20031202,5052,5069,5018,5055.5]
[null,20031203,5035,5117,5032,5115.5]
[null,20031204,5101,5125.5,5076.5,5083.5]
[null,20031205,5083.5,5104.5,5041.5,5054.5]
[null,20031208,5034,5056,5007,5056]
[null,20031209,5084.5,5110.5,5067,5084.5]
[null,20031210,5054,5078,5025,5057]
[null,20031211,5066.5,5093.5,5054,5083]
[null,20031212,5116,5133,5057.5,5080.5]
[null,20031215,5160,5161,5086,5088.5]
[null,20031216,5075,5114.5,5062,5102]
[null,20031217,5104.5,5108.5,5029.5,5037]
[null,20031218,5060.5,5110,5048.5,5107.5]
[null,20031219,5118,5133,5096.5,5105.5]
[null,20031222,5092.5,5136,5092.5,5119]
[null,20031223,5135,5141,5116,5128.5]
[null,20031229,5155.5,5195,5142,5191]
[null,20031230,5211,5221.5,5192.5,5200.5]
[null,20040102,5215.5,5253.5,5204.5,5250]
[null,20040105,5245.5,5272.5,5223,5269.5]
[null,20040106,5268.5,5276,5225,5265]
[null,20040107,5275.5,5275.5,5212,5250]
[null,20040108,5268.5,5293,5252,5279.5]
[null,20040109,5291,5296.5,5203,5238]
[null,20040112,5217.5,5231,5201.5,5219.5]
[null,20040113,5235,5254.5,5187,5200.5]
[null,20040114,5212.5,5277.5,5201.5,5270.5]
[null,20040115,5254.5,5314.5,5246.5,5310]
[null,20040116,5309.5,5345,5308,5336]
[null,20040119,5339.5,5372,5339,5361.5]
[null,20040120,5355.5,5376.5,5320.5,5341.5]
[null,20040121,5327.5,5375.5,5318,5372]
[null,20040122,5383.5,5391,5346.5,5366.5]
[null,20040123,5357.5,5383.5,5349,5358.5]
[null,20040126,5363.5,5368.5,5334,5361.5]
[null,20040127,5384,5395.5,5340,5353.5]
[null,20040128,5326.5,5377,5322,5372.5]
[null,20040129,5325,5345.5,5299,5306.5]
[null,20040130,5326.5,5333.5,5264,5284.5]
[null,20040202,5293.5,5323.5,5262,5319]
[null,20040203,5295.5,5296.5,5235,5266]
[null,20040204,5255.5,5261.5,5223.5,5235]
[null,20040205,5224,5271.5,5214.5,5243.5]
[null,20040206,5245.5,5270.5,5222,5254]
[null,20040209,5275.5,5330,5269.5,5322.5]
[null,20040210,5315.5,5338.5,5297.5,5333]
[null,20040211,5333.5,5346.5,5314.5,5345]
[null,20040212,5354.5,5366.5,5314,5328.5]
[null,20040213,5335.5,5346.5,5251.5,5257.5]
[null,20040216,5266.5,5283.5,5255,5282.5]
[null,20040217,5286,5317,5284,5314]
[null,20040218,5318.5,5324.5,5297,5320]
[null,20040219,5331.5,5359.5,5324.5,5351.5]
[null,20040220,5332.5,5348.5,5264,5283]
[null,20040223,5295.5,5318.5,5264.5,5275]
[null,20040224,5270,5273.5,5177,5199.5]
[null,20040225,5205.5,5220,5169.5,5206.5]
[null,20040226,5220.5,5233.5,5183.5,5221.5]
[null,20040227,5235,5263,5213,5232]
[null,20040301,5258.5,5277,5242,5275.5]
[null,20040302,5284.5,5315,5277.5,5289]
[null,20040303,5289.5,5307,5266.5,5292.5]
[null,20040304,5298.5,5357,5286.5,5348.5]
[null,20040305,5345.5,5360.5,5298.5,5344.5]
[null,20040308,5355.5,5382.5,5343,5345.5]
[null,20040309,5334.5,5338,5258.5,5261.5]
[null,20040310,5266.5,5271,5221,5225.5]
[null,20040311,5179.5,5181,5081,5134.5]
[null,20040312,5065.5,5132.5,5031,5110.5]
[null,20040315,5084.5,5118,5007.5,5015.5]
[null,20040316,5029,5058.5,4981.5,5015.5]
[null,20040317,5058.5,5109.5,5044,5102.5]
[null,20040318,5103.5,5109,5002.5,5036]
[null,20040319,5067.5,5070,5006.5,5014]
[null,20040322,4966,4969.5,4898,4914.5]
[null,20040323,4932,4978,4907.5,4932]
[null,20040324,4932,4964,4893,4957.5]
[null,20040325,4970,5037.5,4962.5,5034]
[null,20040326,5056,5058,5003.5,5022]
[null,20040329,5035,5096,5025,5090]
[null,20040330,5084,5090,5046.5,5069]
[null,20040331,5080,5105,5040.5,5062.5]
[null,20040401,5087,5141,5057,5125]
[null,20040402,5133,5228.5,5122.5,5225]
[null,20040405,5222,5263,5207,5257.5]
[null,20040406,5265,5266,5211.5,5226.5]
[null,20040407,5222,5251,5198.5,5208]
[null,20040408,5235,5262,5205,5224]
[null,20040413,5254,5297,5246.5,5246.5]
[null,20040414,5231,5239,5170,5219]
[null,20040415,5201,5236.5,5188,5192]
[null,20040416,5180,5244,5175.5,5240]
[null,20040419,5220.5,5239.5,5193.5,5230]
[null,20040420,5246,5282.5,5246,5263]
[null,20040421,5225,5256,5212.5,5248]
[null,20040422,5251.5,5295,5194,5295]
[null,20040423,5326.5,5335,5299.5,5306]
[null,20040426,5313.5,5357.5,5303.5,5324]
[null,20040427,5325,5350.5,5309.5,5348.5]
[null,20040428,5318,5329,5259,5270]
[null,20040429,5253,5261,5177,5188]
[null,20040430,5173.5,5206.5,5160,5163]
[null,20040503,5154,5208,5140,5192.5]
[null,20040504,5198.5,5213.5,5163,5172]
[null,20040505,5168,5226.5,5161.5,5221]
[null,20040506,5193.5,5208.5,5073.5,5077]
[null,20040507,5093,5122,5045,5059.5]
[null,20040510,4994,5022.5,4968.5,4988]
[null,20040511,5004.5,5051.5,5002.5,5024]
[null,20040512,5043.5,5045.5,4938,4942]
[null,20040513,4982.5,5041.5,4971,5008.5]
[null,20040514,5002,5026.5,4961,5004]
[null,20040517,4930.5,4954,4903.5,4940.5]
[null,20040518,4964,4989.5,4946.5,4967.5]
[null,20040519,5021,5076,5017,5053]
[null,20040520,5015.5,5038,5002,5024.5]
[null,20040521,5045,5061.5,4998,5014.5]
[null,20040524,5041,5093.5,5036.5,5045]
[null,20040525,5026.5,5062,4998.5,5060.5]
[null,20040526,5096.5,5099,5047.5,5068]
[null,20040527,5076,5117.5,5070.5,5097.5]
[null,20040528,5125,5132,5081.5,5106.5]
[null,20040531,5097,5123,5088.5,5117]
[null,20040601,5117,5117,5043.5,5058.5]
[null,20040602,5079,5108,5068.5,5108]
[null,20040603,5082,5126,5057.5,5110]
[null,20040604,5105,5169.5,5102.5,5167.5]
[null,20040607,5197,5213,5189.5,5211]
[null,20040608,5228,5230,5190.5,5208]
[null,20040609,5213.5,5225.5,5173,5177]
[null,20040610,5184,5216,5179,5203.5]
[null,20040611,5203,5206,5179,5198]
[null,20040614,5184,5191,5113.5,5118.5]
[null,20040615,5130,5201,5118,5198]
[null,20040616,5191.5,5201.5,5179,5187.5]
[null,20040617,5183.5,5205.5,5156,5181]
[null,20040618,5168.5,5191,5150,5176]
[null,20040621,5213.5,5220.5,5161.5,5175.5]
[null,20040622,5157.5,5170.5,5099,5123.5]
[null,20040623,5138.5,5152.5,5118.5,5145.5]
[null,20040624,5182.5,5197.5,5169,5185]
[null,20040625,5187.5,5204.5,5169.5,5187.5]
[null,20040628,5202.5,5271,5187,5256.5]
[null,20040629,5247.5,5271,5234,5255.5]
[null,20040630,5260,5274.5,5234.5,5250.5]
[null,20040701,5271.5,5284.5,5198.5,5203.5]
[null,20040702,5203.5,5213,5170.5,5194.5]
[null,20040705,5174,5194,5173,5184]
[null,20040706,5188,5190,5116,5122.5]
[null,20040707,5125,5140.5,5102,5129]
[null,20040708,5093.5,5117,5073.5,5093]
[null,20040709,5084.5,5112,5060,5088.5]
[null,20040712,5074.5,5108.5,5060.5,5068.5]
[null,20040713,5087.5,5098.5,5069.5,5084.5]
[null,20040714,5044,5082,5029,5069.5]
[null,20040715,5067.5,5069,5021,5039]
[null,20040716,5030,5061.5,5007.5,5011]
[null,20040719,5011.5,5023,4974.5,4977.5]
[null,20040720,4972.5,5022,4961.5,5021.5]
[null,20040721,5042.5,5076.5,5031,5032]
[null,20040722,4994,5006,4967,4989.5]
[null,20040723,4988.5,5000.5,4957,4965]
[null,20040726,4967.5,4987.5,4923.5,4930.5]
[null,20040727,4943,5004,4938,4997.5]
[null,20040728,5012.5,5031.5,4969,4976.5]
[null,20040729,5005,5081.5,5000.5,5067]
[null,20040730,5072.5,5088.5,5041,5067.5]
[null,20040802,5050.5,5054,5014,5047.5]
[null,20040803,5053,5067.5,5029.5,5033.5]
[null,20040804,5013.5,5018,4979.5,5009.5]
[null,20040805,5019,5032,4973.5,4982.5]
[null,20040806,4943.5,4959.5,4883.5,4887.5]
[null,20040809,4901,4908.5,4836,4857.5]
[null,20040810,4869,4895,4859.5,4892]
[null,20040811,4899.5,4900,4808.5,4842]
[null,20040812,4863,4880,4790.5,4802.5]
[null,20040813,4800.5,4833,4789.5,4818]
[null,20040816,4803.5,4877.5,4788,4869.5]
[null,20040817,4865.5,4905.5,4847,4878]
[null,20040818,4875.5,4901.5,4847.5,4901.5]
[null,20040819,4922.5,4928.5,4875,4885]
[null,20040820,4883.5,4909.5,4858,4906.5]
[null,20040823,4922,4952.5,4906.5,4942.5]
[null,20040824,4943,4970.5,4931.5,4963.5]
[null,20040825,4971.5,4999.5,4938.5,4994]
[null,20040826,4998.5,5008,4983.5,4999.5]
[null,20040827,5008,5029.5,4980,5029]
[null,20040830,5017.5,5022,4986.5,5005.5]
[null,20040831,4987.5,4993,4944.5,4958.5]
[null,20040901,4988.5,4997.5,4959.5,4979.5]
[null,20040902,4974.5,5012.5,4965,5010.5]
[null,20040903,5000.5,5050,4989,5040.5]
[null,20040906,5043,5067.5,5037,5062.5]
[null,20040907,5058,5077.5,5039,5064]
[null,20040908,5055,5065,5024,5046]
[null,20040909,5029,5042.5,5002,5039.5]
[null,20040910,5026,5061,5025.5,5054]
[null,20040913,5073.5,5125.5,5071,5121]
[null,20040914,5117.5,5130.5,5098,5121]
[null,20040915,5112.5,5135,5092.5,5116]
[null,20040916,5111.5,5134,5106.5,5130.5]
[null,20040917,5122.5,5165.5,5120,5150.5]
[null,20040920,5142.5,5147,5118.5,5130.5]
[null,20040921,5134.5,5161,5132.5,5159.5]
[null,20040922,5151.5,5164,5095,5095.5]
[null,20040923,5095.5,5097.5,5053.5,5060.5]
[null,20040924,5057.5,5080.5,5049,5072.5]
[null,20040927,5065,5066,5020.5,5041.5]
[null,20040928,5015.5,5064,5009.5,5055.5]
[null,20040929,5054.5,5106,5051.5,5085.5]
[null,20040930,5108.5,5112,5034,5052.5]
[null,20041001,5065,5156.5,5064.5,5154]
[null,20041004,5201,5221,5188.5,5202.5]
[null,20041005,5202.5,5239.5,5183.5,5202.5]
[null,20041006,5208.5,5225.5,5191,5215.5]
[null,20041007,5223.5,5235.5,5193,5205.5]
[null,20041008,5181.5,5226.5,5160.5,5180.5]
[null,20041011,5174.5,5187,5163,5186]
[null,20041012,5167.5,5167.5,5101.5,5126]
[null,20041013,5145.5,5178,5084.5,5099]
[null,20041014,5099.5,5118.5,5076,5080.5]
[null,20041015,5071,5119,5054,5111.5]
[null,20041018,5082.5,5109,5052,5097.5]
[null,20041019,5115.5,5141.5,5106,5107.5]
[null,20041020,5058.5,5098,5045.5,5075.5]
[null,20041021,5093,5103.5,5049.5,5072.5]
[null,20041022,5089.5,5125.5,5061,5068.5]
[null,20041025,5008,5021,4987.5,5015.5]
[null,20041026,5020.5,5037,4997.5,5026.5]
[null,20041027,5041.5,5100,5019.5,5100]
[null,20041028,5112,5131,5101,5126]
[null,20041029,5116.5,5149.5,5105.5,5119]
[null,20041101,5116,5173.5,5111.5,5154.5]
[null,20041102,5177.5,5202.5,5164,5202.5]
[null,20041103,5227.5,5229.5,5174.5,5183.5]
[null,20041104,5183.5,5232.5,5165.5,5232.5]
[null,20041105,5237.5,5269.5,5199,5225]
[null,20041108,5211.5,5235,5203.5,5235]
[null,20041109,5227.5,5239,5209,5230.5]
[null,20041110,5233.5,5259,5229.5,5253.5]
[null,20041111,5241.5,5297.5,5230.5,5297.5]
[null,20041112,5304,5314.5,5282.5,5299]
[null,20041115,5319,5323.5,5280,5297]
[null,20041116,5290.5,5295.5,5257.5,5275.5]
[null,20041117,5282,5344.5,5265.5,5327.5]
[null,20041118,5313.5,5342,5311,5329]
[null,20041119,5327.5,5351.5,5272.5,5272.5]
[null,20041122,5263.5,5298.5,5236,5297.5]
[null,20041123,5295.5,5310.5,5251,5263.5]
[null,20041124,5294.5,5295,5263,5277.5]
[null,20041125,5287.5,5318,5278,5310.5]
[null,20041126,5292.5,5308,5282.5,5286]
[null,20041129,5307.5,5368,5285.5,5312.5]
[null,20041130,5310.5,5314,5259,5268.5]
[null,20041201,5251,5342.5,5250.5,5329.5]
[null,20041202,5350.5,5374.5,5331.5,5348.5]
[null,20041203,5372.5,5381.5,5329.5,5337.5]
[null,20041206,5340,5361,5329.5,5359.5]
[null,20041207,5345,5377.5,5335.5,5337]
[null,20041208,5322,5363.5,5316,5360]
[null,20041209,5340,5351.5,5275,5316.5]
[null,20041210,5319.5,5330.5,5297.5,5328.5]
[null,20041213,5338,5377,5332,5372.5]
[null,20041214,5385.5,5394.5,5368.5,5377.5]
[null,20041215,5386,5389,5352,5367.5]
[null,20041216,5369,5385,5360,5375]
[null,20041217,5382.5,5386,5301,5304.5]
[null,20041220,5325.5,5372,5319.5,5346]
[null,20041221,5340,5375.5,5340,5368.5]
[null,20041222,5379,5394.5,5367.5,5372]
[null,20041223,5376,5397,5375.5,5389.5]
[null,20041227,5396.5,5404.5,5374,5387.5]
[null,20041228,5404.5,5404.5,5384.5,5403.5]
[null,20041229,5415,5417,5379.5,5394]
[null,20041230,5400,5402.5,5391.5,5391.5]
[null,20050103,5403.5,5450,5392,5426.5]
[null,20050104,5427,5446.5,5414.5,5414.5]
[null,20050105,5398.5,5419,5380.5,5413.5]
[null,20050106,5396.5,5445,5395,5442.5]
[null,20050107,5427.5,5465,5420.5,5454]
[null,20050110,5448.5,5462.5,5427,5451.5]
[null,20050111,5442.5,5453,5364.5,5379.5]
[null,20050112,5393,5396,5328,5343.5]
[null,20050113,5367,5370.5,5336,5350.5]
[null,20050114,5323,5372,5320,5357]
[null,20050117,5369,5389,5367.5,5376.5]
[null,20050118,5371.5,5398.5,5340.5,5392.5]
[null,20050119,5396.5,5404,5371,5377.5]
[null,20050120,5345.5,5362,5322,5329.5]
[null,20050121,5335.5,5356,5314,5327.5]
[null,20050124,5322.5,5341.5,5292,5329]
[null,20050125,5326,5375.5,5322,5364.5]
[null,20050126,5371.5,5378.5,5336,5350]
[null,20050127,5354,5361,5316.5,5347.5]
[null,20050128,5359.5,5365.5,5319,5329.5]
[null,20050131,5363.5,5395,5358.5,5390.5]
[null,20050201,5386,5418.5,5379.5,5413.5]
[null,20050202,5418.5,5431,5410,5421.5]
[null,20050203,5428.5,5433,5403,5417.5]
[null,20050204,5427,5478.5,5424,5478.5]
[null,20050207,5478.5,5504.5,5478.5,5491.5]
[null,20050208,5497.5,5506.5,5485.5,5502]
[null,20050209,5502.5,5516.5,5474,5490.5]
[null,20050210,5494.5,5498,5466.5,5488.5]
[null,20050211,5484.5,5525.5,5484.5,5522]
[null,20050214,5522.5,5527,5500.5,5509.5]
[null,20050215,5512,5537,5504.5,5514]
[null,20050216,5521.5,5521.5,5475,5491]
[null,20050217,5497.5,5515,5486,5497]
[null,20050218,5489.5,5514,5472.5,5486.5]
[null,20050221,5491.5,5500.5,5467.5,5488.5]
[null,20050222,5474,5476.5,5426.5,5426.5]
[null,20050223,5411.5,5438.5,5400.5,5423.5]
[null,20050224,5430,5436.5,5412.5,5433]
[null,20050225,5454.5,5487,5452.5,5481.5]
[null,20050228,5484.5,5500.5,5447,5449.5]
[null,20050301,5467.5,5512.5,5458.5,5509]
[null,20050302,5497.5,5521.5,5487.5,5500]
[null,20050303,5497.5,5523.5,5474.5,5499]
[null,20050304,5504.5,5552,5495.5,5552]
[null,20050307,5547.5,5558,5540,5549]
[null,20050308,5540,5546.5,5510,5516.5]
[null,20050309,5521.5,5551,5468,5478.5]
[null,20050310,5468.5,5487.5,5451,5483.5]
[null,20050311,5484.5,5501.5,5466.5,5470.5]
[null,20050314,5472,5494,5460,5485]
[null,20050315,5492,5513.5,5486.5,5493.5]
[null,20050316,5491.5,5505,5420,5431.5]
[null,20050317,5426.5,5443,5416,5426]
[null,20050318,5434.5,5458,5421,5430]
[null,20050321,5435.5,5457.5,5412,5429]
[null,20050322,5418,5452.5,5399,5452.5]
[null,20050323,5393.5,5449,5389,5448]
[null,20050324,5440,5478.5,5433,5471.5]
[null,20050329,5444,5476,5424.5,5462.5]
[null,20050330,5440,5488,5437,5486]
[null,20050331,5484,5493,5451.5,5458.5]
[null,20050401,5465,5511,5461.5,5461.5]
[null,20050404,5463,5474.5,5438.5,5465.5]
[null,20050405,5481,5484,5468,5484]
[null,20050406,5481,5496.5,5475.5,5487]
[null,20050407,5481.5,5520,5469,5506]
[null,20050408,5523,5527,5506.5,5512]
[null,20050411,5498,5523,5493,5516]
[null,20050412,5509.5,5514.5,5479,5481]
[null,20050413,5518,5525.5,5506,5510.5]
[null,20050414,5497,5537,5489,5500.5]
[null,20050415,5462.5,5469,5394,5394.5]
[null,20050418,5320.5,5343.5,5294.5,5314]
[null,20050419,5328,5335.5,5297,5312.5]
[null,20050420,5330,5333.5,5250,5256]
[null,20050421,5274.5,5330,5271.5,5328]
[null,20050422,5324,5344.5,5309.5,5323]
[null,20050425,5318.5,5360.5,5313,5351]
[null,20050426,5353,5354.5,5318.5,5335]
[null,20050427,5320,5327.5,5266,5314]
[null,20050428,5318,5324,5267,5287]
[null,20050429,5263,5317.5,5263,5304]
[null,20050502,5322.5,5343.5,5312,5331]
[null,20050503,5336,5356.5,5325,5353]
[null,20050504,5358,5384.5,5332.5,5383]
[null,20050505,5382,5413,5370.5,5381]
[null,20050506,5399.5,5422,5382,5408]
[null,20050509,5414,5414,5383.5,5410.5]
[null,20050510,5407,5412.5,5342.5,5359.5]
[null,20050511,5352.5,5380,5333.5,5361]
[null,20050512,5374,5387,5359,5367]
[null,20050513,5356,5389.5,5346.5,5370]
[null,20050516,5363.5,5380,5356.5,5379.5]
[null,20050517,5380,5380.5,5335.5,5358.5]
[null,20050518,5380,5454,5371.5,5443.5]
[null,20050519,5437,5468,5436,5460]
[null,20050520,5464,5492,5453.5,5492]
[null,20050523,5510,5520,5493,5520]
[null,20050524,5516,5516.5,5485.5,5502.5]
[null,20050525,5497.5,5507.5,5479.5,5490]
[null,20050526,5499.5,5545,5496,5544]
[null,20050527,5545.5,5554.5,5531.5,5554.5]
[null,20050530,5548,5584.5,5541,5580]
[null,20050531,5580,5582.5,5558.5,5580]
[null,20050601,5576.5,5637,5568.5,5632.5]
[null,20050602,5621,5643.5,5614.5,5640]
[null,20050603,5651,5652,5593.5,5603]
[null,20050606,5618,5622,5589.5,5612]
[null,20050607,5618,5671,5614,5657]
[null,20050608,5648,5666.5,5642.5,5655]
[null,20050609,5647.5,5682,5634,5672.5]
[null,20050610,5682,5700,5669.5,5683.5]
[null,20050613,5698,5702.5,5664.5,5685]
[null,20050614,5691.5,5700.5,5676.5,5700.5]
[null,20050615,5696.5,5706.5,5632,5653]
[null,20050616,5673.5,5685,5650,5673]
[null,20050617,5684.5,5722,5682,5710]
[null,20050620,5698.5,5701,5656.5,5694]
[null,20050621,5703,5711.5,5691,5704]
[null,20050622,5705.5,5731.5,5694.5,5719]
[null,20050623,5722,5737.5,5693.5,5700]
[null,20050624,5676.5,5683.5,5651.5,5652]
[null,20050627,5634,5637.5,5602,5602]
[null,20050628,5627.5,5666,5622.5,5661.5]
[null,20050629,5663,5690,5653,5665]
[null,20050630,5669,5701,5667.5,5694.5]
[null,20050701,5671.5,5717.5,5671,5709.5]
[null,20050704,5709.5,5720.5,5704,5717]
[null,20050705,5713,5717,5669,5703.5]
[null,20050706,5706,5730,5699,5709]
[null,20050707,5681.5,5685.5,5537,5652]
[null,20050708,5665.5,5711,5648.5,5706]
[null,20050711,5715,5758,5712,5742]
[null,20050712,5749,5763,5727,5760]
[null,20050713,5747,5774.5,5746,5768]
[null,20050714,5780.5,5805.5,5776,5791.5]
[null,20050715,5792,5813.5,5779.5,5809.5]
[null,20050718,5809.5,5822,5793,5810]
[null,20050719,5814,5863,5807,5855.5]
[null,20050720,5847.5,5898.5,5843.5,5898.5]
[null,20050721,5897,5956,5893,5919]
[null,20050722,5917,5941,5902.5,5929]
[null,20050725,5932.5,5941.5,5906.5,5924.5]
[null,20050726,5924.5,5946.5,5917,5932]
[null,20050727,5931,5954,5927.5,5948]
[null,20050728,5953,5992,5947,5990.5]
[null,20050729,5990,6002,5959.5,5971.5]
[null,20050801,5972,5999.5,5963,5984]
[null,20050802,5981,6025,5980.5,6017.5]
[null,20050803,6014,6020.5,5986.5,6012]
[null,20050804,6008.5,6013,5922.5,5929]
[null,20050805,5933.5,5952.5,5903.5,5912]
[null,20050808,5923,5945.5,5905,5907]
[null,20050809,5917.5,5998,5917,5997]
[null,20050810,6011,6072,6010,6043]
[null,20050811,6044,6066,6017,6032]
[null,20050812,6051.5,6054.5,5999.5,6006.5]
[null,20050815,6017,6032.5,5994.5,6027]
[null,20050816,6029.5,6036,5948.5,5954]
[null,20050817,5947,5975,5921,5967]
[null,20050818,5957.5,5965.5,5912.5,5938.5]
[null,20050819,5934.5,6012.5,5930.5,6001]
[null,20050822,6015,6034,5978,6002]
[null,20050823,6006.5,6012,5973,5985]
[null,20050824,5985,6008,5953,5995]
[null,20050825,5949,5961.5,5921,5923.5]
[null,20050826,5939,5958,5858,5861]
[null,20050829,5823,5916.5,5812.5,5912.5]
[null,20050830,5909,5915,5860,5884.5]
[null,20050831,5872,5914.5,5867.5,5911.5]
[null,20050901,5929,5951.5,5890,5906.5]
[null,20050902,5919,5939.5,5894,5919.5]
[null,20050905,5926,5994,5920.5,5976]
[null,20050906,5980.5,6051.5,5978.5,6051]
[null,20050907,6059,6080,6041.5,6065]
[null,20050908,6065.5,6074.5,6041.5,6062]
[null,20050909,6077,6094,6038.5,6094]
[null,20050912,6100.5,6110,6052.5,6063]
[null,20050913,6071,6071,5968.5,5983.5]
[null,20050914,5985,6008,5959,5978]
[null,20050915,5982.5,5998,5960.5,5969]
[null,20050916,5989.5,6075.5,5984.5,6066.5]
[null,20050919,5946,6020.5,5941,6003.5]
[null,20050920,6011.5,6041,5999,6020]
[null,20050921,5996,6003,5919.5,5926.5]
[null,20050922,5921,5944,5897.5,5935.5]
[null,20050923,5940,5974,5925.5,5973]
[null,20050926,6013,6074,6010,6048]
[null,20050927,6051.5,6062.5,6027,6050]
[null,20050928,6071,6123.5,6068,6095]
[null,20050929,6124,6129,6073.5,6126.5]
[null,20050930,6131.5,6134,6088.5,6112.5]
[null,20051003,6131.5,6154,6117,6147]
[null,20051004,6156.5,6213,6131.5,6198]
[null,20051005,6162,6173.5,6122,6133.5]
[null,20051006,6077.5,6094,6033.5,6035.5]
[null,20051007,6064,6100,6049.5,6068]
[null,20051010,6092,6123,6071.5,6082]
[null,20051011,6091,6132.5,6080,6087]
[null,20051012,6058.5,6085,6003.5,6011]
[null,20051013,6023.5,6058.5,5976,5997]
[null,20051014,6018,6058,5996.5,6036.5]
[null,20051017,6051,6064,6010,6020]
[null,20051018,6050,6057.5,5987.5,5995]
[null,20051019,5940,5960.5,5887.5,5952.5]
[null,20051020,5983,5995,5908,5908]
[null,20051021,5906,5933,5881,5921]
[null,20051024,5904.5,5982.5,5902.5,5982]
[null,20051025,5985,5992.5,5900,5900]
[null,20051026,5946,5978,5923,5942]
[null,20051027,5926,5936.5,5852,5879]
[null,20051028,5860.5,5918.5,5823,5915.5]
[null,20051031,5945,5991,5941,5973]
[null,20051101,5985,5997,5965,5974.5]
[null,20051102,5985.5,6039,5949.5,6036]
[null,20051103,6038.5,6073.5,6024,6060]
[null,20051104,6055,6073,6034.5,6036.5]
[null,20051107,6050,6092.5,6039.5,6083.5]
[null,20051108,6089.5,6105,6049.5,6068.5]
[null,20051109,6080.5,6110,6055.5,6096]
[null,20051110,6093,6128.5,6057.5,6121]
[null,20051111,6140.5,6151,6122,6145.5]
[null,20051114,6140.5,6162.5,6131,6147]
[null,20051115,6138.5,6183.5,6132.5,6161.5]
[null,20051116,6163.5,6170.5,6118,6135]
[null,20051117,6166,6185.5,6143,6159]
[null,20051118,6203,6216.5,6162.5,6191]
[null,20051121,6195,6236,6180.5,6229]
[null,20051122,6234,6236.5,6215,6230]
[null,20051123,6256.5,6259,6227,6249.5]
[null,20051124,6244,6248,6224.5,6245.5]
[null,20051125,6240,6259,6232.5,6242.5]
[null,20051128,6280.5,6295,6208,6227.5]
[null,20051129,6221,6272.5,6207,6241.5]
[null,20051130,6234,6261.5,6217,6254]
[null,20051201,6256,6325,6256,6315]
[null,20051202,6347,6359.5,6326,6353.5]
[null,20051205,6356,6357.5,6302,6318]
[null,20051206,6324,6368,6321,6351.5]
[null,20051207,6342,6358.5,6296.5,6305.5]
[null,20051208,6279,6345.5,6271.5,6332]
[null,20051209,6311.5,6343.5,6308,6330.5]
[null,20051212,6363,6380,6333.5,6348.5]
[null,20051213,6353.5,6363.5,6332.5,6359.5]
[null,20051214,6361.5,6367.5,6322,6332]
[null,20051215,6349,6352.5,6326.5,6338.5]
[null,20051216,6348.5,6401.5,6348.5,6396]
[null,20051219,6383,6403.5,6382,6396]
[null,20051220,6377,6414,6368,6405]
[null,20051221,6419,6447,6412.5,6442]
[null,20051222,6431.5,6448.5,6431,6445.5]
[null,20051223,6448,6470.5,6448,6463]
[null,20051227,6469,6499.5,6463,6491.5]
[null,20051228,6484,6505.5,6476.5,6492.5]
[null,20051229,6510.5,6512,6480.5,6501]
[null,20051230,6480,6487,6427,6451]
[null,20060102,6461,6496,6454.5,6490.5]
[null,20060103,6497.5,6555,6481,6496.5]
[null,20060104,6554,6571.5,6517.5,6559.5]
[null,20060105,6558.5,6568.5,6542,6553]
[null,20060106,6559.5,6582.5,6545.5,6569.5]
[null,20060109,6578,6592,6571.5,6581]
[null,20060110,6561.5,6563,6522,6535]
[null,20060111,6568,6579,6553.5,6566]
[null,20060112,6561,6596.5,6548,6579.5]
[null,20060113,6561,6572.5,6496,6520]
[null,20060116,6508,6558,6494,6549.5]
[null,20060117,6502.5,6510,6484.5,6495.5]
[null,20060118,6414.5,6462.5,6398.5,6440]
[null,20060119,6454.5,6480.5,6443,6464.5]
[null,20060120,6466,6480.5,6359,6384.5]
[null,20060123,6333,6383.5,6325.5,6381.5]
[null,20060124,6382.5,6402.5,6353,6368]
[null,20060125,6397.5,6474.5,6383.5,6458.5]
[null,20060126,6483,6609,6477,6576]
[null,20060127,6647,6684,6616.5,6680.5]
[null,20060130,6670,6706.5,6648.5,6685.5]
[null,20060131,6701,6728.5,6665.5,6709.5]
[null,20060201,6685,6777.5,6676,6753]
[null,20060202,6763.5,6790,6669.5,6676.5]
[null,20060203,6698,6717,6641.5,6680.5]
[null,20060206,6714,6732,6678,6694]
[null,20060207,6716,6728.5,6655.5,6702.5]
[null,20060208,6639,6721.5,6624,6695]
[null,20060209,6732,6786.5,6726,6765.5]
[null,20060210,6752,6772,6721.5,6733.5]
[null,20060213,6720.5,6786,6709,6778.5]
[null,20060214,6788,6812.5,6742.5,6788.5]
[null,20060215,6793,6816,6760,6790.5]
[null,20060216,6819,6825,6781,6811.5]
[null,20060217,6807,6835,6796,6820]
[null,20060220,6818.5,6827,6790.5,6818.5]
[null,20060221,6840,6874,6802,6824.5]
[null,20060222,6819,6895.5,6806,6880.5]
[null,20060223,6893,6906.5,6842.5,6883.5]
[null,20060224,6887,6901,6861.5,6886]
[null,20060227,6904.5,6939.5,6893,6934.5]
[null,20060228,6924,6937.5,6808.5,6817]
[null,20060301,6834,6899.5,6820.5,6886.5]
[null,20060302,6895.5,6905.5,6767,6795]
[null,20060303,6801.5,6831.5,6706.5,6743]
[null,20060306,6792.5,6795,6744.5,6769.5]
[null,20060307,6738,6770,6715,6765.5]
[null,20060308,6764,6777,6669.5,6697.5]
[null,20060309,6754,6759.5,6708.5,6743.5]
[null,20060310,6732,6834,6722.5,6814.5]
[null,20060313,6861.5,6875.5,6847.5,6867]
[null,20060314,6847,6890.5,6838.5,6881.5]
[null,20060315,6897.5,6931,6885,6912.5]
[null,20060316,6922.5,6922.5,6880.5,6910]
[null,20060317,6920.5,6958,6871.5,6888.5]
[null,20060320,6918,6945.5,6895.5,6913.5]
[null,20060321,6918,6948,6858.5,6918]
[null,20060322,6879,6963,6869,6951]
[null,20060323,6961,6971,6933,6961]
[null,20060324,6970,6988,6949.5,6981]
[null,20060327,6985.5,6989.5,6906,6923]
[null,20060328,6927.5,6952,6871.5,6900]
[null,20060329,6906,6960,6877,6924]
[null,20060330,6961.5,7004,6944.5,6996.5]
[null,20060331,6975,7004,6951.5,6974.5]
[null,20060403,7004.5,7038,6987,7035]
[null,20060404,7020.5,7038.5,7000.5,7019.5]
[null,20060405,7034,7045.5,7002,7036]
[null,20060406,7050,7055,7013.5,7036]
[null,20060407,7039,7050.5,6944,6960]
[null,20060410,6953.5,7009.5,6949,7007]
[null,20060411,6993,7003.5,6885,6910]
[null,20060412,6900.5,6919,6861.5,6901.5]
[null,20060413,6910,6927,6873,6917.5]
[null,20060418,6915,6923,6865.5,6902.5]
[null,20060419,6965.5,7016,6961.5,6992.5]
[null,20060420,6996.5,7090,6994.5,7059]
[null,20060421,7076.5,7108,7068.5,7096.5]
[null,20060424,7051,7092.5,7044,7077.5]
[null,20060425,7085.5,7108.5,7048,7078.5]
[null,20060426,7091,7120,7078.5,7105]
[null,20060427,7113,7113.5,7017,7062]
[null,20060428,7046,7048,6993,7000.5]
[null,20060502,6997.5,7061,6997.5,7043.5]
[null,20060503,7066.5,7075,6954,6969]
[null,20060504,6976.5,7043,6958,7029.5]
[null,20060505,7034.5,7132.5,7034.5,7102.5]
[null,20060508,7126.5,7145.5,7109,7112.5]
[null,20060509,7117.5,7135,7085.5,7130.5]
[null,20060510,7112,7151,7094,7111.5]
[null,20060511,7111.5,7153.5,7026,7041]
[null,20060512,7013.5,7033.5,6879.5,6907]
[null,20060515,6857,6892,6768,6846]
[null,20060516,6833.5,6885,6795,6842.5]
[null,20060517,6870,6881.5,6635.5,6643.5]
[null,20060518,6676,6702.5,6574.5,6650.5]
[null,20060519,6642.5,6686.5,6617.5,6658]
[null,20060522,6628,6628,6498,6515]
[null,20060523,6556,6688,6553,6649]
[null,20060524,6610,6636,6528.5,6574]
[null,20060525,6596.5,6726.5,6551.5,6684]
[null,20060526,6725,6771,6701,6765]
[null,20060529,6755,6761,6728,6743]
[null,20060530,6729,6740,6574,6587]
[null,20060531,6532.5,6687,6514,6672]
[null,20060601,6669,6695,6580,6683]
[null,20060602,6676,6757,6636.5,6657.5]
[null,20060605,6648.5,6672,6569.5,6602]
[null,20060606,6543,6571.5,6454,6480]
[null,20060607,6502,6551,6450.5,6521]
[null,20060608,6417.5,6450.5,6339.5,6374]
[null,20060609,6440.5,6463,6378,6442]
[null,20060612,6394,6445.5,6350.5,6358]
[null,20060613,6298,6310.5,6236.5,6263.5]
[null,20060614,6254.5,6309,6215.5,6282.5]
[null,20060615,6319.5,6452,6306,6402.5]
[null,20060616,6453.5,6475.5,6340.5,6346]
[null,20060619,6381.5,6456.5,6397.5,6412.5]
[null,20060620,6350.5,6483,6348,6460]
[null,20060621,6446.5,6502,6386,6474]
[null,20060622,6539.5,6553,6470.5,6501]
[null,20060623,6503,6532.5,6471,6501]
[null,20060626,6518,6537.5,6472.5,6488.5]
[null,20060627,6527.5,6527.5,6382.5,6429.5]
[null,20060628,6378,6462,6373,6427]
[null,20060629,6483.5,6564,6451.5,6547]
[null,20060630,6629.5,6673.5,6597,6661]
[null,20060703,6659.5,6698.5,6644.5,6694]
[null,20060704,6696.5,6699,6657,6695]
[null,20060705,6657.5,6677,6576.5,6592.5]
[null,20060706,6617.5,6672,6598.5,6659]
[null,20060707,6632.5,6686.5,6592.5,6647]
[null,20060710,6642.5,6679,6598,6672]
[null,20060711,6648,6650.5,6557.5,6587]
[null,20060712,6629,6667.5,6581.5,6596]
[null,20060713,6551.5,6557.5,6439.5,6492.5]
[null,20060714,6425.5,6468,6378.5,6388]
[null,20060717,6417.5,6422,6326,6375.5]
[null,20060718,6367.5,6409,6325.5,6347.5]
[null,20060719,6385.5,6513.5,6362,6499]
[null,20060720,6537.5,6549.5,6495,6506]
[null,20060721,6476.5,6499,6381,6410.5]
[null,20060724,6423.5,6548,6416,6529.5]
[null,20060725,6540.5,6580.5,6501.5,6522.5]
[null,20060726,6544.5,6559.5,6513,6545.5]
[null,20060727,6583,6626,6556,6619.5]
[null,20060728,6596.5,6675.5,6577.5,6665.5]
[null,20060731,6662,6668,6628.5,6638.5]
[null,20060801,6640,6651.5,6540,6554]
[null,20060802,6583.5,6658.5,6577.5,6633.5]
[null,20060803,6643.5,6651,6545.5,6603]
[null,20060804,6645,6697.5,6610.5,6673.5]
[null,20060807,6580,6619,6566.5,6581.5]
[null,20060808,6629.5,6632.5,6552.5,6603]
[null,20060809,6606.5,6667.5,6564.5,6653]
[null,20060810,6604.5,6608.5,6507,6588.5]
[null,20060811,6612,6624.5,6552,6576.5]
[null,20060814,6618,6653,6599.5,6643.5]
[null,20060815,6614.5,6743.5,6610,6730]
[null,20060816,6744,6783.5,6713,6759]
[null,20060817,6768.5,6794,6751.5,6781.5]
[null,20060818,6780,6797.5,6750.5,6765]
[null,20060821,6769.5,6771,6718.5,6738.5]
[null,20060822,6772.5,6780.5,6702.5,6766]
[null,20060823,6762,6766.5,6706,6722]
[null,20060824,6718.5,6794.5,6686.5,6760.5]
[null,20060825,6756.5,6777.5,6725,6757.5]
[null,20060828,6741.5,6815.5,6710.5,6799]
[null,20060829,6806.5,6825,6780,6793.5]
[null,20060830,6823,6828.5,6794.5,6815]
[null,20060831,6823.5,6834.5,6782,6795.5]
[null,20060901,6810.5,6849.5,6798,6817]
[null,20060904,6841,6858,6833,6852]
[null,20060905,6849.5,6854,6797.5,6819.5]
[null,20060906,6830.5,6833,6739,6757.5]
[null,20060907,6728.5,6741.5,6691,6712]
[null,20060908,6732.5,6751,6711,6734.5]
[null,20060911,6713,6773.5,6671.5,6735]
[null,20060912,6750,6842,6710.5,6810.5]
[null,20060913,6831.5,6845,6811.5,6838]
[null,20060914,6849,6870.5,6824.5,6844.5]
[null,20060915,6853,6890.5,6841.5,6866.5]
[null,20060918,6878,6885,6829.5,6861]
[null,20060919,6851.5,6864.5,6778.5,6807.5]
[null,20060920,6809,6896.5,6804.5,6886]
[null,20060921,6891.5,6913,6858.5,6899.5]
[null,20060922,6856,6862.5,6788.5,6805.5]
[null,20060925,6833.5,6869.5,6794.5,6828.5]
[null,20060926,6869.5,6909.5,6856,6894]
[null,20060927,6913.5,6930.5,6884.5,6917.5]
[null,20060928,6923.5,6932,6901,6916.5]
[null,20060929,6931,6960,6919.5,6930.5]
[null,20061002,6955,6960.5,6890.5,6920]
[null,20061003,6906,6953.5,6870.5,6915.5]
[null,20061004,6927,6979,6924,6976.5]
[null,20061005,7025,7025.5,6993.5,7004]
[null,20061006,7006.5,7018.5,6977,7010]
[null,20061009,7003.5,7019.5,6977.5,7006.5]
[null,20061010,7018,7053.5,7012.5,7047]
[null,20061011,7029.5,7058.5,7003,7045]
[null,20061012,7047.5,7087.5,7034,7085]
[null,20061013,7102.5,7112,7074,7094]
[null,20061016,7112.5,7112.5,7083,7105]
[null,20061017,7102.5,7102.5,7026.5,7029]
[null,20061018,7058,7133,7058,7105]
[null,20061019,7078.5,7123,7067,7100.5]
[null,20061020,7111.5,7137.5,7094.5,7121]
[null,20061023,7141.5,7168.5,7102.5,7157.5]
[null,20061024,7159.5,7170.5,7144.5,7162.5]
[null,20061025,7160,7194,7150.5,7181.5]
[null,20061026,7198,7220.5,7185,7196]
[null,20061027,7212.5,7216.5,7144.5,7178.5]
[null,20061030,7152,7185.5,7122.5,7175]
[null,20061031,7175.5,7201,7151,7179]
[null,20061101,7187,7226.5,7165.5,7208]
[null,20061102,7173.5,7208,7111.5,7136.5]
[null,20061103,7144.5,7189.5,7125.5,7149.5]
[null,20061106,7152.5,7246,7152,7240.5]
[null,20061107,7240.5,7265.5,7238,7271.5]
[null,20061108,7251,7275.5,7227,7262.5]
[null,20061109,7268.5,7277.5,7238,7262]
[null,20061110,7254,7273,7215.5,7260.5]
[null,20061113,7263,7311,7251,7300]
[null,20061114,7304,7316.5,7269,7290]
[null,20061115,7323.5,7339,7311.5,7334.5]
[null,20061116,7333.5,7363,7319.5,7347]
[null,20061117,7338.5,7354.5,7301.5,7321]
[null,20061120,7310.5,7362,7267.5,7354.5]
[null,20061121,7348,7380,7345,7361]
[null,20061122,7382.5,7396.5,7353,7378]
[null,20061123,7386,7394.5,7359.5,7374.5]
[null,20061124,7365.5,7370,7265,7313]
[null,20061127,7289,7318.5,7176,7200.5]
[null,20061128,7182.5,7204.5,7144.5,7176]
[null,20061129,7200.5,7264.5,7193,7259.5]
[null,20061130,7269,7298,7184,7205.5]
[null,20061201,7226.5,7255.5,7090.5,7142.5]
[null,20061204,7135.5,7196,7123.5,7190.5]
[null,20061205,7199.5,7275.5,7179.5,7265]
[null,20061206,7265.5,7277.5,7233,7264]
[null,20061207,7245,7332,7240.5,7298.5]
[null,20061208,7284.5,7341,7240.5,7315.5]
[null,20061211,7327.5,7367,7327.5,7359]
[null,20061212,7352,7373.5,7336.5,7366]
[null,20061213,7346.5,7415,7345,7407.5]
[null,20061214,7427.5,7460.5,7410.5,7438.5]
[null,20061215,7466,7491.5,7443.5,7477.5]
[null,20061218,7470.5,7501,7455.5,7477.5]
[null,20061219,7455.5,7464.5,7408,7441]
[null,20061220,7477,7491,7442.5,7472]
[null,20061221,7447.5,7477,7423.5,7457.5]
[null,20061222,7450,7457,7368.5,7376.5]
[null,20061227,7413.5,7495.5,7412,7489.5]
[null,20061228,7502,7504.5,7477,7491]
[null,20061229,7490.5,7501.5,7471.5,7478]
[null,20070102,7500,7565.5,7495.5,7554.5]
[null,20070103,7555.5,7579.5,7544,7566.5]
[null,20070104,7528.5,7557.5,7506,7548]
[null,20070105,7534.5,7537,7457,7461.5]
[null,20070108,7462.5,7501,7438,7477.5]
[null,20070109,7515.5,7539,7448,7479.5]
[null,20070110,7451,7468,7399.5,7438]
[null,20070111,7468.5,7569,7439.5,7561]
[null,20070112,7541,7588,7530,7565.5]
[null,20070115,7596.5,7614,7590.5,7603]
[null,20070116,7601.5,7612,7570.5,7579]
[null,20070117,7582.5,7599.5,7537.5,7561.5]
[null,20070118,7580.5,7602.5,7523,7554]
[null,20070119,7533.5,7617,7513,7610]
[null,20070122,7622.5,7628,7530.5,7552.5]
[null,20070123,7550,7564.5,7486.5,7539]
[null,20070124,7564.5,7621.5,7540.5,7609.5]
[null,20070125,7617.5,7632,7552,7576.5]
[null,20070126,7532,7589.5,7517.5,7557]
[null,20070129,7562,7598,7539.5,7583]
[null,20070130,7584.5,7657,7565.5,7646.5]
[null,20070131,7636.5,7660,7613.5,7640]
[null,20070201,7681.5,7730.5,7679.5,7706]
[null,20070202,7722.5,7758,7710,7744.5]
[null,20070205,7730.5,7744,7716,7729.5]
[null,20070206,7743.5,7759,7711.5,7727.5]
[null,20070207,7734.5,7779.5,7733,7764]
[null,20070208,7759.5,7767.5,7699,7730]
[null,20070209,7764,7776.5,7741.5,7762.5]
[null,20070212,7714.5,7735.5,7690.5,7710.5]
[null,20070213,7725.5,7761,7711.5,7733.5]
[null,20070214,7768.5,7812,7752.5,7808]
[null,20070215,7809.5,7816,7793.5,7807]
[null,20070216,7795,7824.5,7784.5,7799]
[null,20070219,7817,7837.5,7815.5,7829]
[null,20070220,7833.5,7845,7778,7824.5]
[null,20070221,7841.5,7846.5,7763.5,7782]
[null,20070222,7824.5,7852,7812.5,7820]
[null,20070223,7836.5,7839.5,7803,7824.5]
[null,20070226,7838.5,7878,7836.5,7865]
[null,20070227,7847,7847.5,7620.5,7663]
[null,20070228,7535.5,7613.5,7512.5,7573.5]
[null,20070301,7513,7592,7378.5,7472.5]
[null,20070302,7455.5,7536,7388,7444.5]
[null,20070305,7288.5,7397.5,7247,7378.5]
[null,20070306,7370,7447.5,7370,7424]
[null,20070307,7446.5,7477.5,7415.5,7453]
[null,20070308,7483,7551,7469,7531.5]
[null,20070309,7527,7573,7493.5,7539]
[null,20070312,7570.5,7581.5,7501.5,7547.5]
[null,20070313,7543.5,7552,7391.5,7456.5]
[null,20070314,7344.5,7362,7247.5,7283]
[null,20070315,7385,7421.5,7330.5,7396]
[null,20070316,7366.5,7439,7350,7398.5]
[null,20070319,7469.5,7501,7452,7488]
[null,20070320,7496,7528.5,7456.5,7507.5]
[null,20070321,7514.5,7563.5,7508.5,7562]
[null,20070322,7659.5,7693.5,7630,7666.5]
[null,20070323,7665,7724,7650,7718.5]
[null,20070326,7719.5,7724.5,7622,7670]
[null,20070327,7693.5,7703.5,7658.5,7689.5]
[null,20070328,7655.5,7682,7608,7672]
[null,20070329,7676,7722.5,7665.5,7688.5]
[null,20070330,7724,7783,7700.5,7730.5]
[null,20070402,7727.5,7763,7707,7752.5]
[null,20070403,7789.5,7873,7789.5,7864]
[null,20070404,7891.5,7901.5,7854,7894]
[null,20070405,7889.5,7931,7879.5,7928.5]
[null,20070410,7925.5,7984.5,7923,7976]
[null,20070411,7976.5,8013,7952.5,7969]
[null,20070412,7961.5,7975,7896.5,7975]
[null,20070413,7971,8027,7962,8021.5]
[null,20070416,8048.5,8160.5,8041.5,8145.5]
[null,20070417,8132.5,8177,8100.5,8150]
[null,20070418,8139.5,8147.5,8051.5,8082.5]
[null,20070419,8049.5,8081,7960,8077.5]
[null,20070420,8074.5,8177,8070.5,8129]
[null,20070423,8152,8163.5,8109,8136]
[null,20070424,8130,8147,8026,8089.5]
[null,20070425,8080.5,8171.5,8070.5,8151.5]
[null,20070426,8198.5,8221,8163,8193.5]
[null,20070427,8194.5,8210.5,8137,8199.5]
[null,20070430,8185,8238.5,8159.5,8220.5]
[null,20070502,8210.5,8267,8210.5,8264]
[null,20070503,8262.5,8285,8221,8265]
[null,20070504,8279,8323,8261,8312]
[null,20070507,8337.5,8341.5,8303,8320]
[null,20070508,8304,8315,8208,8257.5]
[null,20070509,8281,8285.5,8221.5,8276.5]
[null,20070510,8293.5,8294,8151.5,8165.5]
[null,20070511,8156,8280,8096.5,8271]
[null,20070514,8297.5,8320.5,8234.5,8260.5]
[null,20070515,8213.5,8312.5,8206,8292.5]
[null,20070516,8262,8311,8247,8278.5]
[null,20070517,8311.5,8322,8268.5,8279.5]
[null,20070518,8269.5,8403.5,8265.5,8400]
[null,20070521,8406,8428,8382,8412.5]
[null,20070522,8399,8460.5,8390,8447.5]
[null,20070523,8436,8530,8436,8529.5]
[null,20070524,8491,8557,8451.5,8475.5]
[null,20070525,8457.5,8527.5,8439,8519.5]
[null,20070529,8543.5,8567.5,8513.5,8549]
[null,20070530,8518.5,8567,8453,8554]
[null,20070531,8610,8672,8606.5,8663]
[null,20070601,8669,8778.5,8662.5,8737]
[null,20070604,8738.5,8784.5,8709,8753.5]
[null,20070605,8746,8776.5,8626.5,8650]
[null,20070606,8695.5,8701.5,8475,8484]
[null,20070607,8508.5,8554,8349,8372]
[null,20070608,8341.5,8413,8265.5,8364.5]
[null,20070611,8431,8511.5,8395.5,8505]
[null,20070612,8453.5,8508,8392.5,8453]
[null,20070613,8412.5,8468,8360,8437]
[null,20070614,8510,8628.5,8510,8622]
[null,20070615,8620.5,8801,8618,8783]
[null,20070618,8792.5,8860,8777.5,8802.5]
[null,20070619,8804,8841.5,8776.5,8826]
[null,20070620,8832.5,8897,8811.5,8850.5]
[null,20070621,8794.5,8821,8665.5,8727.5]
[null,20070622,8767,8775,8644,8656.5]
[null,20070625,8673,8728,8586.5,8705.5]
[null,20070626,8630,8661,8574,8631.5]
[null,20070627,8560,8579,8505.5,8557]
[null,20070628,8649.5,8712,8622,8696.5]
[null,20070629,8707,8766.5,8656.5,8712.5]
[null,20070702,8718,8735,8665,8689]
[null,20070703,8741.5,8818.5,8741.5,8804]
[null,20070704,8791,8840.5,8790,8827]
[null,20070705,8836,8868.5,8693.5,8705]
[null,20070706,8722,8798.5,8692,8773]
[null,20070709,8830,8866,8804.5,8837.5]
[null,20070710,8820,8855,8678,8714.5]
[null,20070711,8604,8656.5,8543,8637]
[null,20070712,8680,8806.5,8621.5,8799]
[null,20070713,8867.5,8895,8803.5,8830]
[null,20070716,8824.5,8871.5,8813,8842.5]
[null,20070717,8826,8837.5,8732.5,8763.5]
[null,20070718,8678,8697.5,8585,8615.5]
[null,20070719,8697,8744,8673,8726.5]
[null,20070720,8698,8739.5,8557,8565.5]
[null,20070723,8623,8679.5,8565.5,8665.5]
[null,20070724,8646,8666,8534,8567]
[null,20070725,8472,8517,8390,8424]
[null,20070726,8451,8477,8176,8209]
[null,20070727,8178,8259.5,8096.5,8162]
[null,20070730,8178.5,8238,8101,8226]
[null,20070731,8246,8358,8243,8318]
[null,20070801,8105.5,8273,8093,8234]
[null,20070802,8255.5,8290.5,8218.5,8251]
[null,20070803,8290,8290,8139,8150.5]
[null,20070806,8130,8218,8084,8205.5]
[null,20070807,8230.5,8291.5,8181,8273.5]
[null,20070808,8298.5,8331.5,8251.5,8302.5]
[null,20070809,8318,8318,8143,8160]
[null,20070810,8066,8158.5,8012.5,8119]
[null,20070813,8177,8194,8103.5,8171]
[null,20070814,8120,8206,8095,8170.5]
[null,20070815,8077,8187.5,8057,8152]
[null,20070816,7995,8061.5,7900.5,7906.5]
[null,20070817,7975,8206.5,7903,8091]
[null,20070820,8133,8159.5,8091,8110]
[null,20070821,8158,8180,8055,8119.5]
[null,20070822,8123.5,8229.5,8120,8177.5]
[null,20070823,8292,8303,8169,8178]
[null,20070824,8195.5,8240,8163.5,8230.5]
[null,20070827,8248.5,8252,8172,8184]
[null,20070828,8160,8180,8115.5,8145.5]
[null,20070829,8070,8162.5,8053.5,8137]
[null,20070830,8192.5,8240,8115.5,8224]
[null,20070831,8279,8386.5,8235.5,8380.5]
[null,20070903,8359.5,8377,8327.5,8344.5]
[null,20070904,8331.5,8426,8293,8411]
[null,20070905,8377.5,8414.5,8273.5,8313]
[null,20070906,8325,8347,8201,8335]
[null,20070907,8286,8321.5,8111,8154]
[null,20070910,8109.5,8158.5,8056,8078]
[null,20070911,8140,8171.5,8105,8154]
[null,20070912,8141,8168.5,8111.5,8149]
[null,20070913,8141,8232.5,8116.5,8217.5]
[null,20070914,8195.5,8208,8130,8182.5]
[null,20070917,8176.5,8217,8118.5,8170.5]
[null,20070918,8145,8273.5,8125.5,8257.5]
[null,20070919,8390,8456,8381,8414.5]
[null,20070920,8402,8433,8377,8411.5]
[null,20070921,8389.5,8489,8386.5,8475.5]
[null,20070924,8468.5,8476,8438.5,8459]
[null,20070925,8429,8466.5,8395,8448.5]
[null,20070926,8483,8499.5,8464,8475.5]
[null,20070927,8524,8558,8510.5,8532.5]
[null,20070928,8548.5,8557.5,8429,8539]
[null,20071001,8521.5,8619.5,8506,8613]
[null,20071002,8619,8643,8595.5,8614.5]
[null,20071003,8636,8641,8598,8626.5]
[null,20071004,8622,8633.5,8578,8615]
[null,20071005,8600,8680,8600,8666]
[null,20071008,8658,8675,8615.5,8636.5]
[null,20071009,8658,8678,8617.5,8641]
[null,20071010,8673,8676.5,8617,8635]
[null,20071011,8674,8724.5,8642,8701.5]
[null,20071012,8636,8714,8626.5,8689]
[null,20071015,8685,8696.5,8606,8627]
[null,20071016,8629,8632,8581.5,8609.5]
[null,20071017,8601,8673,8596,8623.5]
[null,20071018,8663.5,8670.5,8544,8580.5]
[null,20071019,8551,8596,8516.5,8540]
[null,20071022,8414.5,8483.5,8400.5,8440]
[null,20071023,8498,8525.5,8470,8491]
[null,20071024,8492,8513.5,8454.5,8496]
[null,20071025,8529,8613.5,8515.5,8551]
[null,20071026,8600.5,8615.5,8564,8591]
[null,20071029,8661,8666,8627,8653.5]
[null,20071030,8637,8643,8610.5,8631.5]
[null,20071031,8613,8670.5,8606.5,8656]
[null,20071101,8661,8672.5,8491,8497.5]
[null,20071102,8462.5,8507.5,8426.5,8492.5]
[null,20071105,8454,8465.5,8407.5,8438.5]
[null,20071106,8483,8495.5,8458.5,8474]
[null,20071107,8461.5,8486,8371,8418.5]
[null,20071108,8346,8477.5,8336,8439.5]
[null,20071109,8497,8551.5,8423,8466.5]
[null,20071112,8413,8461.5,8395,8441]
[null,20071113,8385.5,8422,8384,8399.5]
[null,20071114,8488,8507.5,8392,8417]
[null,20071115,8400,8431.5,8245,8255]
[null,20071116,8241.5,8283.5,8187.5,8252]
[null,20071119,8245.5,8265,8124,8141.5]
[null,20071120,8180,8261.5,8150.5,8213.5]
[null,20071121,8162.5,8188.5,8095,8185]
[null,20071122,8145,8205,8107.5,8183]
[null,20071123,8178,8250,8165,8238]
[null,20071126,8287.5,8301,8177.5,8203]
[null,20071127,8128,8190.5,8061,8174.5]
[null,20071128,8169,8377,8154.5,8365.5]
[null,20071129,8392.5,8412.5,8345,8385.5]
[null,20071130,8408,8512.5,8395.5,8490.5]
[null,20071203,8460,8506,8439,8462]
[null,20071204,8438.5,8466,8400,8433]
[null,20071205,8458,8564.5,8453.5,8554]
[null,20071206,8583.5,8622,8519.5,8558]
[null,20071207,8598.5,8620,8565,8606]
[null,20071210,8579.5,8665.5,8555.5,8643]
[null,20071211,8657.5,8678.5,8591,8636.5]
[null,20071212,8544.5,8729,8531.5,8666]
[null,20071213,8627.5,8641,8522,8534]
[null,20071214,8570.5,8590.5,8476.5,8538]
[null,20071217,8465,8475,8399,8422]
[null,20071218,8399.5,8548,8380,8411]
[null,20071219,8455.5,8477.5,8374.5,8436.5]
[null,20071220,8433.5,8514.5,8431,8469.5]
[null,20071221,8526,8619.5,8521.5,8593.5]
[null,20071227,8666,8759.5,8563.5,8585.5]
[null,20071228,8601.5,8656.5,8579.5,8647]
[null,20080102,8612,8687,8479,8514.5]
[null,20080103,8542,8551.5,8436.5,8498]
[null,20080104,8490.5,8494.5,8352.5,8385.5]
[null,20080107,8346.5,8439.5,8341.5,8414]
[null,20080108,8399,8502.5,8395.5,8430.5]
[null,20080109,8375,8413,8336.5,8361]
[null,20080110,8371.5,8406,8270.5,8338.5]
[null,20080111,8276.5,8319,8249,8292]
[null,20080114,8274.5,8333,8252.5,8308]
[null,20080115,8266.5,8292.5,8124,8148.5]
[null,20080116,8075,8124.5,8017.5,8051.5]
[null,20080117,8066.5,8114.5,7944,7949]
[null,20080118,7971.5,8068,7849,7893]
[null,20080121,7826.5,7841,7319,7368.5]
[null,20080122,7227,7440,6955,7358.5]
[null,20080123,7317.5,7440.5,6888.5,6906]
[null,20080124,7258,7406.5,7220,7346.5]
[null,20080125,7461.5,7554,7331.5,7347.5]
[null,20080128,7121.5,7385,7114.5,7380]
[null,20080129,7423.5,7479,7363.5,7418]
[null,20080130,7407.5,7469,7368,7402.5]
[null,20080131,7361.5,7458.5,7234,7409.5]
[null,20080201,7465.5,7582,7447.5,7492]
[null,20080204,7568,7602.5,7516,7530]
[null,20080205,7529,7537.5,7284,7311.5]
[null,20080206,7234.5,7403.5,7217.5,7369.5]
[null,20080207,7310.5,7378,7192.5,7332]
[null,20080208,7336.5,7394.5,7242.5,7285]
[null,20080211,7265,7351,7224.5,7317]
[null,20080212,7319.5,7519,7283,7472]
[null,20080213,7435,7545.5,7404.5,7530]
[null,20080214,7585,7596.5,7468.5,7481]
[null,20080215,7480.5,7548,7328,7383.5]
[null,20080218,7435.5,7532,7405.5,7514.5]
[null,20080219,7484.5,7614.5,7421,7539]
[null,20080220,7466.5,7497.5,7379.5,7470]
[null,20080221,7524,7549,7403.5,7419]
[null,20080222,7395.5,7411,7288,7306.5]
[null,20080225,7412.5,7451.5,7352,7393]
[null,20080226,7450.5,7555,7430.5,7539]
[null,20080227,7519.5,7545,7404.5,7511]
[null,20080228,7479,7521,7372.5,7392.5]
[null,20080229,7372.5,7389.5,7219.5,7268.5]
[null,20080303,7134.5,7246,7122.5,7225]
[null,20080304,7199,7241.5,7036.5,7055.5]
[null,20080305,7112.5,7220,7100.5,7189.5]
[null,20080306,7206.5,7209.5,7087.5,7101.5]
[null,20080307,7046.5,7082.5,6966.5,7020.5]
[null,20080310,6961,7055.5,6930.5,6954.5]
[null,20080311,6973.5,7122.5,6947,7061.5]
[null,20080312,7115.5,7182,7083,7092.5]
[null,20080313,7018.5,7076,6910,7067]
[null,20080314,7009.5,7136.5,6888,6910]
[null,20080317,6782,6824,6680.5,6725]
[null,20080318,6778.5,6930,6776.5,6923]
[null,20080319,7004,7004,6818.5,6834.5]
[null,20080320,6817,6886,6778.5,6860.5]
[null,20080325,7039,7073,6990,7067.5]
[null,20080326,7032.5,7049.5,6975.5,6985]
[null,20080327,6977,7120,6974,7054.5]
[null,20080328,7092.5,7124,7042,7048]
[null,20080331,7023,7066,6932,7064.5]
[null,20080401,7037,7251.5,6992.5,7248.5]
[null,20080402,7290,7314.5,7231.5,7285.5]
[null,20080403,7298.5,7306.5,7199,7263.5]
[null,20080404,7275,7315,7192.5,7283]
[null,20080407,7290,7346.5,7287.5,7342]
[null,20080408,7273,7287,7223.5,7259.5]
[null,20080409,7245.5,7288,7194.5,7195]
[null,20080410,7201.5,7223,7103.5,7204.5]
[null,20080411,7255,7267,7066,7091]
[null,20080414,7052.5,7085,7009.5,7083.5]
[null,20080415,7088,7122,7016.5,7088.5]
[null,20080416,7139,7206.5,7092,7198]
[null,20080417,7230.5,7236.5,7156,7188.5]
[null,20080418,7222,7354.5,7202,7331.5]
[null,20080421,7328,7340.5,7239,7287]
[null,20080422,7279.5,7308.5,7163,7165.5]
[null,20080423,7207,7307,7143.5,7250]
[null,20080424,7252.5,7344,7200.5,7327]
[null,20080425,7346,7432.5,7331,7391]
[null,20080428,7410.5,7452,7392,7405.5]
[null,20080429,7418,7418,7339.5,7370]
[null,20080430,7376,7442.5,7332,7430.5]
[null,20080502,7483,7572.5,7479.5,7511]
[null,20080505,7495,7551,7489,7529]
[null,20080506,7535,7538.5,7444.5,7528]
[null,20080507,7526,7585,7512,7545.5]
[null,20080508,7498.5,7551.5,7483.5,7537.5]
[null,20080509,7497,7505,7433,7470]
[null,20080512,7497,7539,7479,7522]
[null,20080513,7549,7554.5,7474.5,7533.5]
[null,20080514,7544,7573.5,7469.5,7556]
[null,20080515,7532,7591,7502,7571.5]
[null,20080516,7577,7679,7575,7634]
[null,20080519,7660,7707,7630.5,7695]
[null,20080520,7665,7665,7571.5,7577.5]
[null,20080521,7587,7616,7476,7512]
[null,20080522,7469,7553.5,7440,7529]
[null,20080523,7532,7538,7391.5,7393.5]
[null,20080526,7406,7425,7374,7415]
[null,20080527,7423.5,7465.5,7363.5,7420]
[null,20080528,7432,7542,7410,7492]
[null,20080529,7521,7558.5,7458,7554]
[null,20080530,7534,7579,7524,7546]
[null,20080602,7556.5,7563,7407,7409.5]
[null,20080603,7419,7477.5,7413.5,7459]
[null,20080604,7436,7443,7347,7399]
[null,20080605,7417,7458.5,7350.5,7402]
[null,20080606,7441.5,7451,7242,7255]
[null,20080609,7214.5,7288,7209.5,7263]
[null,20080610,7227,7246,7162,7234]
[null,20080611,7236.5,7259.5,7077,7096.5]
[null,20080612,7088.5,7177.5,7086,7150]
[null,20080613,7147,7223,7090.5,7190]
[null,20080616,7228.5,7254,7112.5,7182]
[null,20080617,7180.5,7297.5,7180.5,7228]
[null,20080618,7235,7239,7145,7170.5]
[null,20080619,7137.5,7202.5,7099,7178.5]
[null,20080620,7176.5,7203.5,6980.5,6996.5]
[null,20080623,7014.5,7063,7005.5,7028.5]
[null,20080624,7030,7051.5,6873,6982.5]
[null,20080625,6966.5,7063.5,6964.5,7043.5]
[null,20080626,7002.5,7010.5,6846.5,6865.5]
[null,20080627,6871.5,6894.5,6773,6841]
[null,20080630,6837,6873.5,6733,6839]
[null,20080701,6820,6830.5,6649.5,6675.5]
[null,20080702,6728.5,6822.5,6709,6726]
[null,20080703,6699.5,6816,6621.5,6768.5]
[null,20080704,6775,6805.5,6676,6689]
[null,20080707,6712.5,6841.5,6704.5,6722]
[null,20080708,6683,6754,6643.5,6729]
[null,20080709,6793.5,6817.5,6760,6783.5]
[null,20080710,6709.5,6807,6669.5,6722.5]
[null,20080711,6762.5,6768.5,6546,6554.5]
[null,20080714,6643.5,6670.5,6562,6575.5]
[null,20080715,6537,6553,6418.5,6551.5]
[null,20080716,6529.5,6595,6406,6591.5]
[null,20080717,6623,6730,6613,6689.5]
[null,20080718,6672.5,6803,6645,6774.5]
[null,20080721,6799.5,6898.5,6753,6818.5]
[null,20080722,6804.5,6864,6730,6842]
[null,20080723,6895,6973.5,6893,6926]
[null,20080724,6959.5,6981,6817,6830.5]
[null,20080725,6814.5,6891,6740,6841.5]
[null,20080728,6826.5,6837.5,6706,6712.5]
[null,20080729,6712.5,6832,6667.5,6818]
[null,20080730,6856,6911,6826.5,6837]
[null,20080731,6887,6946,6828.5,6870.5]
[null,20080801,6844.5,6893,6766.5,6773]
[null,20080804,6784.5,6802,6721,6759]
[null,20080805,6758.5,6933,6741,6923.5]
[null,20080806,6975,6984.5,6896,6966.5]
[null,20080807,6949,7020.5,6921.5,6956]
[null,20080808,6931,6985.5,6836.5,6966.5]
[null,20080811,6990,7024,6954.5,7011.5]
[null,20080812,6982,7022,6938.5,6989]
[null,20080813,6952.5,6954.5,6800.5,6817.5]
[null,20080814,6842,6874.5,6759.5,6862]
[null,20080815,6854.5,6908,6781.5,6826.5]
[null,20080818,6828.5,6878.5,6762.5,6771.5]
[null,20080819,6764.5,6769.5,6640,6666.5]
[null,20080820,6684.5,6726.5,6648.5,6678.5]
[null,20080821,6664,6681.5,6602,6634]
[null,20080822,6629.5,6742,6612.5,6712]
[null,20080825,6718.5,6746.5,6645.5,6653]
[null,20080826,6667,6755.5,6620,6723.5]
[null,20080827,6722.5,6737,6631.5,6732]
[null,20080828,6694.5,6838,6641,6805.5]
[null,20080829,6807,6835,6776,6798]
[null,20080901,6761.5,6827,6713,6797.5]
[null,20080902,6767,6930.5,6752,6858]
[null,20080903,6832,6895,6812.5,6834.5]
[null,20080904,6834.5,6853,6622.5,6633]
[null,20080905,6585.5,6623,6462.5,6538.5]
[null,20080908,6654.5,6727.5,6590,6638.5]
[null,20080909,6620,6696.5,6565.5,6582]
[null,20080910,6567.5,6628,6526.5,6581]
[null,20080911,6544,6572.5,6447,6543]
[null,20080912,6596.5,6622,6524,6566.5]
[null,20080915,6364.5,6448.5,6305,6417.5]
[null,20080916,6300.5,6390,6224.5,6346.5]
[null,20080917,6372,6411.5,6168,6208]
[null,20080918,6218,6330.5,6145,6145]
[null,20080919,6451.5,6585.5,6425,6572]
[null,20080922,6552.5,6589,6419.5,6459.5]
[null,20080923,6430,6487,6388.5,6394.5]
[null,20080924,6428,6468,6372.5,6403.5]
[null,20080925,6416,6556,6404,6548]
[null,20080926,6463,6480.5,6364,6441]
[null,20080929,6383,6399.5,6163,6193]
[null,20080930,5984.5,6247,5969.5,6239.5]
[null,20081001,6240,6252.5,6113.5,6220.5]
[null,20081002,6146.5,6243.5,5992,6024.5]
[null,20081003,6053,6196,5970.5,6182]
[null,20081006,5915,5929.5,5661.5,5712.5]
[null,20081007,5819,5862.5,5623,5643]
[null,20081008,5483,5693,5220,5332]
[null,20081009,5365,5507,5163,5221.5]
[null,20081010,4917,5008,4641,4894]
[null,20081013,5130.5,5468,5082,5461]
[null,20081014,5675,5727.5,5438.5,5554.5]
[null,20081015,5534.5,5548,5126.5,5192]
[null,20081016,4863,5234,4854.5,5010]
[null,20081017,5228,5237,4918,5236.5]
[null,20081020,5223,5287,5091,5206.5]
[null,20081021,5260,5265.5,5007.5,5021.5]
[null,20081022,5008,5043,4872,4899]
[null,20081023,4871.5,4920.5,4689.5,4736]
[null,20081024,4608,4706,4340.5,4610]
[null,20081027,4505.5,4811.5,4388,4671.5]
[null,20081028,4768,5099,4723,5051.5]
[null,20081029,5163,5203,4959.5,5145.5]
[null,20081030,5225.5,5356.5,5138,5206.5]
[null,20081031,5195,5414.5,5096.5,5400]
[null,20081103,5403,5427,5295.5,5364.5]
[null,20081104,5361,5643.5,5321.5,5611]
[null,20081105,5648,5652,5374,5393.5]
[null,20081106,5345,5402,5051,5084.5]
[null,20081107,5112,5345,5071.5,5288.5]
[null,20081110,5397,5457,5219.5,5228.5]
[null,20081111,5259.5,5281,5041,5085.5]
[null,20081112,5188,5202,4870,4970]
[null,20081113,4928,5037.5,4820.5,4823]
[null,20081114,5149,5198,4966.5,5038]
[null,20081117,5000.5,5055,4833,4967]
[null,20081118,4862,4942.5,4764,4876]
[null,20081119,4932.5,4946,4650,4686]
[null,20081120,4548,4653.5,4428.5,4603]
[null,20081121,4497,4615.5,4350,4435.5]
[null,20081124,4570,4897.5,4472.5,4859.5]
[null,20081125,4887,5016,4774,4809.5]
[null,20081126,4842,4934,4735.5,4897.5]
[null,20081127,4941,5001,4903,4973.5]
[null,20081128,4978,5023,4880.5,4990.5]
[null,20081201,4956,4984.5,4680.5,4685.5]
[null,20081202,4656,4890,4616,4864]
[null,20081203,4826,4932,4689.5,4889.5]
[null,20081204,4869.5,5048,4802,4852]
[null,20081205,4808,4843,4633.5,4704]
[null,20081208,4939,5087.5,4918.5,5006.5]
[null,20081209,4995,5163.5,4934,5073]
[null,20081210,5099.5,5156,5053.5,5119]
[null,20081211,5101,5135,5023,5100.5]
[null,20081212,4889,5048,4831,5041]
[null,20081215,5082,5107,4936.5,4981]
[null,20081216,4987.5,5074.5,4960.5,5040]
[null,20081217,5127,5127,4956,5068]
[null,20081218,5050.5,5103.5,5027,5086]
[null,20081219,5020,5103.5,4959,4995]
[null,20081222,5001,5014.5,4885,4946.5]
[null,20081223,4931,5033.5,4915,4939]
[null,20081229,4961,5045,4950,5007]
[null,20081230,5051,5125.5,5049,5125.5]
[null,20090102,5176,5307,5154,5294]
[null,20090105,5323,5348,5257.5,5304.5]
[null,20090106,5313,5429.5,5269.5,5350]
[null,20090107,5316,5325.5,5224.5,5243]
[null,20090108,5206,5226.5,5128.5,5201.5]
[null,20090109,5209,5244.5,5049.5,5087]
[null,20090112,5056,5100,5001,5010]
[null,20090113,4989,4989,4902,4939.5]
[null,20090114,4982,4986,4683.5,4727.5]
[null,20090115,4676,4758,4595,4618.5]
[null,20090116,4718,4779,4602,4635]
[null,20090119,4720.5,4757,4550,4605]
[null,20090120,4621,4684.5,4519,4542]
[null,20090121,4524.5,4616,4439.5,4583]
[null,20090122,4641,4668.5,4485.5,4518]
[null,20090123,4526,4527.5,4366,4476]
[null,20090126,4435.5,4674,4432.5,4617]
[null,20090127,4620.5,4664,4562.5,4637]
[null,20090128,4673.5,4833.5,4671,4811]
[null,20090129,4821,4827.5,4682.5,4685]
[null,20090130,4716.5,4752,4608,4667.5]
[null,20090202,4605.5,4606,4493.5,4595.5]
[null,20090203,4567,4685.5,4517.5,4654]
[null,20090204,4692.5,4845,4670,4770]
[null,20090205,4716,4863,4682.5,4845]
[null,20090206,4813.5,4953,4801,4948]
[null,20090209,4910.5,4985,4892,4970]
[null,20090210,4917,4944.5,4765.5,4785]
[null,20090211,4781,4839,4760,4812]
[null,20090212,4798,4817,4665,4709.5]
[null,20090213,4768,4804.5,4681.5,4688.5]
[null,20090216,4662,4718,4644,4654.5]
[null,20090217,4630.5,4636.5,4489.5,4513]
[null,20090218,4513,4546.5,4416.5,4510]
[null,20090219,4491,4570,4457.5,4479.5]
[null,20090220,4413.5,4434,4279,4300]
[null,20090223,4345,4407.5,4176,4177]
[null,20090224,4194,4226.5,4108.5,4192.5]
[null,20090225,4220,4271,4081.5,4122]
[null,20090226,4161.5,4283.5,4142,4206.5]
[null,20090227,4164.5,4195.5,4052.5,4163.5]
[null,20090302,4064.5,4077.5,3970.5,3978]
[null,20090303,4025,4050,3960,3997.5]
[null,20090304,4021,4194,4016,4163.5]
[null,20090305,4124,4154.5,3959.5,3982]
[null,20090306,4004.5,4063,3927,3945]
[null,20090309,3965,4000,3879.5,3957]
[null,20090310,3972.5,4199,3958,4161]
[null,20090311,4156.5,4286,4119,4203.5]
[null,20090312,4165.5,4273.5,4092,4264]
[null,20090313,4299.5,4345,4227.5,4274.5]
[null,20090316,4296,4364,4273.5,4342]
[null,20090317,4329.5,4338,4238,4288.5]
[null,20090318,4340,4359,4238,4293]
[null,20090319,4331.5,4428,4294,4340]
[null,20090320,4302.5,4380,4287.5,4302]
[null,20090323,4402.5,4480.5,4392,4455.5]
[null,20090324,4523.5,4545.5,4445.5,4498]
[null,20090325,4475.5,4561.5,4435,4486]
[null,20090326,4537.5,4593,4510,4573.5]
[null,20090327,4551.5,4567.5,4450,4477.5]
[null,20090330,4452.5,4452.5,4264.5,4283.5]
[null,20090331,4284,4389,4284,4379.5]
[null,20090401,4341.5,4460.5,4288.5,4428]
[null,20090402,4519.5,4696,4507.5,4673.5]
[null,20090403,4659,4752.5,4626,4701]
[null,20090406,4741,4754,4596.5,4630.5]
[null,20090407,4674.5,4680.5,4567,4603]
[null,20090408,4542.5,4682,4514.5,4676]
[null,20090409,4699.5,4802.5,4668.5,4783]
[null,20090414,4768.5,4875.5,4753.5,4813.5]
[null,20090415,4790.5,4868.5,4777.5,4867]
[null,20090416,4863.5,4935,4821,4904]
[null,20090417,4902.5,4979.5,4880.5,4964]
[null,20090420,4949.5,4956.5,4759.5,4787]
[null,20090421,4795.5,4834.5,4681.5,4823]
[null,20090422,4809.5,4903,4746.5,4869]
[null,20090423,4851.5,4899,4811,4839]
[null,20090424,4850.5,4971,4838.5,4962.5]
[null,20090427,4920,5006,4861,4979.5]
[null,20090428,4924.5,4937.5,4838,4910.5]
[null,20090429,4922.5,5015.5,4910.5,4990]
[null,20090430,5005,5130,4996,5035.5]
[null,20090504,5103.5,5198.5,5092.5,5172.5]
[null,20090505,5188.5,5218.5,5132.5,5146]
[null,20090506,5129.5,5235.5,5113.5,5186]
[null,20090507,5211,5267.5,5077,5113.5]
[null,20090508,5155.5,5254,5134.5,5234]
[null,20090511,5205.5,5219.5,5117.5,5146]
[null,20090512,5122.5,5215.5,5104,5117.5]
[null,20090513,5192,5196,4994,4999]
[null,20090514,5010.5,5054,4939,5047.5]
[null,20090515,5033.5,5059.5,4967.5,4992]
[null,20090518,4957.5,5149.5,4941.5,5146.5]
[null,20090519,5175,5297,5169.5,5235.5]
[null,20090520,5236,5346,5221.5,5289.5]
[null,20090521,5257.5,5274,5160.5,5194]
[null,20090522,5194,5249.5,5152.5,5197]
[null,20090525,5197,5225.5,5111.5,5200.5]
[null,20090526,5172.5,5286.5,5086.5,5281]
[null,20090527,5270,5320,5246,5270.5]
[null,20090528,5242.5,5273.5,5166.5,5206.5]
[null,20090529,5257.5,5294.5,5200.5,5221.5]
[null,20090601,5297,5440.5,5290.5,5415]
[null,20090602,5392.5,5462,5383.5,5425.5]
[null,20090603,5430.5,5453.5,5321.5,5324]
[null,20090604,5337.5,5406,5327.5,5355.5]
[null,20090605,5378.5,5447.5,5329,5365.5]
[null,20090608,5335.5,5343,5249,5287]
[null,20090609,5317.5,5350,5261.5,5298.5]
[null,20090610,5324,5418.5,5315.5,5334]
[null,20090611,5344,5405,5321,5392]
[null,20090612,5375,5390,5326.5,5349.5]
[null,20090615,5342.5,5342.5,5163.5,5176.5]
[null,20090616,5172.5,5217,5138.5,5142.5]
[null,20090617,5151.5,5170,5042.5,5093]
[null,20090618,5097,5140,5051,5127.5]
[null,20090619,5118,5161,5097,5108.5]
[null,20090622,5127,5144,4963,4975]
[null,20090623,4961,5034,4950,5003.5]
[null,20090624,5001,5121,4977,5099.5]
[null,20090625,5113,5122,4998,5098]
[null,20090626,5098,5146.5,5030.5,5067]
[null,20090629,5025,5182.5,5018,5156]
[null,20090630,5161.5,5185,5067.5,5092.5]
[null,20090701,5096.5,5208.5,5084,5180]
[null,20090702,5139,5158.5,4982,4999.5]
[null,20090703,5011.5,5028.5,4962.5,4984.5]
[null,20090706,4945.5,4970.5,4886.5,4937.5]
[null,20090707,4946.5,4982.5,4861.5,4873]
[null,20090708,4852,4910,4830.5,4837]
[null,20090709,4867.5,4948.5,4865.5,4918.5]
[null,20090710,4879,4923.5,4845,4865]
[null,20090713,4831,5024,4798,5008]
[null,20090714,5014.5,5081.5,4981.5,5055.5]
[null,20090715,5106,5210,5089.5,5193.5]
[null,20090716,5198,5279,5180.5,5248.5]
[null,20090717,5286.5,5300.5,5237,5269]
[null,20090720,5314,5340,5284,5318]
[null,20090721,5342,5420,5306.5,5352.5]
[null,20090722,5394,5419,5327.5,5409]
[null,20090723,5414,5543,5379,5541]
[null,20090724,5506,5584,5479,5511.5]
[null,20090727,5582,5602.5,5494.5,5527]
[null,20090728,5562.5,5583,5442.5,5466]
[null,20090729,5496,5590,5424.5,5565.5]
[null,20090730,5585,5678,5532.5,5634.5]
[null,20090731,5627,5666.5,5582.5,5608.5]
[null,20090803,5639,5743.5,5585,5711.5]
[null,20090804,5690,5713.5,5638.5,5711.5]
[null,20090805,5705,5733,5611,5632.5]
[null,20090806,5677,5704,5619,5635]
[null,20090807,5641,5760.5,5592.5,5740]
[null,20090810,5707,5723,5668.5,5684]
[null,20090811,5712,5734,5549.5,5570]
[null,20090812,5591.5,5649,5531.5,5633]
[null,20090813,5638,5734,5629,5683]
[null,20090814,5677,5724.5,5569,5604]
[null,20090817,5586,5586,5454,5486]
[null,20090818,5512,5536,5475,5528]
[null,20090819,5497,5556.5,5437,5551]
[null,20090820,5565,5604.5,5543,5590]
[null,20090821,5566,5758.5,5559,5739]
[null,20090824,5770,5811,5748,5778]
[null,20090825,5746,5855.5,5737.5,5827.5]
[null,20090826,5827,5851,5778,5806]
[null,20090827,5791,5820.5,5709,5780.5]
[null,20090828,5783.5,5853,5770,5777.5]
[null,20090831,5757,5774,5714.5,5742.5]
[null,20090901,5781,5791,5582,5593]
[null,20090902,5606,5617.5,5540.5,5588.5]
[null,20090903,5586,5644,5554,5585.5]
[null,20090904,5600,5708,5598,5698.5]
[null,20090907,5692,5755,5692,5732]
[null,20090908,5750,5781,5731.5,5754.5]
[null,20090909,5739,5863,5726.5,5855]
[null,20090910,5869.5,5906,5823,5881]
[null,20090911,5887,5930.5,5875.5,5887.5]
[null,20090914,5847,5901.5,5809,5892]
[null,20090915,5902.5,5927,5860,5913.5]
[null,20090916,5927,5998,5918.5,5988.5]
[null,20090917,6018.5,6026.5,5974,5978]
[null,20090918,5995,6040.5,5979.5,6000]
[null,20090921,5986,5989.5,5893.5,5945]
[null,20090922,5980.5,6030.5,5968.5,5992.5]
[null,20090923,5988.5,6033,5948,5997.5]
[null,20090924,5955.5,6020.5,5862,5875]
[null,20090925,5899,5907,5836.5,5846.5]
[null,20090928,5842.5,6020,5830.5,6010.5]
[null,20090929,6010.5,6035.5,5967,5995]
[null,20090930,5996,6023,5895.5,5981.5]
[null,20091001,5955.5,6005.5,5828.5,5844]
[null,20091002,5798.5,5814.5,5720,5748.5]
[null,20091005,5747,5818.5,5718.5,5811.5]
[null,20091006,5796.5,5941.5,5795.5,5922]
[null,20091007,5916.5,5971.5,5904.5,5923.5]
[null,20091008,5997.5,6010,5944.5,5998]
[null,20091009,5990.5,6027.5,5952.5,5987]
[null,20091012,6009.5,6095,6009.5,6061.5]
[null,20091013,6049.5,6068.5,5974,6010.5]
[null,20091014,6061.5,6143.5,6059.5,6126]
[null,20091015,6138.5,6149.5,6085.5,6118]
[null,20091016,6141.5,6166.5,6009,6033.5]
[null,20091019,6046,6137.5,6038.5,6120.5]
[null,20091020,6134,6170.5,6062,6072.5]
[null,20091021,6104.5,6139,6016,6114.5]
[null,20091022,6049,6059.5,5990.5,6052]
[null,20091023,6108.5,6128.5,6009.5,6036.5]
[null,20091026,6051.5,6080.5,5902,5927]
[null,20091027,5932.5,5953.5,5877,5898.5]
[null,20091028,5897.5,5908.5,5751,5774]
[null,20091029,5742.5,5884.5,5739.5,5878]
[null,20091030,5876,5880,5659,5675.5]
[null,20091102,5689.5,5752.5,5616.5,5616.5]
[null,20091103,5664,5674.5,5592.5,5647]
[null,20091104,5661.5,5751,5659,5711.5]
[null,20091105,5659.5,5793,5634.5,5759]
[null,20091106,5756.5,5809.5,5687.5,5774]
[null,20091109,5805,5919.5,5805,5916]
[null,20091110,5911.5,5930.5,5873.5,5885.5]
[null,20091111,5933.5,5985,5922.5,5950]
[null,20091112,5931,6007,5912,5948]
[null,20091113,5948,5981,5893,5973.5]
[null,20091116,6011.5,6093,6008,6078.5]
[null,20091117,6063.5,6084,6039.5,6073]
[null,20091118,6086,6124,6048.5,6066]
[null,20091119,6076.5,6076.5,5966.5,5991]
[null,20091120,6012.5,6026.5,5914,5950]
[null,20091123,5987.5,6103.5,5987.5,6065.5]
[null,20091124,6035.5,6095.5,6024,6049]
[null,20091125,6106.5,6112.5,6031,6072.5]
[null,20091126,6051.5,6055,5872.5,5899]
[null,20091127,5837.5,5999,5786,5949.5]
[null,20091130,5970.5,6000,5884.5,5899.5]
[null,20091201,5951.5,6063,5949.5,6051.5]
[null,20091202,6051.5,6092.5,6030,6053]
[null,20091203,6106.5,6133,6033.5,6054.5]
[null,20091204,6020.5,6138.5,6001,6075.5]
[null,20091207,6072.5,6091,6020.5,6072.5]
[null,20091208,6071.5,6088.5,5934.5,5955.5]
[null,20091209,5946.5,5996,5881,5920]
[null,20091210,5924.5,6020,5913.5,5984.5]
[null,20091211,5996.5,6075,5994.5,6041]
[null,20091214,6100.5,6117.5,6055,6083]
[null,20091215,6104.5,6107,6028,6088]
[null,20091216,6089,6183.5,6080.5,6174.5]
[null,20091217,6138.5,6168.5,6099,6106]
[null,20091218,6129.5,6177.5,6092.5,6114.5]
[null,20091221,6134.5,6216.5,6121,6206.5]
[null,20091222,6210,6258.5,6203,6237]
[null,20091223,6263.5,6267,6210.5,6236.5]
[null,20091228,6303.5,6304.5,6256,6282.5]
[null,20091229,6305.5,6308.5,6275.5,6290.5]
[null,20091230,6282.5,6286,6225,6228]
[null,20100104,6271.5,6331.5,6249,6323.5]
[null,20100105,6300.5,6333,6285.5,6307]
[null,20100106,6303.5,6322,6272.5,6306.5]
[null,20100107,6296,6313,6234.5,6301.5]
[null,20100108,6328.5,6331.5,6244,6307.5]
[null,20100111,6353.5,6369,6304.5,6315]
[null,20100112,6324.5,6330,6191,6195.5]
[null,20100113,6214,6273.5,6199.5,6266]
[null,20100114,6280,6285,6223.5,6266]
[null,20100115,6264,6301.5,6132.5,6140.5]
[null,20100118,6178.5,6196.5,6151,6189.5]
[null,20100119,6173.5,6266.5,6120.5,6261]
[null,20100120,6234.5,6246,6103,6129.5]
[null,20100121,6174.5,6182.5,5958,5986]
[null,20100122,5994.5,6013,5909.5,5929.5]
[null,20100125,5886.5,5965.5,5881,5912.5]
[null,20100126,5825.5,5957.5,5818,5955.5]
[null,20100127,5887,5943.5,5859,5905.5]
[null,20100128,5976.5,5997.5,5804.5,5837.5]
[null,20100129,5828.5,5928.5,5825,5882.5]
[null,20100201,5833.5,5945.5,5833.5,5914.5]
[null,20100202,5910.5,5993,5894,5985.5]
[null,20100203,6008,6008.5,5925,5948]
[null,20100204,5963.5,5966.5,5782,5807]
[null,20100205,5804.5,5805.5,5688.5,5706]
[null,20100208,5712,5776.5,5705.5,5747]
[null,20100209,5733.5,5840,5730.5,5817.5]
[null,20100210,5803.5,5863.5,5774.5,5803.5]
[null,20100211,5836.5,5852.5,5724,5805.5]
[null,20100212,5837.5,5838.5,5729,5784]
[null,20100215,5793.5,5817.5,5770.5,5787.5]
[null,20100216,5800.5,5876.5,5765,5863]
[null,20100217,5895,5952,5881.5,5924.5]
[null,20100218,5922.5,5962,5894.5,5948]
[null,20100219,5908.5,6000.5,5895.5,5987.5]
[null,20100222,5993.5,6026,5951.5,5963.5]
[null,20100223,5973.5,6002.5,5852.5,5873.5]
[null,20100224,5903.5,5910.5,5840.5,5886.5]
[null,20100225,5865,5927,5787,5816]
[null,20100226,5865.5,5879,5799,5861.5]
[null,20100301,5910.5,5988.5,5906,5980]
[null,20100302,5993.5,6052,5979.5,6041.5]
[null,20100303,6026.5,6100,6026.5,6073]
[null,20100304,6043.5,6093.5,6033,6063.5]
[null,20100305,6083.5,6150.5,6077,6143.5]
[null,20100308,6178.5,6183,6135,6152]
[null,20100309,6144,6178,6107,6176]
[null,20100310,6164.5,6224.5,6142.5,6193]
[null,20100311,6188.5,6224,6175.5,6197.5]
[null,20100312,6214,6259.5,6202.5,6211]
[null,20100315,6207.5,6222.5,6166.5,6188]
[null,20100316,6217,6260.5,6197.5,6229]
[null,20100317,6267,6305.5,6259,6300.5]
[null,20100318,6278.5,6309,6264,6292]
[null,20100319,6306.5,6311.5,6222.5,6251.5]
[null,20100322,6228.5,6265.5,6178,6259.5]
[null,20100323,6256.5,6300,6249,6279.5]
[null,20100324,6299,6315.5,6231,6294]
[null,20100325,6313.5,6407.5,6305.5,6391.5]
[null,20100326,6374.5,6404,6367,6383.5]
[null,20100329,6406,6441,6395,6416.5]
[null,20100330,6426,6474.5,6402.5,6422]
[null,20100331,6418.5,6434,6375.5,6427.5]
[null,20100401,6454.5,6509.5,6444,6500]
[null,20100406,6520.5,6534,6481,6517.5]
[null,20100407,6524.5,6525,6475,6489.5]
[null,20100408,6470.5,6474.5,6403.5,6467.5]
[null,20100409,6473,6522,6473,6507.5]
[null,20100412,6551.5,6563.5,6489.5,6523]
[null,20100413,6500.5,6520,6465.5,6503]
[null,20100414,6532.5,6573.5,6517,6546]
[null,20100415,6551.5,6577,6516.5,6559.5]
[null,20100416,6525.5,6570.5,6428.5,6455]
[null,20100419,6425.5,6457,6400,6423.5]
[null,20100420,6454.5,6534.5,6438.5,6526.5]
[null,20100421,6549,6554,6486,6512]
[null,20100422,6494.5,6553.5,6406,6446]
[null,20100423,6469.5,6554.5,6435,6540]
[null,20100426,6549,6607.5,6548.5,6599.5]
[null,20100427,6590,6599.5,6387,6425]
[null,20100428,6409.5,6429.5,6293,6349.5]
[null,20100429,6344.5,6432,6342.5,6421]
[null,20100430,6405.5,6478.5,6349.5,6369.5]
[null,20100503,6373,6466.5,6354,6466.5]
[null,20100504,6442.5,6466.5,6258,6282.5]
[null,20100505,6284,6299.5,6201.5,6245.5]
[null,20100506,6223.5,6278.5,6155,6194]
[null,20100507,6009.5,6169,5919.5,5988]
[null,20100510,6112.5,6280.5,6110.5,6251.5]
[null,20100511,6203.5,6339.5,6172.5,6335.5]
[null,20100512,6285.5,6480.5,6267,6465]
[null,20100513,6485.5,6540.5,6460.5,6514.5]
[null,20100514,6498.5,6500,6277,6348]
[null,20100517,6258,6416.5,6242.5,6297]
[null,20100518,6375.5,6447.5,6373.5,6423.5]
[null,20100519,6343.5,6388.5,6220.5,6276.5]
[null,20100520,6259.5,6308,6042.5,6069.5]
[null,20100521,6091.5,6133.5,5948.5,6080.5]
[null,20100524,6079,6133,5994,6082]
[null,20100525,5919,5963,5868.5,5945]
[null,20100526,5982.5,6090.5,5980,6030]
[null,20100527,6013,6217.5,6012.5,6190.5]
[null,20100528,6209.5,6242.5,6151,6182.5]
[null,20100531,6228,6256.5,6192,6223.5]
[null,20100601,6194.5,6273.5,6092.5,6220]
[null,20100602,6181.5,6259.5,6128.5,6250]
[null,20100603,6330.5,6365,6289,6304]
[null,20100604,6316,6376,6173.5,6201]
[null,20100607,6122,6216.5,6091.5,6180]
[null,20100608,6159,6192.5,6059,6138]
[null,20100609,6149.5,6255.5,6093.5,6229]
[null,20100610,6211.5,6350.5,6184.5,6291.5]
[null,20100611,6329.5,6354.5,6243,6307.5]
[null,20100614,6365.5,6399,6353,6363]
[null,20100615,6363.5,6455.5,6338.5,6446]
[null,20100616,6460.5,6479,6403.5,6453.5]
[null,20100617,6446.5,6504.5,6427,6483.5]
[null,20100618,6495.5,6519,6449,6469.5]
[null,20100621,6559.5,6615,6523.5,6545]
[null,20100622,6536.5,6558,6477,6526]
[null,20100623,6487.5,6534.5,6439.5,6485.5]
[null,20100624,6490.5,6507.5,6357.5,6395]
[null,20100625,6397.5,6413,6301.5,6336.5]
[null,20100628,6355.5,6432.5,6320.5,6411]
[null,20100629,6344.5,6344.5,6197.5,6226]
[null,20100630,6222.5,6264.5,6199.5,6222.5]
[null,20100701,6138.5,6217.5,6088.5,6153.5]
[null,20100702,6146,6202.5,6070.5,6077.5]
[null,20100705,6089.5,6127.5,6069,6077]
[null,20100706,6104,6258,6102,6174.5]
[null,20100707,6158,6260,6108.5,6245]
[null,20100708,6301.5,6318.5,6266,6297]
[null,20100709,6335.5,6341,6299.5,6330]
[null,20100712,6334.5,6382,6321.5,6340]
[null,20100713,6345.5,6463,6328.5,6441.5]
[null,20100714,6495.5,6501.5,6421.5,6467]
[null,20100715,6473.5,6520,6387.5,6410.5]
[null,20100716,6411,6467.5,6275.5,6295.5]
[null,20100719,6306,6346.5,6254.5,6288]
[null,20100720,6290,6310.5,6167,6225]
[null,20100721,6265,6323,6236.5,6264.5]
[null,20100722,6225.5,6410,6210,6392.5]
[null,20100723,6395.5,6455,6371.5,6423]
[null,20100726,6468.5,6475.5,6391,6449]
[null,20100727,6457,6514.5,6443,6470]
[null,20100728,6500.5,6509.5,6407,6453.5]
[null,20100729,6445.5,6505,6347.5,6376.5]
[null,20100730,6376,6445.5,6318.5,6411]
[null,20100802,6441,6565,6441,6544]
[null,20100803,6551,6573.5,6526,6559]
[null,20100804,6544.5,6622,6523,6598]
[null,20100805,6603.5,6643,6579.5,6600]
[null,20100806,6616.5,6647,6503,6535]
[null,20100809,6585,6616,6576,6608]
[null,20100810,6595.5,6597.5,6506,6547.5]
[null,20100811,6532.5,6532.5,6401,6410]
[null,20100812,6390,6406,6356,6393]
[null,20100813,6415.5,6434,6326.5,6378.5]
[null,20100816,6382.5,6414.5,6319,6376]
[null,20100817,6398.5,6475,6381,6458]
[null,20100818,6431,6475.5,6412.5,6459]
[null,20100819,6456,6489,6309,6328.5]
[null,20100820,6328.5,6355.5,6245.5,6253]
[null,20100823,6275.5,6312.5,6252,6269.5]
[null,20100824,6247,6247.5,6126,6186.5]
[null,20100825,6164.5,6213,6092,6145.5]
[null,20100826,6178.5,6207.5,6152,6166]
[null,20100827,6151,6220,6100.5,6197.5]
[null,20100830,6232.5,6243,6145,6168.5]
[null,20100831,6106,6191.5,6071.5,6165]
[null,20100901,6187.5,6344,6131.5,6324.5]
[null,20100902,6312.5,6362,6308,6339]
[null,20100903,6352.5,6435,6343,6400]
[null,20100906,6430.5,6431.5,6397.5,6409]
[null,20100907,6408,6408,6337.5,6366]
[null,20100908,6359.5,6437.5,6318.5,6426]
[null,20100909,6399.5,6490,6388,6440]
[null,20100910,6457.5,6481.5,6439,6464.5]
[null,20100913,6524,6548.5,6487.5,6504]
[null,20100914,6509,6545.5,6486.5,6528.5]
[null,20100915,6535,6543.5,6484,6523]
[null,20100916,6512.5,6538.5,6488.5,6512.5]
[null,20100917,6570.5,6585.5,6441,6457.5]
[null,20100920,6495.5,6558,6475,6544]
[null,20100921,6551,6597,6528.5,6540]
[null,20100922,6560.5,6561.5,6449,6475]
[null,20100923,6511,6521.5,6384,6439]
[null,20100924,6429.5,6568,6400,6552]
[null,20100927,6580,6587.5,6528,6538.5]
[null,20100928,6537.5,6569.5,6452.5,6531.5]
[null,20100929,6533.5,6584,6477.5,6512.5]
[null,20100930,6479,6595.5,6441,6491]
[null,20101001,6497.5,6551.5,6442.5,6472]
[null,20101004,6464.5,6481.5,6366,6381]
[null,20101005,6411.5,6491.5,6372.5,6486]
[null,20101006,6501.5,6546.5,6497.5,6512]
[null,20101007,6508,6580,6490,6511.5]
[null,20101008,6540.5,6555,6492.5,6549.5]
[null,20101011,6552.5,6582.5,6542.5,6568]
[null,20101012,6525.5,6574,6477.5,6555]
[null,20101013,6577,6714,6577,6696]
[null,20101014,6707.5,6742,6700,6712.5]
[null,20101015,6733.5,6771,6694.5,6743.5]
[null,20101018,6723.5,6792,6714.5,6774.5]
[null,20101019,6764,6803.5,6728.5,6755]
[null,20101020,6747,6791.5,6718.5,6784.5]
[null,20101021,6772.5,6879,6761.5,6846.5]
[null,20101022,6861.5,6880.5,6843,6870]
[null,20101025,6915,6931.5,6882.5,6891]
[null,20101026,6897,6903.5,6835.5,6875.5]
[null,20101027,6860.5,6886.5,6810,6824]
[null,20101028,6858.5,6905,6832.5,6845.5]
[null,20101029,6831,6887.5,6825.5,6869]
[null,20101101,6914,6927.5,6841,6856]
[null,20101102,6857,6926.5,6850.5,6920]
[null,20101103,6921.5,6941,6859,6884]
[null,20101104,6918,7014,6912.5,6991.5]
[null,20101105,6992.5,7033.5,6967.5,7015]
[null,20101108,7001,7017,6983,7012.5]
[null,20101109,7001,7066,6988,7034.5]
[null,20101110,7023,7038.5,6937.5,6996]
[null,20101111,7004,7016,6955.5,6987]
[null,20101112,6928.5,7015,6873,6962]
[null,20101115,6957.5,7068,6932.5,7050]
[null,20101116,7008.5,7024,6902,6922.5]
[null,20101117,6922.5,6961.5,6907.5,6953.5]
[null,20101118,7008,7089,7007,7083]
[null,20101119,7092.5,7108.5,7046,7099]
[null,20101122,7135,7155,7044.5,7057.5]
[null,20101123,7049.5,7080.5,6959,6989]
[null,20101124,6995,7090,6951,7085.5]
[null,20101125,7081,7137,7072.5,7131]
[null,20101126,7097.5,7122.5,7029,7095.5]
[null,20101129,7109,7158,6934.5,6962]
[null,20101130,6975.5,7014,6908,6962.5]
[null,20101201,6974.5,7137,6972.5,7129.5]
[null,20101202,7123.5,7213.5,7090.5,7198]
[null,20101203,7203.5,7227.5,7164,7197.5]
[null,20101206,7216.5,7226.5,7175,7204.5]
[null,20101207,7222,7291,7210,7260]
[null,20101208,7229,7262,7204.5,7223]
[null,20101209,7258,7276.5,7194,7214]
[null,20101210,7252.5,7267.5,7221.5,7258.5]
[null,20101213,7260.5,7293.5,7260.5,7278.5]
[null,20101214,7270,7285.5,7259.5,7280]
[null,20101215,7257.5,7279,7211.5,7260]
[null,20101216,7265.5,7282.5,7238,7274.5]
[null,20101217,7283,7290.5,7226,7246.5]
[null,20101220,7234,7315.5,7232,7284]
[null,20101221,7294,7334.5,7288,7325]
[null,20101222,7323,7331,7313,7322]
[null,20101223,7329,7329.5,7286,7301.5]
[null,20101227,7309.5,7312.5,7144,7218]
[null,20101228,7234.5,7239,7200,7217]
[null,20101229,7235.5,7253,7225.5,7238]
[null,20101230,7239,7252,7139,7156]
[null,20110103,7230.5,7271.5,7206,7224.5]
[null,20110104,7218.5,7267,7192,7203.5]
[null,20110105,7189.5,7210,7081.5,7187.5]
[null,20110106,7203,7300,7197,7230.5]
[null,20110107,7232,7263.5,7175,7202.5]
[null,20110110,7186,7193,7083.5,7121]
[null,20110111,7131.5,7200.5,7108,7194]
[null,20110112,7193.5,7338,7193,7318.5]
[null,20110113,7335.5,7339,7286.5,7317]
[null,20110114,7302,7351.5,7264,7331]
[null,20110117,7328.5,7336,7304.5,7322.5]
[null,20110118,7327,7406,7326,7390]
[null,20110119,7422,7434,7314,7330.5]
[null,20110120,7321,7336,7256.5,7274.5]
[null,20110121,7292,7372.5,7274,7311]
[null,20110124,7338.5,7345.5,7251.5,7317]
[null,20110125,7343,7354.5,7294.5,7304.5]
[null,20110126,7343,7410.5,7335,7371.5]
[null,20110127,7391,7430,7363.5,7404]
[null,20110128,7403,7425.5,7321,7356]
[null,20110131,7341,7357,7282,7337]
[null,20110201,7364,7446,7354,7426.5]
[null,20110202,7440.5,7469,7407.5,7427]
[null,20110203,7417.5,7463.5,7393.5,7432]
[null,20110204,7453.5,7477,7433,7457.5]
[null,20110207,7477,7536,7459.5,7528]
[null,20110208,7529,7582,7518.5,7559.5]
[null,20110209,7565,7599,7559.5,7562]
[null,20110210,7577,7601,7516,7582]
[null,20110211,7561,7644.5,7528,7626]
[null,20110214,7649.5,7670,7625.5,7640.5]
[null,20110215,7654,7668,7623,7647]
[null,20110216,7671,7684.5,7647,7669.5]
[null,20110217,7663,7680,7609,7644]
[null,20110218,7660,7671.5,7624.5,7662]
[null,20110221,7659,7689,7556.5,7567.5]
[null,20110222,7551.5,7597.5,7493,7566.5]
[null,20110223,7524,7557,7390,7449]
[null,20110224,7420,7423.5,7324.5,7376]
[null,20110225,7383,7444.5,7372.5,7426.5]
[null,20110228,7420.5,7550.5,7392.5,7516.5]
[null,20110301,7571,7601.5,7409.5,7465.5]
[null,20110302,7396.5,7448,7366.5,7432.5]
[null,20110303,7461,7538.5,7433,7463.5]
[null,20110304,7507.5,7556,7371,7414]
[null,20110307,7387,7515,7365.5,7406]
[null,20110308,7435,7467.5,7313,7405]
[null,20110309,7391.5,7461,7350.5,7369]
[null,20110310,7328.5,7352.5,7264,7296]
[null,20110311,7232.5,7259,7208,7223.5]
[null,20110314,7176,7190,7089,7116]
[null,20110315,6902.5,6958.5,6724.5,6905]
[null,20110316,6863,6978,6654,6770.5]
[null,20110317,6766,6934,6756,6894]
[null,20110318,6962,7002.5,6862,6912.5]
[null,20110321,6958,7067,6951,7046]
[null,20110322,7059,7065.5,7003.5,7025.5]
[null,20110323,7006,7058,6956.5,7040]
[null,20110324,7040,7198,7023.5,7177]
[null,20110325,7214,7224,7158,7199.5]
[null,20110328,7181,7221.5,7153,7178.5]
[null,20110329,7173,7198,7103,7177]
[null,20110330,7235,7309,7233,7289.5]
[null,20110331,7317,7318.5,7274,7296.5]
[null,20110401,7318,7431.5,7308.5,7416.5]
[null,20110404,7413.5,7438,7400,7417.5]
[null,20110405,7431.5,7435,7366,7416.5]
[null,20110406,7433.5,7480.5,7393.5,7454.5]
[null,20110407,7442,7479,7410.5,7418.5]
[null,20110408,7459,7471,7407,7441]
[null,20110411,7442,7463,7391.5,7444.5]
[null,20110412,7393,7418.5,7327,7346]
[null,20110413,7370,7440.5,7361.5,7419.5]
[null,20110414,7408,7423,7332,7386.5]
[null,20110415,7390,7430,7378.5,7410]
[null,20110418,7416,7419.5,7227,7264.5]
[null,20110419,7269,7316,7261.5,7267]
[null,20110420,7354,7499.5,7346,7475.5]
[null,20110421,7523,7552.5,7511,7531]
[null,20110426,7524.5,7611,7509.5,7590]
[null,20110427,7603.5,7697,7591.5,7636]
[null,20110428,7702.5,7734,7660.5,7712.5]
[null,20110429,7713.5,7766.5,7702,7747.5]
[null,20110502,7817.5,7842,7736,7773]
[null,20110503,7743,7763.5,7687.5,7738]
[null,20110504,7697,7779.5,7596.5,7612]
[null,20110505,7646.5,7661.5,7527,7604.5]
[null,20110506,7605.5,7737,7596,7722.5]
[null,20110509,7670.5,7720,7608.5,7644.5]
[null,20110510,7647.5,7765,7644,7725]
[null,20110511,7753,7797.5,7668,7731.5]
[null,20110512,7672,7722.5,7584,7670.5]
[null,20110513,7717.5,7737.5,7574.5,7628.5]
[null,20110516,7566,7629.5,7510.5,7607.5]
[null,20110517,7560,7595.5,7469.5,7498.5]
[null,20110518,7548,7568,7486,7531]
[null,20110519,7563,7647,7539,7571.5]
[null,20110520,7602,7635.5,7450.5,7489.5]
[null,20110523,7418,7420,7325,7357]
[null,20110524,7348,7427,7339,7368]
[null,20110525,7296,7425.5,7285.5,7398.5]
[null,20110526,7418.5,7439.5,7309,7336.5]
[null,20110527,7408,7429,7335.5,7387]
[null,20110530,7371.5,7427,7361,7385]
[null,20110531,7449.5,7555.5,7440,7514]
[null,20110601,7563,7565.5,7349,7444.5]
[null,20110602,7363,7379,7287.5,7306]
[null,20110603,7318,7366.5,7241,7321]
[null,20110606,7318,7346.5,7260,7311.5]
[null,20110607,7284,7370,7284,7328]
[null,20110608,7278,7310,7210.5,7275]
[null,20110609,7268,7410.5,7253.5,7374.5]
[null,20110610,7365,7403,7264,7292]
[null,20110613,7284,7343.5,7260,7310.5]
[null,20110614,7349.5,7452,7344,7419]
[null,20110615,7411,7421.5,7290,7338]
[null,20110616,7280.5,7336,7234.5,7325]
[null,20110617,7294.5,7445,7254.5,7393.5]
[null,20110620,7330,7387,7278,7371.5]
[null,20110621,7391,7531,7390.5,7497]
[null,20110622,7500.5,7529,7468,7503.5]
[null,20110623,7453.5,7467.5,7335,7363]
[null,20110624,7451,7490,7313,7344]
[null,20110627,7311,7363.5,7293.5,7323]
[null,20110628,7341.5,7425.5,7290,7386.5]
[null,20110629,7416,7537,7415.5,7514.5]
[null,20110630,7536,7607.5,7501,7583.5]
[null,20110701,7611.5,7669,7572,7627]
[null,20110704,7641,7666,7630.5,7655]
[null,20110705,7658,7691,7637.5,7663]
[null,20110706,7682.5,7687,7611,7642.5]
[null,20110707,7697,7732,7656,7690]
[null,20110708,7716.5,7739,7603,7619]
[null,20110711,7602,7608.5,7401.5,7447]
[null,20110712,7355,7417,7206.5,7387]
[null,20110713,7372.5,7493.5,7359.5,7481]
[null,20110714,7412,7482,7368,7436]
[null,20110715,7409,7466,7349,7442]
[null,20110718,7399.5,7404.5,7298.5,7335.5]
[null,20110719,7346,7448.5,7343,7400]
[null,20110720,7447,7474,7374.5,7428.5]
[null,20110721,7452.5,7536.5,7348.5,7503.5]
[null,20110722,7551,7565.5,7473.5,7528.5]
[null,20110725,7480,7576.5,7466.5,7562.5]
[null,20110726,7563,7591,7509.5,7562.5]
[null,20110727,7538,7554,7424.5,7462]
[null,20110728,7393,7413,7317.5,7403]
[null,20110729,7282.5,7398.5,7270.5,7373]
[null,20110801,7452,7491,7052,7196.5]
[null,20110802,7149,7164.5,6906.5,7014.5]
[null,20110803,6904,6989.5,6743.5,6837]
[null,20110804,6892,6942.5,6449.5,6609]
[null,20110805,6453.5,6641.5,6317,6449.5]
[null,20110808,6273.5,6475.5,5909.5,6154.5]
[null,20110809,5940,6226.5,5689.5,6133]
[null,20110810,6182,6313,5733,5801.5]
[null,20110811,5963,6143.5,5683.5,6004.5]
[null,20110812,6010.5,6259.5,5872,6186.5]
[null,20110815,6269,6304,6202.5,6218.5]
[null,20110816,6229.5,6242,6043.5,6191]
[null,20110817,6156,6215,6067,6148]
[null,20110818,6059,6090,5725.5,5788.5]
[null,20110819,5730,5790,5538,5691]
[null,20110822,5603,5787,5585,5667.5]
[null,20110823,5714.5,5831,5645,5716]
[null,20110824,5768,5939,5707.5,5864.5]
[null,20110825,5881.5,5971.5,5611,5780.5]
[null,20110826,5774,5784,5597,5724.5]
[null,20110829,5829.5,5910.5,5780,5868.5]
[null,20110830,5902.5,5923.5,5764,5838]
[null,20110831,5854,6064.5,5840.5,5984.5]
[null,20110901,5969.5,5989.5,5830,5916]
[null,20110902,5830.5,5842,5685,5733.5]
[null,20110905,5657,5657,5398.5,5451.5]
[null,20110906,5394,5527,5344,5390]
[null,20110907,5507.5,5646,5469,5592.5]
[null,20110908,5616.5,5666,5499.5,5598]
[null,20110909,5544,5594.5,5332.5,5377.5]
[null,20110912,5271,5341,5154,5272]
[null,20110913,5346.5,5416.5,5155,5339]
[null,20110914,5285.5,5640.5,5262.5,5531]
[null,20110915,5579.5,5771.5,5565.5,5692]
[null,20110916,5761,5861.5,5714,5743]
[null,20110919,5669.5,5689.5,5552.5,5627]
[null,20110920,5579,5771.5,5552.5,5759.5]
[null,20110921,5717,5770.5,5528.5,5626]
[null,20110922,5470.5,5495,5290,5359]
[null,20110923,5375.5,5424.5,5162.5,5376.5]
[null,20110926,5340.5,5608,5267.5,5535.5]
[null,20110927,5661,5866,5660.5,5804]
[null,20110928,5743,5894,5678.5,5774]
[null,20110929,5743.5,5898,5723,5830]
[null,20110930,5812.5,5820,5609.5,5653.5]
[null,20111003,5538.5,5631,5449.5,5576]
[null,20111004,5474,5526.5,5314.5,5415]
[null,20111005,5497.5,5707,5454.5,5654.5]
[null,20111006,5675.5,5872,5646.5,5828]
[null,20111007,5835.5,5941.5,5796,5864]
[null,20111010,5926,6067,5843,6035.5]
[null,20111011,6061,6076.5,5965.5,6044]
[null,20111012,6028,6221,5989.5,6177]
[null,20111013,6162,6228.5,6067.5,6094]
[null,20111014,6141.5,6230.5,6077.5,6148]
[null,20111017,6226,6273.5,6003.5,6051.5]
[null,20111018,5994.5,6180.5,5938.5,6055.5]
[null,20111019,6132.5,6171,6026.5,6101.5]
[null,20111020,6007.5,6107.5,5936.5,5964.5]
[null,20111021,6010.5,6177.5,5958.5,6157]
[null,20111024,6220.5,6260.5,6126.5,6248.5]
[null,20111025,6201.5,6351.5,6148.5,6233.5]
[null,20111026,6222.5,6337.5,6140.5,6199]
[null,20111027,6382.5,6624.5,6360,6513.5]
[null,20111028,6584.5,6622.5,6496,6534]
[null,20111031,6482.5,6497,6280.5,6354.5]
[null,20111101,6227.5,6227.5,5950,6023]
[null,20111102,6123.5,6181.5,5998.5,6158]
[null,20111103,5992.5,6384.5,5977,6340.5]
[null,20111104,6362.5,6376.5,6114.5,6169]
[null,20111107,6186,6217,6020,6111]
[null,20111108,6137.5,6276,6120,6157]
[null,20111109,6276.5,6284.5,5915.5,6021]
[null,20111110,5877.5,6122,5848.5,6053.5]
[null,20111111,6104,6253,6039,6231]
[null,20111114,6271.5,6317.5,6107,6183.5]
[null,20111115,6110.5,6200.5,6000,6132]
[null,20111116,6031.5,6218.5,6017.5,6108]
[null,20111117,6052.5,6109.5,5942.5,6031.5]
[null,20111118,5940.5,6086.5,5937.5,6002.5]
[null,20111121,5932.5,5966,5772.5,5804.5]
[null,20111122,5839,5867.5,5718,5740]
[null,20111123,5666,5775,5635.5,5662]
[null,20111124,5676.5,5749.5,5583,5623.5]
[null,20111125,5617.5,5714.5,5548.5,5670.5]
[null,20111128,5778,5940,5749.5,5921]
[null,20111129,5939.5,6011.5,5874.5,5978.5]
[null,20111130,5921.5,6317,5887,6265]
[null,20111201,6301,6309,6200,6222.5]
[null,20111202,6272.5,6357.5,6229,6260.5]
[null,20111205,6298,6357.5,6236,6297]
[null,20111206,6231.5,6280.5,6189.5,6226]
[null,20111207,6280.5,6321,6102,6182]
[null,20111208,6252.5,6263,5998,6061.5]
[null,20111209,5980.5,6211.5,5952.5,6172.5]
[null,20111212,6184,6192.5,5941.5,5980]
[null,20111213,6001.5,6037,5882.5,5952]
[null,20111214,5897.5,5953.5,5852,5868]
[null,20111215,5836,5981,5832,5930]
[null,20111216,5965.5,5972,5833,5894]
[null,20111219,5806,5960,5788.5,5848]
[null,20111220,5849,6062,5817.5,6024]
[null,20111221,6065,6150,5947,5973.5]
[null,20111222,5979.5,6069,5978,6034]
[null,20111223,6101.5,6111.5,6025.5,6060]
[null,20111227,6079,6106,6058.5,6080.5]
[null,20111228,6039.5,6084,5948,5964.5]
[null,20111229,5969,6060.5,5954.5,6008.5]
[null,20111230,6054,6074,5996,6074]
[null,20120102,6064,6255.5,6054,6247.5]
[null,20120103,6279,6360,6252,6347]
[null,20120104,6307.5,6344,6266.5,6296.5]
[null,20120105,6294,6323,6219.5,6280]
[null,20120106,6279,6334,6190.5,6234.5]
[null,20120109,6196.5,6257.5,6166.5,6201.5]
[null,20120110,6269,6372,6249,6343.5]
[null,20120111,6312.5,6361,6284.5,6321]
[null,20120112,6347,6438,6326,6358.5]
[null,20120113,6412,6438.5,6241,6308.5]
[null,20120116,6283,6412,6271.5,6400.5]
[null,20120117,6452,6523,6441.5,6501.5]
[null,20120118,6494,6578,6459.5,6532.5]
[null,20120119,6574,6601,6510,6591.5]
[null,20120120,6601,6614,6550,6587.5]
[null,20120123,6589.5,6654,6529.5,6611]
[null,20120124,6586,6603.5,6512,6590]
[null,20120125,6639,6654.5,6543,6593.5]
[null,20120126,6633.5,6738.5,6607.5,6716]
[null,20120127,6698,6753,6660,6697]
[null,20120130,6666,6670.5,6590,6625]
[null,20120131,6658,6712,6627.5,6642.5]
[null,20120201,6649,6810,6639.5,6785.5]
[null,20120202,6813,6851,6784,6836]
[null,20120203,6837,6969,6813.5,6942]
[null,20120206,6928,6960.5,6892.5,6940.5]
[null,20120207,6928.5,6966.5,6859.5,6933]
[null,20120208,6961.5,7009,6911,6923]
[null,20120209,6954,7023,6922.5,6963]
[null,20120210,6939,6944,6825,6871.5]
[null,20120213,6916,6951,6885,6905.5]
[null,20120214,6896,6970,6868,6906.5]
[null,20120215,6974,7008,6889,6941]
[null,20120216,6847,6982,6827,6921.5]
[null,20120217,6967.5,7053,6967.5,7016.5]
[null,20120220,7094,7134,7054,7119]
[null,20120221,7132.5,7149.5,7046,7090]
[null,20120222,7079.5,7096.5,6995,7023.5]
[null,20120223,7024,7082,6906,6986]
[null,20120224,7027.5,7067.5,7001.5,7042]
[null,20120227,7000.5,7046.5,6918,7038.5]
[null,20120228,7049,7078.5,6984.5,7065.5]
[null,20120229,7080.5,7144,7016.5,7028.5]
[null,20120301,6997,7136,6991,7108]
[null,20120302,7136,7139,7072.5,7099]
[null,20120305,7058.5,7080,6989,7044]
[null,20120306,7037,7042,6776,6833.5]
[null,20120307,6810,6857,6787.5,6850]
[null,20120308,6874,7049,6873,7008]
[null,20120309,7023.5,7089,7005.5,7063.5]
[null,20120312,7038.5,7098,7022,7072]
[null,20120313,7137,7222,7114,7174.5]
[null,20120314,7188.5,7273.5,7188.5,7260.5]
[null,20120315,7260,7337,7246,7319]
[null,20120316,7321,7369,7315,7327]
[null,20120319,7344,7346,7265,7324.5]
[null,20120320,7319,7323,7203,7225.5]
[null,20120321,7258.5,7287,7183.5,7246.5]
[null,20120322,7224.5,7249.5,7109,7154.5]
[null,20120323,7160,7200,7079,7175]
[null,20120326,7209,7282.5,7139,7251]
[null,20120327,7301.5,7325,7233,7250]
[null,20120328,7223,7282.5,7120.5,7176.5]
[null,20120329,7140.5,7165.5,7012.5,7051]
[null,20120330,7094,7134.5,7069,7119]
[null,20120402,7140.5,7261.5,7080.5,7224.5]
[null,20120403,7247,7253,7095.5,7155.5]
[null,20120404,7090,7116,6940,6944.5]
[null,20120405,6972,7000.5,6853,6948]
[null,20120410,6846,6906.5,6726,6797]
[null,20120411,6762,6889.5,6759,6831]
[null,20120412,6848,6931.5,6815,6913]
[null,20120413,6922,6922,6716,6746]
[null,20120416,6733.5,6841.5,6694,6811]
[null,20120417,6790,6976.5,6782,6960]
[null,20120418,6970.5,6979.5,6882,6900]
[null,20120419,6912.5,6974,6796,6842.5]
[null,20120420,6850.5,6928,6815,6910.5]
[null,20120423,6868.5,6878,6663,6685.5]
[null,20120424,6725,6769.5,6670.5,6762.5]
[null,20120425,6772,6899,6760,6878.5]
[null,20120426,6863.5,6947.5,6805,6902.5]
[null,20120427,6875.5,6992.5,6812,6961]
[null,20120430,6982,7014,6912.5,6933]
[null,20120502,6988,7043,6826.5,6868]
[null,20120503,6905,6957,6810.5,6857.5]
[null,20120504,6825,6849.5,6696,6723]
[null,20120507,6562,6757,6528,6732]
[null,20120508,6731.5,6740,6574.5,6603]
[null,20120509,6640,6669.5,6535.5,6629.5]
[null,20120510,6661.5,6712.5,6600,6677.5]
[null,20120511,6619,6751,6606,6743]
[null,20120514,6668,6686,6564,6626]
[null,20120515,6621,6671,6511.5,6552.5]
[null,20120516,6485,6603,6456.5,6549]
[null,20120517,6558.5,6581.5,6419,6476.5]
[null,20120518,6383,6496,6379.5,6432.5]
[null,20120521,6431,6527,6401,6495.5]
[null,20120522,6532.5,6605.5,6508.5,6595.5]
[null,20120523,6494,6533.5,6417,6442.5]
[null,20120524,6508,6514,6401,6481.5]
[null,20120525,6450.5,6567,6437,6502.5]
[null,20120528,6558,6587.5,6469.5,6481.5]
[null,20120529,6530.5,6601.5,6492.5,6559]
[null,20120530,6537,6554,6416.5,6441.5]
[null,20120531,6447,6481.5,6366.5,6397]
[null,20120601,6403,6419.5,6166.5,6222.5]
[null,20120604,6138,6190,6100,6137.5]
[null,20120605,6169.5,6185,6071,6124.5]
[null,20120606,6186.5,6294,6152.5,6259]
[null,20120607,6304,6390.5,6257,6296.5]
[null,20120608,6252.5,6329.5,6210.5,6283]
[null,20120611,6462,6480,6256,6295]
[null,20120612,6285,6371,6241,6325]
[null,20120613,6334.5,6380,6251,6290.5]
[null,20120614,6305,6326.5,6235,6294.5]
[null,20120615,6322,6425.5,6310.5,6385]
[null,20120618,6475.5,6493,6379,6401.5]
[null,20120619,6400.5,6538,6389.5,6518]
[null,20120620,6478.5,6577.5,6474.5,6547.5]
[null,20120621,6516.5,6585,6420.5,6509]
[null,20120622,6458.5,6476,6412,6414.5]
[null,20120625,6417,6423.5,6274,6303.5]
[null,20120626,6319,6337.5,6264,6295]
[null,20120627,6318,6401.5,6288,6373]
[null,20120628,6403.5,6403.5,6251.5,6304.5]
[null,20120629,6443.5,6592,6417.5,6565]
[null,20120702,6598.5,6700.5,6548.5,6642.5]
[null,20120703,6675.5,6750.5,6661,6730.5]
[null,20120704,6746,6746,6681.5,6715]
[null,20120705,6711,6801,6631.5,6691.5]
[null,20120706,6670.5,6690.5,6559.5,6568]
[null,20120709,6559.5,6578.5,6531.5,6553]
[null,20120710,6548,6648,6504,6603.5]
[null,20120711,6572.5,6657,6555,6605]
[null,20120712,6581.5,6616.5,6520.5,6578.5]
[null,20120713,6617.5,6731,6591,6696]
[null,20120716,6708.5,6732,6664,6729.5]
[null,20120717,6740,6783.5,6695.5,6721.5]
[null,20120718,6743.5,6852,6733,6835]
[null,20120719,6866.5,6930,6852.5,6906.5]
[null,20120720,6895.5,6935,6774.5,6787]
[null,20120723,6699.5,6729,6524.5,6580.5]
[null,20120724,6593.5,6611,6467.5,6559]
[null,20120725,6498.5,6630.5,6495,6556]
[null,20120726,6561,6751,6476.5,6728.5]
[null,20120727,6766,6971,6667,6836]
[null,20120730,6910,6951.5,6856.5,6936]
[null,20120731,6964,6991.5,6908.5,6937.5]
[null,20120801,6930,6957,6879.5,6911.5]
[null,20120802,6920,7017.5,6705.5,6766.5]
[null,20120803,6765.5,7044,6760,7021]
[null,20120806,7022.5,7098.5,7000.5,7074.5]
[null,20120807,7063.5,7143.5,7050,7118]
[null,20120808,7112,7125.5,7061,7114.5]
[null,20120809,7135.5,7157.5,7044,7114]
[null,20120810,7079,7122,7044.5,7105]
[null,20120813,7093.5,7132.5,7035.5,7067.5]
[null,20120814,7116,7150.5,7092.5,7123]
[null,20120815,7097,7128.5,7061,7105.5]
[null,20120816,7137.5,7171.5,7082,7146]
[null,20120817,7163.5,7208.5,7153,7189]
[null,20120820,7200.5,7240.5,7163.5,7188.5]
[null,20120821,7202.5,7261.5,7195.5,7246.5]
[null,20120822,7201,7215.5,7158.5,7176.5]
[null,20120823,7233,7236.5,7077,7116.5]
[null,20120824,7113.5,7146.5,7039,7131.5]
[null,20120827,7122,7205,7099.5,7198.5]
[null,20120828,7163.5,7185,7128.5,7157]
[null,20120829,7163.5,7186,7098.5,7154.5]
[null,20120830,7123.5,7135,7024,7061]
[null,20120831,7060.5,7167.5,7043.5,7123]
[null,20120903,7123,7173,7093.5,7165]
[null,20120904,7156,7172.5,7073,7095]
[null,20120905,7097,7157.5,7046,7120]
[null,20120906,7144,7328,7131,7312]
[null,20120907,7319.5,7403.5,7318.5,7376]
[null,20120910,7361.5,7388.5,7339,7369.5]
[null,20120911,7335.5,7468.5,7327,7466.5]
[null,20120912,7466.5,7565,7460.5,7505.5]
[null,20120913,7493.5,7559.5,7433,7468]
[null,20120914,7575,7601,7535.5,7564]
[null,20120917,7535.5,7569.5,7523,7552]
[null,20120918,7540.5,7543,7458.5,7522.5]
[null,20120919,7547.5,7556,7479.5,7546]
[null,20120920,7509,7555,7466,7536.5]
[null,20120921,7576.5,7633,7544,7606]
[null,20120924,7571.5,7595,7539.5,7568]
[null,20120925,7584,7593,7501,7575.5]
[null,20120926,7517,7525.5,7408,7444]
[null,20120927,7480.5,7500.5,7421,7441]
[null,20120928,7497,7504,7369.5,7388]
[null,20121001,7360.5,7493,7359,7483]
[null,20121002,7435.5,7527.5,7418.5,7462]
[null,20121003,7457.5,7493,7424.5,7477.5]
[null,20121004,7502,7527.5,7434.5,7453.5]
[null,20121005,7487.5,7562,7464.5,7542]
[null,20121008,7502,7508.5,7436.5,7449.5]
[null,20121009,7477.5,7478.5,7370.5,7377.5]
[null,20121010,7374.5,7398.5,7335,7367]
[null,20121011,7343,7458,7332.5,7435]
[null,20121012,7420,7444,7382,7395]
[null,20121015,7384.5,7455.5,7371.5,7414.5]
[null,20121016,7462.5,7543.5,7445.5,7530]
[null,20121017,7539.5,7554,7519,7548]
[null,20121018,7557.5,7599,7540.5,7590.5]
[null,20121019,7565.5,7583,7480,7517]
[null,20121022,7516,7542.5,7453,7473]
[null,20121023,7488,7496,7303.5,7327]
[null,20121024,7365,7367.5,7269.5,7345]
[null,20121025,7359.5,7409,7332.5,7348.5]
[null,20121026,7303,7408.5,7295,7381.5]
[null,20121029,7376.5,7377.5,7322,7356]
[null,20121030,7347.5,7444.5,7347.5,7426]
[null,20121031,7437,7499.5,7404,7420.5]
[null,20121101,7418,7509,7395.5,7483]
[null,20121102,7498.5,7542,7463,7510]
[null,20121105,7472,7504.5,7455.5,7477.5]
[null,20121106,7506,7569.5,7469.5,7525]
[null,20121107,7566,7589.5,7373,7380.5]
[null,20121108,7410,7439,7333.5,7359.5]
[null,20121109,7382.5,7387.5,7213,7319.5]
[null,20121112,7317,7352,7287,7321]
[null,20121113,7296,7337,7225,7325]
[null,20121114,7302.5,7334.5,7181,7265.5]
[null,20121115,7199.5,7229.5,7161,7195]
[null,20121116,7183.5,7209.5,7097.5,7108]
[null,20121119,7161.5,7280.5,7155.5,7274.5]
[null,20121120,7253,7337.5,7242,7324]
[null,20121121,7292,7345.5,7285.5,7337]
[null,20121122,7360.5,7404.5,7356,7397.5]
[null,20121123,7407.5,7485.5,7370,7456]
[null,20121126,7441.5,7465,7423.5,7442.5]
[null,20121127,7480,7514.5,7456,7488]
[null,20121128,7464.5,7536.5,7414.5,7498.5]
[null,20121129,7540.5,7568,7520.5,7550.5]
[null,20121130,7545.5,7594.5,7540,7568.5]
[null,20121203,7578.5,7638.5,7566.5,7585]
[null,20121204,7568,7617.5,7563,7578]
[null,20121205,7649,7656.5,7578,7594.5]
[null,20121206,7617.5,7707.5,7610.5,7687]
[null,20121207,7696,7704.5,7637,7658.5]
[null,20121210,7672,7691,7607,7681]
[null,20121211,7683.5,7748,7670.5,7742]
[null,20121212,7746,7793.5,7736.5,7764.5]
[null,20121213,7747,7771,7711,7721.5]
[null,20121214,7741.5,7771.5,7720.5,7744.5]
[null,20121217,7760,7778.5,7715,7749]
[null,20121218,7791.5,7823.5,7774.5,7811]
[null,20121219,7823,7831.5,7804.5,7822.5]
[null,20121220,7796.5,7845.5,7787,7823.5]
[null,20121221,7759.5,7809.5,7747,7795]
[null,20121227,7773,7827,7771.5,7799]
[null,20121228,7808,7817,7753,7760]
[null,20130102,7886,7947,7868.5,7920]

{"sheet":"Long or Short","index":1,"n_rows":3328,"n_cols":19,"rows_kept":3328,"cut":false,"hidden":false,"merged":[[7,7,13,9],[7,11,13,13],[7,15,13,18],[7,1,13,5]]}
[]
[null,"Simple : Go Long or Short Strategy",null,null,null,null,null,"Indicator for period",null,null,null,null,null,null,null,"Market details for Daxindix"]
[null,null,null,null,null,null,null,null,null,null,null,null,null,null,null,null,"Unit move =",35]
[null,null,null,null,null,null,null,"Long or short?","Long",null,null,null,null,null,null,null,"Transaction cost = ",90.96]
[null,null,null,null,null,null,null,null,null,null,null,null,null,null,null,null,"Maximum position size =",1]
[]
[]
[null,"Market  data showing Open, High, Low and Close for Daxindx for trading day.",null,null,null,null,null,"Signal is produced telling the system to go Long (buy) or Short (sell). This model can either go long or short for the period.",null,null,null,"Signal translates into potential position and order instruction for Next Day. Model assumes all orders get filled on the Next day Open.",null,null,null,"This shows Position, Profit / Loss (PL) and Cumulative PL for End of day. It assumes appropriate transaction costs for market."]
[]
[]
[]
[]
[]
[]
[]
[null,null,null,null,null,null,null,null,"Proprietary","End of day",null,"Next day","Next day","Next day",null,"End of day",null,"End of day","End of day"]
[null,"Date","Open","High","Low","Close",null,"Day","Signal","Signal",null,"Potential Position","Order quantity","Order status",null,"Position","Action","PL","Cumulative P/L"]
[null,{"$f":"'Market Data'!B5","v":19991230},{"$f":"'Market Data'!C5","v":8863.5},{"$f":"'Market Data'!D5","v":8935.5},{"$f":"'Market Data'!E5","v":8853.5},{"$f":"'Market Data'!F5","v":8930.5},null,{"$f":"ROW()-ROW(H$17)","v":1},"Hidden",{"$f":"$I$4","v":"Long"}]
[null,{"$f":"'Market Data'!B6","v":20000103},{"$f":"'Market Data'!C6","v":9091.5},{"$f":"'Market Data'!D6","v":9113.5},{"$f":"'Market Data'!E6","v":8670.5},{"$f":"'Market Data'!F6","v":8708},null,2,"Hidden","Long"]
[null,{"$f":"'Market Data'!B7","v":20000104},{"$f":"'Market Data'!C7","v":8703.5},{"$f":"'Market Data'!D7","v":8703.5},{"$f":"'Market Data'!E7","v":8459.5},{"$f":"'Market Data'!F7","v":8533.5},null,3,"Hidden","Long"]
[null,{"$f":"'Market Data'!B8","v":20000105},{"$f":"'Market Data'!C8","v":8370.5},{"$f":"'Market Data'!D8","v":8525.5},{"$f":"'Market Data'!E8","v":8366.5},{"$f":"'Market Data'!F8","v":8435.5},null,4,"Hidden","Long"]
[null,{"$f":"'Market Data'!B9","v":20000106},{"$f":"'Market Data'!C9","v":8427.5},{"$f":"'Market Data'!D9","v":8480.5},{"$f":"'Market Data'!E9","v":8341},{"$f":"'Market Data'!F9","v":8409},null,5,"Hidden","Long"]
[null,{"$f":"'Market Data'!B10","v":20000107},{"$f":"'Market Data'!C10","v":8463.5},{"$f":"'Market Data'!D10","v":8738.5},{"$f":"'Market Data'!E10","v":8452.5},{"$f":"'Market Data'!F10","v":8733.5},null,6,"Hidden","Long"]
[null,{"$f":"'Market Data'!B11","v":20000110},{"$f":"'Market Data'!C11","v":8833.5},{"$f":"'Market Data'!D11","v":8922.5},{"$f":"'Market Data'!E11","v":8805.5},{"$f":"'Market Data'!F11","v":8863.5},null,7,"Hidden","Long"]
[null,{"$f":"'Market Data'!B12","v":20000111},{"$f":"'Market Data'!C12","v":8843.5},{"$f":"'Market Data'!D12","v":8884.5},{"$f":"'Market Data'!E12","v":8764.5},{"$f":"'Market Data'!F12","v":8842},null,8,"Hidden","Long"]
[null,{"$f":"'Market Data'!B13","v":20000112},{"$f":"'Market Data'!C13","v":8763.5},{"$f":"'Market Data'!D13","v":8850},{"$f":"'Market Data'!E13","v":8732},{"$f":"'Market Data'!F13","v":8841.5},null,9,"Hidden","Long"]
[null,{"$f":"'Market Data'!B14","v":20000113},{"$f":"'Market Data'!C14","v":8843.5},{"$f":"'Market Data'!D14","v":9048.5},{"$f":"'Market Data'!E14","v":8827},{"$f":"'Market Data'!F14","v":8912.5},null,10,"Hidden","Long"]
[null,{"$f":"'Market Data'!B15","v":20000114},{"$f":"'Market Data'!C15","v":8953.5},{"$f":"'Market Data'!D15","v":9149.5},{"$f":"'Market Data'!E15","v":8953.5},{"$f":"'Market Data'!F15","v":9132.5},null,11,"Hidden","Long"]
[null,{"$f":"'Market Data'!B16","v":20000117},{"$f":"'Market Data'!C16","v":9166.5},{"$f":"'Market Data'!D16","v":9229.5},{"$f":"'Market Data'!E16","v":9050},{"$f":"'Market Data'!F16","v":9210.5},null,12,"Hidden","Long"]
[null,{"$f":"'Market Data'!B17","v":20000118},{"$f":"'Market Data'!C17","v":9210.5},{"$f":"'Market Data'!D17","v":9241.5},{"$f":"'Market Data'!E17","v":8993.5},{"$f":"'Market Data'!F17","v":9026.5},null,13,"Hidden","Long"]
[null,{"$f":"'Market Data'!B18","v":20000119},{"$f":"'Market Data'!C18","v":8993.5},{"$f":"'Market Data'!D18","v":9052.5},{"$f":"'Market Data'!E18","v":8918.5},{"$f":"'Market Data'!F18","v":9031.5},null,14,"Hidden","Long"]
[null,{"$f":"'Market Data'!B19","v":20000120},{"$f":"'Market Data'!C19","v":9119.5},{"$f":"'Market Data'!D19","v":9131},{"$f":"'Market Data'!E19","v":9011},{"$f":"'Market Data'!F19","v":9043.5},null,15,"Hidden","Long"]
[null,{"$f":"'Market Data'!B20","v":20000121},{"$f":"'Market Data'!C20","v":8973.5},{"$f":"'Market Data'!D20","v":9036.5},{"$f":"'Market Data'!E20","v":8866.5},{"$f":"'Market Data'!F20","v":8916},null,16,"Hidden","Long"]
[null,{"$f":"'Market Data'!B21","v":20000124},{"$f":"'Market Data'!C21","v":8963.5},{"$f":"'Market Data'!D21","v":9023.5},{"$f":"'Market Data'!E21","v":8850.5},{"$f":"'Market Data'!F21","v":8853.5},null,17,"Hidden","Long"]
[null,{"$f":"'Market Data'!B22","v":20000125},{"$f":"'Market Data'!C22","v":8784.5},{"$f":"'Market Data'!D22","v":8836.5},{"$f":"'Market Data'!E22","v":8745.5},{"$f":"'Market Data'!F22","v":8794.5},null,18,"Hidden","Long"]
[null,{"$f":"'Market Data'!B23","v":20000126},{"$f":"'Market Data'!C23","v":8819.5},{"$f":"'Market Data'!D23","v":8908},{"$f":"'Market Data'!E23","v":8762.5},{"$f":"'Market Data'!F23","v":8893},null,19,"Hidden","Long"]
[null,{"$f":"'Market Data'!B24","v":20000127},{"$f":"'Market Data'!C24","v":8927.5},{"$f":"'Market Data'!D24","v":9100.5},{"$f":"'Market Data'!E24","v":8866.5},{"$f":"'Market Data'!F24","v":9064.5},null,20,"Hidden","Long"]
[null,{"$f":"'Market Data'!B25","v":20000128},{"$f":"'Market Data'!C25","v":9043.5},{"$f":"'Market Data'!D25","v":9148},{"$f":"'Market Data'!E25","v":8968.5},{"$f":"'Market Data'!F25","v":8998.5},null,21,"Hidden","Long"]
[null,{"$f":"'Market Data'!B26","v":20000131},{"$f":"'Market Data'!C26","v":8932.5},{"$f":"'Market Data'!D26","v":8936},{"$f":"'Market Data'!E26","v":8737.5},{"$f":"'Market Data'!F26","v":8761.5},null,22,"Hidden","Long"]
[null,{"$f":"'Market Data'!B27","v":20000201},{"$f":"'Market Data'!C27","v":8864.5},{"$f":"'Market Data'!D27","v":8958.5},{"$f":"'Market Data'!E27","v":8822.5},{"$f":"'Market Data'!F27","v":8944.5},null,23,"Hidden","Long"]
[null,{"$f":"'Market Data'!B28","v":20000202},{"$f":"'Market Data'!C28","v":9002.5},{"$f":"'Market Data'!D28","v":9084.5},{"$f":"'Market Data'!E28","v":8954.5},{"$f":"'Market Data'!F28","v":9083},null,24,"Hidden","Long"]
[null,{"$f":"'Market Data'!B29","v":20000203},{"$f":"'Market Data'!C29","v":9103.5},{"$f":"'Market Data'!D29","v":9271.5},{"$f":"'Market Data'!E29","v":9056},{"$f":"'Market Data'!F29","v":9261.5},null,25,"Hidden","Long"]
[null,{"$f":"'Market Data'!B30","v":20000204},{"$f":"'Market Data'!C30","v":9321},{"$f":"'Market Data'!D30","v":9377.5},{"$f":"'Market Data'!E30","v":9249.5},{"$f":"'Market Data'!F30","v":9303.5},null,26,"Hidden","Long"]
[null,{"$f":"'Market Data'!B31","v":20000207},{"$f":"'Market Data'!C31","v":9304.5},{"$f":"'Market Data'!D31","v":9331},{"$f":"'Market Data'!E31","v":9171.5},{"$f":"'Market Data'!F31","v":9219},null,27,"Hidden","Long"]
[null,{"$f":"'Market Data'!B32","v":20000208},{"$f":"'Market Data'!C32","v":9211.5},{"$f":"'Market Data'!D32","v":9481.5},{"$f":"'Market Data'!E32","v":9203.5},{"$f":"'Market Data'!F32","v":9445.5},null,28,"Hidden","Long"]
[null,{"$f":"'Market Data'!B33","v":20000209},{"$f":"'Market Data'!C33","v":9466.5},{"$f":"'Market Data'!D33","v":9589.5},{"$f":"'Market Data'!E33","v":9439.5},{"$f":"'Market Data'!F33","v":9562.5},null,29,"Hidden","Long"]
[null,{"$f":"'Market Data'!B34","v":20000210},{"$f":"'Market Data'!C34","v":9449.5},{"$f":"'Market Data'!D34","v":9596.5},{"$f":"'Market Data'!E34","v":9432},{"$f":"'Market Data'!F34","v":9574.5},null,30,"Hidden","Long"]
[null,{"$f":"'Market Data'!B35","v":20000211},{"$f":"'Market Data'!C35","v":9651.5},{"$f":"'Market Data'!D35","v":9738.5},{"$f":"'Market Data'!E35","v":9499.5},{"$f":"'Market Data'!F35","v":9613.5},null,31,"Hidden","Long"]
[null,{"$f":"'Market Data'!B36","v":20000214},{"$f":"'Market Data'!C36","v":9504.5},{"$f":"'Market Data'!D36","v":9587},{"$f":"'Market Data'!E36","v":9468.5},{"$f":"'Market Data'!F36","v":9551.5},null,32,"Hidden","Long"]
[null,{"$f":"'Market Data'!B37","v":20000215},{"$f":"'Market Data'!C37","v":9562.5},{"$f":"'Market Data'!D37","v":9610},{"$f":"'Market Data'!E37","v":9333.5},{"$f":"'Market Data'!F37","v":9340},null,33,"Hidden","Long"]
[null,{"$f":"'Market Data'!B38","v":20000216},{"$f":"'Market Data'!C38","v":9466},{"$f":"'Market Data'!D38","v":9488.5},{"$f":"'Market Data'!E38","v":9268.5},{"$f":"'Market Data'!F38","v":9430},null,34,"Hidden","Long"]
[null,{"$f":"'Market Data'!B39","v":20000217},{"$f":"'Market Data'!C39","v":9427.5},{"$f":"'Market Data'!D39","v":9555.5},{"$f":"'Market Data'!E39","v":9309},{"$f":"'Market Data'!F39","v":9540.5},null,35,"Hidden","Long"]
[null,{"$f":"'Market Data'!B40","v":20000218},{"$f":"'Market Data'!C40","v":9511.5},{"$f":"'Market Data'!D40","v":9580.5},{"$f":"'Market Data'!E40","v":9467},{"$f":"'Market Data'!F40","v":9499.5},null,36,"Hidden","Long"]
[null,{"$f":"'Market Data'!B41","v":20000221},{"$f":"'Market Data'!C41","v":9386.5},{"$f":"'Market Data'!D41","v":9476.5},{"$f":"'Market Data'!E41","v":9363.5},{"$f":"'Market Data'!F41","v":9470.5},null,37,"Hidden","Long"]
[null,{"$f":"'Market Data'!B42","v":20000222},{"$f":"'Market Data'!C42","v":9463.5},{"$f":"'Market Data'!D42","v":9636.5},{"$f":"'Market Data'!E42","v":9454.5},{"$f":"'Market Data'!F42","v":9533},null,38,"Hidden","Long"]
[null,{"$f":"'Market Data'!B43","v":20000223},{"$f":"'Market Data'!C43","v":9563},{"$f":"'Market Data'!D43","v":9689.5},{"$f":"'Market Data'!E43","v":9552.5},{"$f":"'Market Data'!F43","v":9615},null,39,"Hidden","Long"]
[null,{"$f":"'Market Data'!B44","v":20000224},{"$f":"'Market Data'!C44","v":9693.5},{"$f":"'Market Data'!D44","v":9727.5},{"$f":"'Market Data'!E44","v":9491.5},{"$f":"'Market Data'!F44","v":9543.5},null,40,"Hidden","Long"]
[null,{"$f":"'Market Data'!B45","v":20000225},{"$f":"'Market Data'!C45","v":9656.5},{"$f":"'Market Data'!D45","v":9696.5},{"$f":"'Market Data'!E45","v":9568.5},{"$f":"'Market Data'!F45","v":9689},null,41,"Hidden","Long"]
[null,{"$f":"'Market Data'!B46","v":20000228},{"$f":"'Market Data'!C46","v":9643.5},{"$f":"'Market Data'!D46","v":9668.5},{"$f":"'Market Data'!E46","v":9404.5},{"$f":"'Market Data'!F46","v":9493.5},null,42,"Hidden","Long"]
[null,{"$f":"'Market Data'!B47","v":20000229},{"$f":"'Market Data'!C47","v":9553.5},{"$f":"'Market Data'!D47","v":9620},{"$f":"'Market Data'!E47","v":9527.5},{"$f":"'Market Data'!F47","v":9591.5},null,43,"Hidden","Long"]
[null,{"$f":"'Market Data'!B48","v":20000301},{"$f":"'Market Data'!C48","v":9639.5},{"$f":"'Market Data'!D48","v":9681.5},{"$f":"'Market Data'!E48","v":9530.5},{"$f":"'Market Data'!F48","v":9630.5},null,44,"Hidden","Long"]
[null,{"$f":"'Market Data'!B49","v":20000302},{"$f":"'Market Data'!C49","v":9643},{"$f":"'Market Data'!D49","v":9863.5},{"$f":"'Market Data'!E49","v":9539},{"$f":"'Market Data'!F49","v":9858.5},null,45,"Hidden","Long"]
[null,{"$f":"'Market Data'!B50","v":20000303},{"$f":"'Market Data'!C50","v":9843.5},{"$f":"'Market Data'!D50","v":9936.5},{"$f":"'Market Data'!E50","v":9794},{"$f":"'Market Data'!F50","v":9874},null,46,"Hidden","Long"]
[null,{"$f":"'Market Data'!B51","v":20000306},{"$f":"'Market Data'!C51","v":9878.5},{"$f":"'Market Data'!D51","v":9915.5},{"$f":"'Market Data'!E51","v":9838.5},{"$f":"'Market Data'!F51","v":9882.5},null,47,"Hidden","Long"]
[null,{"$f":"'Market Data'!B52","v":20000307},{"$f":"'Market Data'!C52","v":9942.5},{"$f":"'Market Data'!D52","v":10039.5},{"$f":"'Market Data'!E52","v":9829},{"$f":"'Market Data'!F52","v":9966.5},null,48,"Hidden","Long"]
[null,{"$f":"'Market Data'!B53","v":20000308},{"$f":"'Market Data'!C53","v":9906.5},{"$f":"'Market Data'!D53","v":10019.5},{"$f":"'Market Data'!E53","v":9858.5},{"$f":"'Market Data'!F53","v":9883.5},null,49,"Hidden","Long"]
[null,{"$f":"'Market Data'!B54","v":20000309},{"$f":"'Market Data'!C54","v":9960.5},{"$f":"'Market Data'!D54","v":9978.5},{"$f":"'Market Data'!E54","v":9785},{"$f":"'Market Data'!F54","v":9870.5},null,50,"Hidden","Long"]
[null,{"$f":"'Market Data'!B55","v":20000310},{"$f":"'Market Data'!C55","v":9953.5},{"$f":"'Market Data'!D55","v":9962.5},{"$f":"'Market Data'!E55","v":9860},{"$f":"'Market Data'!F55","v":9892.5},null,51,"Hidden","Long"]
[null,{"$f":"'Market Data'!B56","v":20000313},{"$f":"'Market Data'!C56","v":9843.5},{"$f":"'Market Data'!D56","v":9843.5},{"$f":"'Market Data'!E56","v":9548.5},{"$f":"'Market Data'!F56","v":9596.5},null,52,"Hidden","Long"]
[null,{"$f":"'Market Data'!B57","v":20000314},{"$f":"'Market Data'!C57","v":9633.5},{"$f":"'Market Data'!D57","v":9658.5},{"$f":"'Market Data'!E57","v":9549.5},{"$f":"'Market Data'!F57","v":9563.5},null,53,"Hidden","Long"]
[null,{"$f":"'Market Data'!B58","v":20000315},{"$f":"'Market Data'!C58","v":9457.5},{"$f":"'Market Data'!D58","v":9494.5},{"$f":"'Market Data'!E58","v":9314},{"$f":"'Market Data'!F58","v":9344.5},null,54,"Hidden","Long"]
[null,{"$f":"'Market Data'!B59","v":20000316},{"$f":"'Market Data'!C59","v":9416.5},{"$f":"'Market Data'!D59","v":9539.5},{"$f":"'Market Data'!E59","v":9368.5},{"$f":"'Market Data'!F59","v":9495},null,55,"Hidden","Long"]
[null,{"$f":"'Market Data'!B60","v":20000317},{"$f":"'Market Data'!C60","v":9679.5},{"$f":"'Market Data'!D60","v":9722},{"$f":"'Market Data'!E60","v":9462.5},{"$f":"'Market Data'!F60","v":9623.5},null,56,"Hidden","Long"]
[null,{"$f":"'Market Data'!B61","v":20000320},{"$f":"'Market Data'!C61","v":9661.5},{"$f":"'Market Data'!D61","v":9775.5},{"$f":"'Market Data'!E61","v":9627},{"$f":"'Market Data'!F61","v":9763.5},null,57,"Hidden","Long"]
[null,{"$f":"'Market Data'!B62","v":20000321},{"$f":"'Market Data'!C62","v":9744.5},{"$f":"'Market Data'!D62","v":9751},{"$f":"'Market Data'!E62","v":9631},{"$f":"'Market Data'!F62","v":9702.5},null,58,"Hidden","Long"]
[null,{"$f":"'Market Data'!B63","v":20000322},{"$f":"'Market Data'!C63","v":9765.5},{"$f":"'Market Data'!D63","v":9842},{"$f":"'Market Data'!E63","v":9676},{"$f":"'Market Data'!F63","v":9692.5},null,59,"Hidden","Long"]
[null,{"$f":"'Market Data'!B64","v":20000323},{"$f":"'Market Data'!C64","v":9731},{"$f":"'Market Data'!D64","v":9754.5},{"$f":"'Market Data'!E64","v":9561.5},{"$f":"'Market Data'!F64","v":9645.5},null,60,"Hidden","Long"]
[null,{"$f":"'Market Data'!B65","v":20000324},{"$f":"'Market Data'!C65","v":9697.5},{"$f":"'Market Data'!D65","v":9807.5},{"$f":"'Market Data'!E65","v":9639.5},{"$f":"'Market Data'!F65","v":9796.5},null,61,"Hidden","Long"]
[null,{"$f":"'Market Data'!B66","v":20000327},{"$f":"'Market Data'!C66","v":9804.5},{"$f":"'Market Data'!D66","v":9824.5},{"$f":"'Market Data'!E66","v":9722},{"$f":"'Market Data'!F66","v":9791.5},null,62,"Hidden","Long"]
[null,{"$f":"'Market Data'!B67","v":20000328},{"$f":"'Market Data'!C67","v":9784.5},{"$f":"'Market Data'!D67","v":9927.5},{"$f":"'Market Data'!E67","v":9776.5},{"$f":"'Market Data'!F67","v":9817.5},null,63,"Hidden","Long"]
[null,{"$f":"'Market Data'!B68","v":20000329},{"$f":"'Market Data'!C68","v":9806.5},{"$f":"'Market Data'!D68","v":9856},{"$f":"'Market Data'!E68","v":9751.5},{"$f":"'Market Data'!F68","v":9780.5},null,64,"Hidden","Long"]
[null,{"$f":"'Market Data'!B69","v":20000330},{"$f":"'Market Data'!C69","v":9674.5},{"$f":"'Market Data'!D69","v":9686.5},{"$f":"'Market Data'!E69","v":9505.5},{"$f":"'Market Data'!F69","v":9542.5},null,{"$f":"ROW()-ROW(H$17)","v":65},"Hidden",{"$f":"$I$4","v":"Long"}]
[null,{"$f":"'Market Data'!B70","v":20000331},{"$f":"'Market Data'!C70","v":9519.5},{"$f":"'Market Data'!D70","v":9597.5},{"$f":"'Market Data'!E70","v":9409.5},{"$f":"'Market Data'!F70","v":9449.5},null,66,"Hidden","Long"]
[null,{"$f":"'Market Data'!B71","v":20000403},{"$f":"'Market Data'!C71","v":9455.5},{"$f":"'Market Data'!D71","v":9527.5},{"$f":"'Market Data'!E71","v":9288},{"$f":"'Market Data'!F71","v":9319},null,67,"Hidden","Long"]
[null,{"$f":"'Market Data'!B72","v":20000404},{"$f":"'Market Data'!C72","v":9364.5},{"$f":"'Market Data'!D72","v":9452.5},{"$f":"'Market Data'!E72","v":9344.5},{"$f":"'Market Data'!F72","v":9426.5},null,68,"Hidden","Long"]
[null,{"$f":"'Market Data'!B73","v":20000405},{"$f":"'Market Data'!C73","v":9366.5},{"$f":"'Market Data'!D73","v":9422},{"$f":"'Market Data'!E73","v":9089.5},{"$f":"'Market Data'!F73","v":9190.5},null,69,"Hidden","Long"]
[null,{"$f":"'Market Data'!B74","v":20000406},{"$f":"'Market Data'!C74","v":9251.5},{"$f":"'Market Data'!D74","v":9358.5},{"$f":"'Market Data'!E74","v":9196.5},{"$f":"'Market Data'!F74","v":9330},null,70,"Hidden","Long"]
[null,{"$f":"'Market Data'!B75","v":20000407},{"$f":"'Market Data'!C75","v":9364.5},{"$f":"'Market Data'!D75","v":9404.5},{"$f":"'Market Data'!E75","v":9271},{"$f":"'Market Data'!F75","v":9392},null,71,"Hidden","Long"]
[null,{"$f":"'Market Data'!B76","v":20000410},{"$f":"'Market Data'!C76","v":9444.5},{"$f":"'Market Data'!D76","v":9484.5},{"$f":"'Market Data'!E76","v":9382},{"$f":"'Market Data'!F76","v":9409.5},null,72,"Hidden","Long"]
[null,{"$f":"'Market Data'!B77","v":20000411},{"$f":"'Market Data'!C77","v":9259.5},{"$f":"'Market Data'!D77","v":9357},{"$f":"'Market Data'!E77","v":9249.5},{"$f":"'Market Data'!F77","v":9319.5},null,73,"Hidden","Long"]
[null,{"$f":"'Market Data'!B78","v":20000412},{"$f":"'Market Data'!C78","v":9346.5},{"$f":"'Market Data'!D78","v":9392},{"$f":"'Market Data'!E78","v":9286},{"$f":"'Market Data'!F78","v":9294.5},null,74,"Hidden","Long"]
[null,{"$f":"'Market Data'!B79","v":20000413},{"$f":"'Market Data'!C79","v":9194.5},{"$f":"'Market Data'!D79","v":9322.5},{"$f":"'Market Data'!E79","v":9167.5},{"$f":"'Market Data'!F79","v":9318.5},null,75,"Hidden","Long"]
[null,{"$f":"'Market Data'!B80","v":20000414},{"$f":"'Market Data'!C80","v":9224.5},{"$f":"'Market Data'!D80","v":9279.5},{"$f":"'Market Data'!E80","v":9033.5},{"$f":"'Market Data'!F80","v":9069.5},null,76,"Hidden","Long"]
[null,{"$f":"'Market Data'!B81","v":20000417},{"$f":"'Market Data'!C81","v":8824.5},{"$f":"'Market Data'!D81","v":9059.5},{"$f":"'Market Data'!E81","v":8781.5},{"$f":"'Market Data'!F81","v":9048.5},null,77,"Hidden","Long"]
[null,{"$f":"'Market Data'!B82","v":20000418},{"$f":"'Market Data'!C82","v":9118.5},{"$f":"'Market Data'!D82","v":9130},{"$f":"'Market Data'!E82","v":8963},{"$f":"'Market Data'!F82","v":9091.5},null,78,"Hidden","Long"]
[null,{"$f":"'Market Data'!B83","v":20000419},{"$f":"'Market Data'!C83","v":9164.5},{"$f":"'Market Data'!D83","v":9169},{"$f":"'Market Data'!E83","v":9009.5},{"$f":"'Market Data'!F83","v":9077},null,79,"Hidden","Long"]
[null,{"$f":"'Market Data'!B84","v":20000420},{"$f":"'Market Data'!C84","v":9076.5},{"$f":"'Market Data'!D84","v":9101},{"$f":"'Market Data'!E84","v":9036.5},{"$f":"'Market Data'!F84","v":9064.5},null,80,"Hidden","Long"]
[null,{"$f":"'Market Data'!B85","v":20000425},{"$f":"'Market Data'!C85","v":9035.5},{"$f":"'Market Data'!D85","v":9225},{"$f":"'Market Data'!E85","v":8960.5},{"$f":"'Market Data'!F85","v":9167.5},null,81,"Hidden","Long"]
[null,{"$f":"'Market Data'!B86","v":20000426},{"$f":"'Market Data'!C86","v":9214.5},{"$f":"'Market Data'!D86","v":9317.5},{"$f":"'Market Data'!E86","v":9178},{"$f":"'Market Data'!F86","v":9245.5},null,82,"Hidden","Long"]
[null,{"$f":"'Market Data'!B87","v":20000427},{"$f":"'Market Data'!C87","v":9249.5},{"$f":"'Market Data'!D87","v":9289},{"$f":"'Market Data'!E87","v":9017.5},{"$f":"'Market Data'!F87","v":9064.5},null,83,"Hidden","Long"]
[null,{"$f":"'Market Data'!B88","v":20000428},{"$f":"'Market Data'!C88","v":9164.5},{"$f":"'Market Data'!D88","v":9305.5},{"$f":"'Market Data'!E88","v":9135.5},{"$f":"'Market Data'!F88","v":9305.5},null,84,"Hidden","Long"]
[null,{"$f":"'Market Data'!B89","v":20000502},{"$f":"'Market Data'!C89","v":9339.5},{"$f":"'Market Data'!D89","v":9436},{"$f":"'Market Data'!E89","v":9334.5},{"$f":"'Market Data'!F89","v":9424.5},null,85,"Hidden","Long"]
[null,{"$f":"'Market Data'!B90","v":20000503},{"$f":"'Market Data'!C90","v":9367.5},{"$f":"'Market Data'!D90","v":9443},{"$f":"'Market Data'!E90","v":9219.5},{"$f":"'Market Data'!F90","v":9224.5},null,86,"Hidden","Long"]
[null,{"$f":"'Market Data'!B91","v":20000504},{"$f":"'Market Data'!C91","v":9229.5},{"$f":"'Market Data'!D91","v":9293.5},{"$f":"'Market Data'!E91","v":9185.5},{"$f":"'Market Data'!F91","v":9253},null,87,"Hidden","Long"]
[null,{"$f":"'Market Data'!B92","v":20000505},{"$f":"'Market Data'!C92","v":9274.5},{"$f":"'Market Data'!D92","v":9374},{"$f":"'Market Data'!E92","v":9199.5},{"$f":"'Market Data'!F92","v":9370.5},null,88,"Hidden","Long"]
[null,{"$f":"'Market Data'!B93","v":20000508},{"$f":"'Market Data'!C93","v":9375.5},{"$f":"'Market Data'!D93","v":9396.5},{"$f":"'Market Data'!E93","v":9247.5},{"$f":"'Market Data'!F93","v":9267},null,89,"Hidden","Long"]
[null,{"$f":"'Market Data'!B94","v":20000509},{"$f":"'Market Data'!C94","v":9254.5},{"$f":"'Market Data'!D94","v":9270},{"$f":"'Market Data'!E94","v":9092},{"$f":"'Market Data'!F94","v":9121.5},null,90,"Hidden","Long"]
[null,{"$f":"'Market Data'!B95","v":20000510},{"$f":"'Market Data'!C95","v":9094.5},{"$f":"'Market Data'!D95","v":9196.5},{"$f":"'Market Data'!E95","v":8962.5},{"$f":"'Market Data'!F95","v":8986.5},null,91,"Hidden","Long"]
[null,{"$f":"'Market Data'!B96","v":20000511},{"$f":"'Market Data'!C96","v":8927.5},{"$f":"'Market Data'!D96","v":9143.5},{"$f":"'Market Data'!E96","v":8876},{"$f":"'Market Data'!F96","v":9137.5},null,92,"Hidden","Long"]
[null,{"$f":"'Market Data'!B97","v":20000512},{"$f":"'Market Data'!C97","v":9135.5},{"$f":"'Market Data'!D97","v":9194.5},{"$f":"'Market Data'!E97","v":9064},{"$f":"'Market Data'!F97","v":9125},null,93,"Hidden","Long"]
[null,{"$f":"'Market Data'!B98","v":20000515},{"$f":"'Market Data'!C98","v":9138.5},{"$f":"'Market Data'!D98","v":9138.5},{"$f":"'Market Data'!E98","v":9053.5},{"$f":"'Market Data'!F98","v":9064.5},null,94,"Hidden","Long"]
[null,{"$f":"'Market Data'!B99","v":20000516},{"$f":"'Market Data'!C99","v":9125.5},{"$f":"'Market Data'!D99","v":9264.5},{"$f":"'Market Data'!E99","v":9113},{"$f":"'Market Data'!F99","v":9247.5},null,95,"Hidden","Long"]
[null,{"$f":"'Market Data'!B100","v":20000517},{"$f":"'Market Data'!C100","v":9210.5},{"$f":"'Market Data'!D100","v":9210.5},{"$f":"'Market Data'!E100","v":9054.5},{"$f":"'Market Data'!F100","v":9073.5},null,96,"Hidden","Long"]
[null,{"$f":"'Market Data'!B101","v":20000518},{"$f":"'Market Data'!C101","v":9049.5},{"$f":"'Market Data'!D101","v":9121.5},{"$f":"'Market Data'!E101","v":9014.5},{"$f":"'Market Data'!F101","v":9019.5},null,97,"Hidden","Long"]
[null,{"$f":"'Market Data'!B102","v":20000519},{"$f":"'Market Data'!C102","v":9012.5},{"$f":"'Market Data'!D102","v":9012.5},{"$f":"'Market Data'!E102","v":8813},{"$f":"'Market Data'!F102","v":8855},null,98,"Hidden","Long"]
[null,{"$f":"'Market Data'!B103","v":20000522},{"$f":"'Market Data'!C103","v":8847.5},{"$f":"'Market Data'!D103","v":8899.5},{"$f":"'Market Data'!E103","v":8680},{"$f":"'Market Data'!F103","v":8780},null,99,"Hidden","Long"]
[null,{"$f":"'Market Data'!B104","v":20000523},{"$f":"'Market Data'!C104","v":8836.5},{"$f":"'Market Data'!D104","v":8878},{"$f":"'Market Data'!E104","v":8737.5},{"$f":"'Market Data'!F104","v":8791.5},null,100,"Hidden","Long"]
[null,{"$f":"'Market Data'!B105","v":20000524},{"$f":"'Market Data'!C105","v":8675.5},{"$f":"'Market Data'!D105","v":8728.5},{"$f":"'Market Data'!E105","v":8656},{"$f":"'Market Data'!F105","v":8708.5},null,101,"Hidden","Long"]
[null,{"$f":"'Market Data'!B106","v":20000525},{"$f":"'Market Data'!C106","v":8757.5},{"$f":"'Market Data'!D106","v":8857},{"$f":"'Market Data'!E106","v":8742.5},{"$f":"'Market Data'!F106","v":8806.5},null,102,"Hidden","Long"]
[null,{"$f":"'Market Data'!B107","v":20000526},{"$f":"'Market Data'!C107","v":8726.5},{"$f":"'Market Data'!D107","v":8833},{"$f":"'Market Data'!E107","v":8685.5},{"$f":"'Market Data'!F107","v":8802.5},null,103,"Hidden","Long"]
[null,{"$f":"'Market Data'!B108","v":20000529},{"$f":"'Market Data'!C108","v":8858.5},{"$f":"'Market Data'!D108","v":8887},{"$f":"'Market Data'!E108","v":8839},{"$f":"'Market Data'!F108","v":8880.5},null,104,"Hidden","Long"]
[null,{"$f":"'Market Data'!B109","v":20000530},{"$f":"'Market Data'!C109","v":8896.5},{"$f":"'Market Data'!D109","v":9012},{"$f":"'Market Data'!E109","v":8891.5},{"$f":"'Market Data'!F109","v":8973.5},null,105,"Hidden","Long"]
[null,{"$f":"'Market Data'!B110","v":20000531},{"$f":"'Market Data'!C110","v":9054.5},{"$f":"'Market Data'!D110","v":9059.5},{"$f":"'Market Data'!E110","v":8956.5},{"$f":"'Market Data'!F110","v":8974.5},null,106,"Hidden","Long"]
[null,{"$f":"'Market Data'!B111","v":20000601},{"$f":"'Market Data'!C111","v":9014.5},{"$f":"'Market Data'!D111","v":9134.5},{"$f":"'Market Data'!E111","v":9004},{"$f":"'Market Data'!F111","v":9122.5},null,107,"Hidden","Long"]
[null,{"$f":"'Market Data'!B112","v":20000602},{"$f":"'Market Data'!C112","v":9110.5},{"$f":"'Market Data'!D112","v":9314.5},{"$f":"'Market Data'!E112","v":9099.5},{"$f":"'Market Data'!F112","v":9289.5},null,108,"Hidden","Long"]
[null,{"$f":"'Market Data'!B113","v":20000605},{"$f":"'Market Data'!C113","v":9290.5},{"$f":"'Market Data'!D113","v":9300},{"$f":"'Market Data'!E113","v":9205.5},{"$f":"'Market Data'!F113","v":9255.5},null,109,"Hidden","Long"]
[null,{"$f":"'Market Data'!B114","v":20000606},{"$f":"'Market Data'!C114","v":9264.5},{"$f":"'Market Data'!D114","v":9319.5},{"$f":"'Market Data'!E114","v":9150.5},{"$f":"'Market Data'!F114","v":9206.5},null,110,"Hidden","Long"]
[null,{"$f":"'Market Data'!B115","v":20000607},{"$f":"'Market Data'!C115","v":9164.5},{"$f":"'Market Data'!D115","v":9178.5},{"$f":"'Market Data'!E115","v":9096},{"$f":"'Market Data'!F115","v":9141.5},null,111,"Hidden","Long"]
[null,{"$f":"'Market Data'!B116","v":20000608},{"$f":"'Market Data'!C116","v":9178.5},{"$f":"'Market Data'!D116","v":9242.5},{"$f":"'Market Data'!E116","v":9060.5},{"$f":"'Market Data'!F116","v":9117.5},null,112,"Hidden","Long"]
[null,{"$f":"'Market Data'!B117","v":20000609},{"$f":"'Market Data'!C117","v":9142.5},{"$f":"'Market Data'!D117","v":9209},{"$f":"'Market Data'!E117","v":9077},{"$f":"'Market Data'!F117","v":9081.5},null,113,"Hidden","Long"]
[null,{"$f":"'Market Data'!B118","v":20000612},{"$f":"'Market Data'!C118","v":9124.5},{"$f":"'Market Data'!D118","v":9165},{"$f":"'Market Data'!E118","v":9068.5},{"$f":"'Market Data'!F118","v":9085.5},null,114,"Hidden","Long"]
[null,{"$f":"'Market Data'!B119","v":20000613},{"$f":"'Market Data'!C119","v":9080.5},{"$f":"'Market Data'!D119","v":9159.5},{"$f":"'Market Data'!E119","v":9017.5},{"$f":"'Market Data'!F119","v":9116.5},null,115,"Hidden","Long"]
[null,{"$f":"'Market Data'!B120","v":20000614},{"$f":"'Market Data'!C120","v":9147},{"$f":"'Market Data'!D120","v":9223},{"$f":"'Market Data'!E120","v":9096},{"$f":"'Market Data'!F120","v":9204},null,116,"Hidden","Long"]
[null,{"$f":"'Market Data'!B121","v":20000615},{"$f":"'Market Data'!C121","v":9198},{"$f":"'Market Data'!D121","v":9236},{"$f":"'Market Data'!E121","v":9168},{"$f":"'Market Data'!F121","v":9195.5},null,117,"Hidden","Long"]
[null,{"$f":"'Market Data'!B122","v":20000616},{"$f":"'Market Data'!C122","v":9224.5},{"$f":"'Market Data'!D122","v":9228},{"$f":"'Market Data'!E122","v":9083},{"$f":"'Market Data'!F122","v":9105.5},null,118,"Hidden","Long"]
[null,{"$f":"'Market Data'!B123","v":20000619},{"$f":"'Market Data'!C123","v":9033},{"$f":"'Market Data'!D123","v":9073},{"$f":"'Market Data'!E123","v":8974},{"$f":"'Market Data'!F123","v":9068.5},null,119,"Hidden","Long"]
[null,{"$f":"'Market Data'!B124","v":20000620},{"$f":"'Market Data'!C124","v":9079.5},{"$f":"'Market Data'!D124","v":9110},{"$f":"'Market Data'!E124","v":9040.5},{"$f":"'Market Data'!F124","v":9060.5},null,120,"Hidden","Long"]
[null,{"$f":"'Market Data'!B125","v":20000621},{"$f":"'Market Data'!C125","v":9043},{"$f":"'Market Data'!D125","v":9081},{"$f":"'Market Data'!E125","v":8929},{"$f":"'Market Data'!F125","v":8976},null,121,"Hidden","Long"]
[null,{"$f":"'Market Data'!B126","v":20000622},{"$f":"'Market Data'!C126","v":8988},{"$f":"'Market Data'!D126","v":9013},{"$f":"'Market Data'!E126","v":8859},{"$f":"'Market Data'!F126","v":8898.5},null,122,"Hidden","Long"]
[null,{"$f":"'Market Data'!B127","v":20000623},{"$f":"'Market Data'!C127","v":8898},{"$f":"'Market Data'!D127","v":8919},{"$f":"'Market Data'!E127","v":8817},{"$f":"'Market Data'!F127","v":8818},null,123,"Hidden","Long"]
[null,{"$f":"'Market Data'!B128","v":20000626},{"$f":"'Market Data'!C128","v":8813},{"$f":"'Market Data'!D128","v":8926.5},{"$f":"'Market Data'!E128","v":8800},{"$f":"'Market Data'!F128","v":8868},null,124,"Hidden","Long"]
[null,{"$f":"'Market Data'!B129","v":20000627},{"$f":"'Market Data'!C129","v":8873},{"$f":"'Market Data'!D129","v":8901},{"$f":"'Market Data'!E129","v":8795},{"$f":"'Market Data'!F129","v":8876.5},null,125,"Hidden","Long"]
[null,{"$f":"'Market Data'!B130","v":20000628},{"$f":"'Market Data'!C130","v":8901},{"$f":"'Market Data'!D130","v":8904.5},{"$f":"'Market Data'!E130","v":8835},{"$f":"'Market Data'!F130","v":8893},null,126,"Hidden","Long"]
[null,{"$f":"'Market Data'!B131","v":20000629},{"$f":"'Market Data'!C131","v":8883},{"$f":"'Market Data'!D131","v":8883},{"$f":"'Market Data'!E131","v":8671},{"$f":"'Market Data'!F131","v":8705},null,127,"Hidden","Long"]
[null,{"$f":"'Market Data'!B132","v":20000630},{"$f":"'Market Data'!C132","v":8738},{"$f":"'Market Data'!D132","v":8783},{"$f":"'Market Data'!E132","v":8696.5},{"$f":"'Market Data'!F132","v":8713},null,128,"Hidden","Long"]
[null,{"$f":"'Market Data'!B133","v":20000703},{"$f":"'Market Data'!C133","v":8733},{"$f":"'Market Data'!D133","v":8791.5},{"$f":"'Market Data'!E133","v":8664},{"$f":"'Market Data'!F133","v":8791.5},null,{"$f":"ROW()-ROW(H$17)","v":129},"Hidden",{"$f":"$I$4","v":"Long"}]
[null,{"$f":"'Market Data'!B134","v":20000704},{"$f":"'Market Data'!C134","v":8748},{"$f":"'Market Data'!D134","v":8806},{"$f":"'Market Data'!E134","v":8730.5},{"$f":"'Market Data'!F134","v":8773},null,130,"Hidden","Long"]
[null,{"$f":"'Market Data'!B135","v":20000705},{"$f":"'Market Data'!C135","v":8782},{"$f":"'Market Data'!D135","v":8917.5},{"$f":"'Market Data'!E135","v":8768},{"$f":"'Market Data'!F135","v":8799},null,131,"Hidden","Long"]
[null,{"$f":"'Market Data'!B136","v":20000706},{"$f":"'Market Data'!C136","v":8778},{"$f":"'Market Data'!D136","v":8805.5},{"$f":"'Market Data'!E136","v":8718},{"$f":"'Market Data'!F136","v":8783},null,132,"Hidden","Long"]
[null,{"$f":"'Market Data'!B137","v":20000707},{"$f":"'Market Data'!C137","v":8804.5},{"$f":"'Market Data'!D137","v":8879.5},{"$f":"'Market Data'!E137","v":8733},{"$f":"'Market Data'!F137","v":8871},null,133,"Hidden","Long"]
[null,{"$f":"'Market Data'!B138","v":20000710},{"$f":"'Market Data'!C138","v":8887.5},{"$f":"'Market Data'!D138","v":8951},{"$f":"'Market Data'!E138","v":8851},{"$f":"'Market Data'!F138","v":8889},null,134,"Hidden","Long"]
[null,{"$f":"'Market Data'!B139","v":20000711},{"$f":"'Market Data'!C139","v":8873},{"$f":"'Market Data'!D139","v":8884.5},{"$f":"'Market Data'!E139","v":8776.5},{"$f":"'Market Data'!F139","v":8819},null,135,"Hidden","Long"]
[null,{"$f":"'Market Data'!B140","v":20000712},{"$f":"'Market Data'!C140","v":8849.5},{"$f":"'Market Data'!D140","v":8922},{"$f":"'Market Data'!E140","v":8836},{"$f":"'Market Data'!F140","v":8888.5},null,136,"Hidden","Long"]
[null,{"$f":"'Market Data'!B141","v":20000713},{"$f":"'Market Data'!C141","v":8884},{"$f":"'Market Data'!D141","v":9011.5},{"$f":"'Market Data'!E141","v":8823},{"$f":"'Market Data'!F141","v":9007},null,137,"Hidden","Long"]
[null,{"$f":"'Market Data'!B142","v":20000714},{"$f":"'Market Data'!C142","v":9014},{"$f":"'Market Data'!D142","v":9161},{"$f":"'Market Data'!E142","v":8985},{"$f":"'Market Data'!F142","v":9142},null,138,"Hidden","Long"]
[null,{"$f":"'Market Data'!B143","v":20000717},{"$f":"'Market Data'!C143","v":9168.5},{"$f":"'Market Data'!D143","v":9243},{"$f":"'Market Data'!E143","v":9140.5},{"$f":"'Market Data'!F143","v":9236},null,139,"Hidden","Long"]
[null,{"$f":"'Market Data'!B144","v":20000718},{"$f":"'Market Data'!C144","v":9208},{"$f":"'Market Data'!D144","v":9273},{"$f":"'Market Data'!E144","v":9173},{"$f":"'Market Data'!F144","v":9207},null,140,"Hidden","Long"]
[null,{"$f":"'Market Data'!B145","v":20000719},{"$f":"'Market Data'!C145","v":9207},{"$f":"'Market Data'!D145","v":9213.5},{"$f":"'Market Data'!E145","v":9137},{"$f":"'Market Data'!F145","v":9178},null,141,"Hidden","Long"]
[null,{"$f":"'Market Data'!B146","v":20000720},{"$f":"'Market Data'!C146","v":9148},{"$f":"'Market Data'!D146","v":9308},{"$f":"'Market Data'!E146","v":9143},{"$f":"'Market Data'!F146","v":9303},null,142,"Hidden","Long"]
[null,{"$f":"'Market Data'!B147","v":20000721},{"$f":"'Market Data'!C147","v":9294},{"$f":"'Market Data'!D147","v":9312.5},{"$f":"'Market Data'!E147","v":9188},{"$f":"'Market Data'!F147","v":9197.5},null,143,"Hidden","Long"]
[null,{"$f":"'Market Data'!B148","v":20000724},{"$f":"'Market Data'!C148","v":9168.5},{"$f":"'Market Data'!D148","v":9243.5},{"$f":"'Market Data'!E148","v":9120},{"$f":"'Market Data'!F148","v":9122},null,144,"Hidden","Long"]
[null,{"$f":"'Market Data'!B149","v":20000725},{"$f":"'Market Data'!C149","v":9114},{"$f":"'Market Data'!D149","v":9170},{"$f":"'Market Data'!E149","v":9105.5},{"$f":"'Market Data'!F149","v":9148},null,145,"Hidden","Long"]
[null,{"$f":"'Market Data'!B150","v":20000726},{"$f":"'Market Data'!C150","v":9159},{"$f":"'Market Data'!D150","v":9168},{"$f":"'Market Data'!E150","v":9061.5},{"$f":"'Market Data'!F150","v":9083},null,146,"Hidden","Long"]
[null,{"$f":"'Market Data'!B151","v":20000727},{"$f":"'Market Data'!C151","v":9082},{"$f":"'Market Data'!D151","v":9141},{"$f":"'Market Data'!E151","v":8975.5},{"$f":"'Market Data'!F151","v":8990.5},null,147,"Hidden","Long"]
[null,{"$f":"'Market Data'!B152","v":20000728},{"$f":"'Market Data'!C152","v":8994},{"$f":"'Market Data'!D152","v":9034},{"$f":"'Market Data'!E152","v":8878},{"$f":"'Market Data'!F152","v":8933},null,148,"Hidden","Long"]
[null,{"$f":"'Market Data'!B153","v":20000731},{"$f":"'Market Data'!C153","v":8933},{"$f":"'Market Data'!D153","v":9060},{"$f":"'Market Data'!E153","v":8914},{"$f":"'Market Data'!F153","v":9035},null,149,"Hidden","Long"]
[null,{"$f":"'Market Data'!B154","v":20000801},{"$f":"'Market Data'!C154","v":9034},{"$f":"'Market Data'!D154","v":9039},{"$f":"'Market Data'!E154","v":8898.5},{"$f":"'Market Data'!F154","v":8957},null,150,"Hidden","Long"]
[null,{"$f":"'Market Data'!B155","v":20000802},{"$f":"'Market Data'!C155","v":8978},{"$f":"'Market Data'!D155","v":9004},{"$f":"'Market Data'!E155","v":8872},{"$f":"'Market Data'!F155","v":8926},null,151,"Hidden","Long"]
[null,{"$f":"'Market Data'!B156","v":20000803},{"$f":"'Market Data'!C156","v":8879},{"$f":"'Market Data'!D156","v":8898.5},{"$f":"'Market Data'!E156","v":8757},{"$f":"'Market Data'!F156","v":8803},null,152,"Hidden","Long"]
[null,{"$f":"'Market Data'!B157","v":20000804},{"$f":"'Market Data'!C157","v":8834},{"$f":"'Market Data'!D157","v":8908},{"$f":"'Market Data'!E157","v":8805},{"$f":"'Market Data'!F157","v":8823},null,153,"Hidden","Long"]
[null,{"$f":"'Market Data'!B158","v":20000807},{"$f":"'Market Data'!C158","v":8848},{"$f":"'Market Data'!D158","v":8937},{"$f":"'Market Data'!E158","v":8837},{"$f":"'Market Data'!F158","v":8933},null,154,"Hidden","Long"]
[null,{"$f":"'Market Data'!B159","v":20000808},{"$f":"'Market Data'!C159","v":8918},{"$f":"'Market Data'!D159","v":8992.5},{"$f":"'Market Data'!E159","v":8883},{"$f":"'Market Data'!F159","v":8944},null,155,"Hidden","Long"]
[null,{"$f":"'Market Data'!B160","v":20000809},{"$f":"'Market Data'!C160","v":8972},{"$f":"'Market Data'!D160","v":9063.5},{"$f":"'Market Data'!E160","v":8971},{"$f":"'Market Data'!F160","v":9038},null,156,"Hidden","Long"]
[null,{"$f":"'Market Data'!B161","v":20000810},{"$f":"'Market Data'!C161","v":9013},{"$f":"'Market Data'!D161","v":9108.5},{"$f":"'Market Data'!E161","v":9010},{"$f":"'Market Data'!F161","v":9069.5},null,157,"Hidden","Long"]
[null,{"$f":"'Market Data'!B162","v":20000811},{"$f":"'Market Data'!C162","v":9063},{"$f":"'Market Data'!D162","v":9125},{"$f":"'Market Data'!E162","v":9019},{"$f":"'Market Data'!F162","v":9114},null,158,"Hidden","Long"]
[null,{"$f":"'Market Data'!B163","v":20000814},{"$f":"'Market Data'!C163","v":9129},{"$f":"'Market Data'!D163","v":9162},{"$f":"'Market Data'!E163","v":9090},{"$f":"'Market Data'!F163","v":9111},null,159,"Hidden","Long"]
[null,{"$f":"'Market Data'!B164","v":20000815},{"$f":"'Market Data'!C164","v":9157},{"$f":"'Market Data'!D164","v":9167.5},{"$f":"'Market Data'!E164","v":9071},{"$f":"'Market Data'!F164","v":9083},null,160,"Hidden","Long"]
[null,{"$f":"'Market Data'!B165","v":20000816},{"$f":"'Market Data'!C165","v":9103},{"$f":"'Market Data'!D165","v":9156},{"$f":"'Market Data'!E165","v":9082.5},{"$f":"'Market Data'!F165","v":9119},null,161,"Hidden","Long"]
[null,{"$f":"'Market Data'!B166","v":20000817},{"$f":"'Market Data'!C166","v":9118},{"$f":"'Market Data'!D166","v":9126},{"$f":"'Market Data'!E166","v":8998},{"$f":"'Market Data'!F166","v":9060},null,162,"Hidden","Long"]
[null,{"$f":"'Market Data'!B167","v":20000818},{"$f":"'Market Data'!C167","v":9063},{"$f":"'Market Data'!D167","v":9112},{"$f":"'Market Data'!E167","v":9007},{"$f":"'Market Data'!F167","v":9010.5},null,163,"Hidden","Long"]
[null,{"$f":"'Market Data'!B168","v":20000821},{"$f":"'Market Data'!C168","v":9038},{"$f":"'Market Data'!D168","v":9038},{"$f":"'Market Data'!E168","v":8933.5},{"$f":"'Market Data'!F168","v":8976},null,164,"Hidden","Long"]
[null,{"$f":"'Market Data'!B169","v":20000822},{"$f":"'Market Data'!C169","v":8998},{"$f":"'Market Data'!D169","v":9074},{"$f":"'Market Data'!E169","v":8991.5},{"$f":"'Market Data'!F169","v":9037},null,165,"Hidden","Long"]
[null,{"$f":"'Market Data'!B170","v":20000823},{"$f":"'Market Data'!C170","v":9043},{"$f":"'Market Data'!D170","v":9043},{"$f":"'Market Data'!E170","v":8938},{"$f":"'Market Data'!F170","v":9002},null,166,"Hidden","Long"]
[null,{"$f":"'Market Data'!B171","v":20000824},{"$f":"'Market Data'!C171","v":9058},{"$f":"'Market Data'!D171","v":9063.5},{"$f":"'Market Data'!E171","v":8994},{"$f":"'Market Data'!F171","v":8998},null,167,"Hidden","Long"]
[null,{"$f":"'Market Data'!B172","v":20000825},{"$f":"'Market Data'!C172","v":9024},{"$f":"'Market Data'!D172","v":9120},{"$f":"'Market Data'!E172","v":9015},{"$f":"'Market Data'!F172","v":9108},null,168,"Hidden","Long"]
[null,{"$f":"'Market Data'!B173","v":20000828},{"$f":"'Market Data'!C173","v":9119},{"$f":"'Market Data'!D173","v":9182},{"$f":"'Market Data'!E173","v":9088.5},{"$f":"'Market Data'!F173","v":9126},null,169,"Hidden","Long"]
[null,{"$f":"'Market Data'!B174","v":20000829},{"$f":"'Market Data'!C174","v":9105.5},{"$f":"'Market Data'!D174","v":9109.5},{"$f":"'Market Data'!E174","v":9049},{"$f":"'Market Data'!F174","v":9068},null,170,"Hidden","Long"]
[null,{"$f":"'Market Data'!B175","v":20000830},{"$f":"'Market Data'!C175","v":9055},{"$f":"'Market Data'!D175","v":9057},{"$f":"'Market Data'!E175","v":8954},{"$f":"'Market Data'!F175","v":8959},null,171,"Hidden","Long"]
[null,{"$f":"'Market Data'!B176","v":20000831},{"$f":"'Market Data'!C176","v":8976},{"$f":"'Market Data'!D176","v":9031},{"$f":"'Market Data'!E176","v":8943},{"$f":"'Market Data'!F176","v":9023},null,172,"Hidden","Long"]
[null,{"$f":"'Market Data'!B177","v":20000901},{"$f":"'Market Data'!C177","v":9005},{"$f":"'Market Data'!D177","v":9175.5},{"$f":"'Market Data'!E177","v":9005},{"$f":"'Market Data'!F177","v":9133.5},null,173,"Hidden","Long"]
[null,{"$f":"'Market Data'!B178","v":20000904},{"$f":"'Market Data'!C178","v":9138},{"$f":"'Market Data'!D178","v":9231},{"$f":"'Market Data'!E178","v":9137},{"$f":"'Market Data'!F178","v":9222},null,174,"Hidden","Long"]
[null,{"$f":"'Market Data'!B179","v":20000905},{"$f":"'Market Data'!C179","v":9221.5},{"$f":"'Market Data'!D179","v":9221.5},{"$f":"'Market Data'!E179","v":9146},{"$f":"'Market Data'!F179","v":9169},null,175,"Hidden","Long"]
[null,{"$f":"'Market Data'!B180","v":20000906},{"$f":"'Market Data'!C180","v":9163},{"$f":"'Market Data'!D180","v":9209},{"$f":"'Market Data'!E180","v":9088},{"$f":"'Market Data'!F180","v":9091},null,176,"Hidden","Long"]
[null,{"$f":"'Market Data'!B181","v":20000907},{"$f":"'Market Data'!C181","v":9070},{"$f":"'Market Data'!D181","v":9157},{"$f":"'Market Data'!E181","v":9059.5},{"$f":"'Market Data'!F181","v":9143},null,177,"Hidden","Long"]
[null,{"$f":"'Market Data'!B182","v":20000908},{"$f":"'Market Data'!C182","v":9151.5},{"$f":"'Market Data'!D182","v":9163},{"$f":"'Market Data'!E182","v":9019},{"$f":"'Market Data'!F182","v":9029.5},null,178,"Hidden","Long"]
[null,{"$f":"'Market Data'!B183","v":20000911},{"$f":"'Market Data'!C183","v":9022},{"$f":"'Market Data'!D183","v":9041},{"$f":"'Market Data'!E183","v":8964.5},{"$f":"'Market Data'!F183","v":8987.5},null,179,"Hidden","Long"]
[null,{"$f":"'Market Data'!B184","v":20000912},{"$f":"'Market Data'!C184","v":8948},{"$f":"'Market Data'!D184","v":8970},{"$f":"'Market Data'!E184","v":8896},{"$f":"'Market Data'!F184","v":8908.5},null,180,"Hidden","Long"]
[null,{"$f":"'Market Data'!B185","v":20000913},{"$f":"'Market Data'!C185","v":8919.5},{"$f":"'Market Data'!D185","v":8930},{"$f":"'Market Data'!E185","v":8757},{"$f":"'Market Data'!F185","v":8773},null,181,"Hidden","Long"]
[null,{"$f":"'Market Data'!B186","v":20000914},{"$f":"'Market Data'!C186","v":8788.5},{"$f":"'Market Data'!D186","v":8859},{"$f":"'Market Data'!E186","v":8762},{"$f":"'Market Data'!F186","v":8811.5},null,182,"Hidden","Long"]
[null,{"$f":"'Market Data'!B187","v":20000915},{"$f":"'Market Data'!C187","v":8794.5},{"$f":"'Market Data'!D187","v":8837.5},{"$f":"'Market Data'!E187","v":8727.5},{"$f":"'Market Data'!F187","v":8776.5},null,183,"Hidden","Long"]
[null,{"$f":"'Market Data'!B188","v":20000918},{"$f":"'Market Data'!C188","v":8704.5},{"$f":"'Market Data'!D188","v":8736.5},{"$f":"'Market Data'!E188","v":8625.5},{"$f":"'Market Data'!F188","v":8640},null,184,"Hidden","Long"]
[null,{"$f":"'Market Data'!B189","v":20000919},{"$f":"'Market Data'!C189","v":8629.5},{"$f":"'Market Data'!D189","v":8685},{"$f":"'Market Data'!E189","v":8601},{"$f":"'Market Data'!F189","v":8683.5},null,185,"Hidden","Long"]
[null,{"$f":"'Market Data'!B190","v":20000920},{"$f":"'Market Data'!C190","v":8710.5},{"$f":"'Market Data'!D190","v":8719},{"$f":"'Market Data'!E190","v":8475.5},{"$f":"'Market Data'!F190","v":8498},null,186,"Hidden","Long"]
[null,{"$f":"'Market Data'!B191","v":20000921},{"$f":"'Market Data'!C191","v":8552.5},{"$f":"'Market Data'!D191","v":8563},{"$f":"'Market Data'!E191","v":8330},{"$f":"'Market Data'!F191","v":8413.5},null,187,"Hidden","Long"]
[null,{"$f":"'Market Data'!B192","v":20000922},{"$f":"'Market Data'!C192","v":8239.5},{"$f":"'Market Data'!D192","v":8481},{"$f":"'Market Data'!E192","v":8239},{"$f":"'Market Data'!F192","v":8466.5},null,188,"Hidden","Long"]
[null,{"$f":"'Market Data'!B193","v":20000925},{"$f":"'Market Data'!C193","v":8519.5},{"$f":"'Market Data'!D193","v":8569.5},{"$f":"'Market Data'!E193","v":8489.5},{"$f":"'Market Data'!F193","v":8519.5},null,189,"Hidden","Long"]
[null,{"$f":"'Market Data'!B194","v":20000926},{"$f":"'Market Data'!C194","v":8499},{"$f":"'Market Data'!D194","v":8589.5},{"$f":"'Market Data'!E194","v":8475.5},{"$f":"'Market Data'!F194","v":8499},null,190,"Hidden","Long"]
[null,{"$f":"'Market Data'!B195","v":20000927},{"$f":"'Market Data'!C195","v":8469.5},{"$f":"'Market Data'!D195","v":8607},{"$f":"'Market Data'!E195","v":8460.5},{"$f":"'Market Data'!F195","v":8526.5},null,191,"Hidden","Long"]
[null,{"$f":"'Market Data'!B196","v":20000928},{"$f":"'Market Data'!C196","v":8536.5},{"$f":"'Market Data'!D196","v":8594.5},{"$f":"'Market Data'!E196","v":8462},{"$f":"'Market Data'!F196","v":8587.5},null,192,"Hidden","Long"]
[null,{"$f":"'Market Data'!B197","v":20000929},{"$f":"'Market Data'!C197","v":8569.5},{"$f":"'Market Data'!D197","v":8630.5},{"$f":"'Market Data'!E197","v":8516},{"$f":"'Market Data'!F197","v":8548.5},null,{"$f":"ROW()-ROW(H$17)","v":193},"Hidden",{"$f":"$I$4","v":"Long"}]
[null,{"$f":"'Market Data'!B198","v":20001002},{"$f":"'Market Data'!C198","v":8524.5},{"$f":"'Market Data'!D198","v":8651.5},{"$f":"'Market Data'!E198","v":8510},{"$f":"'Market Data'!F198","v":8619.5},null,194,"Hidden","Long"]
[null,{"$f":"'Market Data'!B199","v":20001004},{"$f":"'Market Data'!C199","v":8599.5},{"$f":"'Market Data'!D199","v":8636},{"$f":"'Market Data'!E199","v":8497},{"$f":"'Market Data'!F199","v":8568},null,195,"Hidden","Long"]
[null,{"$f":"'Market Data'!B200","v":20001005},{"$f":"'Market Data'!C200","v":8583.5},{"$f":"'Market Data'!D200","v":8652.5},{"$f":"'Market Data'!E200","v":8570},{"$f":"'Market Data'!F200","v":8615},null,196,"Hidden","Long"]
[null,{"$f":"'Market Data'!B201","v":20001006},{"$f":"'Market Data'!C201","v":8634.5},{"$f":"'Market Data'!D201","v":8661.5},{"$f":"'Market Data'!E201","v":8444.5},{"$f":"'Market Data'!F201","v":8468},null,197,"Hidden","Long"]
[null,{"$f":"'Market Data'!B202","v":20001009},{"$f":"'Market Data'!C202","v":8471.5},{"$f":"'Market Data'!D202","v":8492.5},{"$f":"'Market Data'!E202","v":8357.5},{"$f":"'Market Data'!F202","v":8419},null,198,"Hidden","Long"]
[null,{"$f":"'Market Data'!B203","v":20001010},{"$f":"'Market Data'!C203","v":8448.5},{"$f":"'Market Data'!D203","v":8466},{"$f":"'Market Data'!E203","v":8394.5},{"$f":"'Market Data'!F203","v":8414.5},null,199,"Hidden","Long"]
[null,{"$f":"'Market Data'!B204","v":20001011},{"$f":"'Market Data'!C204","v":8334.5},{"$f":"'Market Data'!D204","v":8375.5},{"$f":"'Market Data'!E204","v":8200},{"$f":"'Market Data'!F204","v":8297},null,200,"Hidden","Long"]
[null,{"$f":"'Market Data'!B205","v":20001012},{"$f":"'Market Data'!C205","v":8324.5},{"$f":"'Market Data'!D205","v":8379.5},{"$f":"'Market Data'!E205","v":8099.5},{"$f":"'Market Data'!F205","v":8175.5},null,201,"Hidden","Long"]
[null,{"$f":"'Market Data'!B206","v":20001013},{"$f":"'Market Data'!C206","v":8144.5},{"$f":"'Market Data'!D206","v":8374.5},{"$f":"'Market Data'!E206","v":8109.5},{"$f":"'Market Data'!F206","v":8361.5},null,202,"Hidden","Long"]
[null,{"$f":"'Market Data'!B207","v":20001016},{"$f":"'Market Data'!C207","v":8414.5},{"$f":"'Market Data'!D207","v":8418.5},{"$f":"'Market Data'!E207","v":8306},{"$f":"'Market Data'!F207","v":8352.5},null,203,"Hidden","Long"]
[null,{"$f":"'Market Data'!B208","v":20001017},{"$f":"'Market Data'!C208","v":8350},{"$f":"'Market Data'!D208","v":8397},{"$f":"'Market Data'!E208","v":8257},{"$f":"'Market Data'!F208","v":8263.5},null,204,"Hidden","Long"]
[null,{"$f":"'Market Data'!B209","v":20001018},{"$f":"'Market Data'!C209","v":8219},{"$f":"'Market Data'!D209","v":8243.5},{"$f":"'Market Data'!E209","v":8015.5},{"$f":"'Market Data'!F209","v":8209},null,205,"Hidden","Long"]
[null,{"$f":"'Market Data'!B210","v":20001019},{"$f":"'Market Data'!C210","v":8234.5},{"$f":"'Market Data'!D210","v":8347},{"$f":"'Market Data'!E210","v":8222},{"$f":"'Market Data'!F210","v":8314.5},null,206,"Hidden","Long"]
[null,{"$f":"'Market Data'!B211","v":20001020},{"$f":"'Market Data'!C211","v":8350.5},{"$f":"'Market Data'!D211","v":8382},{"$f":"'Market Data'!E211","v":8258},{"$f":"'Market Data'!F211","v":8338.5},null,207,"Hidden","Long"]
[null,{"$f":"'Market Data'!B212","v":20001023},{"$f":"'Market Data'!C212","v":8367.5},{"$f":"'Market Data'!D212","v":8372},{"$f":"'Market Data'!E212","v":8260},{"$f":"'Market Data'!F212","v":8357},null,208,"Hidden","Long"]
[null,{"$f":"'Market Data'!B213","v":20001024},{"$f":"'Market Data'!C213","v":8361.5},{"$f":"'Market Data'!D213","v":8558.5},{"$f":"'Market Data'!E213","v":8326.5},{"$f":"'Market Data'!F213","v":8541},null,209,"Hidden","Long"]
[null,{"$f":"'Market Data'!B214","v":20001025},{"$f":"'Market Data'!C214","v":8481},{"$f":"'Market Data'!D214","v":8529.5},{"$f":"'Market Data'!E214","v":8414.5},{"$f":"'Market Data'!F214","v":8478},null,210,"Hidden","Long"]
[null,{"$f":"'Market Data'!B215","v":20001026},{"$f":"'Market Data'!C215","v":8454.5},{"$f":"'Market Data'!D215","v":8573.5},{"$f":"'Market Data'!E215","v":8449.5},{"$f":"'Market Data'!F215","v":8458},null,211,"Hidden","Long"]
[null,{"$f":"'Market Data'!B216","v":20001027},{"$f":"'Market Data'!C216","v":8559.5},{"$f":"'Market Data'!D216","v":8652.5},{"$f":"'Market Data'!E216","v":8546},{"$f":"'Market Data'!F216","v":8645.5},null,212,"Hidden","Long"]
[null,{"$f":"'Market Data'!B217","v":20001030},{"$f":"'Market Data'!C217","v":8633.5},{"$f":"'Market Data'!D217","v":8672.5},{"$f":"'Market Data'!E217","v":8595.5},{"$f":"'Market Data'!F217","v":8667.5},null,213,"Hidden","Long"]
[null,{"$f":"'Market Data'!B218","v":20001031},{"$f":"'Market Data'!C218","v":8673.5},{"$f":"'Market Data'!D218","v":8810.5},{"$f":"'Market Data'!E218","v":8669.5},{"$f":"'Market Data'!F218","v":8798.5},null,214,"Hidden","Long"]
[null,{"$f":"'Market Data'!B219","v":20001101},{"$f":"'Market Data'!C219","v":8807.5},{"$f":"'Market Data'!D219","v":8818.5},{"$f":"'Market Data'!E219","v":8728},{"$f":"'Market Data'!F219","v":8779.5},null,215,"Hidden","Long"]
[null,{"$f":"'Market Data'!B220","v":20001102},{"$f":"'Market Data'!C220","v":8791.5},{"$f":"'Market Data'!D220","v":8858.5},{"$f":"'Market Data'!E220","v":8775.5},{"$f":"'Market Data'!F220","v":8802.5},null,216,"Hidden","Long"]
[null,{"$f":"'Market Data'!B221","v":20001103},{"$f":"'Market Data'!C221","v":8824.5},{"$f":"'Market Data'!D221","v":8869.5},{"$f":"'Market Data'!E221","v":8788},{"$f":"'Market Data'!F221","v":8848},null,217,"Hidden","Long"]
[null,{"$f":"'Market Data'!B222","v":20001106},{"$f":"'Market Data'!C222","v":8870.5},{"$f":"'Market Data'!D222","v":8898},{"$f":"'Market Data'!E222","v":8822.5},{"$f":"'Market Data'!F222","v":8851.5},null,218,"Hidden","Long"]
[null,{"$f":"'Market Data'!B223","v":20001107},{"$f":"'Market Data'!C223","v":8852.5},{"$f":"'Market Data'!D223","v":8852.5},{"$f":"'Market Data'!E223","v":8742},{"$f":"'Market Data'!F223","v":8792},null,219,"Hidden","Long"]
[null,{"$f":"'Market Data'!B224","v":20001108},{"$f":"'Market Data'!C224","v":8828.5},{"$f":"'Market Data'!D224","v":8844},{"$f":"'Market Data'!E224","v":8709.5},{"$f":"'Market Data'!F224","v":8729},null,220,"Hidden","Long"]
[null,{"$f":"'Market Data'!B225","v":20001109},{"$f":"'Market Data'!C225","v":8689.5},{"$f":"'Market Data'!D225","v":8733},{"$f":"'Market Data'!E225","v":8637.5},{"$f":"'Market Data'!F225","v":8643},null,221,"Hidden","Long"]
[null,{"$f":"'Market Data'!B226","v":20001110},{"$f":"'Market Data'!C226","v":8669.5},{"$f":"'Market Data'!D226","v":8718.5},{"$f":"'Market Data'!E226","v":8536},{"$f":"'Market Data'!F226","v":8542.5},null,222,"Hidden","Long"]
[null,{"$f":"'Market Data'!B227","v":20001113},{"$f":"'Market Data'!C227","v":8514},{"$f":"'Market Data'!D227","v":8532},{"$f":"'Market Data'!E227","v":8394.5},{"$f":"'Market Data'!F227","v":8451.5},null,223,"Hidden","Long"]
[null,{"$f":"'Market Data'!B228","v":20001114},{"$f":"'Market Data'!C228","v":8488.5},{"$f":"'Market Data'!D228","v":8661.5},{"$f":"'Market Data'!E228","v":8485.5},{"$f":"'Market Data'!F228","v":8659.5},null,224,"Hidden","Long"]
[null,{"$f":"'Market Data'!B229","v":20001115},{"$f":"'Market Data'!C229","v":8635.5},{"$f":"'Market Data'!D229","v":8663.5},{"$f":"'Market Data'!E229","v":8583},{"$f":"'Market Data'!F229","v":8646.5},null,225,"Hidden","Long"]
[null,{"$f":"'Market Data'!B230","v":20001116},{"$f":"'Market Data'!C230","v":8619.5},{"$f":"'Market Data'!D230","v":8621},{"$f":"'Market Data'!E230","v":8505},{"$f":"'Market Data'!F230","v":8512.5},null,226,"Hidden","Long"]
[null,{"$f":"'Market Data'!B231","v":20001117},{"$f":"'Market Data'!C231","v":8484.5},{"$f":"'Market Data'!D231","v":8542.5},{"$f":"'Market Data'!E231","v":8414.5},{"$f":"'Market Data'!F231","v":8434.5},null,227,"Hidden","Long"]
[null,{"$f":"'Market Data'!B232","v":20001120},{"$f":"'Market Data'!C232","v":8454.5},{"$f":"'Market Data'!D232","v":8498.5},{"$f":"'Market Data'!E232","v":8289.5},{"$f":"'Market Data'!F232","v":8296},null,228,"Hidden","Long"]
[null,{"$f":"'Market Data'!B233","v":20001121},{"$f":"'Market Data'!C233","v":8312.5},{"$f":"'Market Data'!D233","v":8379.5},{"$f":"'Market Data'!E233","v":8287.5},{"$f":"'Market Data'!F233","v":8364.5},null,229,"Hidden","Long"]
[null,{"$f":"'Market Data'!B234","v":20001122},{"$f":"'Market Data'!C234","v":8320.5},{"$f":"'Market Data'!D234","v":8329},{"$f":"'Market Data'!E234","v":8170},{"$f":"'Market Data'!F234","v":8205.5},null,230,"Hidden","Long"]
[null,{"$f":"'Market Data'!B235","v":20001123},{"$f":"'Market Data'!C235","v":8209.5},{"$f":"'Market Data'!D235","v":8316.5},{"$f":"'Market Data'!E235","v":8156.5},{"$f":"'Market Data'!F235","v":8296.5},null,231,"Hidden","Long"]
[null,{"$f":"'Market Data'!B236","v":20001124},{"$f":"'Market Data'!C236","v":8323.5},{"$f":"'Market Data'!D236","v":8404.5},{"$f":"'Market Data'!E236","v":8262.5},{"$f":"'Market Data'!F236","v":8354.5},null,232,"Hidden","Long"]
[null,{"$f":"'Market Data'!B237","v":20001127},{"$f":"'Market Data'!C237","v":8410.5},{"$f":"'Market Data'!D237","v":8496.5},{"$f":"'Market Data'!E237","v":8369.5},{"$f":"'Market Data'!F237","v":8382.5},null,233,"Hidden","Long"]
[null,{"$f":"'Market Data'!B238","v":20001128},{"$f":"'Market Data'!C238","v":8371.5},{"$f":"'Market Data'!D238","v":8412},{"$f":"'Market Data'!E238","v":8297},{"$f":"'Market Data'!F238","v":8319.5},null,234,"Hidden","Long"]
[null,{"$f":"'Market Data'!B239","v":20001129},{"$f":"'Market Data'!C239","v":8273.5},{"$f":"'Market Data'!D239","v":8348},{"$f":"'Market Data'!E239","v":8221.5},{"$f":"'Market Data'!F239","v":8288.5},null,235,"Hidden","Long"]
[null,{"$f":"'Market Data'!B240","v":20001130},{"$f":"'Market Data'!C240","v":8234.5},{"$f":"'Market Data'!D240","v":8254.5},{"$f":"'Market Data'!E240","v":8050},{"$f":"'Market Data'!F240","v":8074.5},null,236,"Hidden","Long"]
[null,{"$f":"'Market Data'!B241","v":20001201},{"$f":"'Market Data'!C241","v":8159.5},{"$f":"'Market Data'!D241","v":8230.5},{"$f":"'Market Data'!E241","v":8140},{"$f":"'Market Data'!F241","v":8194.5},null,237,"Hidden","Long"]
[null,{"$f":"'Market Data'!B242","v":20001204},{"$f":"'Market Data'!C242","v":8184.5},{"$f":"'Market Data'!D242","v":8191.5},{"$f":"'Market Data'!E242","v":8028.5},{"$f":"'Market Data'!F242","v":8114},null,238,"Hidden","Long"]
[null,{"$f":"'Market Data'!B243","v":20001205},{"$f":"'Market Data'!C243","v":8156.5},{"$f":"'Market Data'!D243","v":8319},{"$f":"'Market Data'!E243","v":8148.5},{"$f":"'Market Data'!F243","v":8307.5},null,239,"Hidden","Long"]
[null,{"$f":"'Market Data'!B244","v":20001206},{"$f":"'Market Data'!C244","v":8374.5},{"$f":"'Market Data'!D244","v":8397},{"$f":"'Market Data'!E244","v":8286.5},{"$f":"'Market Data'!F244","v":8292.5},null,240,"Hidden","Long"]
[null,{"$f":"'Market Data'!B245","v":20001207},{"$f":"'Market Data'!C245","v":8255.5},{"$f":"'Market Data'!D245","v":8334},{"$f":"'Market Data'!E245","v":8178.5},{"$f":"'Market Data'!F245","v":8249.5},null,241,"Hidden","Long"]
[null,{"$f":"'Market Data'!B246","v":20001208},{"$f":"'Market Data'!C246","v":8279.5},{"$f":"'Market Data'!D246","v":8428.5},{"$f":"'Market Data'!E246","v":8279.5},{"$f":"'Market Data'!F246","v":8356.5},null,242,"Hidden","Long"]
[null,{"$f":"'Market Data'!B247","v":20001211},{"$f":"'Market Data'!C247","v":8423.5},{"$f":"'Market Data'!D247","v":8485},{"$f":"'Market Data'!E247","v":8406},{"$f":"'Market Data'!F247","v":8464.5},null,243,"Hidden","Long"]
[null,{"$f":"'Market Data'!B248","v":20001212},{"$f":"'Market Data'!C248","v":8463.5},{"$f":"'Market Data'!D248","v":8491},{"$f":"'Market Data'!E248","v":8407.5},{"$f":"'Market Data'!F248","v":8413.5},null,244,"Hidden","Long"]
[null,{"$f":"'Market Data'!B249","v":20001213},{"$f":"'Market Data'!C249","v":8464.5},{"$f":"'Market Data'!D249","v":8480.5},{"$f":"'Market Data'!E249","v":8259.5},{"$f":"'Market Data'!F249","v":8286.5},null,245,"Hidden","Long"]
[null,{"$f":"'Market Data'!B250","v":20001214},{"$f":"'Market Data'!C250","v":8239.5},{"$f":"'Market Data'!D250","v":8254.5},{"$f":"'Market Data'!E250","v":8122},{"$f":"'Market Data'!F250","v":8149.5},null,246,"Hidden","Long"]
[null,{"$f":"'Market Data'!B251","v":20001215},{"$f":"'Market Data'!C251","v":8069.5},{"$f":"'Market Data'!D251","v":8110.5},{"$f":"'Market Data'!E251","v":8015.5},{"$f":"'Market Data'!F251","v":8023},null,247,"Hidden","Long"]
[null,{"$f":"'Market Data'!B252","v":20001218},{"$f":"'Market Data'!C252","v":8061.5},{"$f":"'Market Data'!D252","v":8144},{"$f":"'Market Data'!E252","v":8023},{"$f":"'Market Data'!F252","v":8033},null,248,"Hidden","Long"]
[null,{"$f":"'Market Data'!B253","v":20001219},{"$f":"'Market Data'!C253","v":8051},{"$f":"'Market Data'!D253","v":8179.5},{"$f":"'Market Data'!E253","v":7973.5},{"$f":"'Market Data'!F253","v":8168.5},null,249,"Hidden","Long"]
[null,{"$f":"'Market Data'!B254","v":20001220},{"$f":"'Market Data'!C254","v":8043.5},{"$f":"'Market Data'!D254","v":8098.5},{"$f":"'Market Data'!E254","v":7885.5},{"$f":"'Market Data'!F254","v":7918.5},null,250,"Hidden","Long"]
[null,{"$f":"'Market Data'!B255","v":20001221},{"$f":"'Market Data'!C255","v":7888.5},{"$f":"'Market Data'!D255","v":7960.5},{"$f":"'Market Data'!E255","v":7769},{"$f":"'Market Data'!F255","v":7876.5},null,251,"Hidden","Long"]
[null,{"$f":"'Market Data'!B256","v":20001222},{"$f":"'Market Data'!C256","v":7917.5},{"$f":"'Market Data'!D256","v":7947.5},{"$f":"'Market Data'!E256","v":7860.5},{"$f":"'Market Data'!F256","v":7932.5},null,252,"Hidden","Long"]
[null,{"$f":"'Market Data'!B257","v":20001227},{"$f":"'Market Data'!C257","v":7961.5},{"$f":"'Market Data'!D257","v":8023.5},{"$f":"'Market Data'!E257","v":7930.5},{"$f":"'Market Data'!F257","v":8003.5},null,253,"Hidden","Long"]
[null,{"$f":"'Market Data'!B258","v":20001228},{"$f":"'Market Data'!C258","v":8038.5},{"$f":"'Market Data'!D258","v":8058},{"$f":"'Market Data'!E258","v":7985},{"$f":"'Market Data'!F258","v":7993.5},null,254,"Hidden","Long"]
["Historical",{"$f":"'Market Data'!B259","v":20001229},{"$f":"'Market Data'!C259","v":8058.5},{"$f":"'Market Data'!D259","v":8133.5},{"$f":"'Market Data'!E259","v":8025},{"$f":"'Market Data'!F259","v":8098.5},null,255,"Hidden","Long",null,{"$f":"IF($J272=\"Short\",-1,IF($J272=\"Long\",1,0))","v":1},{"$f":"$L272-P272","v":1},{"$f":"IF(NOT($M272=0),\"Fill\",\"\")","v":"Fill"},null,0]
["Data",{"$f":"'Market Data'!B260","v":20010102},{"$f":"'Market Data'!C260","v":8068.5},{"$f":"'Market Data'!D260","v":8098.5},{"$f":"'Market Data'!E260","v":7929.5},{"$f":"'Market Data'!F260","v":7938.5},null,256,"Hidden","Long",null,{"$f":"IF($J273=\"Short\",-1,IF($J273=\"Long\",1,0))","v":1},0,{"$f":"IF(NOT($M273=0),\"Fill\",\"\")","v":""},null,{"$f":"IF($N272=\"Fill\",$L272,$P272)","v":1},{"$f":"IF($P272&$L272=\"00\",\"Stay Flat\",IF($P272&$L272=\"01\",\"Go Long\",IF($P272&$L272=\"0-1\",\"Go Short\",IF($P272&$L272=\"-10\",\"Exit Short\",IF($P272&$L272=\"-1-1\",\"Stay Short\",IF($P272&$L272=\"-11\",\"Exit Short, Go Long\",IF($P272&$L272=\"10\",\"Exit Long\",IF($P272&$L272=\"1-1\",\"Exit Long, Go Short\",IF($P272&$L272=\"11\",\"Stay Long\",\"\")))))))))","v":"Go Long"},{"$f":"IF(OR($P272&$L272=\"01\",$P272&$L272=\"0-1\"),(($F273-$C273)*$R$3*$L272)-(ABS($M272)*$R$4),IF(OR($P272&$L272=\"10\",$P272&$L272=\"-10\"),(($C273-$F272)*$R$3*$P272)-(ABS($M272)*$R$4),IF(OR($P272&$L272=\"1-1\",$P272&$L272=\"-11\"),(($C273-$F272)*$R$3*$P272)-(ABS($M272)*$R$4)+(($F273-$C273)*$R$3*$P273),IF(OR($P272&$L272=\"11\",$P272&$L272=\"-1-1\"),(($F273-$F272)*$R$3*$P273),0))))","v":-4640.96},{"$f":"S272+R273","v":-4640.96}]
[null,{"$f":"'Market Data'!B261","v":20010103},{"$f":"'Market Data'!C261","v":7898.5},{"$f":"'Market Data'!D261","v":8122.5},{"$f":"'Market Data'!E261","v":7825},{"$f":"'Market Data'!F261","v":8087.5},null,{"$f":"ROW()-ROW(H$17)","v":257},"Hidden",{"$f":"$I$4","v":"Long"},null,{"$f":"IF($J274=\"Short\",-1,IF($J274=\"Long\",1,0))","v":1},0,{"$f":"IF(NOT($M274=0),\"Fill\",\"\")","v":""},null,{"$f":"IF($N273=\"Fill\",$L273,$P273)","v":1},{"$f":"IF($P273&$L273=\"00\",\"Stay Flat\",IF($P273&$L273=\"01\",\"Go Long\",IF($P273&$L273=\"0-1\",\"Go Short\",IF($P273&$L273=\"-10\",\"Exit Short\",IF($P273&$L273=\"-1-1\",\"Stay Short\",IF($P273&$L273=\"-11\",\"Exit Short, Go Long\",IF($P273&$L273=\"10\",\"Exit Long\",IF($P273&$L273=\"1-1\",\"Exit Long, Go Short\",IF($P273&$L273=\"11\",\"Stay Long\",\"\")))))))))","v":"Stay Long"},5215,{"$f":"S273+R274","v":574.04}]
[null,{"$f":"'Market Data'!B262","v":20010104},{"$f":"'Market Data'!C262","v":8168.5},{"$f":"'Market Data'!D262","v":8173},{"$f":"'Market Data'!E262","v":8016.5},{"$f":"'Market Data'!F262","v":8033.5},null,258,"Hidden","Long",null,{"$f":"IF($J275=\"Short\",-1,IF($J275=\"Long\",1,0))","v":1},0,"",null,1,"Stay Long",-1890,{"$f":"S274+R275","v":-1315.96}]
[null,{"$f":"'Market Data'!B263","v":20010105},{"$f":"'Market Data'!C263","v":8068.5},{"$f":"'Market Data'!D263","v":8132.5},{"$f":"'Market Data'!E263","v":7995},{"$f":"'Market Data'!F263","v":8024},null,259,"Hidden","Long",null,1,0,"",null,1,"Stay Long",-332.5,-1648.46]
[null,{"$f":"'Market Data'!B264","v":20010108},{"$f":"'Market Data'!C264","v":8012.5},{"$f":"'Market Data'!D264","v":8082.5},{"$f":"'Market Data'!E264","v":8003.5},{"$f":"'Market Data'!F264","v":8024},null,260,"Hidden","Long",null,1,0,"",null,1,"Stay Long",0,-1648.46]
[null,{"$f":"'Market Data'!B265","v":20010109},{"$f":"'Market Data'!C265","v":8100.5},{"$f":"'Market Data'!D265","v":8114.5},{"$f":"'Market Data'!E265","v":8005},{"$f":"'Market Data'!F265","v":8028.5},null,261,"Hidden","Long",null,1,0,"",null,1,"Stay Long",157.5,-1490.96]
[null,{"$f":"'Market Data'!B266","v":20010110},{"$f":"'Market Data'!C266","v":8058.5},{"$f":"'Market Data'!D266","v":8063.5},{"$f":"'Market Data'!E266","v":7937},{"$f":"'Market Data'!F266","v":7997},null,262,"Hidden","Long",null,1,0,"",null,1,"Stay Long",-1102.5,-2593.46]
[null,{"$f":"'Market Data'!B267","v":20010111},{"$f":"'Market Data'!C267","v":7997},{"$f":"'Market Data'!D267","v":8132},{"$f":"'Market Data'!E267","v":7984},{"$f":"'Market Data'!F267","v":8126},null,263,"Hidden","Long",null,1,0,"",null,1,"Stay Long",4515,1921.54]
[null,{"$f":"'Market Data'!B268","v":20010112},{"$f":"'Market Data'!C268","v":8128.5},{"$f":"'Market Data'!D268","v":8197.5},{"$f":"'Market Data'!E268","v":8116},{"$f":"'Market Data'!F268","v":8142.5},null,264,"Hidden","Long",null,1,0,"",null,1,"Stay Long",577.5,2499.04]
[null,{"$f":"'Market Data'!B269","v":20010115},{"$f":"'Market Data'!C269","v":8166},{"$f":"'Market Data'!D269","v":8202},{"$f":"'Market Data'!E269","v":8136},{"$f":"'Market Data'!F269","v":8175.5},null,265,"Hidden","Long",null,1,0,"",null,1,"Stay Long",1155,3654.04]
[null,{"$f":"'Market Data'!B270","v":20010116},{"$f":"'Market Data'!C270","v":8178.5},{"$f":"'Market Data'!D270","v":8182},{"$f":"'Market Data'!E270","v":8094.5},{"$f":"'Market Data'!F270","v":8159.5},null,266,"Hidden","Long",null,1,0,"",null,1,"Stay Long",-560,3094.04]
[null,{"$f":"'Market Data'!B271","v":20010117},{"$f":"'Market Data'!C271","v":8199.5},{"$f":"'Market Data'!D271","v":8315},{"$f":"'Market Data'!E271","v":8199.5},{"$f":"'Market Data'!F271","v":8285.5},null,267,"Hidden","Long",null,1,0,"",null,1,"Stay Long",4410,7504.04]
[null,{"$f":"'Market Data'!B272","v":20010118},{"$f":"'Market Data'!C272","v":8263.5},{"$f":"'Market Data'!D272","v":8300},{"$f":"'Market Data'!E272","v":8233.5},{"$f":"'Market Data'!F272","v":8289},null,268,"Hidden","Long",null,1,0,"",null,1,"Stay Long",122.5,7626.54]
[null,{"$f":"'Market Data'!B273","v":20010119},{"$f":"'Market Data'!C273","v":8348.5},{"$f":"'Market Data'!D273","v":8378},{"$f":"'Market Data'!E273","v":8274.5},{"$f":"'Market Data'!F273","v":8303},null,269,"Hidden","Long",null,1,0,"",null,1,"Stay Long",490,8116.54]
[null,{"$f":"'Market Data'!B274","v":20010122},{"$f":"'Market Data'!C274","v":8308.5},{"$f":"'Market Data'!D274","v":8332.5},{"$f":"'Market Data'!E274","v":8237.5},{"$f":"'Market Data'!F274","v":8298},null,270,"Hidden","Long",null,1,0,"",null,1,"Stay Long",-175,7941.54]
[null,{"$f":"'Market Data'!B275","v":20010123},{"$f":"'Market Data'!C275","v":8300.5},{"$f":"'Market Data'!D275","v":8348.5},{"$f":"'Market Data'!E275","v":8244.5},{"$f":"'Market Data'!F275","v":8343.5},null,271,"Hidden","Long",null,1,0,"",null,1,"Stay Long",1592.5,9534.0400000000009]
[null,{"$f":"'Market Data'!B276","v":20010124},{"$f":"'Market Data'!C276","v":8366},{"$f":"'Market Data'!D276","v":8392},{"$f":"'Market Data'!E276","v":8325.5},{"$f":"'Market Data'!F276","v":8336},null,272,"Hidden","Long",null,1,0,"",null,1,"Stay Long",-262.5,9271.5400000000009]
[null,{"$f":"'Market Data'!B277","v":20010125},{"$f":"'Market Data'!C277","v":8337.5},{"$f":"'Market Data'!D277","v":8415.5},{"$f":"'Market Data'!E277","v":8314.5},{"$f":"'Market Data'!F277","v":8380.5},null,273,"Hidden","Long",null,1,0,"",null,1,"Stay Long",1557.5,10829.04]
[null,{"$f":"'Market Data'!B278","v":20010126},{"$f":"'Market Data'!C278","v":8315},{"$f":"'Market Data'!D278","v":8338.5},{"$f":"'Market Data'!E278","v":8290},{"$f":"'Market Data'!F278","v":8331.5},null,274,"Hidden","Long",null,1,0,"",null,1,"Stay Long",-1715,9114.0400000000009]
[null,{"$f":"'Market Data'!B279","v":20010129},{"$f":"'Market Data'!C279","v":8331.5},{"$f":"'Market Data'!D279","v":8388.5},{"$f":"'Market Data'!E279","v":8297},{"$f":"'Market Data'!F279","v":8381.5},null,275,"Hidden","Long",null,1,0,"",null,1,"Stay Long",1750,10864.04]
[null,{"$f":"'Market Data'!B280","v":20010130},{"$f":"'Market Data'!C280","v":8382.5},{"$f":"'Market Data'!D280","v":8426.5},{"$f":"'Market Data'!E280","v":8341.5},{"$f":"'Market Data'!F280","v":8364.5},null,276,"Hidden","Long",null,1,0,"",null,1,"Stay Long",-595,10269.040000000001]
[null,{"$f":"'Market Data'!B281","v":20010131},{"$f":"'Market Data'!C281","v":8379.5},{"$f":"'Market Data'!D281","v":8423},{"$f":"'Market Data'!E281","v":8354.5},{"$f":"'Market Data'!F281","v":8401},null,277,"Hidden","Long",null,1,0,"",null,1,"Stay Long",1277.5,11546.54]
[null,{"$f":"'Market Data'!B282","v":20010201},{"$f":"'Market Data'!C282","v":8377.5},{"$f":"'Market Data'!D282","v":8397},{"$f":"'Market Data'!E282","v":8336.5},{"$f":"'Market Data'!F282","v":8353.5},null,278,"Hidden","Long",null,1,0,"",null,1,"Stay Long",-1662.5,9884.0400000000009]
[null,{"$f":"'Market Data'!B283","v":20010202},{"$f":"'Market Data'!C283","v":8383.5},{"$f":"'Market Data'!D283","v":8386.5},{"$f":"'Market Data'!E283","v":8259},{"$f":"'Market Data'!F283","v":8268},null,279,"Hidden","Long",null,1,0,"",null,1,"Stay Long",-2992.5,6891.5400000000009]
[null,{"$f":"'Market Data'!B284","v":20010205},{"$f":"'Market Data'!C284","v":8235.5},{"$f":"'Market Data'!D284","v":8268.5},{"$f":"'Market Data'!E284","v":8229},{"$f":"'Market Data'!F284","v":8263.5},null,280,"Hidden","Long",null,1,0,"",null,1,"Stay Long",-157.5,6734.0400000000009]
[null,{"$f":"'Market Data'!B285","v":20010206},{"$f":"'Market Data'!C285","v":8270.5},{"$f":"'Market Data'!D285","v":8322.5},{"$f":"'Market Data'!E285","v":8250.5},{"$f":"'Market Data'!F285","v":8306.5},null,281,"Hidden","Long",null,1,0,"",null,1,"Stay Long",1505,8239.0400000000009]
[null,{"$f":"'Market Data'!B286","v":20010207},{"$f":"'Market Data'!C286","v":8270.5},{"$f":"'Market Data'!D286","v":8278},{"$f":"'Market Data'!E286","v":8217.5},{"$f":"'Market Data'!F286","v":8218.5},null,282,"Hidden","Long",null,1,0,"",null,1,"Stay Long",-3080,5159.0400000000009]
[null,{"$f":"'Market Data'!B287","v":20010208},{"$f":"'Market Data'!C287","v":8232.5},{"$f":"'Market Data'!D287","v":8292},{"$f":"'Market Data'!E287","v":8211},{"$f":"'Market Data'!F287","v":8256.5},null,283,"Hidden","Long",null,1,0,"",null,1,"Stay Long",1330,6489.0400000000009]
[null,{"$f":"'Market Data'!B288","v":20010209},{"$f":"'Market Data'!C288","v":8229.5},{"$f":"'Market Data'!D288","v":8238.5},{"$f":"'Market Data'!E288","v":8124.5},{"$f":"'Market Data'!F288","v":8127},null,284,"Hidden","Long",null,1,0,"",null,1,"Stay Long",-4532.5,1956.5400000000009]
[null,{"$f":"'Market Data'!B289","v":20010212},{"$f":"'Market Data'!C289","v":8140.5},{"$f":"'Market Data'!D289","v":8197.5},{"$f":"'Market Data'!E289","v":8129},{"$f":"'Market Data'!F289","v":8190},null,285,"Hidden","Long",null,1,0,"",null,1,"Stay Long",2205,4161.5400000000009]
[null,{"$f":"'Market Data'!B290","v":20010213},{"$f":"'Market Data'!C290","v":8206.5},{"$f":"'Market Data'!D290","v":8228.5},{"$f":"'Market Data'!E290","v":8167},{"$f":"'Market Data'!F290","v":8192},null,286,"Hidden","Long",null,1,0,"",null,1,"Stay Long",70,4231.5400000000009]
[null,{"$f":"'Market Data'!B291","v":20010214},{"$f":"'Market Data'!C291","v":8153.5},{"$f":"'Market Data'!D291","v":8165.5},{"$f":"'Market Data'!E291","v":8076},{"$f":"'Market Data'!F291","v":8112.5},null,287,"Hidden","Long",null,1,0,"",null,1,"Stay Long",-2782.5,1449.0400000000009]
[null,{"$f":"'Market Data'!B292","v":20010215},{"$f":"'Market Data'!C292","v":8130.5},{"$f":"'Market Data'!D292","v":8200.5},{"$f":"'Market Data'!E292","v":8104.5},{"$f":"'Market Data'!F292","v":8188.5},null,288,"Hidden","Long",null,1,0,"",null,1,"Stay Long",2660,4109.0400000000009]
[null,{"$f":"'Market Data'!B293","v":20010216},{"$f":"'Market Data'!C293","v":8138.5},{"$f":"'Market Data'!D293","v":8151},{"$f":"'Market Data'!E293","v":8073.5},{"$f":"'Market Data'!F293","v":8073.5},null,289,"Hidden","Long",null,1,0,"",null,1,"Stay Long",-4025,84.040000000000873]
[null,{"$f":"'Market Data'!B294","v":20010219},{"$f":"'Market Data'!C294","v":8098.5},{"$f":"'Market Data'!D294","v":8111},{"$f":"'Market Data'!E294","v":8068.5},{"$f":"'Market Data'!F294","v":8089.5},null,290,"Hidden","Long",null,1,0,"",null,1,"Stay Long",560,644.04000000000087]
[null,{"$f":"'Market Data'!B295","v":20010220},{"$f":"'Market Data'!C295","v":8099.5},{"$f":"'Market Data'!D295","v":8149},{"$f":"'Market Data'!E295","v":8042},{"$f":"'Market Data'!F295","v":8063.5},null,291,"Hidden","Long",null,1,0,"",null,1,"Stay Long",-910,-265.95999999999913]
[null,{"$f":"'Market Data'!B296","v":20010221},{"$f":"'Market Data'!C296","v":8028.5},{"$f":"'Market Data'!D296","v":8034.5},{"$f":"'Market Data'!E296","v":7929},{"$f":"'Market Data'!F296","v":7966.5},null,292,"Hidden","Long",null,1,0,"",null,1,"Stay Long",-3395,-3660.9599999999991]
[null,{"$f":"'Market Data'!B297","v":20010222},{"$f":"'Market Data'!C297","v":7929.5},{"$f":"'Market Data'!D297","v":7977},{"$f":"'Market Data'!E297","v":7836},{"$f":"'Market Data'!F297","v":7881.5},null,293,"Hidden","Long",null,1,0,"",null,1,"Stay Long",-2975,-6635.9599999999991]
[null,{"$f":"'Market Data'!B298","v":20010223},{"$f":"'Market Data'!C298","v":7916.5},{"$f":"'Market Data'!D298","v":7933.5},{"$f":"'Market Data'!E298","v":7675.5},{"$f":"'Market Data'!F298","v":7680.5},null,294,"Hidden","Long",null,1,0,"",null,1,"Stay Long",-7035,-13670.96]
[null,{"$f":"'Market Data'!B299","v":20010226},{"$f":"'Market Data'!C299","v":7772.5},{"$f":"'Market Data'!D299","v":7826.5},{"$f":"'Market Data'!E299","v":7742},{"$f":"'Market Data'!F299","v":7793.5},null,295,"Hidden","Long",null,1,0,"",null,1,"Stay Long",3955,-9715.9599999999991]
[null,{"$f":"'Market Data'!B300","v":20010227},{"$f":"'Market Data'!C300","v":7806},{"$f":"'Market Data'!D300","v":7872.5},{"$f":"'Market Data'!E300","v":7771.5},{"$f":"'Market Data'!F300","v":7807.5},null,296,"Hidden","Long",null,1,0,"",null,1,"Stay Long",490,-9225.9599999999991]
[null,{"$f":"'Market Data'!B301","v":20010228},{"$f":"'Market Data'!C301","v":7793.5},{"$f":"'Market Data'!D301","v":7900},{"$f":"'Market Data'!E301","v":7780},{"$f":"'Market Data'!F301","v":7813},null,297,"Hidden","Long",null,1,0,"",null,1,"Stay Long",192.5,-9033.4599999999991]
[null,{"$f":"'Market Data'!B302","v":20010301},{"$f":"'Market Data'!C302","v":7773.5},{"$f":"'Market Data'!D302","v":7786.5},{"$f":"'Market Data'!E302","v":7703.5},{"$f":"'Market Data'!F302","v":7710},null,298,"Hidden","Long",null,1,0,"",null,1,"Stay Long",-3605,-12638.46]
[null,{"$f":"'Market Data'!B303","v":20010302},{"$f":"'Market Data'!C303","v":7718.5},{"$f":"'Market Data'!D303","v":7793.5},{"$f":"'Market Data'!E303","v":7657},{"$f":"'Market Data'!F303","v":7787.5},null,299,"Hidden","Long",null,1,0,"",null,1,"Stay Long",2712.5,-9925.9599999999991]
[null,{"$f":"'Market Data'!B304","v":20010305},{"$f":"'Market Data'!C304","v":7787.5},{"$f":"'Market Data'!D304","v":7822},{"$f":"'Market Data'!E304","v":7739},{"$f":"'Market Data'!F304","v":7796},null,300,"Hidden","Long",null,1,0,"",null,1,"Stay Long",297.5,-9628.4599999999991]
[null,{"$f":"'Market Data'!B305","v":20010306},{"$f":"'Market Data'!C305","v":7838.5},{"$f":"'Market Data'!D305","v":7915.5},{"$f":"'Market Data'!E305","v":7835.5},{"$f":"'Market Data'!F305","v":7905.5},null,301,"Hidden","Long",null,1,0,"",null,1,"Stay Long",3832.5,-5795.9599999999991]
[null,{"$f":"'Market Data'!B306","v":20010307},{"$f":"'Market Data'!C306","v":7867.5},{"$f":"'Market Data'!D306","v":7948.5},{"$f":"'Market Data'!E306","v":7859},{"$f":"'Market Data'!F306","v":7923},null,302,"Hidden","Long",null,1,0,"",null,1,"Stay Long",612.5,-5183.4599999999991]
[null,{"$f":"'Market Data'!B307","v":20010308},{"$f":"'Market Data'!C307","v":7933.5},{"$f":"'Market Data'!D307","v":7943.5},{"$f":"'Market Data'!E307","v":7850.5},{"$f":"'Market Data'!F307","v":7864.5},null,303,"Hidden","Long",null,1,0,"",null,1,"Stay Long",-2047.5,-7230.9599999999991]
[null,{"$f":"'Market Data'!B308","v":20010309},{"$f":"'Market Data'!C308","v":7833.5},{"$f":"'Market Data'!D308","v":7867.5},{"$f":"'Market Data'!E308","v":7793.5},{"$f":"'Market Data'!F308","v":7816.5},null,304,"Hidden","Long",null,1,0,"",null,1,"Stay Long",-1680,-8910.9599999999991]
[null,{"$f":"'Market Data'!B309","v":20010312},{"$f":"'Market Data'!C309","v":7753.5},{"$f":"'Market Data'!D309","v":7758.5},{"$f":"'Market Data'!E309","v":7643},{"$f":"'Market Data'!F309","v":7645},null,305,"Hidden","Long",null,1,0,"",null,1,"Stay Long",-6002.5,-14913.46]
[null,{"$f":"'Market Data'!B310","v":20010313},{"$f":"'Market Data'!C310","v":7565.5},{"$f":"'Market Data'!D310","v":7616.5},{"$f":"'Market Data'!E310","v":7531},{"$f":"'Market Data'!F310","v":7566},null,306,"Hidden","Long",null,1,0,"",null,1,"Stay Long",-2765,-17678.46]
[null,{"$f":"'Market Data'!B311","v":20010314},{"$f":"'Market Data'!C311","v":7603.5},{"$f":"'Market Data'!D311","v":7603.5},{"$f":"'Market Data'!E311","v":7254.5},{"$f":"'Market Data'!F311","v":7385.5},null,307,"Hidden","Long",null,1,0,"",null,1,"Stay Long",-6317.5,-23995.96]
[null,{"$f":"'Market Data'!B312","v":20010315},{"$f":"'Market Data'!C312","v":7441},{"$f":"'Market Data'!D312","v":7476.5},{"$f":"'Market Data'!E312","v":7357.5},{"$f":"'Market Data'!F312","v":7447},null,308,"Hidden","Long",null,1,0,"",null,1,"Stay Long",2152.5,-21843.46]
[null,{"$f":"'Market Data'!B313","v":20010316},{"$f":"'Market Data'!C313","v":7456},{"$f":"'Market Data'!D313","v":7464.5},{"$f":"'Market Data'!E313","v":7320.5},{"$f":"'Market Data'!F313","v":7334.5},null,309,"Hidden","Long",null,1,0,"",null,1,"Stay Long",-3937.5,-25780.959999999999]
[null,{"$f":"'Market Data'!B314","v":20010319},{"$f":"'Market Data'!C314","v":7365},{"$f":"'Market Data'!D314","v":7406.5},{"$f":"'Market Data'!E314","v":7238.5},{"$f":"'Market Data'!F314","v":7261.5},null,310,"Hidden","Long",null,1,0,"",null,1,"Stay Long",-2555,-28335.96]
[null,{"$f":"'Market Data'!B315","v":20010320},{"$f":"'Market Data'!C315","v":7320},{"$f":"'Market Data'!D315","v":7379.5},{"$f":"'Market Data'!E315","v":7300.5},{"$f":"'Market Data'!F315","v":7371.5},null,311,"Hidden","Long",null,1,0,"",null,1,"Stay Long",3850,-24485.96]
[null,{"$f":"'Market Data'!B316","v":20010321},{"$f":"'Market Data'!C316","v":7269.5},{"$f":"'Market Data'!D316","v":7322.5},{"$f":"'Market Data'!E316","v":7188.5},{"$f":"'Market Data'!F316","v":7214.5},null,312,"Hidden","Long",null,1,0,"",null,1,"Stay Long",-5495,-29980.959999999999]
[null,{"$f":"'Market Data'!B317","v":20010322},{"$f":"'Market Data'!C317","v":7187.5},{"$f":"'Market Data'!D317","v":7201.5},{"$f":"'Market Data'!E317","v":6939},{"$f":"'Market Data'!F317","v":6969.5},null,313,"Hidden","Long",null,1,0,"",null,1,"Stay Long",-8575,-38555.96]
[null,{"$f":"'Market Data'!B318","v":20010323},{"$f":"'Market Data'!C318","v":7089.5},{"$f":"'Market Data'!D318","v":7161.5},{"$f":"'Market Data'!E318","v":7052.5},{"$f":"'Market Data'!F318","v":7138.5},null,314,"Hidden","Long",null,1,0,"",null,1,"Stay Long",5915,-32640.959999999999]
[null,{"$f":"'Market Data'!B319","v":20010326},{"$f":"'Market Data'!C319","v":7207.5},{"$f":"'Market Data'!D319","v":7343.5},{"$f":"'Market Data'!E319","v":7185},{"$f":"'Market Data'!F319","v":7338},null,315,"Hidden","Long",null,1,0,"",null,1,"Stay Long",6982.5,-25658.46]
[null,{"$f":"'Market Data'!B320","v":20010327},{"$f":"'Market Data'!C320","v":7294.5},{"$f":"'Market Data'!D320","v":7505},{"$f":"'Market Data'!E320","v":7275},{"$f":"'Market Data'!F320","v":7495.5},null,316,"Hidden","Long",null,1,0,"",null,1,"Stay Long",5512.5,-20145.96]
[null,{"$f":"'Market Data'!B321","v":20010328},{"$f":"'Market Data'!C321","v":7454.5},{"$f":"'Market Data'!D321","v":7466.5},{"$f":"'Market Data'!E321","v":7361.5},{"$f":"'Market Data'!F321","v":7381.5},null,317,"Hidden","Long",null,1,0,"",null,1,"Stay Long",-3990,-24135.96]
[null,{"$f":"'Market Data'!B322","v":20010329},{"$f":"'Market Data'!C322","v":7342.5},{"$f":"'Market Data'!D322","v":7463.5},{"$f":"'Market Data'!E322","v":7293},{"$f":"'Market Data'!F322","v":7454.5},null,318,"Hidden","Long",null,1,0,"",null,1,"Stay Long",2555,-21580.959999999999]
[null,{"$f":"'Market Data'!B323","v":20010330},{"$f":"'Market Data'!C323","v":7424.5},{"$f":"'Market Data'!D323","v":7524.5},{"$f":"'Market Data'!E323","v":7379.5},{"$f":"'Market Data'!F323","v":7390},null,319,"Hidden","Long",null,1,{"$f":"$L336-P336","v":0},"",null,1,"Stay Long",-2257.5,-23838.46]
[null,{"$f":"'Market Data'!B324","v":20010402},{"$f":"'Market Data'!C324","v":7488.5},{"$f":"'Market Data'!D324","v":7489.5},{"$f":"'Market Data'!E324","v":7276.5},{"$f":"'Market Data'!F324","v":7293.5},null,320,"Hidden","Long",null,1,0,"",null,{"$f":"IF($N336=\"Fill\",$L336,$P336)","v":1},"Stay Long",{"$f":"IF(OR($P336&$L336=\"01\",$P336&$L336=\"0-1\"),(($F337-$C337)*$R$3*$L336)-(ABS($M336)*$R$4),IF(OR($P336&$L336=\"10\",$P336&$L336=\"-10\"),(($C337-$F336)*$R$3*$P336)-(ABS($M336)*$R$4),IF(OR($P336&$L336=\"1-1\",$P336&$L336=\"-11\"),(($C337-$F336)*$R$3*$P336)-(ABS($M336)*$R$4)+(($F337-$C337)*$R$3*$P337),IF(OR($P336&$L336=\"11\",$P336&$L336=\"-1-1\"),(($F337-$F336)*$R$3*$P337),0))))","v":-3377.5},-27215.96]
[null,{"$f":"'Market Data'!B325","v":20010403},{"$f":"'Market Data'!C325","v":7273.5},{"$f":"'Market Data'!D325","v":7284},{"$f":"'Market Data'!E325","v":7091},{"$f":"'Market Data'!F325","v":7115},null,{"$f":"ROW()-ROW(H$17)","v":321},"Hidden",{"$f":"$I$4","v":"Long"},null,1,0,{"$f":"IF(NOT($M338=0),\"Fill\",\"\")","v":""},null,1,{"$f":"IF($P337&$L337=\"00\",\"Stay Flat\",IF($P337&$L337=\"01\",\"Go Long\",IF($P337&$L337=\"0-1\",\"Go Short\",IF($P337&$L337=\"-10\",\"Exit Short\",IF($P337&$L337=\"-1-1\",\"Stay Short\",IF($P337&$L337=\"-11\",\"Exit Short, Go Long\",IF($P337&$L337=\"10\",\"Exit Long\",IF($P337&$L337=\"1-1\",\"Exit Long, Go Short\",IF($P337&$L337=\"11\",\"Stay Long\",\"\")))))))))","v":"Stay Long"},-6247.5,{"$f":"S337+R338","v":-33463.46}]
[null,{"$f":"'Market Data'!B326","v":20010404},{"$f":"'Market Data'!C326","v":7089.5},{"$f":"'Market Data'!D326","v":7213.5},{"$f":"'Market Data'!E326","v":6962.5},{"$f":"'Market Data'!F326","v":7170},null,322,"Hidden","Long",null,{"$f":"IF($J339=\"Short\",-1,IF($J339=\"Long\",1,0))","v":1},0,"",null,1,"Stay Long",1925,-31538.46]
[null,{"$f":"'Market Data'!B327","v":20010405},{"$f":"'Market Data'!C327","v":7230.5},{"$f":"'Market Data'!D327","v":7367.5},{"$f":"'Market Data'!E327","v":7208.5},{"$f":"'Market Data'!F327","v":7355},null,323,"Hidden","Long",null,1,0,"",null,1,"Stay Long",6475,-25063.46]
[null,{"$f":"'Market Data'!B328","v":20010406},{"$f":"'Market Data'!C328","v":7396.5},{"$f":"'Market Data'!D328","v":7398},{"$f":"'Market Data'!E328","v":7230},{"$f":"'Market Data'!F328","v":7270},null,324,"Hidden","Long",null,1,0,"",null,1,"Stay Long",-2975,-28038.46]
[null,{"$f":"'Market Data'!B329","v":20010409},{"$f":"'Market Data'!C329","v":7254.5},{"$f":"'Market Data'!D329","v":7394},{"$f":"'Market Data'!E329","v":7251.5},{"$f":"'Market Data'!F329","v":7361.5},null,325,"Hidden","Long",null,1,0,"",null,1,"Stay Long",3202.5,-24835.96]
[null,{"$f":"'Market Data'!B330","v":20010410},{"$f":"'Market Data'!C330","v":7372},{"$f":"'Market Data'!D330","v":7494.5},{"$f":"'Market Data'!E330","v":7365.5},{"$f":"'Market Data'!F330","v":7465},null,326,"Hidden","Long",null,1,0,"",null,1,"Stay Long",3622.5,-21213.46]
[null,{"$f":"'Market Data'!B331","v":20010411},{"$f":"'Market Data'!C331","v":7454.5},{"$f":"'Market Data'!D331","v":7594.5},{"$f":"'Market Data'!E331","v":7449.5},{"$f":"'Market Data'!F331","v":7522.5},null,327,"Hidden","Long",null,1,0,"",null,1,"Stay Long",2012.5,-19200.96]
[null,{"$f":"'Market Data'!B332","v":20010412},{"$f":"'Market Data'!C332","v":7543.5},{"$f":"'Market Data'!D332","v":7607.5},{"$f":"'Market Data'!E332","v":7487.5},{"$f":"'Market Data'!F332","v":7599.5},null,328,"Hidden","Long",null,1,0,"",null,1,"Stay Long",2695,-16505.96]
[null,{"$f":"'Market Data'!B333","v":20010417},{"$f":"'Market Data'!C333","v":7502.5},{"$f":"'Market Data'!D333","v":7543},{"$f":"'Market Data'!E333","v":7406.5},{"$f":"'Market Data'!F333","v":7507},null,329,"Hidden","Long",null,1,0,"",null,1,"Stay Long",-3237.5,-19743.46]
[null,{"$f":"'Market Data'!B334","v":20010418},{"$f":"'Market Data'!C334","v":7622.5},{"$f":"'Market Data'!D334","v":7778.5},{"$f":"'Market Data'!E334","v":7608.5},{"$f":"'Market Data'!F334","v":7752.5},null,330,"Hidden","Long",null,1,0,"",null,1,"Stay Long",8592.5,-11150.96]
[null,{"$f":"'Market Data'!B335","v":20010419},{"$f":"'Market Data'!C335","v":7759.5},{"$f":"'Market Data'!D335","v":7767.5},{"$f":"'Market Data'!E335","v":7686},{"$f":"'Market Data'!F335","v":7760.5},null,331,"Hidden","Long",null,1,0,"",null,1,"Stay Long",280,-10870.96]
[null,{"$f":"'Market Data'!B336","v":20010420},{"$f":"'Market Data'!C336","v":7776.5},{"$f":"'Market Data'!D336","v":7783.5},{"$f":"'Market Data'!E336","v":7679},{"$f":"'Market Data'!F336","v":7698.5},null,332,"Hidden","Long",null,1,0,"",null,1,"Stay Long",-2170,-13040.96]
[null,{"$f":"'Market Data'!B337","v":20010423},{"$f":"'Market Data'!C337","v":7694.5},{"$f":"'Market Data'!D337","v":7696.5},{"$f":"'Market Data'!E337","v":7610},{"$f":"'Market Data'!F337","v":7631.5},null,333,"Hidden","Long",null,1,0,"",null,1,"Stay Long",-2345,-15385.96]
[null,{"$f":"'Market Data'!B338","v":20010424},{"$f":"'Market Data'!C338","v":7639.5},{"$f":"'Market Data'!D338","v":7745},{"$f":"'Market Data'!E338","v":7634.5},{"$f":"'Market Data'!F338","v":7716.5},null,334,"Hidden","Long",null,1,0,"",null,1,"Stay Long",2975,-12410.96]
[null,{"$f":"'Market Data'!B339","v":20010425},{"$f":"'Market Data'!C339","v":7665.5},{"$f":"'Market Data'!D339","v":7726.5},{"$f":"'Market Data'!E339","v":7641.5},{"$f":"'Market Data'!F339","v":7720},null,335,"Hidden","Long",null,1,0,"",null,1,"Stay Long",122.5,-12288.46]
[null,{"$f":"'Market Data'!B340","v":20010426},{"$f":"'Market Data'!C340","v":7722.5},{"$f":"'Market Data'!D340","v":7749.5},{"$f":"'Market Data'!E340","v":7637.5},{"$f":"'Market Data'!F340","v":7731.5},null,336,"Hidden","Long",null,1,0,"",null,1,"Stay Long",402.5,-11885.96]
[null,{"$f":"'Market Data'!B341","v":20010427},{"$f":"'Market Data'!C341","v":7680.5},{"$f":"'Market Data'!D341","v":7777.5},{"$f":"'Market Data'!E341","v":7654.5},{"$f":"'Market Data'!F341","v":7758.5},null,337,"Hidden","Long",null,1,0,"",null,1,"Stay Long",945,-10940.96]
[null,{"$f":"'Market Data'!B342","v":20010430},{"$f":"'Market Data'!C342","v":7774.5},{"$f":"'Market Data'!D342","v":7860},{"$f":"'Market Data'!E342","v":7764.5},{"$f":"'Market Data'!F342","v":7844.5},null,338,"Hidden","Long",null,1,0,"",null,1,"Stay Long",3010,-7930.9599999999991]
[null,{"$f":"'Market Data'!B343","v":20010502},{"$f":"'Market Data'!C343","v":7859.5},{"$f":"'Market Data'!D343","v":7868},{"$f":"'Market Data'!E343","v":7771},{"$f":"'Market Data'!F343","v":7809},null,339,"Hidden","Long",null,1,0,"",null,1,"Stay Long",-1242.5,-9173.4599999999991]
[null,{"$f":"'Market Data'!B344","v":20010503},{"$f":"'Market Data'!C344","v":7819.5},{"$f":"'Market Data'!D344","v":7828.5},{"$f":"'Market Data'!E344","v":7643.5},{"$f":"'Market Data'!F344","v":7655.5},null,340,"Hidden","Long",null,1,0,"",null,1,"Stay Long",-5372.5,-14545.96]
[null,{"$f":"'Market Data'!B345","v":20010504},{"$f":"'Market Data'!C345","v":7664.5},{"$f":"'Market Data'!D345","v":7727},{"$f":"'Market Data'!E345","v":7585},{"$f":"'Market Data'!F345","v":7724},null,341,"Hidden","Long",null,1,0,"",null,1,"Stay Long",2397.5,-12148.46]
[null,{"$f":"'Market Data'!B346","v":20010507},{"$f":"'Market Data'!C346","v":7738.5},{"$f":"'Market Data'!D346","v":7777.5},{"$f":"'Market Data'!E346","v":7678},{"$f":"'Market Data'!F346","v":7703.5},null,342,"Hidden","Long",null,1,0,"",null,1,"Stay Long",-717.5,-12865.96]
[null,{"$f":"'Market Data'!B347","v":20010508},{"$f":"'Market Data'!C347","v":7684.5},{"$f":"'Market Data'!D347","v":7758.5},{"$f":"'Market Data'!E347","v":7653},{"$f":"'Market Data'!F347","v":7689.5},null,343,"Hidden","Long",null,1,0,"",null,1,"Stay Long",-490,-13355.96]
[null,{"$f":"'Market Data'!B348","v":20010509},{"$f":"'Market Data'!C348","v":7659.5},{"$f":"'Market Data'!D348","v":7678.5},{"$f":"'Market Data'!E348","v":7604.5},{"$f":"'Market Data'!F348","v":7642.5},null,344,"Hidden","Long",null,1,0,"",null,1,"Stay Long",-1645,-15000.96]
[null,{"$f":"'Market Data'!B349","v":20010510},{"$f":"'Market Data'!C349","v":7655},{"$f":"'Market Data'!D349","v":7800.5},{"$f":"'Market Data'!E349","v":7655},{"$f":"'Market Data'!F349","v":7756.5},null,345,"Hidden","Long",null,1,0,"",null,1,"Stay Long",3990,-11010.96]
[null,{"$f":"'Market Data'!B350","v":20010511},{"$f":"'Market Data'!C350","v":7714.5},{"$f":"'Market Data'!D350","v":7770.5},{"$f":"'Market Data'!E350","v":7697},{"$f":"'Market Data'!F350","v":7710.5},null,346,"Hidden","Long",null,1,0,"",null,1,"Stay Long",-1610,-12620.96]
[null,{"$f":"'Market Data'!B351","v":20010514},{"$f":"'Market Data'!C351","v":7684.5},{"$f":"'Market Data'!D351","v":7689},{"$f":"'Market Data'!E351","v":7615.5},{"$f":"'Market Data'!F351","v":7627.5},null,347,"Hidden","Long",null,1,0,"",null,1,"Stay Long",-2905,-15525.96]
[null,{"$f":"'Market Data'!B352","v":20010515},{"$f":"'Market Data'!C352","v":7670.5},{"$f":"'Market Data'!D352","v":7675.5},{"$f":"'Market Data'!E352","v":7597.5},{"$f":"'Market Data'!F352","v":7624.5},null,348,"Hidden","Long",null,1,0,"",null,1,"Stay Long",-105,-15630.96]
[null,{"$f":"'Market Data'!B353","v":20010516},{"$f":"'Market Data'!C353","v":7614.5},{"$f":"'Market Data'!D353","v":7754.5},{"$f":"'Market Data'!E353","v":7531},{"$f":"'Market Data'!F353","v":7748.5},null,349,"Hidden","Long",null,1,0,"",null,1,"Stay Long",4340,-11290.96]
[null,{"$f":"'Market Data'!B354","v":20010517},{"$f":"'Market Data'!C354","v":7801.5},{"$f":"'Market Data'!D354","v":7809.5},{"$f":"'Market Data'!E354","v":7712},{"$f":"'Market Data'!F354","v":7738.5},null,350,"Hidden","Long",null,1,0,"",null,1,"Stay Long",-350,-11640.96]
[null,{"$f":"'Market Data'!B355","v":20010518},{"$f":"'Market Data'!C355","v":7709.5},{"$f":"'Market Data'!D355","v":7793.5},{"$f":"'Market Data'!E355","v":7696.5},{"$f":"'Market Data'!F355","v":7762.5},null,351,"Hidden","Long",null,1,0,"",null,1,"Stay Long",840,-10800.96]
[null,{"$f":"'Market Data'!B356","v":20010521},{"$f":"'Market Data'!C356","v":7789.5},{"$f":"'Market Data'!D356","v":7841.5},{"$f":"'Market Data'!E356","v":7709.5},{"$f":"'Market Data'!F356","v":7817.5},null,352,"Hidden","Long",null,1,0,"",null,1,"Stay Long",1925,-8875.9599999999991]
[null,{"$f":"'Market Data'!B357","v":20010522},{"$f":"'Market Data'!C357","v":7843.5},{"$f":"'Market Data'!D357","v":7917},{"$f":"'Market Data'!E357","v":7820.5},{"$f":"'Market Data'!F357","v":7841.5},null,353,"Hidden","Long",null,1,0,"",null,1,"Stay Long",840,-8035.9599999999991]
[null,{"$f":"'Market Data'!B358","v":20010523},{"$f":"'Market Data'!C358","v":7817.5},{"$f":"'Market Data'!D358","v":7867.5},{"$f":"'Market Data'!E358","v":7786},{"$f":"'Market Data'!F358","v":7814.5},null,354,"Hidden","Long",null,1,0,"",null,1,"Stay Long",-945,-8980.9599999999991]
[null,{"$f":"'Market Data'!B359","v":20010524},{"$f":"'Market Data'!C359","v":7785.5},{"$f":"'Market Data'!D359","v":7887.5},{"$f":"'Market Data'!E359","v":7774.5},{"$f":"'Market Data'!F359","v":7851.5},null,355,"Hidden","Long",null,1,0,"",null,1,"Stay Long",1295,-7685.9599999999991]
[null,{"$f":"'Market Data'!B360","v":20010525},{"$f":"'Market Data'!C360","v":7851.5},{"$f":"'Market Data'!D360","v":7879.5},{"$f":"'Market Data'!E360","v":7779},{"$f":"'Market Data'!F360","v":7799.5},null,356,"Hidden","Long",null,1,0,"",null,1,"Stay Long",-1820,-9505.9599999999991]
[null,{"$f":"'Market Data'!B361","v":20010528},{"$f":"'Market Data'!C361","v":7779.5},{"$f":"'Market Data'!D361","v":7849.5},{"$f":"'Market Data'!E361","v":7760},{"$f":"'Market Data'!F361","v":7788.5},null,357,"Hidden","Long",null,1,0,"",null,1,"Stay Long",-385,-9890.9599999999991]
[null,{"$f":"'Market Data'!B362","v":20010529},{"$f":"'Market Data'!C362","v":7793.5},{"$f":"'Market Data'!D362","v":7816},{"$f":"'Market Data'!E362","v":7686.5},{"$f":"'Market Data'!F362","v":7694},null,358,"Hidden","Long",null,1,0,"",null,1,"Stay Long",-3307.5,-13198.46]
[null,{"$f":"'Market Data'!B363","v":20010530},{"$f":"'Market Data'!C363","v":7664.5},{"$f":"'Market Data'!D363","v":7682.5},{"$f":"'Market Data'!E363","v":7616.5},{"$f":"'Market Data'!F363","v":7619.5},null,359,"Hidden","Long",null,1,0,"",null,1,"Stay Long",-2607.5,-15805.96]
[null,{"$f":"'Market Data'!B364","v":20010531},{"$f":"'Market Data'!C364","v":7594.5},{"$f":"'Market Data'!D364","v":7727.5},{"$f":"'Market Data'!E364","v":7563},{"$f":"'Market Data'!F364","v":7717},null,360,"Hidden","Long",null,1,0,"",null,1,"Stay Long",3412.5,-12393.46]
[null,{"$f":"'Market Data'!B365","v":20010601},{"$f":"'Market Data'!C365","v":7679.5},{"$f":"'Market Data'!D365","v":7750},{"$f":"'Market Data'!E365","v":7624.5},{"$f":"'Market Data'!F365","v":7708},null,361,"Hidden","Long",null,1,0,"",null,1,"Stay Long",-315,-12708.46]
[null,{"$f":"'Market Data'!B366","v":20010604},{"$f":"'Market Data'!C366","v":7714.5},{"$f":"'Market Data'!D366","v":7760.5},{"$f":"'Market Data'!E366","v":7708.5},{"$f":"'Market Data'!F366","v":7736.5},null,362,"Hidden","Long",null,1,0,"",null,1,"Stay Long",997.5,-11710.96]
[null,{"$f":"'Market Data'!B367","v":20010605},{"$f":"'Market Data'!C367","v":7774.5},{"$f":"'Market Data'!D367","v":7833.5},{"$f":"'Market Data'!E367","v":7723},{"$f":"'Market Data'!F367","v":7828.5},null,363,"Hidden","Long",null,1,0,"",null,1,"Stay Long",3220,-8490.9599999999991]
[null,{"$f":"'Market Data'!B368","v":20010606},{"$f":"'Market Data'!C368","v":7840.5},{"$f":"'Market Data'!D368","v":7844.5},{"$f":"'Market Data'!E368","v":7742},{"$f":"'Market Data'!F368","v":7772.5},null,364,"Hidden","Long",null,1,0,"",null,1,"Stay Long",-1960,-10450.959999999999]
[null,{"$f":"'Market Data'!B369","v":20010607},{"$f":"'Market Data'!C369","v":7769.5},{"$f":"'Market Data'!D369","v":7791.5},{"$f":"'Market Data'!E369","v":7725.5},{"$f":"'Market Data'!F369","v":7782.5},null,365,"Hidden","Long",null,1,0,"",null,1,"Stay Long",350,-10100.959999999999]
[null,{"$f":"'Market Data'!B370","v":20010608},{"$f":"'Market Data'!C370","v":7799.5},{"$f":"'Market Data'!D370","v":7837},{"$f":"'Market Data'!E370","v":7737},{"$f":"'Market Data'!F370","v":7746.5},null,366,"Hidden","Long",null,1,0,"",null,1,"Stay Long",-1260,-11360.96]
[null,{"$f":"'Market Data'!B371","v":20010611},{"$f":"'Market Data'!C371","v":7746.5},{"$f":"'Market Data'!D371","v":7797.5},{"$f":"'Market Data'!E371","v":7704.5},{"$f":"'Market Data'!F371","v":7735.5},null,367,"Hidden","Long",null,1,0,"",null,1,"Stay Long",-385,-11745.96]
[null,{"$f":"'Market Data'!B372","v":20010612},{"$f":"'Market Data'!C372","v":7729.5},{"$f":"'Market Data'!D372","v":7739},{"$f":"'Market Data'!E372","v":7593.5},{"$f":"'Market Data'!F372","v":7628.5},null,368,"Hidden","Long",null,1,0,"",null,1,"Stay Long",-3745,-15490.96]
[null,{"$f":"'Market Data'!B373","v":20010613},{"$f":"'Market Data'!C373","v":7664},{"$f":"'Market Data'!D373","v":7713.5},{"$f":"'Market Data'!E373","v":7644},{"$f":"'Market Data'!F373","v":7688},null,369,"Hidden","Long",null,1,0,"",null,1,"Stay Long",2082.5,-13408.46]
[null,{"$f":"'Market Data'!B374","v":20010614},{"$f":"'Market Data'!C374","v":7659},{"$f":"'Market Data'!D374","v":7663},{"$f":"'Market Data'!E374","v":7582},{"$f":"'Market Data'!F374","v":7589.5},null,370,"Hidden","Long",null,1,0,"",null,1,"Stay Long",-3447.5,-16855.96]
[null,{"$f":"'Market Data'!B375","v":20010615},{"$f":"'Market Data'!C375","v":7554},{"$f":"'Market Data'!D375","v":7589},{"$f":"'Market Data'!E375","v":7451},{"$f":"'Market Data'!F375","v":7495},null,371,"Hidden","Long",null,1,0,"",null,1,"Stay Long",-3307.5,-20163.46]
[null,{"$f":"'Market Data'!B376","v":20010618},{"$f":"'Market Data'!C376","v":7514},{"$f":"'Market Data'!D376","v":7514},{"$f":"'Market Data'!E376","v":7412},{"$f":"'Market Data'!F376","v":7433.5},null,372,"Hidden","Long",null,1,0,"",null,1,"Stay Long",-2152.5,-22315.96]
[null,{"$f":"'Market Data'!B377","v":20010619},{"$f":"'Market Data'!C377","v":7454},{"$f":"'Market Data'!D377","v":7542},{"$f":"'Market Data'!E377","v":7449},{"$f":"'Market Data'!F377","v":7490},null,373,"Hidden","Long",null,1,0,"",null,1,"Stay Long",1977.5,-20338.46]
[null,{"$f":"'Market Data'!B378","v":20010620},{"$f":"'Market Data'!C378","v":7425},{"$f":"'Market Data'!D378","v":7454},{"$f":"'Market Data'!E378","v":7374},{"$f":"'Market Data'!F378","v":7432},null,374,"Hidden","Long",null,1,0,"",null,1,"Stay Long",-2030,-22368.46]
[null,{"$f":"'Market Data'!B379","v":20010621},{"$f":"'Market Data'!C379","v":7478.5},{"$f":"'Market Data'!D379","v":7486},{"$f":"'Market Data'!E379","v":7392},{"$f":"'Market Data'!F379","v":7476},null,375,"Hidden","Long",null,1,0,"",null,1,"Stay Long",1540,-20828.46]
[null,{"$f":"'Market Data'!B380","v":20010622},{"$f":"'Market Data'!C380","v":7472},{"$f":"'Market Data'!D380","v":7512},{"$f":"'Market Data'!E380","v":7428},{"$f":"'Market Data'!F380","v":7462},null,376,"Hidden","Long",null,1,0,"",null,1,"Stay Long",-490,-21318.46]
[null,{"$f":"'Market Data'!B381","v":20010625},{"$f":"'Market Data'!C381","v":7434},{"$f":"'Market Data'!D381","v":7508},{"$f":"'Market Data'!E381","v":7425},{"$f":"'Market Data'!F381","v":7458},null,377,"Hidden","Long",null,1,0,"",null,1,"Stay Long",-140,-21458.46]
[null,{"$f":"'Market Data'!B382","v":20010626},{"$f":"'Market Data'!C382","v":7427},{"$f":"'Market Data'!D382","v":7435.5},{"$f":"'Market Data'!E382","v":7319},{"$f":"'Market Data'!F382","v":7401},null,378,"Hidden","Long",null,1,0,"",null,1,"Stay Long",-1995,-23453.46]
[null,{"$f":"'Market Data'!B383","v":20010627},{"$f":"'Market Data'!C383","v":7394},{"$f":"'Market Data'!D383","v":7408},{"$f":"'Market Data'!E383","v":7366.5},{"$f":"'Market Data'!F383","v":7390},null,379,"Hidden","Long",null,1,0,"",null,1,"Stay Long",-385,-23838.46]
[null,{"$f":"'Market Data'!B384","v":20010628},{"$f":"'Market Data'!C384","v":7373},{"$f":"'Market Data'!D384","v":7529},{"$f":"'Market Data'!E384","v":7308},{"$f":"'Market Data'!F384","v":7527},null,380,"Hidden","Long",null,1,0,"",null,1,"Stay Long",4795,-19043.46]
[null,{"$f":"'Market Data'!B385","v":20010629},{"$f":"'Market Data'!C385","v":7524},{"$f":"'Market Data'!D385","v":7617.5},{"$f":"'Market Data'!E385","v":7508},{"$f":"'Market Data'!F385","v":7609},null,381,"Hidden","Long",null,1,0,"",null,1,"Stay Long",2870,-16173.46]
[null,{"$f":"'Market Data'!B386","v":20010702},{"$f":"'Market Data'!C386","v":7567.5},{"$f":"'Market Data'!D386","v":7684.5},{"$f":"'Market Data'!E386","v":7552},{"$f":"'Market Data'!F386","v":7661.5},null,382,"Hidden","Long",null,1,0,"",null,1,"Stay Long",1837.5,-14335.96]
[null,{"$f":"'Market Data'!B387","v":20010703},{"$f":"'Market Data'!C387","v":7644},{"$f":"'Market Data'!D387","v":7661},{"$f":"'Market Data'!E387","v":7588.5},{"$f":"'Market Data'!F387","v":7617},null,383,"Hidden","Long",null,1,{"$f":"$L400-P400","v":0},"",null,1,"Stay Long",-1557.5,-15893.46]
[null,{"$f":"'Market Data'!B388","v":20010704},{"$f":"'Market Data'!C388","v":7616},{"$f":"'Market Data'!D388","v":7633},{"$f":"'Market Data'!E388","v":7546.5},{"$f":"'Market Data'!F388","v":7555},null,384,"Hidden","Long",null,1,0,"",null,{"$f":"IF($N400=\"Fill\",$L400,$P400)","v":1},"Stay Long",{"$f":"IF(OR($P400&$L400=\"01\",$P400&$L400=\"0-1\"),(($F401-$C401)*$R$3*$L400)-(ABS($M400)*$R$4),IF(OR($P400&$L400=\"10\",$P400&$L400=\"-10\"),(($C401-$F400)*$R$3*$P400)-(ABS($M400)*$R$4),IF(OR($P400&$L400=\"1-1\",$P400&$L400=\"-11\"),(($C401-$F400)*$R$3*$P400)-(ABS($M400)*$R$4)+(($F401-$C401)*$R$3*$P401),IF(OR($P400&$L400=\"11\",$P400&$L400=\"-1-1\"),(($F401-$F400)*$R$3*$P401),0))))","v":-2170},-18063.46]
[null,{"$f":"'Market Data'!B389","v":20010705},{"$f":"'Market Data'!C389","v":7494.5},{"$f":"'Market Data'!D389","v":7594.5},{"$f":"'Market Data'!E389","v":7484},{"$f":"'Market Data'!F389","v":7538},null,{"$f":"ROW()-ROW(H$17)","v":385},"Hidden",{"$f":"$I$4","v":"Long"},null,1,0,{"$f":"IF(NOT($M402=0),\"Fill\",\"\")","v":""},null,1,{"$f":"IF($P401&$L401=\"00\",\"Stay Flat\",IF($P401&$L401=\"01\",\"Go Long\",IF($P401&$L401=\"0-1\",\"Go Short\",IF($P401&$L401=\"-10\",\"Exit Short\",IF($P401&$L401=\"-1-1\",\"Stay Short\",IF($P401&$L401=\"-11\",\"Exit Short, Go Long\",IF($P401&$L401=\"10\",\"Exit Long\",IF($P401&$L401=\"1-1\",\"Exit Long, Go Short\",IF($P401&$L401=\"11\",\"Stay Long\",\"\")))))))))","v":"Stay Long"},-595,{"$f":"S401+R402","v":-18658.46}]
[null,{"$f":"'Market Data'!B390","v":20010706},{"$f":"'Market Data'!C390","v":7482},{"$f":"'Market Data'!D390","v":7495},{"$f":"'Market Data'!E390","v":7391},{"$f":"'Market Data'!F390","v":7408.5},null,386,"Hidden","Long",null,{"$f":"IF($J403=\"Short\",-1,IF($J403=\"Long\",1,0))","v":1},0,"",null,1,"Stay Long",-4532.5,-23190.959999999999]
[null,{"$f":"'Market Data'!B391","v":20010709},{"$f":"'Market Data'!C391","v":7424},{"$f":"'Market Data'!D391","v":7443},{"$f":"'Market Data'!E391","v":7332},{"$f":"'Market Data'!F391","v":7421},null,387,"Hidden","Long",null,1,0,"",null,1,"Stay Long",437.5,-22753.46]
[null,{"$f":"'Market Data'!B392","v":20010710},{"$f":"'Market Data'!C392","v":7426},{"$f":"'Market Data'!D392","v":7470},{"$f":"'Market Data'!E392","v":7346},{"$f":"'Market Data'!F392","v":7346},null,388,"Hidden","Long",null,1,0,"",null,1,"Stay Long",-2625,-25378.46]
[null,{"$f":"'Market Data'!B393","v":20010711},{"$f":"'Market Data'!C393","v":7294},{"$f":"'Market Data'!D393","v":7355.5},{"$f":"'Market Data'!E393","v":7274},{"$f":"'Market Data'!F393","v":7344.5},null,389,"Hidden","Long",null,1,0,"",null,1,"Stay Long",-52.5,-25430.959999999999]
[null,{"$f":"'Market Data'!B394","v":20010712},{"$f":"'Market Data'!C394","v":7434},{"$f":"'Market Data'!D394","v":7466},{"$f":"'Market Data'!E394","v":7401.5},{"$f":"'Market Data'!F394","v":7434},null,390,"Hidden","Long",null,1,0,"",null,1,"Stay Long",3132.5,-22298.46]
[null,{"$f":"'Market Data'!B395","v":20010713},{"$f":"'Market Data'!C395","v":7435},{"$f":"'Market Data'!D395","v":7489.5},{"$f":"'Market Data'!E395","v":7387},{"$f":"'Market Data'!F395","v":7475},null,391,"Hidden","Long",null,1,0,"",null,1,"Stay Long",1435,-20863.46]
[null,{"$f":"'Market Data'!B396","v":20010716},{"$f":"'Market Data'!C396","v":7469},{"$f":"'Market Data'!D396","v":7469},{"$f":"'Market Data'!E396","v":7374},{"$f":"'Market Data'!F396","v":7384},null,392,"Hidden","Long",null,1,0,"",null,1,"Stay Long",-3185,-24048.46]
[null,{"$f":"'Market Data'!B397","v":20010717},{"$f":"'Market Data'!C397","v":7364},{"$f":"'Market Data'!D397","v":7390},{"$f":"'Market Data'!E397","v":7324},{"$f":"'Market Data'!F397","v":7389},null,393,"Hidden","Long",null,1,0,"",null,1,"Stay Long",175,-23873.46]
[null,{"$f":"'Market Data'!B398","v":20010718},{"$f":"'Market Data'!C398","v":7352},{"$f":"'Market Data'!D398","v":7357.5},{"$f":"'Market Data'!E398","v":7246.5},{"$f":"'Market Data'!F398","v":7259},null,394,"Hidden","Long",null,1,0,"",null,1,"Stay Long",-4550,-28423.46]
[null,{"$f":"'Market Data'!B399","v":20010719},{"$f":"'Market Data'!C399","v":7290},{"$f":"'Market Data'!D399","v":7358},{"$f":"'Market Data'!E399","v":7240.5},{"$f":"'Market Data'!F399","v":7334},null,395,"Hidden","Long",null,1,0,"",null,1,"Stay Long",2625,-25798.46]
[null,{"$f":"'Market Data'!B400","v":20010720},{"$f":"'Market Data'!C400","v":7294},{"$f":"'Market Data'!D400","v":7316.5},{"$f":"'Market Data'!E400","v":7244},{"$f":"'Market Data'!F400","v":7284.5},null,396,"Hidden","Long",null,1,0,"",null,1,"Stay Long",-1732.5,-27530.959999999999]
[null,{"$f":"'Market Data'!B401","v":20010723},{"$f":"'Market Data'!C401","v":7264},{"$f":"'Market Data'!D401","v":7381.5},{"$f":"'Market Data'!E401","v":7235.5},{"$f":"'Market Data'!F401","v":7334},null,397,"Hidden","Long",null,1,0,"",null,1,"Stay Long",1732.5,-25798.46]
[null,{"$f":"'Market Data'!B402","v":20010724},{"$f":"'Market Data'!C402","v":7274},{"$f":"'Market Data'!D402","v":7319.5},{"$f":"'Market Data'!E402","v":7193},{"$f":"'Market Data'!F402","v":7193.5},null,398,"Hidden","Long",null,1,0,"",null,1,"Stay Long",-4917.5,-30715.96]
[null,{"$f":"'Market Data'!B403","v":20010725},{"$f":"'Market Data'!C403","v":7211},{"$f":"'Market Data'!D403","v":7264},{"$f":"'Market Data'!E403","v":7080.5},{"$f":"'Market Data'!F403","v":7104},null,399,"Hidden","Long",null,1,0,"",null,1,"Stay Long",-3132.5,-33848.46]
[null,{"$f":"'Market Data'!B404","v":20010726},{"$f":"'Market Data'!C404","v":7154},{"$f":"'Market Data'!D404","v":7203.5},{"$f":"'Market Data'!E404","v":7105.5},{"$f":"'Market Data'!F404","v":7199},null,400,"Hidden","Long",null,1,0,"",null,1,"Stay Long",3325,-30523.46]
[null,{"$f":"'Market Data'!B405","v":20010727},{"$f":"'Market Data'!C405","v":7224},{"$f":"'Market Data'!D405","v":7311},{"$f":"'Market Data'!E405","v":7218},{"$f":"'Market Data'!F405","v":7290},null,401,"Hidden","Long",null,1,0,"",null,1,"Stay Long",3185,-27338.46]
[null,{"$f":"'Market Data'!B406","v":20010730},{"$f":"'Market Data'!C406","v":7254},{"$f":"'Market Data'!D406","v":7364},{"$f":"'Market Data'!E406","v":7244},{"$f":"'Market Data'!F406","v":7322},null,402,"Hidden","Long",null,1,0,"",null,1,"Stay Long",1120,-26218.46]
[null,{"$f":"'Market Data'!B407","v":20010731},{"$f":"'Market Data'!C407","v":7324},{"$f":"'Market Data'!D407","v":7393},{"$f":"'Market Data'!E407","v":7287.5},{"$f":"'Market Data'!F407","v":7382.5},null,403,"Hidden","Long",null,1,0,"",null,1,"Stay Long",2117.5,-24100.959999999999]
[null,{"$f":"'Market Data'!B408","v":20010801},{"$f":"'Market Data'!C408","v":7356},{"$f":"'Market Data'!D408","v":7394},{"$f":"'Market Data'!E408","v":7342.5},{"$f":"'Market Data'!F408","v":7371},null,404,"Hidden","Long",null,1,0,"",null,1,"Stay Long",-402.5,-24503.46]
[null,{"$f":"'Market Data'!B409","v":20010802},{"$f":"'Market Data'!C409","v":7379},{"$f":"'Market Data'!D409","v":7462},{"$f":"'Market Data'!E409","v":7289},{"$f":"'Market Data'!F409","v":7304.5},null,405,"Hidden","Long",null,1,0,"",null,1,"Stay Long",-2327.5,-26830.959999999999]
[null,{"$f":"'Market Data'!B410","v":20010803},{"$f":"'Market Data'!C410","v":7327},{"$f":"'Market Data'!D410","v":7337.5},{"$f":"'Market Data'!E410","v":7267.5},{"$f":"'Market Data'!F410","v":7282},null,406,"Hidden","Long",null,1,0,"",null,1,"Stay Long",-787.5,-27618.46]
[null,{"$f":"'Market Data'!B411","v":20010806},{"$f":"'Market Data'!C411","v":7282},{"$f":"'Market Data'!D411","v":7331},{"$f":"'Market Data'!E411","v":7235},{"$f":"'Market Data'!F411","v":7288},null,407,"Hidden","Long",null,1,0,"",null,1,"Stay Long",210,-27408.46]
[null,{"$f":"'Market Data'!B412","v":20010807},{"$f":"'Market Data'!C412","v":7259},{"$f":"'Market Data'!D412","v":7313},{"$f":"'Market Data'!E412","v":7217.5},{"$f":"'Market Data'!F412","v":7278},null,408,"Hidden","Long",null,1,0,"",null,1,"Stay Long",-350,-27758.46]
[null,{"$f":"'Market Data'!B413","v":20010808},{"$f":"'Market Data'!C413","v":7236.5},{"$f":"'Market Data'!D413","v":7258},{"$f":"'Market Data'!E413","v":7136.5},{"$f":"'Market Data'!F413","v":7146},null,409,"Hidden","Long",null,1,0,"",null,1,"Stay Long",-4620,-32378.46]
[null,{"$f":"'Market Data'!B414","v":20010809},{"$f":"'Market Data'!C414","v":7089},{"$f":"'Market Data'!D414","v":7111},{"$f":"'Market Data'!E414","v":6992},{"$f":"'Market Data'!F414","v":7034},null,410,"Hidden","Long",null,1,0,"",null,1,"Stay Long",-3920,-36298.46]
[null,{"$f":"'Market Data'!B415","v":20010810},{"$f":"'Market Data'!C415","v":7059},{"$f":"'Market Data'!D415","v":7095.5},{"$f":"'Market Data'!E415","v":6907},{"$f":"'Market Data'!F415","v":6965.5},null,411,"Hidden","Long",null,1,0,"",null,1,"Stay Long",-2397.5,-38695.96]
[null,{"$f":"'Market Data'!B416","v":20010813},{"$f":"'Market Data'!C416","v":6961.5},{"$f":"'Market Data'!D416","v":7023.5},{"$f":"'Market Data'!E416","v":6921.5},{"$f":"'Market Data'!F416","v":6996},null,412,"Hidden","Long",null,1,0,"",null,1,"Stay Long",1067.5,-37628.46]
[null,{"$f":"'Market Data'!B417","v":20010814},{"$f":"'Market Data'!C417","v":7031},{"$f":"'Market Data'!D417","v":7092},{"$f":"'Market Data'!E417","v":7011.5},{"$f":"'Market Data'!F417","v":7044},null,413,"Hidden","Long",null,1,0,"",null,1,"Stay Long",1680,-35948.46]
[null,{"$f":"'Market Data'!B418","v":20010815},{"$f":"'Market Data'!C418","v":7021},{"$f":"'Market Data'!D418","v":7053},{"$f":"'Market Data'!E418","v":6945},{"$f":"'Market Data'!F418","v":6974.5},null,414,"Hidden","Long",null,1,0,"",null,1,"Stay Long",-2432.5,-38380.959999999999]
[null,{"$f":"'Market Data'!B419","v":20010816},{"$f":"'Market Data'!C419","v":6924},{"$f":"'Market Data'!D419","v":6932},{"$f":"'Market Data'!E419","v":6850.5},{"$f":"'Market Data'!F419","v":6884},null,415,"Hidden","Long",null,1,0,"",null,1,"Stay Long",-3167.5,-41548.46]
[null,{"$f":"'Market Data'!B420","v":20010817},{"$f":"'Market Data'!C420","v":6902.5},{"$f":"'Market Data'!D420","v":6932},{"$f":"'Market Data'!E420","v":6688},{"$f":"'Market Data'!F420","v":6730},null,416,"Hidden","Long",null,1,0,"",null,1,"Stay Long",-5390,-46938.46]
[null,{"$f":"'Market Data'!B421","v":20010820},{"$f":"'Market Data'!C421","v":6724},{"$f":"'Market Data'!D421","v":6781.5},{"$f":"'Market Data'!E421","v":6640},{"$f":"'Market Data'!F421","v":6704.5},null,417,"Hidden","Long",null,1,0,"",null,1,"Stay Long",-892.5,-47830.96]
[null,{"$f":"'Market Data'!B422","v":20010821},{"$f":"'Market Data'!C422","v":6734},{"$f":"'Market Data'!D422","v":6768},{"$f":"'Market Data'!E422","v":6684},{"$f":"'Market Data'!F422","v":6744.5},null,418,"Hidden","Long",null,1,0,"",null,1,"Stay Long",1400,-46430.96]
[null,{"$f":"'Market Data'!B423","v":20010822},{"$f":"'Market Data'!C423","v":6672},{"$f":"'Market Data'!D423","v":6839},{"$f":"'Market Data'!E423","v":6658.5},{"$f":"'Market Data'!F423","v":6737.5},null,419,"Hidden","Long",null,1,0,"",null,1,"Stay Long",-245,-46675.96]
[null,{"$f":"'Market Data'!B424","v":20010823},{"$f":"'Market Data'!C424","v":6760},{"$f":"'Market Data'!D424","v":6794},{"$f":"'Market Data'!E424","v":6697.5},{"$f":"'Market Data'!F424","v":6765.5},null,420,"Hidden","Long",null,1,0,"",null,1,"Stay Long",980,-45695.96]
[null,{"$f":"'Market Data'!B425","v":20010824},{"$f":"'Market Data'!C425","v":6797},{"$f":"'Market Data'!D425","v":6942},{"$f":"'Market Data'!E425","v":6791},{"$f":"'Market Data'!F425","v":6924},null,421,"Hidden","Long",null,1,0,"",null,1,"Stay Long",5547.5,-40148.46]
[null,{"$f":"'Market Data'!B426","v":20010827},{"$f":"'Market Data'!C426","v":6930},{"$f":"'Market Data'!D426","v":6968},{"$f":"'Market Data'!E426","v":6892},{"$f":"'Market Data'!F426","v":6920},null,422,"Hidden","Long",null,1,0,"",null,1,"Stay Long",-140,-40288.46]
[null,{"$f":"'Market Data'!B427","v":20010828},{"$f":"'Market Data'!C427","v":6919},{"$f":"'Market Data'!D427","v":6966},{"$f":"'Market Data'!E427","v":6794.5},{"$f":"'Market Data'!F427","v":6820},null,423,"Hidden","Long",null,1,0,"",null,1,"Stay Long",-3500,-43788.46]
[null,{"$f":"'Market Data'!B428","v":20010829},{"$f":"'Market Data'!C428","v":6789},{"$f":"'Market Data'!D428","v":6859},{"$f":"'Market Data'!E428","v":6751},{"$f":"'Market Data'!F428","v":6809},null,424,"Hidden","Long",null,1,0,"",null,1,"Stay Long",-385,-44173.46]
[null,{"$f":"'Market Data'!B429","v":20010830},{"$f":"'Market Data'!C429","v":6825},{"$f":"'Market Data'!D429","v":6844.5},{"$f":"'Market Data'!E429","v":6661.5},{"$f":"'Market Data'!F429","v":6673},null,425,"Hidden","Long",null,1,0,"",null,1,"Stay Long",-4760,-48933.46]
[null,{"$f":"'Market Data'!B430","v":20010831},{"$f":"'Market Data'!C430","v":6679},{"$f":"'Market Data'!D430","v":6737},{"$f":"'Market Data'!E430","v":6641},{"$f":"'Market Data'!F430","v":6691},null,426,"Hidden","Long",null,1,0,"",null,1,"Stay Long",630,-48303.46]
[null,{"$f":"'Market Data'!B431","v":20010903},{"$f":"'Market Data'!C431","v":6669},{"$f":"'Market Data'!D431","v":6680.5},{"$f":"'Market Data'!E431","v":6569.5},{"$f":"'Market Data'!F431","v":6605},null,427,"Hidden","Long",null,1,0,"",null,1,"Stay Long",-3010,-51313.46]
[null,{"$f":"'Market Data'!B432","v":20010904},{"$f":"'Market Data'!C432","v":6672},{"$f":"'Market Data'!D432","v":6732},{"$f":"'Market Data'!E432","v":6538.5},{"$f":"'Market Data'!F432","v":6712},null,428,"Hidden","Long",null,1,0,"",null,1,"Stay Long",3745,-47568.46]
[null,{"$f":"'Market Data'!B433","v":20010905},{"$f":"'Market Data'!C433","v":6634},{"$f":"'Market Data'!D433","v":6658},{"$f":"'Market Data'!E433","v":6527},{"$f":"'Market Data'!F433","v":6560},null,429,"Hidden","Long",null,1,0,"",null,1,"Stay Long",-5320,-52888.46]
[null,{"$f":"'Market Data'!B434","v":20010906},{"$f":"'Market Data'!C434","v":6609},{"$f":"'Market Data'!D434","v":6614},{"$f":"'Market Data'!E434","v":6350.5},{"$f":"'Market Data'!F434","v":6381},null,430,"Hidden","Long",null,1,0,"",null,1,"Stay Long",-6265,-59153.46]
[null,{"$f":"'Market Data'!B435","v":20010907},{"$f":"'Market Data'!C435","v":6404},{"$f":"'Market Data'!D435","v":6416},{"$f":"'Market Data'!E435","v":6207},{"$f":"'Market Data'!F435","v":6220},null,431,"Hidden","Long",null,1,0,"",null,1,"Stay Long",-5635,-64788.46]
[null,{"$f":"'Market Data'!B436","v":20010910},{"$f":"'Market Data'!C436","v":6207},{"$f":"'Market Data'!D436","v":6261},{"$f":"'Market Data'!E436","v":6029},{"$f":"'Market Data'!F436","v":6179.5},null,432,"Hidden","Long",null,1,0,"",null,1,"Stay Long",-1417.5,-66205.959999999992]
[null,{"$f":"'Market Data'!B437","v":20010911},{"$f":"'Market Data'!C437","v":6219},{"$f":"'Market Data'!D437","v":6287},{"$f":"'Market Data'!E437","v":5617},{"$f":"'Market Data'!F437","v":5763},null,433,"Hidden","Long",null,1,0,"",null,1,"Stay Long",-14577.5,-80783.459999999992]
[null,{"$f":"'Market Data'!B438","v":20010912},{"$f":"'Market Data'!C438","v":5674},{"$f":"'Market Data'!D438","v":5904},{"$f":"'Market Data'!E438","v":5647},{"$f":"'Market Data'!F438","v":5829},null,434,"Hidden","Long",null,1,0,"",null,1,"Stay Long",2310,-78473.459999999992]
[null,{"$f":"'Market Data'!B439","v":20010913},{"$f":"'Market Data'!C439","v":5881},{"$f":"'Market Data'!D439","v":5896},{"$f":"'Market Data'!E439","v":5774},{"$f":"'Market Data'!F439","v":5864.5},null,435,"Hidden","Long",null,1,0,"",null,1,"Stay Long",1242.5,-77230.959999999992]
[null,{"$f":"'Market Data'!B440","v":20010914},{"$f":"'Market Data'!C440","v":5893},{"$f":"'Market Data'!D440","v":5938},{"$f":"'Market Data'!E440","v":5620},{"$f":"'Market Data'!F440","v":5644},null,436,"Hidden","Long",null,1,0,"",null,1,"Stay Long",-7717.5,-84948.459999999992]
[null,{"$f":"'Market Data'!B441","v":20010917},{"$f":"'Market Data'!C441","v":5658.5},{"$f":"'Market Data'!D441","v":5840.5},{"$f":"'Market Data'!E441","v":5481},{"$f":"'Market Data'!F441","v":5718.5},null,437,"Hidden","Long",null,1,0,"",null,1,"Stay Long",2607.5,-82340.959999999992]
[null,{"$f":"'Market Data'!B442","v":20010918},{"$f":"'Market Data'!C442","v":5658.5},{"$f":"'Market Data'!D442","v":5714},{"$f":"'Market Data'!E442","v":5618},{"$f":"'Market Data'!F442","v":5688},null,438,"Hidden","Long",null,1,0,"",null,1,"Stay Long",-1067.5,-83408.459999999992]
[null,{"$f":"'Market Data'!B443","v":20010919},{"$f":"'Market Data'!C443","v":5692},{"$f":"'Market Data'!D443","v":5779},{"$f":"'Market Data'!E443","v":5508},{"$f":"'Market Data'!F443","v":5525.5},null,439,"Hidden","Long",null,1,0,"",null,1,"Stay Long",-5687.5,-89095.959999999992]
[null,{"$f":"'Market Data'!B444","v":20010920},{"$f":"'Market Data'!C444","v":5599.5},{"$f":"'Market Data'!D444","v":5601},{"$f":"'Market Data'!E444","v":5263},{"$f":"'Market Data'!F444","v":5272.5},null,440,"Hidden","Long",null,1,0,"",null,1,"Stay Long",-8855,-97950.959999999992]
[null,{"$f":"'Market Data'!B445","v":20010921},{"$f":"'Market Data'!C445","v":5214},{"$f":"'Market Data'!D445","v":5322},{"$f":"'Market Data'!E445","v":5024},{"$f":"'Market Data'!F445","v":5297.5},null,441,"Hidden","Long",null,1,0,"",null,1,"Stay Long",875,-97075.959999999992]
[null,{"$f":"'Market Data'!B446","v":20010924},{"$f":"'Market Data'!C446","v":5404},{"$f":"'Market Data'!D446","v":5547},{"$f":"'Market Data'!E446","v":5357},{"$f":"'Market Data'!F446","v":5540},null,442,"Hidden","Long",null,1,0,"",null,1,"Stay Long",8487.5,-88588.459999999992]
[null,{"$f":"'Market Data'!B447","v":20010925},{"$f":"'Market Data'!C447","v":5466},{"$f":"'Market Data'!D447","v":5624},{"$f":"'Market Data'!E447","v":5437.5},{"$f":"'Market Data'!F447","v":5507},null,443,"Hidden","Long",null,1,0,"",null,1,"Stay Long",-1155,-89743.459999999992]
[null,{"$f":"'Market Data'!B448","v":20010926},{"$f":"'Market Data'!C448","v":5562},{"$f":"'Market Data'!D448","v":5675},{"$f":"'Market Data'!E448","v":5519},{"$f":"'Market Data'!F448","v":5544},null,444,"Hidden","Long",null,1,0,"",null,1,"Stay Long",1295,-88448.459999999992]
[null,{"$f":"'Market Data'!B449","v":20010927},{"$f":"'Market Data'!C449","v":5554},{"$f":"'Market Data'!D449","v":5662},{"$f":"'Market Data'!E449","v":5535.5},{"$f":"'Market Data'!F449","v":5655},null,445,"Hidden","Long",null,1,0,"",null,1,"Stay Long",3885,-84563.459999999992]
[null,{"$f":"'Market Data'!B450","v":20010928},{"$f":"'Market Data'!C450","v":5739},{"$f":"'Market Data'!D450","v":5813},{"$f":"'Market Data'!E450","v":5729.5},{"$f":"'Market Data'!F450","v":5765.5},null,446,"Hidden","Long",null,1,0,"",null,1,"Stay Long",3867.5,-80695.959999999992]
[null,{"$f":"'Market Data'!B451","v":20011001},{"$f":"'Market Data'!C451","v":5779},{"$f":"'Market Data'!D451","v":5779},{"$f":"'Market Data'!E451","v":5667.5},{"$f":"'Market Data'!F451","v":5753},null,447,"Hidden","Long",null,1,{"$f":"$L464-P464","v":0},"",null,1,"Stay Long",-437.5,-81133.459999999992]
[null,{"$f":"'Market Data'!B452","v":20011002},{"$f":"'Market Data'!C452","v":5734},{"$f":"'Market Data'!D452","v":5789},{"$f":"'Market Data'!E452","v":5644},{"$f":"'Market Data'!F452","v":5762.5},null,448,"Hidden","Long",null,1,0,"",null,{"$f":"IF($N464=\"Fill\",$L464,$P464)","v":1},"Stay Long",{"$f":"IF(OR($P464&$L464=\"01\",$P464&$L464=\"0-1\"),(($F465-$C465)*$R$3*$L464)-(ABS($M464)*$R$4),IF(OR($P464&$L464=\"10\",$P464&$L464=\"-10\"),(($C465-$F464)*$R$3*$P464)-(ABS($M464)*$R$4),IF(OR($P464&$L464=\"1-1\",$P464&$L464=\"-11\"),(($C465-$F464)*$R$3*$P464)-(ABS($M464)*$R$4)+(($F465-$C465)*$R$3*$P465),IF(OR($P464&$L464=\"11\",$P464&$L464=\"-1-1\"),(($F465-$F464)*$R$3*$P465),0))))","v":332.5},-80800.959999999992]
[null,{"$f":"'Market Data'!B453","v":20011003},{"$f":"'Market Data'!C453","v":5764},{"$f":"'Market Data'!D453","v":5932.5},{"$f":"'Market Data'!E453","v":5667.5},{"$f":"'Market Data'!F453","v":5915},null,{"$f":"ROW()-ROW(H$17)","v":449},"Hidden",{"$f":"$I$4","v":"Long"},null,1,0,{"$f":"IF(NOT($M466=0),\"Fill\",\"\")","v":""},null,1,{"$f":"IF($P465&$L465=\"00\",\"Stay Flat\",IF($P465&$L465=\"01\",\"Go Long\",IF($P465&$L465=\"0-1\",\"Go Short\",IF($P465&$L465=\"-10\",\"Exit Short\",IF($P465&$L465=\"-1-1\",\"Stay Short\",IF($P465&$L465=\"-11\",\"Exit Short, Go Long\",IF($P465&$L465=\"10\",\"Exit Long\",IF($P465&$L465=\"1-1\",\"Exit Long, Go Short\",IF($P465&$L465=\"11\",\"Stay Long\",\"\")))))))))","v":"Stay Long"},5337.5,{"$f":"S465+R466","v":-75463.459999999992}]
[null,{"$f":"'Market Data'!B454","v":20011004},{"$f":"'Market Data'!C454","v":5935.5},{"$f":"'Market Data'!D454","v":6047},{"$f":"'Market Data'!E454","v":5901},{"$f":"'Market Data'!F454","v":6039},null,450,"Hidden","Long",null,{"$f":"IF($J467=\"Short\",-1,IF($J467=\"Long\",1,0))","v":1},0,"",null,1,"Stay Long",4340,-71123.459999999992]
[null,{"$f":"'Market Data'!B455","v":20011005},{"$f":"'Market Data'!C455","v":5974},{"$f":"'Market Data'!D455","v":6083},{"$f":"'Market Data'!E455","v":5931.5},{"$f":"'Market Data'!F455","v":5973},null,451,"Hidden","Long",null,1,0,"",null,1,"Stay Long",-2310,-73433.459999999992]
[null,{"$f":"'Market Data'!B456","v":20011008},{"$f":"'Market Data'!C456","v":5865.5},{"$f":"'Market Data'!D456","v":5997},{"$f":"'Market Data'!E456","v":5817},{"$f":"'Market Data'!F456","v":5967},null,452,"Hidden","Long",null,1,0,"",null,1,"Stay Long",-210,-73643.459999999992]
[null,{"$f":"'Market Data'!B457","v":20011009},{"$f":"'Market Data'!C457","v":5949},{"$f":"'Market Data'!D457","v":6032.5},{"$f":"'Market Data'!E457","v":5920.5},{"$f":"'Market Data'!F457","v":5965.5},null,453,"Hidden","Long",null,1,0,"",null,1,"Stay Long",-52.5,-73695.959999999992]
[null,{"$f":"'Market Data'!B458","v":20011010},{"$f":"'Market Data'!C458","v":5934},{"$f":"'Market Data'!D458","v":6117},{"$f":"'Market Data'!E458","v":5909.5},{"$f":"'Market Data'!F458","v":6097},null,454,"Hidden","Long",null,1,0,"",null,1,"Stay Long",4602.5,-69093.459999999992]
[null,{"$f":"'Market Data'!B459","v":20011011},{"$f":"'Market Data'!C459","v":6130},{"$f":"'Market Data'!D459","v":6226},{"$f":"'Market Data'!E459","v":6105},{"$f":"'Market Data'!F459","v":6184},null,455,"Hidden","Long",null,1,0,"",null,1,"Stay Long",3045,-66048.459999999992]
[null,{"$f":"'Market Data'!B460","v":20011012},{"$f":"'Market Data'!C460","v":6194},{"$f":"'Market Data'!D460","v":6204},{"$f":"'Market Data'!E460","v":6067.5},{"$f":"'Market Data'!F460","v":6078},null,456,"Hidden","Long",null,1,0,"",null,1,"Stay Long",-3710,-69758.459999999992]
[null,{"$f":"'Market Data'!B461","v":20011015},{"$f":"'Market Data'!C461","v":6079},{"$f":"'Market Data'!D461","v":6112},{"$f":"'Market Data'!E461","v":5984},{"$f":"'Market Data'!F461","v":6036},null,457,"Hidden","Long",null,1,0,"",null,1,"Stay Long",-1470,-71228.459999999992]
[null,{"$f":"'Market Data'!B462","v":20011016},{"$f":"'Market Data'!C462","v":6041.5},{"$f":"'Market Data'!D462","v":6133},{"$f":"'Market Data'!E462","v":5997.5},{"$f":"'Market Data'!F462","v":6129},null,458,"Hidden","Long",null,1,0,"",null,1,"Stay Long",3255,-67973.459999999992]
[null,{"$f":"'Market Data'!B463","v":20011017},{"$f":"'Market Data'!C463","v":6174},{"$f":"'Market Data'!D463","v":6269},{"$f":"'Market Data'!E463","v":6092},{"$f":"'Market Data'!F463","v":6114},null,459,"Hidden","Long",null,1,0,"",null,1,"Stay Long",-525,-68498.459999999992]
[null,{"$f":"'Market Data'!B464","v":20011018},{"$f":"'Market Data'!C464","v":6009},{"$f":"'Market Data'!D464","v":6094},{"$f":"'Market Data'!E464","v":5995.5},{"$f":"'Market Data'!F464","v":6033.5},null,460,"Hidden","Long",null,1,0,"",null,1,"Stay Long",-2817.5,-71315.959999999992]
[null,{"$f":"'Market Data'!B465","v":20011019},{"$f":"'Market Data'!C465","v":6038},{"$f":"'Market Data'!D465","v":6078},{"$f":"'Market Data'!E465","v":5925},{"$f":"'Market Data'!F465","v":5992.5},null,461,"Hidden","Long",null,1,0,"",null,1,"Stay Long",-1435,-72750.959999999992]
[null,{"$f":"'Market Data'!B466","v":20011022},{"$f":"'Market Data'!C466","v":6014},{"$f":"'Market Data'!D466","v":6121},{"$f":"'Market Data'!E466","v":5960},{"$f":"'Market Data'!F466","v":6080},null,462,"Hidden","Long",null,1,0,"",null,1,"Stay Long",3062.5,-69688.459999999992]
[null,{"$f":"'Market Data'!B467","v":20011023},{"$f":"'Market Data'!C467","v":6119},{"$f":"'Market Data'!D467","v":6220},{"$f":"'Market Data'!E467","v":6114},{"$f":"'Market Data'!F467","v":6193.5},null,463,"Hidden","Long",null,1,0,"",null,1,"Stay Long",3972.5,-65715.959999999992]
[null,{"$f":"'Market Data'!B468","v":20011024},{"$f":"'Market Data'!C468","v":6161},{"$f":"'Market Data'!D468","v":6325},{"$f":"'Market Data'!E468","v":6137},{"$f":"'Market Data'!F468","v":6275},null,464,"Hidden","Long",null,1,0,"",null,1,"Stay Long",2852.5,-62863.459999999992]
[null,{"$f":"'Market Data'!B469","v":20011025},{"$f":"'Market Data'!C469","v":6274.5},{"$f":"'Market Data'!D469","v":6359.5},{"$f":"'Market Data'!E469","v":6135},{"$f":"'Market Data'!F469","v":6180.5},null,465,"Hidden","Long",null,1,0,"",null,1,"Stay Long",-3307.5,-66170.959999999992]
[null,{"$f":"'Market Data'!B470","v":20011026},{"$f":"'Market Data'!C470","v":6256},{"$f":"'Market Data'!D470","v":6298.5},{"$f":"'Market Data'!E470","v":6206},{"$f":"'Market Data'!F470","v":6293.5},null,466,"Hidden","Long",null,1,0,"",null,1,"Stay Long",3955,-62215.959999999992]
[null,{"$f":"'Market Data'!B471","v":20011029},{"$f":"'Market Data'!C471","v":6254},{"$f":"'Market Data'!D471","v":6258},{"$f":"'Market Data'!E471","v":6141.5},{"$f":"'Market Data'!F471","v":6154},null,467,"Hidden","Long",null,1,0,"",null,1,"Stay Long",-4882.5,-67098.459999999992]
[null,{"$f":"'Market Data'!B472","v":20011030},{"$f":"'Market Data'!C472","v":6078.5},{"$f":"'Market Data'!D472","v":6093.5},{"$f":"'Market Data'!E472","v":5956.5},{"$f":"'Market Data'!F472","v":6042},null,468,"Hidden","Long",null,1,0,"",null,1,"Stay Long",-3920,-71018.459999999992]
[null,{"$f":"'Market Data'!B473","v":20011031},{"$f":"'Market Data'!C473","v":6011},{"$f":"'Market Data'!D473","v":6109},{"$f":"'Market Data'!E473","v":5934},{"$f":"'Market Data'!F473","v":6032.5},null,469,"Hidden","Long",null,1,0,"",null,1,"Stay Long",-332.5,-71350.959999999992]
[null,{"$f":"'Market Data'!B474","v":20011101},{"$f":"'Market Data'!C474","v":6032},{"$f":"'Market Data'!D474","v":6118},{"$f":"'Market Data'!E474","v":5955.5},{"$f":"'Market Data'!F474","v":6103.5},null,470,"Hidden","Long",null,1,0,"",null,1,"Stay Long",2485,-68865.959999999992]
[null,{"$f":"'Market Data'!B475","v":20011102},{"$f":"'Market Data'!C475","v":6120},{"$f":"'Market Data'!D475","v":6131},{"$f":"'Market Data'!E475","v":6041.5},{"$f":"'Market Data'!F475","v":6047.5},null,471,"Hidden","Long",null,1,0,"",null,1,"Stay Long",-1960,-70825.959999999992]
[null,{"$f":"'Market Data'!B476","v":20011105},{"$f":"'Market Data'!C476","v":6089},{"$f":"'Market Data'!D476","v":6237},{"$f":"'Market Data'!E476","v":6084},{"$f":"'Market Data'!F476","v":6233.5},null,472,"Hidden","Long",null,1,0,"",null,1,"Stay Long",6510,-64315.959999999992]
[null,{"$f":"'Market Data'!B477","v":20011106},{"$f":"'Market Data'!C477","v":6249},{"$f":"'Market Data'!D477","v":6296},{"$f":"'Market Data'!E477","v":6189},{"$f":"'Market Data'!F477","v":6196},null,473,"Hidden","Long",null,1,0,"",null,1,"Stay Long",-1312.5,-65628.459999999992]
[null,{"$f":"'Market Data'!B478","v":20011107},{"$f":"'Market Data'!C478","v":6227},{"$f":"'Market Data'!D478","v":6341},{"$f":"'Market Data'!E478","v":6151},{"$f":"'Market Data'!F478","v":6337},null,474,"Hidden","Long",null,1,0,"",null,1,"Stay Long",4935,-60693.459999999992]
[null,{"$f":"'Market Data'!B479","v":20011108},{"$f":"'Market Data'!C479","v":6310.5},{"$f":"'Market Data'!D479","v":6485},{"$f":"'Market Data'!E479","v":6309},{"$f":"'Market Data'!F479","v":6436},null,475,"Hidden","Long",null,1,0,"",null,1,"Stay Long",3465,-57228.459999999992]
[null,{"$f":"'Market Data'!B480","v":20011109},{"$f":"'Market Data'!C480","v":6387.5},{"$f":"'Market Data'!D480","v":6434},{"$f":"'Market Data'!E480","v":6362},{"$f":"'Market Data'!F480","v":6385.5},null,476,"Hidden","Long",null,1,0,"",null,1,"Stay Long",-1767.5,-58995.959999999992]
[null,{"$f":"'Market Data'!B481","v":20011112},{"$f":"'Market Data'!C481","v":6377},{"$f":"'Market Data'!D481","v":6380.5},{"$f":"'Market Data'!E481","v":6122},{"$f":"'Market Data'!F481","v":6306},null,477,"Hidden","Long",null,1,0,"",null,1,"Stay Long",-2782.5,-61778.459999999992]
[null,{"$f":"'Market Data'!B482","v":20011113},{"$f":"'Market Data'!C482","v":6328.5},{"$f":"'Market Data'!D482","v":6451},{"$f":"'Market Data'!E482","v":6317.5},{"$f":"'Market Data'!F482","v":6427},null,478,"Hidden","Long",null,1,0,"",null,1,"Stay Long",4235,-57543.459999999992]
[null,{"$f":"'Market Data'!B483","v":20011114},{"$f":"'Market Data'!C483","v":6430},{"$f":"'Market Data'!D483","v":6521.5},{"$f":"'Market Data'!E483","v":6411},{"$f":"'Market Data'!F483","v":6423},null,479,"Hidden","Long",null,1,0,"",null,1,"Stay Long",-140,-57683.459999999992]
[null,{"$f":"'Market Data'!B484","v":20011115},{"$f":"'Market Data'!C484","v":6504},{"$f":"'Market Data'!D484","v":6550.5},{"$f":"'Market Data'!E484","v":6438},{"$f":"'Market Data'!F484","v":6500.5},null,480,"Hidden","Long",null,1,0,"",null,1,"Stay Long",2712.5,-54970.959999999992]
[null,{"$f":"'Market Data'!B485","v":20011116},{"$f":"'Market Data'!C485","v":6489.5},{"$f":"'Market Data'!D485","v":6590},{"$f":"'Market Data'!E485","v":6461.5},{"$f":"'Market Data'!F485","v":6512.5},null,481,"Hidden","Long",null,1,0,"",null,1,"Stay Long",420,-54550.959999999992]
[null,{"$f":"'Market Data'!B486","v":20011119},{"$f":"'Market Data'!C486","v":6563},{"$f":"'Market Data'!D486","v":6670.5},{"$f":"'Market Data'!E486","v":6540},{"$f":"'Market Data'!F486","v":6653},null,482,"Hidden","Long",null,1,0,"",null,1,"Stay Long",4917.5,-49633.459999999992]
[null,{"$f":"'Market Data'!B487","v":20011120},{"$f":"'Market Data'!C487","v":6597},{"$f":"'Market Data'!D487","v":6683},{"$f":"'Market Data'!E487","v":6537.5},{"$f":"'Market Data'!F487","v":6591},null,483,"Hidden","Long",null,1,0,"",null,1,"Stay Long",-2170,-51803.459999999992]
[null,{"$f":"'Market Data'!B488","v":20011121},{"$f":"'Market Data'!C488","v":6554},{"$f":"'Market Data'!D488","v":6625},{"$f":"'Market Data'!E488","v":6515},{"$f":"'Market Data'!F488","v":6553.5},null,484,"Hidden","Long",null,1,0,"",null,1,"Stay Long",-1312.5,-53115.959999999992]
[null,{"$f":"'Market Data'!B489","v":20011122},{"$f":"'Market Data'!C489","v":6566},{"$f":"'Market Data'!D489","v":6621},{"$f":"'Market Data'!E489","v":6550},{"$f":"'Market Data'!F489","v":6585.5},null,485,"Hidden","Long",null,1,0,"",null,1,"Stay Long",1120,-51995.959999999992]
[null,{"$f":"'Market Data'!B490","v":20011123},{"$f":"'Market Data'!C490","v":6604},{"$f":"'Market Data'!D490","v":6629},{"$f":"'Market Data'!E490","v":6480},{"$f":"'Market Data'!F490","v":6623},null,486,"Hidden","Long",null,1,0,"",null,1,"Stay Long",1312.5,-50683.459999999992]
[null,{"$f":"'Market Data'!B491","v":20011126},{"$f":"'Market Data'!C491","v":6659},{"$f":"'Market Data'!D491","v":6689},{"$f":"'Market Data'!E491","v":6571.5},{"$f":"'Market Data'!F491","v":6594.5},null,487,"Hidden","Long",null,1,0,"",null,1,"Stay Long",-997.5,-51680.959999999992]
[null,{"$f":"'Market Data'!B492","v":20011127},{"$f":"'Market Data'!C492","v":6588},{"$f":"'Market Data'!D492","v":6616},{"$f":"'Market Data'!E492","v":6432.5},{"$f":"'Market Data'!F492","v":6514.5},null,488,"Hidden","Long",null,1,0,"",null,1,"Stay Long",-2800,-54480.959999999992]
[null,{"$f":"'Market Data'!B493","v":20011128},{"$f":"'Market Data'!C493","v":6449},{"$f":"'Market Data'!D493","v":6483},{"$f":"'Market Data'!E493","v":6379},{"$f":"'Market Data'!F493","v":6395},null,489,"Hidden","Long",null,1,0,"",null,1,"Stay Long",-4182.5,-58663.459999999992]
[null,{"$f":"'Market Data'!B494","v":20011129},{"$f":"'Market Data'!C494","v":6364},{"$f":"'Market Data'!D494","v":6444},{"$f":"'Market Data'!E494","v":6358},{"$f":"'Market Data'!F494","v":6389},null,490,"Hidden","Long",null,1,0,"",null,1,"Stay Long",-210,-58873.459999999992]
[null,{"$f":"'Market Data'!B495","v":20011130},{"$f":"'Market Data'!C495","v":6435},{"$f":"'Market Data'!D495","v":6508.5},{"$f":"'Market Data'!E495","v":6422},{"$f":"'Market Data'!F495","v":6438},null,491,"Hidden","Long",null,1,0,"",null,1,"Stay Long",1715,-57158.459999999992]
[null,{"$f":"'Market Data'!B496","v":20011203},{"$f":"'Market Data'!C496","v":6419},{"$f":"'Market Data'!D496","v":6463.5},{"$f":"'Market Data'!E496","v":6336},{"$f":"'Market Data'!F496","v":6462.5},null,492,"Hidden","Long",null,1,0,"",null,1,"Stay Long",857.5,-56300.959999999992]
[null,{"$f":"'Market Data'!B497","v":20011204},{"$f":"'Market Data'!C497","v":6459.5},{"$f":"'Market Data'!D497","v":6505},{"$f":"'Market Data'!E497","v":6441},{"$f":"'Market Data'!F497","v":6486},null,493,"Hidden","Long",null,1,0,"",null,1,"Stay Long",822.5,-55478.459999999992]
[null,{"$f":"'Market Data'!B498","v":20011205},{"$f":"'Market Data'!C498","v":6564},{"$f":"'Market Data'!D498","v":6749},{"$f":"'Market Data'!E498","v":6562},{"$f":"'Market Data'!F498","v":6733},null,494,"Hidden","Long",null,1,0,"",null,1,"Stay Long",8645,-46833.459999999992]
[null,{"$f":"'Market Data'!B499","v":20011206},{"$f":"'Market Data'!C499","v":6712},{"$f":"'Market Data'!D499","v":6801},{"$f":"'Market Data'!E499","v":6705},{"$f":"'Market Data'!F499","v":6733},null,495,"Hidden","Long",null,1,0,"",null,1,"Stay Long",0,-46833.459999999992]
[null,{"$f":"'Market Data'!B500","v":20011207},{"$f":"'Market Data'!C500","v":6747},{"$f":"'Market Data'!D500","v":6766},{"$f":"'Market Data'!E500","v":6668.5},{"$f":"'Market Data'!F500","v":6681},null,496,"Hidden","Long",null,1,0,"",null,1,"Stay Long",-1820,-48653.459999999992]
[null,{"$f":"'Market Data'!B501","v":20011210},{"$f":"'Market Data'!C501","v":6664},{"$f":"'Market Data'!D501","v":6675},{"$f":"'Market Data'!E501","v":6570.5},{"$f":"'Market Data'!F501","v":6592.5},null,497,"Hidden","Long",null,1,0,"",null,1,"Stay Long",-3097.5,-51750.959999999992]
[null,{"$f":"'Market Data'!B502","v":20011211},{"$f":"'Market Data'!C502","v":6586},{"$f":"'Market Data'!D502","v":6631},{"$f":"'Market Data'!E502","v":6537},{"$f":"'Market Data'!F502","v":6597},null,498,"Hidden","Long",null,1,0,"",null,1,"Stay Long",157.5,-51593.459999999992]
[null,{"$f":"'Market Data'!B503","v":20011212},{"$f":"'Market Data'!C503","v":6612},{"$f":"'Market Data'!D503","v":6655.5},{"$f":"'Market Data'!E503","v":6487},{"$f":"'Market Data'!F503","v":6517.5},null,499,"Hidden","Long",null,1,0,"",null,1,"Stay Long",-2782.5,-54375.959999999992]
[null,{"$f":"'Market Data'!B504","v":20011213},{"$f":"'Market Data'!C504","v":6506.5},{"$f":"'Market Data'!D504","v":6557},{"$f":"'Market Data'!E504","v":6406.5},{"$f":"'Market Data'!F504","v":6417},null,500,"Hidden","Long",null,1,0,"",null,1,"Stay Long",-3517.5,-57893.459999999992]
[null,{"$f":"'Market Data'!B505","v":20011214},{"$f":"'Market Data'!C505","v":6400},{"$f":"'Market Data'!D505","v":6444},{"$f":"'Market Data'!E505","v":6359},{"$f":"'Market Data'!F505","v":6384},null,501,"Hidden","Long",null,1,0,"",null,1,"Stay Long",-1155,-59048.459999999992]
[null,{"$f":"'Market Data'!B506","v":20011217},{"$f":"'Market Data'!C506","v":6390},{"$f":"'Market Data'!D506","v":6560.5},{"$f":"'Market Data'!E506","v":6360.5},{"$f":"'Market Data'!F506","v":6549},null,502,"Hidden","Long",null,1,0,"",null,1,"Stay Long",5775,-53273.459999999992]
[null,{"$f":"'Market Data'!B507","v":20011218},{"$f":"'Market Data'!C507","v":6544},{"$f":"'Market Data'!D507","v":6574.5},{"$f":"'Market Data'!E507","v":6490},{"$f":"'Market Data'!F507","v":6496},null,503,"Hidden","Long",null,1,0,"",null,1,"Stay Long",-1855,-55128.459999999992]
[null,{"$f":"'Market Data'!B508","v":20011219},{"$f":"'Market Data'!C508","v":6466.5},{"$f":"'Market Data'!D508","v":6517},{"$f":"'Market Data'!E508","v":6405},{"$f":"'Market Data'!F508","v":6453.5},null,504,"Hidden","Long",null,1,0,"",null,1,"Stay Long",-1487.5,-56615.959999999992]
[null,{"$f":"'Market Data'!B509","v":20011220},{"$f":"'Market Data'!C509","v":6446.5},{"$f":"'Market Data'!D509","v":6484.5},{"$f":"'Market Data'!E509","v":6377.5},{"$f":"'Market Data'!F509","v":6423},null,505,"Hidden","Long",null,1,0,"",null,1,"Stay Long",-1067.5,-57683.459999999992]
[null,{"$f":"'Market Data'!B510","v":20011221},{"$f":"'Market Data'!C510","v":6356.5},{"$f":"'Market Data'!D510","v":6480},{"$f":"'Market Data'!E510","v":6324.5},{"$f":"'Market Data'!F510","v":6476.5},null,506,"Hidden","Long",null,1,0,"",null,1,"Stay Long",1872.5,-55810.959999999992]
[null,{"$f":"'Market Data'!B511","v":20011227},{"$f":"'Market Data'!C511","v":6541.5},{"$f":"'Market Data'!D511","v":6576.5},{"$f":"'Market Data'!E511","v":6491.5},{"$f":"'Market Data'!F511","v":6576.5},null,507,"Hidden","Long",null,1,0,"",null,1,"Stay Long",3500,-52310.959999999992]
[null,{"$f":"'Market Data'!B512","v":20011228},{"$f":"'Market Data'!C512","v":6576.5},{"$f":"'Market Data'!D512","v":6627.5},{"$f":"'Market Data'!E512","v":6571},{"$f":"'Market Data'!F512","v":6605},null,508,"Hidden","Long",null,1,0,"",null,1,"Stay Long",997.5,-51313.459999999992]
[null,{"$f":"'Market Data'!B513","v":20020102},{"$f":"'Market Data'!C513","v":6596.5},{"$f":"'Market Data'!D513","v":6643.5},{"$f":"'Market Data'!E513","v":6553},{"$f":"'Market Data'!F513","v":6615.5},null,509,"Hidden","Long",null,1,0,"",null,1,"Stay Long",367.5,-50945.959999999992]
[null,{"$f":"'Market Data'!B514","v":20020103},{"$f":"'Market Data'!C514","v":6636.5},{"$f":"'Market Data'!D514","v":6739},{"$f":"'Market Data'!E514","v":6626.5},{"$f":"'Market Data'!F514","v":6730.5},null,510,"Hidden","Long",null,1,0,"",null,1,"Stay Long",4025,-46920.959999999992]
[null,{"$f":"'Market Data'!B515","v":20020104},{"$f":"'Market Data'!C515","v":6764.5},{"$f":"'Market Data'!D515","v":6805.5},{"$f":"'Market Data'!E515","v":6709.5},{"$f":"'Market Data'!F515","v":6746.5},null,511,"Hidden","Long",null,1,{"$f":"$L528-P528","v":0},"",null,1,"Stay Long",560,-46360.959999999992]
[null,{"$f":"'Market Data'!B516","v":20020107},{"$f":"'Market Data'!C516","v":6746.5},{"$f":"'Market Data'!D516","v":6797.5},{"$f":"'Market Data'!E516","v":6668.5},{"$f":"'Market Data'!F516","v":6675.5},null,512,"Hidden","Long",null,1,0,"",null,{"$f":"IF($N528=\"Fill\",$L528,$P528)","v":1},"Stay Long",{"$f":"IF(OR($P528&$L528=\"01\",$P528&$L528=\"0-1\"),(($F529-$C529)*$R$3*$L528)-(ABS($M528)*$R$4),IF(OR($P528&$L528=\"10\",$P528&$L528=\"-10\"),(($C529-$F528)*$R$3*$P528)-(ABS($M528)*$R$4),IF(OR($P528&$L528=\"1-1\",$P528&$L528=\"-11\"),(($C529-$F528)*$R$3*$P528)-(ABS($M528)*$R$4)+(($F529-$C529)*$R$3*$P529),IF(OR($P528&$L528=\"11\",$P528&$L528=\"-1-1\"),(($F529-$F528)*$R$3*$P529),0))))","v":-2485},-48845.959999999992]
[null,{"$f":"'Market Data'!B517","v":20020108},{"$f":"'Market Data'!C517","v":6655.5},{"$f":"'Market Data'!D517","v":6709.5},{"$f":"'Market Data'!E517","v":6632},{"$f":"'Market Data'!F517","v":6680},null,{"$f":"ROW()-ROW(H$17)","v":513},"Hidden",{"$f":"$I$4","v":"Long"},null,1,0,{"$f":"IF(NOT($M530=0),\"Fill\",\"\")","v":""},null,1,{"$f":"IF($P529&$L529=\"00\",\"Stay Flat\",IF($P529&$L529=\"01\",\"Go Long\",IF($P529&$L529=\"0-1\",\"Go Short\",IF($P529&$L529=\"-10\",\"Exit Short\",IF($P529&$L529=\"-1-1\",\"Stay Short\",IF($P529&$L529=\"-11\",\"Exit Short, Go Long\",IF($P529&$L529=\"10\",\"Exit Long\",IF($P529&$L529=\"1-1\",\"Exit Long, Go Short\",IF($P529&$L529=\"11\",\"Stay Long\",\"\")))))))))","v":"Stay Long"},157.5,{"$f":"S529+R530","v":-48688.459999999992}]
[null,{"$f":"'Market Data'!B518","v":20020109},{"$f":"'Market Data'!C518","v":6680.5},{"$f":"'Market Data'!D518","v":6754.5},{"$f":"'Market Data'!E518","v":6627},{"$f":"'Market Data'!F518","v":6744.5},null,514,"Hidden","Long",null,{"$f":"IF($J531=\"Short\",-1,IF($J531=\"Long\",1,0))","v":1},0,"",null,1,"Stay Long",2257.5,-46430.959999999992]
[null,{"$f":"'Market Data'!B519","v":20020110},{"$f":"'Market Data'!C519","v":6676.5},{"$f":"'Market Data'!D519","v":6699.5},{"$f":"'Market Data'!E519","v":6618},{"$f":"'Market Data'!F519","v":6669.5},null,515,"Hidden","Long",null,1,0,"",null,1,"Stay Long",-2625,-49055.959999999992]
[null,{"$f":"'Market Data'!B520","v":20020111},{"$f":"'Market Data'!C520","v":6663.5},{"$f":"'Market Data'!D520","v":6719.5},{"$f":"'Market Data'!E520","v":6633},{"$f":"'Market Data'!F520","v":6663.5},null,516,"Hidden","Long",null,1,0,"",null,1,"Stay Long",-210,-49265.959999999992]
[null,{"$f":"'Market Data'!B521","v":20020114},{"$f":"'Market Data'!C521","v":6635.5},{"$f":"'Market Data'!D521","v":6636.5},{"$f":"'Market Data'!E521","v":6499},{"$f":"'Market Data'!F521","v":6513.5},null,517,"Hidden","Long",null,1,0,"",null,1,"Stay Long",-5250,-54515.959999999992]
[null,{"$f":"'Market Data'!B522","v":20020115},{"$f":"'Market Data'!C522","v":6506.5},{"$f":"'Market Data'!D522","v":6553.5},{"$f":"'Market Data'!E522","v":6473.5},{"$f":"'Market Data'!F522","v":6514},null,518,"Hidden","Long",null,1,0,"",null,1,"Stay Long",17.5,-54498.459999999992]
[null,{"$f":"'Market Data'!B523","v":20020116},{"$f":"'Market Data'!C523","v":6484.5},{"$f":"'Market Data'!D523","v":6498},{"$f":"'Market Data'!E523","v":6416.5},{"$f":"'Market Data'!F523","v":6434.5},null,519,"Hidden","Long",null,1,0,"",null,1,"Stay Long",-2782.5,-57280.959999999992]
[null,{"$f":"'Market Data'!B524","v":20020117},{"$f":"'Market Data'!C524","v":6462.5},{"$f":"'Market Data'!D524","v":6581},{"$f":"'Market Data'!E524","v":6456},{"$f":"'Market Data'!F524","v":6571.5},null,520,"Hidden","Long",null,1,0,"",null,1,"Stay Long",4795,-52485.959999999992]
[null,{"$f":"'Market Data'!B525","v":20020118},{"$f":"'Market Data'!C525","v":6516.5},{"$f":"'Market Data'!D525","v":6579},{"$f":"'Market Data'!E525","v":6505.5},{"$f":"'Market Data'!F525","v":6557},null,521,"Hidden","Long",null,1,0,"",null,1,"Stay Long",-507.5,-52993.459999999992]
[null,{"$f":"'Market Data'!B526","v":20020121},{"$f":"'Market Data'!C526","v":6556.5},{"$f":"'Market Data'!D526","v":6559.5},{"$f":"'Market Data'!E526","v":6463.5},{"$f":"'Market Data'!F526","v":6516.5},null,522,"Hidden","Long",null,1,0,"",null,1,"Stay Long",-1417.5,-54410.959999999992]
[null,{"$f":"'Market Data'!B527","v":20020122},{"$f":"'Market Data'!C527","v":6485.5},{"$f":"'Market Data'!D527","v":6578},{"$f":"'Market Data'!E527","v":6470},{"$f":"'Market Data'!F527","v":6478.5},null,523,"Hidden","Long",null,1,0,"",null,1,"Stay Long",-1330,-55740.959999999992]
[null,{"$f":"'Market Data'!B528","v":20020123},{"$f":"'Market Data'!C528","v":6471.5},{"$f":"'Market Data'!D528","v":6612},{"$f":"'Market Data'!E528","v":6436.5},{"$f":"'Market Data'!F528","v":6606.5},null,524,"Hidden","Long",null,1,0,"",null,1,"Stay Long",4480,-51260.959999999992]
[null,{"$f":"'Market Data'!B529","v":20020124},{"$f":"'Market Data'!C529","v":6601.5},{"$f":"'Market Data'!D529","v":6660.5},{"$f":"'Market Data'!E529","v":6586},{"$f":"'Market Data'!F529","v":6607.5},null,525,"Hidden","Long",null,1,0,"",null,1,"Stay Long",35,-51225.959999999992]
[null,{"$f":"'Market Data'!B530","v":20020125},{"$f":"'Market Data'!C530","v":6607.5},{"$f":"'Market Data'!D530","v":6613},{"$f":"'Market Data'!E530","v":6520},{"$f":"'Market Data'!F530","v":6596.5},null,526,"Hidden","Long",null,1,0,"",null,1,"Stay Long",-385,-51610.959999999992]
[null,{"$f":"'Market Data'!B531","v":20020128},{"$f":"'Market Data'!C531","v":6601.5},{"$f":"'Market Data'!D531","v":6644},{"$f":"'Market Data'!E531","v":6568.5},{"$f":"'Market Data'!F531","v":6586.5},null,527,"Hidden","Long",null,1,0,"",null,1,"Stay Long",-350,-51960.959999999992]
[null,{"$f":"'Market Data'!B532","v":20020129},{"$f":"'Market Data'!C532","v":6626.5},{"$f":"'Market Data'!D532","v":6645.5},{"$f":"'Market Data'!E532","v":6509},{"$f":"'Market Data'!F532","v":6512.5},null,528,"Hidden","Long",null,1,0,"",null,1,"Stay Long",-2590,-54550.959999999992]
[null,{"$f":"'Market Data'!B533","v":20020130},{"$f":"'Market Data'!C533","v":6461.5},{"$f":"'Market Data'!D533","v":6506},{"$f":"'Market Data'!E533","v":6419.5},{"$f":"'Market Data'!F533","v":6505},null,529,"Hidden","Long",null,1,0,"",null,1,"Stay Long",-262.5,-54813.459999999992]
[null,{"$f":"'Market Data'!B534","v":20020131},{"$f":"'Market Data'!C534","v":6541.5},{"$f":"'Market Data'!D534","v":6556.5},{"$f":"'Market Data'!E534","v":6489.5},{"$f":"'Market Data'!F534","v":6551},null,530,"Hidden","Long",null,1,0,"",null,1,"Stay Long",1610,-53203.459999999992]
[null,{"$f":"'Market Data'!B535","v":20020201},{"$f":"'Market Data'!C535","v":6561.5},{"$f":"'Market Data'!D535","v":6602.5},{"$f":"'Market Data'!E535","v":6512.5},{"$f":"'Market Data'!F535","v":6534.5},null,531,"Hidden","Long",null,1,0,"",null,1,"Stay Long",-577.5,-53780.959999999992]
[null,{"$f":"'Market Data'!B536","v":20020204},{"$f":"'Market Data'!C536","v":6531.5},{"$f":"'Market Data'!D536","v":6531.5},{"$f":"'Market Data'!E536","v":6425.5},{"$f":"'Market Data'!F536","v":6441.5},null,532,"Hidden","Long",null,1,0,"",null,1,"Stay Long",-3255,-57035.959999999992]
[null,{"$f":"'Market Data'!B537","v":20020205},{"$f":"'Market Data'!C537","v":6382.5},{"$f":"'Market Data'!D537","v":6411},{"$f":"'Market Data'!E537","v":6306.5},{"$f":"'Market Data'!F537","v":6366},null,533,"Hidden","Long",null,1,0,"",null,1,"Stay Long",-2642.5,-59678.459999999992]
[null,{"$f":"'Market Data'!B538","v":20020206},{"$f":"'Market Data'!C538","v":6354},{"$f":"'Market Data'!D538","v":6382.5},{"$f":"'Market Data'!E538","v":6211},{"$f":"'Market Data'!F538","v":6236.5},null,534,"Hidden","Long",null,1,0,"",null,1,"Stay Long",-4532.5,-64210.959999999992]
[null,{"$f":"'Market Data'!B539","v":20020207},{"$f":"'Market Data'!C539","v":6216},{"$f":"'Market Data'!D539","v":6308.5},{"$f":"'Market Data'!E539","v":6160.5},{"$f":"'Market Data'!F539","v":6290.5},null,535,"Hidden","Long",null,1,0,"",null,1,"Stay Long",1890,-62320.959999999992]
[null,{"$f":"'Market Data'!B540","v":20020208},{"$f":"'Market Data'!C540","v":6265},{"$f":"'Market Data'!D540","v":6326},{"$f":"'Market Data'!E540","v":6244},{"$f":"'Market Data'!F540","v":6245},null,536,"Hidden","Long",null,1,0,"",null,1,"Stay Long",-1592.5,-63913.459999999992]
[null,{"$f":"'Market Data'!B541","v":20020211},{"$f":"'Market Data'!C541","v":6331.5},{"$f":"'Market Data'!D541","v":6380},{"$f":"'Market Data'!E541","v":6301.5},{"$f":"'Market Data'!F541","v":6378},null,537,"Hidden","Long",null,1,0,"",null,1,"Stay Long",4655,-59258.459999999992]
[null,{"$f":"'Market Data'!B542","v":20020212},{"$f":"'Market Data'!C542","v":6391.5},{"$f":"'Market Data'!D542","v":6405},{"$f":"'Market Data'!E542","v":6288.5},{"$f":"'Market Data'!F542","v":6301},null,538,"Hidden","Long",null,1,0,"",null,1,"Stay Long",-2695,-61953.459999999992]
[null,{"$f":"'Market Data'!B543","v":20020213},{"$f":"'Market Data'!C543","v":6341.5},{"$f":"'Market Data'!D543","v":6378.5},{"$f":"'Market Data'!E543","v":6262.5},{"$f":"'Market Data'!F543","v":6363.5},null,539,"Hidden","Long",null,1,0,"",null,1,"Stay Long",2187.5,-59765.959999999992]
[null,{"$f":"'Market Data'!B544","v":20020214},{"$f":"'Market Data'!C544","v":6381.5},{"$f":"'Market Data'!D544","v":6423.5},{"$f":"'Market Data'!E544","v":6343},{"$f":"'Market Data'!F544","v":6398.5},null,540,"Hidden","Long",null,1,0,"",null,1,"Stay Long",1225,-58540.959999999992]
[null,{"$f":"'Market Data'!B545","v":20020215},{"$f":"'Market Data'!C545","v":6391.5},{"$f":"'Market Data'!D545","v":6400},{"$f":"'Market Data'!E545","v":6279.5},{"$f":"'Market Data'!F545","v":6283},null,541,"Hidden","Long",null,1,0,"",null,1,"Stay Long",-4042.5,-62583.459999999992]
[null,{"$f":"'Market Data'!B546","v":20020218},{"$f":"'Market Data'!C546","v":6289.5},{"$f":"'Market Data'!D546","v":6326.5},{"$f":"'Market Data'!E546","v":6267.5},{"$f":"'Market Data'!F546","v":6276.5},null,542,"Hidden","Long",null,1,0,"",null,1,"Stay Long",-227.5,-62810.959999999992]
[null,{"$f":"'Market Data'!B547","v":20020219},{"$f":"'Market Data'!C547","v":6246.5},{"$f":"'Market Data'!D547","v":6255},{"$f":"'Market Data'!E547","v":6185.5},{"$f":"'Market Data'!F547","v":6203.5},null,543,"Hidden","Long",null,1,0,"",null,1,"Stay Long",-2555,-65365.959999999992]
[null,{"$f":"'Market Data'!B548","v":20020220},{"$f":"'Market Data'!C548","v":6191.5},{"$f":"'Market Data'!D548","v":6233},{"$f":"'Market Data'!E548","v":6131.5},{"$f":"'Market Data'!F548","v":6211},null,544,"Hidden","Long",null,1,0,"",null,1,"Stay Long",262.5,-65103.459999999992]
[null,{"$f":"'Market Data'!B549","v":20020221},{"$f":"'Market Data'!C549","v":6264},{"$f":"'Market Data'!D549","v":6295.5},{"$f":"'Market Data'!E549","v":6215.5},{"$f":"'Market Data'!F549","v":6256.5},null,545,"Hidden","Long",null,1,0,"",null,1,"Stay Long",1592.5,-63510.959999999992]
[null,{"$f":"'Market Data'!B550","v":20020222},{"$f":"'Market Data'!C550","v":6196.5},{"$f":"'Market Data'!D550","v":6213},{"$f":"'Market Data'!E550","v":6157},{"$f":"'Market Data'!F550","v":6169.5},null,546,"Hidden","Long",null,1,0,"",null,1,"Stay Long",-3045,-66555.959999999992]
[null,{"$f":"'Market Data'!B551","v":20020225},{"$f":"'Market Data'!C551","v":6202},{"$f":"'Market Data'!D551","v":6299},{"$f":"'Market Data'!E551","v":6153},{"$f":"'Market Data'!F551","v":6294},null,547,"Hidden","Long",null,1,0,"",null,1,"Stay Long",4357.5,-62198.459999999992]
[null,{"$f":"'Market Data'!B552","v":20020226},{"$f":"'Market Data'!C552","v":6304.5},{"$f":"'Market Data'!D552","v":6362},{"$f":"'Market Data'!E552","v":6285},{"$f":"'Market Data'!F552","v":6327},null,548,"Hidden","Long",null,1,0,"",null,1,"Stay Long",1155,-61043.459999999992]
[null,{"$f":"'Market Data'!B553","v":20020227},{"$f":"'Market Data'!C553","v":6352.5},{"$f":"'Market Data'!D553","v":6433.5},{"$f":"'Market Data'!E553","v":6349},{"$f":"'Market Data'!F553","v":6382.5},null,549,"Hidden","Long",null,1,0,"",null,1,"Stay Long",1942.5,-59100.959999999992]
[null,{"$f":"'Market Data'!B554","v":20020228},{"$f":"'Market Data'!C554","v":6365.5},{"$f":"'Market Data'!D554","v":6498.5},{"$f":"'Market Data'!E554","v":6348},{"$f":"'Market Data'!F554","v":6476.5},null,550,"Hidden","Long",null,1,0,"",null,1,"Stay Long",3290,-55810.959999999992]
[null,{"$f":"'Market Data'!B555","v":20020301},{"$f":"'Market Data'!C555","v":6436.5},{"$f":"'Market Data'!D555","v":6541},{"$f":"'Market Data'!E555","v":6432},{"$f":"'Market Data'!F555","v":6536.5},null,551,"Hidden","Long",null,1,0,"",null,1,"Stay Long",2100,-53710.959999999992]
[null,{"$f":"'Market Data'!B556","v":20020304},{"$f":"'Market Data'!C556","v":6587},{"$f":"'Market Data'!D556","v":6688.5},{"$f":"'Market Data'!E556","v":6582.5},{"$f":"'Market Data'!F556","v":6661.5},null,552,"Hidden","Long",null,1,0,"",null,1,"Stay Long",4375,-49335.959999999992]
[null,{"$f":"'Market Data'!B557","v":20020305},{"$f":"'Market Data'!C557","v":6667.5},{"$f":"'Market Data'!D557","v":6707.5},{"$f":"'Market Data'!E557","v":6629.5},{"$f":"'Market Data'!F557","v":6645.5},null,553,"Hidden","Long",null,1,0,"",null,1,"Stay Long",-560,-49895.959999999992]
[null,{"$f":"'Market Data'!B558","v":20020306},{"$f":"'Market Data'!C558","v":6643},{"$f":"'Market Data'!D558","v":6720.5},{"$f":"'Market Data'!E558","v":6618.5},{"$f":"'Market Data'!F558","v":6712.5},null,554,"Hidden","Long",null,1,0,"",null,1,"Stay Long",2345,-47550.959999999992]
[null,{"$f":"'Market Data'!B559","v":20020307},{"$f":"'Market Data'!C559","v":6752.5},{"$f":"'Market Data'!D559","v":6790.5},{"$f":"'Market Data'!E559","v":6685},{"$f":"'Market Data'!F559","v":6698.5},null,555,"Hidden","Long",null,1,0,"",null,1,"Stay Long",-490,-48040.959999999992]
[null,{"$f":"'Market Data'!B560","v":20020308},{"$f":"'Market Data'!C560","v":6726.5},{"$f":"'Market Data'!D560","v":6797.5},{"$f":"'Market Data'!E560","v":6709},{"$f":"'Market Data'!F560","v":6772.5},null,556,"Hidden","Long",null,1,0,"",null,1,"Stay Long",2590,-45450.959999999992]
[null,{"$f":"'Market Data'!B561","v":20020311},{"$f":"'Market Data'!C561","v":6754.5},{"$f":"'Market Data'!D561","v":6820.5},{"$f":"'Market Data'!E561","v":6718},{"$f":"'Market Data'!F561","v":6779.5},null,557,"Hidden","Long",null,1,0,"",null,1,"Stay Long",245,-45205.959999999992]
[null,{"$f":"'Market Data'!B562","v":20020312},{"$f":"'Market Data'!C562","v":6750.5},{"$f":"'Market Data'!D562","v":6752.5},{"$f":"'Market Data'!E562","v":6663},{"$f":"'Market Data'!F562","v":6710.5},null,558,"Hidden","Long",null,1,0,"",null,1,"Stay Long",-2415,-47620.959999999992]
[null,{"$f":"'Market Data'!B563","v":20020313},{"$f":"'Market Data'!C563","v":6696.5},{"$f":"'Market Data'!D563","v":6757},{"$f":"'Market Data'!E563","v":6652.5},{"$f":"'Market Data'!F563","v":6652.5},null,559,"Hidden","Long",null,1,0,"",null,1,"Stay Long",-2030,-49650.959999999992]
[null,{"$f":"'Market Data'!B564","v":20020314},{"$f":"'Market Data'!C564","v":6663.5},{"$f":"'Market Data'!D564","v":6709.5},{"$f":"'Market Data'!E564","v":6651},{"$f":"'Market Data'!F564","v":6702},null,560,"Hidden","Long",null,1,0,"",null,1,"Stay Long",1732.5,-47918.459999999992]
[null,{"$f":"'Market Data'!B565","v":20020315},{"$f":"'Market Data'!C565","v":6691.5},{"$f":"'Market Data'!D565","v":6814},{"$f":"'Market Data'!E565","v":6666.5},{"$f":"'Market Data'!F565","v":6803.5},null,561,"Hidden","Long",null,1,0,"",null,1,"Stay Long",3552.5,-44365.959999999992]
[null,{"$f":"'Market Data'!B566","v":20020318},{"$f":"'Market Data'!C566","v":6806.5},{"$f":"'Market Data'!D566","v":6884},{"$f":"'Market Data'!E566","v":6802.5},{"$f":"'Market Data'!F566","v":6839},null,562,"Hidden","Long",null,1,0,"",null,1,"Stay Long",1242.5,-43123.459999999992]
[null,{"$f":"'Market Data'!B567","v":20020319},{"$f":"'Market Data'!C567","v":6844.5},{"$f":"'Market Data'!D567","v":6886.5},{"$f":"'Market Data'!E567","v":6829.5},{"$f":"'Market Data'!F567","v":6881},null,563,"Hidden","Long",null,1,0,"",null,1,"Stay Long",1470,-41653.459999999992]
[null,{"$f":"'Market Data'!B568","v":20020320},{"$f":"'Market Data'!C568","v":6854.5},{"$f":"'Market Data'!D568","v":6861},{"$f":"'Market Data'!E568","v":6768.5},{"$f":"'Market Data'!F568","v":6778},null,564,"Hidden","Long",null,1,0,"",null,1,"Stay Long",-3605,-45258.459999999992]
[null,{"$f":"'Market Data'!B569","v":20020321},{"$f":"'Market Data'!C569","v":6756.5},{"$f":"'Market Data'!D569","v":6802.5},{"$f":"'Market Data'!E569","v":6723.5},{"$f":"'Market Data'!F569","v":6770},null,565,"Hidden","Long",null,1,0,"",null,1,"Stay Long",-280,-45538.459999999992]
[null,{"$f":"'Market Data'!B570","v":20020322},{"$f":"'Market Data'!C570","v":6800.5},{"$f":"'Market Data'!D570","v":6818.5},{"$f":"'Market Data'!E570","v":6743.5},{"$f":"'Market Data'!F570","v":6768.5},null,566,"Hidden","Long",null,1,0,"",null,1,"Stay Long",-52.5,-45590.959999999992]
[null,{"$f":"'Market Data'!B571","v":20020325},{"$f":"'Market Data'!C571","v":6772},{"$f":"'Market Data'!D571","v":6816.5},{"$f":"'Market Data'!E571","v":6718.5},{"$f":"'Market Data'!F571","v":6735},null,567,"Hidden","Long",null,1,0,"",null,1,"Stay Long",-1172.5,-46763.459999999992]
[null,{"$f":"'Market Data'!B572","v":20020326},{"$f":"'Market Data'!C572","v":6711.5},{"$f":"'Market Data'!D572","v":6813},{"$f":"'Market Data'!E572","v":6707.5},{"$f":"'Market Data'!F572","v":6794},null,568,"Hidden","Long",null,1,0,"",null,1,"Stay Long",2065,-44698.459999999992]
[null,{"$f":"'Market Data'!B573","v":20020327},{"$f":"'Market Data'!C573","v":6792},{"$f":"'Market Data'!D573","v":6801},{"$f":"'Market Data'!E573","v":6743.5},{"$f":"'Market Data'!F573","v":6758.5},null,569,"Hidden","Long",null,1,0,"",null,1,"Stay Long",-1242.5,-45940.959999999992]
[null,{"$f":"'Market Data'!B574","v":20020328},{"$f":"'Market Data'!C574","v":6762.5},{"$f":"'Market Data'!D574","v":6836.5},{"$f":"'Market Data'!E574","v":6761.5},{"$f":"'Market Data'!F574","v":6762.5},null,570,"Hidden","Long",null,1,0,"",null,1,"Stay Long",140,-45800.959999999992]
[null,{"$f":"'Market Data'!B575","v":20020402},{"$f":"'Market Data'!C575","v":6776.5},{"$f":"'Market Data'!D575","v":6785.5},{"$f":"'Market Data'!E575","v":6698},{"$f":"'Market Data'!F575","v":6715.5},null,571,"Hidden","Long",null,1,0,"",null,1,"Stay Long",-1645,-47445.959999999992]
[null,{"$f":"'Market Data'!B576","v":20020403},{"$f":"'Market Data'!C576","v":6712.5},{"$f":"'Market Data'!D576","v":6730.5},{"$f":"'Market Data'!E576","v":6672},{"$f":"'Market Data'!F576","v":6688.5},null,572,"Hidden","Long",null,1,0,"",null,1,"Stay Long",-945,-48390.959999999992]
[null,{"$f":"'Market Data'!B577","v":20020404},{"$f":"'Market Data'!C577","v":6673.5},{"$f":"'Market Data'!D577","v":6697},{"$f":"'Market Data'!E577","v":6618},{"$f":"'Market Data'!F577","v":6652.5},null,573,"Hidden","Long",null,1,0,"",null,1,"Stay Long",-1260,-49650.959999999992]
[null,{"$f":"'Market Data'!B578","v":20020405},{"$f":"'Market Data'!C578","v":6659.5},{"$f":"'Market Data'!D578","v":6701},{"$f":"'Market Data'!E578","v":6641},{"$f":"'Market Data'!F578","v":6664.5},null,574,"Hidden","Long",null,1,0,"",null,1,"Stay Long",420,-49230.959999999992]
[null,{"$f":"'Market Data'!B579","v":20020408},{"$f":"'Market Data'!C579","v":6660},{"$f":"'Market Data'!D579","v":6663.5},{"$f":"'Market Data'!E579","v":6531.5},{"$f":"'Market Data'!F579","v":6576.5},null,575,"Hidden","Long",null,1,{"$f":"$L592-P592","v":0},"",null,1,"Stay Long",-3080,-52310.959999999992]
[null,{"$f":"'Market Data'!B580","v":20020409},{"$f":"'Market Data'!C580","v":6619},{"$f":"'Market Data'!D580","v":6634.5},{"$f":"'Market Data'!E580","v":6559.5},{"$f":"'Market Data'!F580","v":6563.5},null,576,"Hidden","Long",null,1,0,"",null,{"$f":"IF($N592=\"Fill\",$L592,$P592)","v":1},"Stay Long",{"$f":"IF(OR($P592&$L592=\"01\",$P592&$L592=\"0-1\"),(($F593-$C593)*$R$3*$L592)-(ABS($M592)*$R$4),IF(OR($P592&$L592=\"10\",$P592&$L592=\"-10\"),(($C593-$F592)*$R$3*$P592)-(ABS($M592)*$R$4),IF(OR($P592&$L592=\"1-1\",$P592&$L592=\"-11\"),(($C593-$F592)*$R$3*$P592)-(ABS($M592)*$R$4)+(($F593-$C593)*$R$3*$P593),IF(OR($P592&$L592=\"11\",$P592&$L592=\"-1-1\"),(($F593-$F592)*$R$3*$P593),0))))","v":-455},-52765.959999999992]
[null,{"$f":"'Market Data'!B581","v":20020410},{"$f":"'Market Data'!C581","v":6556},{"$f":"'Market Data'!D581","v":6680},{"$f":"'Market Data'!E581","v":6539},{"$f":"'Market Data'!F581","v":6666.5},null,{"$f":"ROW()-ROW(H$17)","v":577},"Hidden",{"$f":"$I$4","v":"Long"},null,1,0,{"$f":"IF(NOT($M594=0),\"Fill\",\"\")","v":""},null,1,{"$f":"IF($P593&$L593=\"00\",\"Stay Flat\",IF($P593&$L593=\"01\",\"Go Long\",IF($P593&$L593=\"0-1\",\"Go Short\",IF($P593&$L593=\"-10\",\"Exit Short\",IF($P593&$L593=\"-1-1\",\"Stay Short\",IF($P593&$L593=\"-11\",\"Exit Short, Go Long\",IF($P593&$L593=\"10\",\"Exit Long\",IF($P593&$L593=\"1-1\",\"Exit Long, Go Short\",IF($P593&$L593=\"11\",\"Stay Long\",\"\")))))))))","v":"Stay Long"},3605,{"$f":"S593+R594","v":-49160.959999999992}]
[null,{"$f":"'Market Data'!B582","v":20020411},{"$f":"'Market Data'!C582","v":6671.5},{"$f":"'Market Data'!D582","v":6692},{"$f":"'Market Data'!E582","v":6562.5},{"$f":"'Market Data'!F582","v":6584},null,578,"Hidden","Long",null,{"$f":"IF($J595=\"Short\",-1,IF($J595=\"Long\",1,0))","v":1},0,"",null,1,"Stay Long",-2887.5,-52048.459999999992]
[null,{"$f":"'Market Data'!B583","v":20020412},{"$f":"'Market Data'!C583","v":6582.5},{"$f":"'Market Data'!D583","v":6614.5},{"$f":"'Market Data'!E583","v":6549.5},{"$f":"'Market Data'!F583","v":6578},null,579,"Hidden","Long",null,1,0,"",null,1,"Stay Long",-210,-52258.459999999992]
[null,{"$f":"'Market Data'!B584","v":20020415},{"$f":"'Market Data'!C584","v":6596.5},{"$f":"'Market Data'!D584","v":6641},{"$f":"'Market Data'!E584","v":6565.5},{"$f":"'Market Data'!F584","v":6629.5},null,580,"Hidden","Long",null,1,0,"",null,1,"Stay Long",1802.5,-50455.959999999992]
[null,{"$f":"'Market Data'!B585","v":20020416},{"$f":"'Market Data'!C585","v":6654.5},{"$f":"'Market Data'!D585","v":6742},{"$f":"'Market Data'!E585","v":6654},{"$f":"'Market Data'!F585","v":6733.5},null,581,"Hidden","Long",null,1,0,"",null,1,"Stay Long",3640,-46815.959999999992]
[null,{"$f":"'Market Data'!B586","v":20020417},{"$f":"'Market Data'!C586","v":6764},{"$f":"'Market Data'!D586","v":6777},{"$f":"'Market Data'!E586","v":6710.5},{"$f":"'Market Data'!F586","v":6714},null,582,"Hidden","Long",null,1,0,"",null,1,"Stay Long",-682.5,-47498.459999999992]
[null,{"$f":"'Market Data'!B587","v":20020418},{"$f":"'Market Data'!C587","v":6722.5},{"$f":"'Market Data'!D587","v":6775},{"$f":"'Market Data'!E587","v":6593.5},{"$f":"'Market Data'!F587","v":6654},null,583,"Hidden","Long",null,1,0,"",null,1,"Stay Long",-2100,-49598.459999999992]
[null,{"$f":"'Market Data'!B588","v":20020419},{"$f":"'Market Data'!C588","v":6646.5},{"$f":"'Market Data'!D588","v":6691.5},{"$f":"'Market Data'!E588","v":6619.5},{"$f":"'Market Data'!F588","v":6674.5},null,584,"Hidden","Long",null,1,0,"",null,1,"Stay Long",717.5,-48880.959999999992]
[null,{"$f":"'Market Data'!B589","v":20020422},{"$f":"'Market Data'!C589","v":6675.5},{"$f":"'Market Data'!D589","v":6676},{"$f":"'Market Data'!E589","v":6570.5},{"$f":"'Market Data'!F589","v":6615.5},null,585,"Hidden","Long",null,1,0,"",null,1,"Stay Long",-2065,-50945.959999999992]
[null,{"$f":"'Market Data'!B590","v":20020423},{"$f":"'Market Data'!C590","v":6638},{"$f":"'Market Data'!D590","v":6644.5},{"$f":"'Market Data'!E590","v":6543},{"$f":"'Market Data'!F590","v":6589.5},null,586,"Hidden","Long",null,1,0,"",null,1,"Stay Long",-910,-51855.959999999992]
[null,{"$f":"'Market Data'!B591","v":20020424},{"$f":"'Market Data'!C591","v":6588.5},{"$f":"'Market Data'!D591","v":6618.5},{"$f":"'Market Data'!E591","v":6538.5},{"$f":"'Market Data'!F591","v":6559.5},null,587,"Hidden","Long",null,1,0,"",null,1,"Stay Long",-1050,-52905.959999999992]
[null,{"$f":"'Market Data'!B592","v":20020425},{"$f":"'Market Data'!C592","v":6546.5},{"$f":"'Market Data'!D592","v":6550.5},{"$f":"'Market Data'!E592","v":6402},{"$f":"'Market Data'!F592","v":6432},null,588,"Hidden","Long",null,1,0,"",null,1,"Stay Long",-4462.5,-57368.459999999992]
[null,{"$f":"'Market Data'!B593","v":20020426},{"$f":"'Market Data'!C593","v":6471.5},{"$f":"'Market Data'!D593","v":6494.5},{"$f":"'Market Data'!E593","v":6376},{"$f":"'Market Data'!F593","v":6389.5},null,589,"Hidden","Long",null,1,0,"",null,1,"Stay Long",-1487.5,-58855.959999999992]
[null,{"$f":"'Market Data'!B594","v":20020429},{"$f":"'Market Data'!C594","v":6381.5},{"$f":"'Market Data'!D594","v":6397},{"$f":"'Market Data'!E594","v":6335.5},{"$f":"'Market Data'!F594","v":6379.5},null,590,"Hidden","Long",null,1,0,"",null,1,"Stay Long",-350,-59205.959999999992]
[null,{"$f":"'Market Data'!B595","v":20020430},{"$f":"'Market Data'!C595","v":6377.5},{"$f":"'Market Data'!D595","v":6431.5},{"$f":"'Market Data'!E595","v":6320},{"$f":"'Market Data'!F595","v":6427},null,591,"Hidden","Long",null,1,0,"",null,1,"Stay Long",1662.5,-57543.459999999992]
[null,{"$f":"'Market Data'!B596","v":20020502},{"$f":"'Market Data'!C596","v":6427.5},{"$f":"'Market Data'!D596","v":6447.5},{"$f":"'Market Data'!E596","v":6343.5},{"$f":"'Market Data'!F596","v":6351},null,592,"Hidden","Long",null,1,0,"",null,1,"Stay Long",-2660,-60203.459999999992]
[null,{"$f":"'Market Data'!B597","v":20020503},{"$f":"'Market Data'!C597","v":6335.5},{"$f":"'Market Data'!D597","v":6412.5},{"$f":"'Market Data'!E597","v":6267.5},{"$f":"'Market Data'!F597","v":6275.5},null,593,"Hidden","Long",null,1,0,"",null,1,"Stay Long",-2642.5,-62845.959999999992]
[null,{"$f":"'Market Data'!B598","v":20020506},{"$f":"'Market Data'!C598","v":6285.5},{"$f":"'Market Data'!D598","v":6315.5},{"$f":"'Market Data'!E598","v":6264.5},{"$f":"'Market Data'!F598","v":6286.5},null,594,"Hidden","Long",null,1,0,"",null,1,"Stay Long",385,-62460.959999999992]
[null,{"$f":"'Market Data'!B599","v":20020507},{"$f":"'Market Data'!C599","v":6229.5},{"$f":"'Market Data'!D599","v":6281},{"$f":"'Market Data'!E599","v":6160},{"$f":"'Market Data'!F599","v":6264},null,595,"Hidden","Long",null,1,0,"",null,1,"Stay Long",-787.5,-63248.459999999992]
[null,{"$f":"'Market Data'!B600","v":20020508},{"$f":"'Market Data'!C600","v":6297.5},{"$f":"'Market Data'!D600","v":6414},{"$f":"'Market Data'!E600","v":6297.5},{"$f":"'Market Data'!F600","v":6401.5},null,596,"Hidden","Long",null,1,0,"",null,1,"Stay Long",4812.5,-58435.959999999992]
[null,{"$f":"'Market Data'!B601","v":20020509},{"$f":"'Market Data'!C601","v":6396.5},{"$f":"'Market Data'!D601","v":6416},{"$f":"'Market Data'!E601","v":6340.5},{"$f":"'Market Data'!F601","v":6351.5},null,597,"Hidden","Long",null,1,0,"",null,1,"Stay Long",-1750,-60185.959999999992]
[null,{"$f":"'Market Data'!B602","v":20020510},{"$f":"'Market Data'!C602","v":6333.5},{"$f":"'Market Data'!D602","v":6371.5},{"$f":"'Market Data'!E602","v":6230.5},{"$f":"'Market Data'!F602","v":6236.5},null,598,"Hidden","Long",null,1,0,"",null,1,"Stay Long",-4025,-64210.959999999992]
[null,{"$f":"'Market Data'!B603","v":20020513},{"$f":"'Market Data'!C603","v":6232.5},{"$f":"'Market Data'!D603","v":6376},{"$f":"'Market Data'!E603","v":6218},{"$f":"'Market Data'!F603","v":6361.5},null,599,"Hidden","Long",null,1,0,"",null,1,"Stay Long",4375,-59835.959999999992]
[null,{"$f":"'Market Data'!B604","v":20020514},{"$f":"'Market Data'!C604","v":6361.5},{"$f":"'Market Data'!D604","v":6454},{"$f":"'Market Data'!E604","v":6339},{"$f":"'Market Data'!F604","v":6423.5},null,600,"Hidden","Long",null,1,0,"",null,1,"Stay Long",2170,-57665.959999999992]
[null,{"$f":"'Market Data'!B605","v":20020515},{"$f":"'Market Data'!C605","v":6456.5},{"$f":"'Market Data'!D605","v":6463.5},{"$f":"'Market Data'!E605","v":6387.5},{"$f":"'Market Data'!F605","v":6456.5},null,601,"Hidden","Long",null,1,0,"",null,1,"Stay Long",1155,-56510.959999999992]
[null,{"$f":"'Market Data'!B606","v":20020516},{"$f":"'Market Data'!C606","v":6438.5},{"$f":"'Market Data'!D606","v":6486.5},{"$f":"'Market Data'!E606","v":6416.5},{"$f":"'Market Data'!F606","v":6435},null,602,"Hidden","Long",null,1,0,"",null,1,"Stay Long",-752.5,-57263.459999999992]
[null,{"$f":"'Market Data'!B607","v":20020517},{"$f":"'Market Data'!C607","v":6469.5},{"$f":"'Market Data'!D607","v":6510.5},{"$f":"'Market Data'!E607","v":6401.5},{"$f":"'Market Data'!F607","v":6408.5},null,603,"Hidden","Long",null,1,0,"",null,1,"Stay Long",-927.5,-58190.959999999992]
[null,{"$f":"'Market Data'!B608","v":20020520},{"$f":"'Market Data'!C608","v":6440.5},{"$f":"'Market Data'!D608","v":6444.5},{"$f":"'Market Data'!E608","v":6363.5},{"$f":"'Market Data'!F608","v":6386.5},null,604,"Hidden","Long",null,1,0,"",null,1,"Stay Long",-770,-58960.959999999992]
[null,{"$f":"'Market Data'!B609","v":20020521},{"$f":"'Market Data'!C609","v":6363},{"$f":"'Market Data'!D609","v":6442.5},{"$f":"'Market Data'!E609","v":6328.5},{"$f":"'Market Data'!F609","v":6374},null,605,"Hidden","Long",null,1,0,"",null,1,"Stay Long",-437.5,-59398.459999999992]
[null,{"$f":"'Market Data'!B610","v":20020522},{"$f":"'Market Data'!C610","v":6336.5},{"$f":"'Market Data'!D610","v":6379},{"$f":"'Market Data'!E610","v":6268.5},{"$f":"'Market Data'!F610","v":6319},null,606,"Hidden","Long",null,1,0,"",null,1,"Stay Long",-1925,-61323.459999999992]
[null,{"$f":"'Market Data'!B611","v":20020523},{"$f":"'Market Data'!C611","v":6326.5},{"$f":"'Market Data'!D611","v":6331.5},{"$f":"'Market Data'!E611","v":6238.5},{"$f":"'Market Data'!F611","v":6251},null,607,"Hidden","Long",null,1,0,"",null,1,"Stay Long",-2380,-63703.459999999992]
[null,{"$f":"'Market Data'!B612","v":20020524},{"$f":"'Market Data'!C612","v":6306},{"$f":"'Market Data'!D612","v":6319.5},{"$f":"'Market Data'!E612","v":6259},{"$f":"'Market Data'!F612","v":6279},null,608,"Hidden","Long",null,1,0,"",null,1,"Stay Long",980,-62723.459999999992]
[null,{"$f":"'Market Data'!B613","v":20020527},{"$f":"'Market Data'!C613","v":6287.5},{"$f":"'Market Data'!D613","v":6354.5},{"$f":"'Market Data'!E613","v":6283.5},{"$f":"'Market Data'!F613","v":6331.5},null,609,"Hidden","Long",null,1,0,"",null,1,"Stay Long",1837.5,-60885.959999999992]
[null,{"$f":"'Market Data'!B614","v":20020528},{"$f":"'Market Data'!C614","v":6341.5},{"$f":"'Market Data'!D614","v":6397},{"$f":"'Market Data'!E614","v":6271},{"$f":"'Market Data'!F614","v":6282.5},null,610,"Hidden","Long",null,1,0,"",null,1,"Stay Long",-1715,-62600.959999999992]
[null,{"$f":"'Market Data'!B615","v":20020529},{"$f":"'Market Data'!C615","v":6276.5},{"$f":"'Market Data'!D615","v":6286.5},{"$f":"'Market Data'!E615","v":6230.5},{"$f":"'Market Data'!F615","v":6258.5},null,611,"Hidden","Long",null,1,0,"",null,1,"Stay Long",-840,-63440.959999999992]
[null,{"$f":"'Market Data'!B616","v":20020530},{"$f":"'Market Data'!C616","v":6239.5},{"$f":"'Market Data'!D616","v":6246.5},{"$f":"'Market Data'!E616","v":6117.5},{"$f":"'Market Data'!F616","v":6125.5},null,612,"Hidden","Long",null,1,0,"",null,1,"Stay Long",-4655,-68095.959999999992]
[null,{"$f":"'Market Data'!B617","v":20020531},{"$f":"'Market Data'!C617","v":6159.5},{"$f":"'Market Data'!D617","v":6235.5},{"$f":"'Market Data'!E617","v":6144.5},{"$f":"'Market Data'!F617","v":6176.5},null,613,"Hidden","Long",null,1,0,"",null,1,"Stay Long",1785,-66310.959999999992]
[null,{"$f":"'Market Data'!B618","v":20020603},{"$f":"'Market Data'!C618","v":6176.5},{"$f":"'Market Data'!D618","v":6229},{"$f":"'Market Data'!E618","v":6097.5},{"$f":"'Market Data'!F618","v":6110.5},null,614,"Hidden","Long",null,1,0,"",null,1,"Stay Long",-2310,-68620.959999999992]
[null,{"$f":"'Market Data'!B619","v":20020604},{"$f":"'Market Data'!C619","v":6066.5},{"$f":"'Market Data'!D619","v":6073},{"$f":"'Market Data'!E619","v":5956},{"$f":"'Market Data'!F619","v":6011},null,615,"Hidden","Long",null,1,0,"",null,1,"Stay Long",-3482.5,-72103.459999999992]
[null,{"$f":"'Market Data'!B620","v":20020605},{"$f":"'Market Data'!C620","v":6051.5},{"$f":"'Market Data'!D620","v":6062},{"$f":"'Market Data'!E620","v":5975},{"$f":"'Market Data'!F620","v":5990},null,616,"Hidden","Long",null,1,0,"",null,1,"Stay Long",-735,-72838.459999999992]
[null,{"$f":"'Market Data'!B621","v":20020606},{"$f":"'Market Data'!C621","v":6016.5},{"$f":"'Market Data'!D621","v":6089.5},{"$f":"'Market Data'!E621","v":5988.5},{"$f":"'Market Data'!F621","v":6011},null,617,"Hidden","Long",null,1,0,"",null,1,"Stay Long",735,-72103.459999999992]
[null,{"$f":"'Market Data'!B622","v":20020607},{"$f":"'Market Data'!C622","v":5914.5},{"$f":"'Market Data'!D622","v":5978},{"$f":"'Market Data'!E622","v":5885},{"$f":"'Market Data'!F622","v":5969},null,618,"Hidden","Long",null,1,0,"",null,1,"Stay Long",-1470,-73573.459999999992]
[null,{"$f":"'Market Data'!B623","v":20020610},{"$f":"'Market Data'!C623","v":5991.5},{"$f":"'Market Data'!D623","v":6033.5},{"$f":"'Market Data'!E623","v":5919},{"$f":"'Market Data'!F623","v":5960.5},null,619,"Hidden","Long",null,1,0,"",null,1,"Stay Long",-297.5,-73870.959999999992]
[null,{"$f":"'Market Data'!B624","v":20020611},{"$f":"'Market Data'!C624","v":5963.5},{"$f":"'Market Data'!D624","v":6060.5},{"$f":"'Market Data'!E624","v":5926.5},{"$f":"'Market Data'!F624","v":6000.5},null,620,"Hidden","Long",null,1,0,"",null,1,"Stay Long",1400,-72470.959999999992]
[null,{"$f":"'Market Data'!B625","v":20020612},{"$f":"'Market Data'!C625","v":5932.5},{"$f":"'Market Data'!D625","v":5945.5},{"$f":"'Market Data'!E625","v":5848.5},{"$f":"'Market Data'!F625","v":5893},null,621,"Hidden","Long",null,1,0,"",null,1,"Stay Long",-3762.5,-76233.459999999992]
[null,{"$f":"'Market Data'!B626","v":20020613},{"$f":"'Market Data'!C626","v":5941.5},{"$f":"'Market Data'!D626","v":5954.5},{"$f":"'Market Data'!E626","v":5813.5},{"$f":"'Market Data'!F626","v":5854.5},null,622,"Hidden","Long",null,1,0,"",null,1,"Stay Long",-1347.5,-77580.959999999992]
[null,{"$f":"'Market Data'!B627","v":20020614},{"$f":"'Market Data'!C627","v":5807.5},{"$f":"'Market Data'!D627","v":5814.5},{"$f":"'Market Data'!E627","v":5624},{"$f":"'Market Data'!F627","v":5671.5},null,623,"Hidden","Long",null,1,0,"",null,1,"Stay Long",-6405,-83985.959999999992]
[null,{"$f":"'Market Data'!B628","v":20020617},{"$f":"'Market Data'!C628","v":5716.5},{"$f":"'Market Data'!D628","v":5855},{"$f":"'Market Data'!E628","v":5705},{"$f":"'Market Data'!F628","v":5852.5},null,624,"Hidden","Long",null,1,0,"",null,1,"Stay Long",6335,-77650.959999999992]
[null,{"$f":"'Market Data'!B629","v":20020618},{"$f":"'Market Data'!C629","v":5867.5},{"$f":"'Market Data'!D629","v":5867.5},{"$f":"'Market Data'!E629","v":5766.5},{"$f":"'Market Data'!F629","v":5787},null,625,"Hidden","Long",null,1,0,"",null,1,"Stay Long",-2292.5,-79943.459999999992]
[null,{"$f":"'Market Data'!B630","v":20020619},{"$f":"'Market Data'!C630","v":5703},{"$f":"'Market Data'!D630","v":5767.5},{"$f":"'Market Data'!E630","v":5688},{"$f":"'Market Data'!F630","v":5724},null,626,"Hidden","Long",null,1,0,"",null,1,"Stay Long",-2205,-82148.459999999992]
[null,{"$f":"'Market Data'!B631","v":20020620},{"$f":"'Market Data'!C631","v":5697.5},{"$f":"'Market Data'!D631","v":5736},{"$f":"'Market Data'!E631","v":5569},{"$f":"'Market Data'!F631","v":5613},null,627,"Hidden","Long",null,1,0,"",null,1,"Stay Long",-3885,-86033.459999999992]
[null,{"$f":"'Market Data'!B632","v":20020621},{"$f":"'Market Data'!C632","v":5569.5},{"$f":"'Market Data'!D632","v":5680.5},{"$f":"'Market Data'!E632","v":5515},{"$f":"'Market Data'!F632","v":5593},null,628,"Hidden","Long",null,1,0,"",null,1,"Stay Long",-700,-86733.459999999992]
[null,{"$f":"'Market Data'!B633","v":20020624},{"$f":"'Market Data'!C633","v":5597.5},{"$f":"'Market Data'!D633","v":5662.5},{"$f":"'Market Data'!E633","v":5412},{"$f":"'Market Data'!F633","v":5509},null,629,"Hidden","Long",null,1,0,"",null,1,"Stay Long",-2940,-89673.459999999992]
[null,{"$f":"'Market Data'!B634","v":20020625},{"$f":"'Market Data'!C634","v":5547.5},{"$f":"'Market Data'!D634","v":5626},{"$f":"'Market Data'!E634","v":5538.5},{"$f":"'Market Data'!F634","v":5561.5},null,630,"Hidden","Long",null,1,0,"",null,1,"Stay Long",1837.5,-87835.959999999992]
[null,{"$f":"'Market Data'!B635","v":20020626},{"$f":"'Market Data'!C635","v":5327.5},{"$f":"'Market Data'!D635","v":5524.5},{"$f":"'Market Data'!E635","v":5314.5},{"$f":"'Market Data'!F635","v":5462.5},null,631,"Hidden","Long",null,1,0,"",null,1,"Stay Long",-3465,-91300.959999999992]
[null,{"$f":"'Market Data'!B636","v":20020627},{"$f":"'Market Data'!C636","v":5530.5},{"$f":"'Market Data'!D636","v":5608.5},{"$f":"'Market Data'!E636","v":5487.5},{"$f":"'Market Data'!F636","v":5592.5},null,632,"Hidden","Long",null,1,0,"",null,1,"Stay Long",4550,-86750.959999999992]
[null,{"$f":"'Market Data'!B637","v":20020628},{"$f":"'Market Data'!C637","v":5674.5},{"$f":"'Market Data'!D637","v":5753},{"$f":"'Market Data'!E637","v":5645.5},{"$f":"'Market Data'!F637","v":5749},null,633,"Hidden","Long",null,1,0,"",null,1,"Stay Long",5477.5,-81273.459999999992]
[null,{"$f":"'Market Data'!B638","v":20020701},{"$f":"'Market Data'!C638","v":5693},{"$f":"'Market Data'!D638","v":5807.5},{"$f":"'Market Data'!E638","v":5678.5},{"$f":"'Market Data'!F638","v":5713.5},null,634,"Hidden","Long",null,1,0,"",null,1,"Stay Long",-1242.5,-82515.959999999992]
[null,{"$f":"'Market Data'!B639","v":20020702},{"$f":"'Market Data'!C639","v":5649},{"$f":"'Market Data'!D639","v":5672},{"$f":"'Market Data'!E639","v":5526},{"$f":"'Market Data'!F639","v":5565},null,635,"Hidden","Long",null,1,0,"",null,1,"Stay Long",-5197.5,-87713.459999999992]
[null,{"$f":"'Market Data'!B640","v":20020703},{"$f":"'Market Data'!C640","v":5592.5},{"$f":"'Market Data'!D640","v":5612},{"$f":"'Market Data'!E640","v":5462.5},{"$f":"'Market Data'!F640","v":5500.5},null,636,"Hidden","Long",null,1,0,"",null,1,"Stay Long",-2257.5,-89970.959999999992]
[null,{"$f":"'Market Data'!B641","v":20020704},{"$f":"'Market Data'!C641","v":5582.5},{"$f":"'Market Data'!D641","v":5615.5},{"$f":"'Market Data'!E641","v":5539.5},{"$f":"'Market Data'!F641","v":5615.5},null,637,"Hidden","Long",null,1,0,"",null,1,"Stay Long",4025,-85945.959999999992]
[null,{"$f":"'Market Data'!B642","v":20020705},{"$f":"'Market Data'!C642","v":5640},{"$f":"'Market Data'!D642","v":5832.5},{"$f":"'Market Data'!E642","v":5640},{"$f":"'Market Data'!F642","v":5828.5},null,638,"Hidden","Long",null,1,0,"",null,1,"Stay Long",7455,-78490.959999999992]
[null,{"$f":"'Market Data'!B643","v":20020708},{"$f":"'Market Data'!C643","v":5767.5},{"$f":"'Market Data'!D643","v":5835.5},{"$f":"'Market Data'!E643","v":5750},{"$f":"'Market Data'!F643","v":5792},null,639,"Hidden","Long",null,1,{"$f":"$L656-P656","v":0},"",null,1,"Stay Long",-1277.5,-79768.459999999992]
[null,{"$f":"'Market Data'!B644","v":20020709},{"$f":"'Market Data'!C644","v":5802.5},{"$f":"'Market Data'!D644","v":5841.5},{"$f":"'Market Data'!E644","v":5700.5},{"$f":"'Market Data'!F644","v":5722.5},null,640,"Hidden","Long",null,1,0,"",null,{"$f":"IF($N656=\"Fill\",$L656,$P656)","v":1},"Stay Long",{"$f":"IF(OR($P656&$L656=\"01\",$P656&$L656=\"0-1\"),(($F657-$C657)*$R$3*$L656)-(ABS($M656)*$R$4),IF(OR($P656&$L656=\"10\",$P656&$L656=\"-10\"),(($C657-$F656)*$R$3*$P656)-(ABS($M656)*$R$4),IF(OR($P656&$L656=\"1-1\",$P656&$L656=\"-11\"),(($C657-$F656)*$R$3*$P656)-(ABS($M656)*$R$4)+(($F657-$C657)*$R$3*$P657),IF(OR($P656&$L656=\"11\",$P656&$L656=\"-1-1\"),(($F657-$F656)*$R$3*$P657),0))))","v":-2432.5},-82200.959999999992]
[null,{"$f":"'Market Data'!B645","v":20020710},{"$f":"'Market Data'!C645","v":5664},{"$f":"'Market Data'!D645","v":5711.5},{"$f":"'Market Data'!E645","v":5544},{"$f":"'Market Data'!F645","v":5557},null,{"$f":"ROW()-ROW(H$17)","v":641},"Hidden",{"$f":"$I$4","v":"Long"},null,1,0,{"$f":"IF(NOT($M658=0),\"Fill\",\"\")","v":""},null,1,{"$f":"IF($P657&$L657=\"00\",\"Stay Flat\",IF($P657&$L657=\"01\",\"Go Long\",IF($P657&$L657=\"0-1\",\"Go Short\",IF($P657&$L657=\"-10\",\"Exit Short\",IF($P657&$L657=\"-1-1\",\"Stay Short\",IF($P657&$L657=\"-11\",\"Exit Short, Go Long\",IF($P657&$L657=\"10\",\"Exit Long\",IF($P657&$L657=\"1-1\",\"Exit Long, Go Short\",IF($P657&$L657=\"11\",\"Stay Long\",\"\")))))))))","v":"Stay Long"},-5792.5,{"$f":"S657+R658","v":-87993.459999999992}]
[null,{"$f":"'Market Data'!B646","v":20020711},{"$f":"'Market Data'!C646","v":5500.5},{"$f":"'Market Data'!D646","v":5537},{"$f":"'Market Data'!E646","v":5392.5},{"$f":"'Market Data'!F646","v":5507},null,642,"Hidden","Long",null,{"$f":"IF($J659=\"Short\",-1,IF($J659=\"Long\",1,0))","v":1},0,"",null,1,"Stay Long",-1750,-89743.459999999992]
[null,{"$f":"'Market Data'!B647","v":20020712},{"$f":"'Market Data'!C647","v":5602.5},{"$f":"'Market Data'!D647","v":5616.5},{"$f":"'Market Data'!E647","v":5423.5},{"$f":"'Market Data'!F647","v":5483},null,643,"Hidden","Long",null,1,0,"",null,1,"Stay Long",-840,-90583.459999999992]
[null,{"$f":"'Market Data'!B648","v":20020715},{"$f":"'Market Data'!C648","v":5457.5},{"$f":"'Market Data'!D648","v":5497.5},{"$f":"'Market Data'!E648","v":5281},{"$f":"'Market Data'!F648","v":5293.5},null,644,"Hidden","Long",null,1,0,"",null,1,"Stay Long",-6632.5,-97215.959999999992]
[null,{"$f":"'Market Data'!B649","v":20020716},{"$f":"'Market Data'!C649","v":5404.5},{"$f":"'Market Data'!D649","v":5406.5},{"$f":"'Market Data'!E649","v":5174.5},{"$f":"'Market Data'!F649","v":5317.5},null,645,"Hidden","Long",null,1,0,"",null,1,"Stay Long",840,-96375.959999999992]
[null,{"$f":"'Market Data'!B650","v":20020717},{"$f":"'Market Data'!C650","v":5292.5},{"$f":"'Market Data'!D650","v":5462.5},{"$f":"'Market Data'!E650","v":5255.5},{"$f":"'Market Data'!F650","v":5420.5},null,646,"Hidden","Long",null,1,0,"",null,1,"Stay Long",3605,-92770.959999999992]
[null,{"$f":"'Market Data'!B651","v":20020718},{"$f":"'Market Data'!C651","v":5407.5},{"$f":"'Market Data'!D651","v":5507},{"$f":"'Market Data'!E651","v":5384},{"$f":"'Market Data'!F651","v":5447},null,647,"Hidden","Long",null,1,0,"",null,1,"Stay Long",927.5,-91843.459999999992]
[null,{"$f":"'Market Data'!B652","v":20020719},{"$f":"'Market Data'!C652","v":5344},{"$f":"'Market Data'!D652","v":5372.5},{"$f":"'Market Data'!E652","v":5223.5},{"$f":"'Market Data'!F652","v":5262.5},null,648,"Hidden","Long",null,1,0,"",null,1,"Stay Long",-6457.5,-98300.959999999992]
[null,{"$f":"'Market Data'!B653","v":20020722},{"$f":"'Market Data'!C653","v":5194.5},{"$f":"'Market Data'!D653","v":5202.5},{"$f":"'Market Data'!E653","v":4982.5},{"$f":"'Market Data'!F653","v":5065.5},null,649,"Hidden","Long",null,1,0,"",null,1,"Stay Long",-6895,-105195.95999999999]
[null,{"$f":"'Market Data'!B654","v":20020723},{"$f":"'Market Data'!C654","v":5120.5},{"$f":"'Market Data'!D654","v":5159},{"$f":"'Market Data'!E654","v":4852.5},{"$f":"'Market Data'!F654","v":4888.5},null,650,"Hidden","Long",null,1,0,"",null,1,"Stay Long",-6195,-111390.95999999999]
[null,{"$f":"'Market Data'!B655","v":20020724},{"$f":"'Market Data'!C655","v":4897},{"$f":"'Market Data'!D655","v":4996},{"$f":"'Market Data'!E655","v":4608.5},{"$f":"'Market Data'!F655","v":4995},null,651,"Hidden","Long",null,1,0,"",null,1,"Stay Long",3727.5,-107663.45999999999]
[null,{"$f":"'Market Data'!B656","v":20020725},{"$f":"'Market Data'!C656","v":5056.5},{"$f":"'Market Data'!D656","v":5059},{"$f":"'Market Data'!E656","v":4813.5},{"$f":"'Market Data'!F656","v":4822.5},null,652,"Hidden","Long",null,1,0,"",null,1,"Stay Long",-6037.5,-113700.95999999999]
[null,{"$f":"'Market Data'!B657","v":20020726},{"$f":"'Market Data'!C657","v":4887.5},{"$f":"'Market Data'!D657","v":4930},{"$f":"'Market Data'!E657","v":4712.5},{"$f":"'Market Data'!F657","v":4905},null,653,"Hidden","Long",null,1,0,"",null,1,"Stay Long",2887.5,-110813.45999999999]
[null,{"$f":"'Market Data'!B658","v":20020729},{"$f":"'Market Data'!C658","v":4967.5},{"$f":"'Market Data'!D658","v":5181.5},{"$f":"'Market Data'!E658","v":4945.5},{"$f":"'Market Data'!F658","v":5175.5},null,654,"Hidden","Long",null,1,0,"",null,1,"Stay Long",9467.5,-101345.95999999999]
[null,{"$f":"'Market Data'!B659","v":20020730},{"$f":"'Market Data'!C659","v":5178.5},{"$f":"'Market Data'!D659","v":5226.5},{"$f":"'Market Data'!E659","v":5085.5},{"$f":"'Market Data'!F659","v":5215},null,655,"Hidden","Long",null,1,0,"",null,1,"Stay Long",1382.5,-99963.459999999992]
[null,{"$f":"'Market Data'!B660","v":20020731},{"$f":"'Market Data'!C660","v":5178.5},{"$f":"'Market Data'!D660","v":5292.5},{"$f":"'Market Data'!E660","v":5042.5},{"$f":"'Market Data'!F660","v":5047},null,656,"Hidden","Long",null,1,0,"",null,1,"Stay Long",-5880,-105843.45999999999]
[null,{"$f":"'Market Data'!B661","v":20020801},{"$f":"'Market Data'!C661","v":5027.5},{"$f":"'Market Data'!D661","v":5156},{"$f":"'Market Data'!E661","v":4888.5},{"$f":"'Market Data'!F661","v":4955.5},null,657,"Hidden","Long",null,1,0,"",null,1,"Stay Long",-3202.5,-109045.95999999999]
[null,{"$f":"'Market Data'!B662","v":20020802},{"$f":"'Market Data'!C662","v":4938.5},{"$f":"'Market Data'!D662","v":4970.5},{"$f":"'Market Data'!E662","v":4839},{"$f":"'Market Data'!F662","v":4853.5},null,658,"Hidden","Long",null,1,0,"",null,1,"Stay Long",-3570,-112615.95999999999]
[null,{"$f":"'Market Data'!B663","v":20020805},{"$f":"'Market Data'!C663","v":4877.5},{"$f":"'Market Data'!D663","v":4877.5},{"$f":"'Market Data'!E663","v":4667.5},{"$f":"'Market Data'!F663","v":4685.5},null,659,"Hidden","Long",null,1,0,"",null,1,"Stay Long",-5880,-118495.95999999999]
[null,{"$f":"'Market Data'!B664","v":20020806},{"$f":"'Market Data'!C664","v":4647.5},{"$f":"'Market Data'!D664","v":4948.5},{"$f":"'Market Data'!E664","v":4574.5},{"$f":"'Market Data'!F664","v":4878},null,660,"Hidden","Long",null,1,0,"",null,1,"Stay Long",6737.5,-111758.45999999999]
[null,{"$f":"'Market Data'!B665","v":20020807},{"$f":"'Market Data'!C665","v":4902},{"$f":"'Market Data'!D665","v":4975.5},{"$f":"'Market Data'!E665","v":4778.5},{"$f":"'Market Data'!F665","v":4784.5},null,661,"Hidden","Long",null,1,0,"",null,1,"Stay Long",-3272.5,-115030.95999999999]
[null,{"$f":"'Market Data'!B666","v":20020808},{"$f":"'Market Data'!C666","v":4907.5},{"$f":"'Market Data'!D666","v":5011.5},{"$f":"'Market Data'!E666","v":4872.5},{"$f":"'Market Data'!F666","v":5009.5},null,662,"Hidden","Long",null,1,0,"",null,1,"Stay Long",7875,-107155.95999999999]
[null,{"$f":"'Market Data'!B667","v":20020809},{"$f":"'Market Data'!C667","v":4992.5},{"$f":"'Market Data'!D667","v":5091},{"$f":"'Market Data'!E667","v":4949},{"$f":"'Market Data'!F667","v":5075.5},null,663,"Hidden","Long",null,1,0,"",null,1,"Stay Long",2310,-104845.95999999999]
[null,{"$f":"'Market Data'!B668","v":20020812},{"$f":"'Market Data'!C668","v":5026.5},{"$f":"'Market Data'!D668","v":5056.5},{"$f":"'Market Data'!E668","v":4978.5},{"$f":"'Market Data'!F668","v":5012.5},null,664,"Hidden","Long",null,1,0,"",null,1,"Stay Long",-2205,-107050.95999999999]
[null,{"$f":"'Market Data'!B669","v":20020813},{"$f":"'Market Data'!C669","v":5002.5},{"$f":"'Market Data'!D669","v":5047.5},{"$f":"'Market Data'!E669","v":4892.5},{"$f":"'Market Data'!F669","v":5022.5},null,665,"Hidden","Long",null,1,0,"",null,1,"Stay Long",350,-106700.95999999999]
[null,{"$f":"'Market Data'!B670","v":20020814},{"$f":"'Market Data'!C670","v":4920.5},{"$f":"'Market Data'!D670","v":4970.5},{"$f":"'Market Data'!E670","v":4878.5},{"$f":"'Market Data'!F670","v":4939},null,666,"Hidden","Long",null,1,0,"",null,1,"Stay Long",-2922.5,-109623.45999999999]
[null,{"$f":"'Market Data'!B671","v":20020815},{"$f":"'Market Data'!C671","v":5027.5},{"$f":"'Market Data'!D671","v":5067.5},{"$f":"'Market Data'!E671","v":4980},{"$f":"'Market Data'!F671","v":4995},null,667,"Hidden","Long",null,1,0,"",null,1,"Stay Long",1960,-107663.45999999999]
[null,{"$f":"'Market Data'!B672","v":20020816},{"$f":"'Market Data'!C672","v":5009.5},{"$f":"'Market Data'!D672","v":5046},{"$f":"'Market Data'!E672","v":4894},{"$f":"'Market Data'!F672","v":5028.5},null,668,"Hidden","Long",null,1,0,"",null,1,"Stay Long",1172.5,-106490.95999999999]
[null,{"$f":"'Market Data'!B673","v":20020819},{"$f":"'Market Data'!C673","v":4987.5},{"$f":"'Market Data'!D673","v":5187.5},{"$f":"'Market Data'!E673","v":4969},{"$f":"'Market Data'!F673","v":5183.5},null,669,"Hidden","Long",null,1,0,"",null,1,"Stay Long",5425,-101065.95999999999]
[null,{"$f":"'Market Data'!B674","v":20020820},{"$f":"'Market Data'!C674","v":5165},{"$f":"'Market Data'!D674","v":5210.5},{"$f":"'Market Data'!E674","v":5101.5},{"$f":"'Market Data'!F674","v":5120},null,670,"Hidden","Long",null,1,0,"",null,1,"Stay Long",-2222.5,-103288.45999999999]
[null,{"$f":"'Market Data'!B675","v":20020821},{"$f":"'Market Data'!C675","v":5145.5},{"$f":"'Market Data'!D675","v":5245},{"$f":"'Market Data'!E675","v":5124},{"$f":"'Market Data'!F675","v":5206},null,671,"Hidden","Long",null,1,0,"",null,1,"Stay Long",3010,-100278.45999999999]
[null,{"$f":"'Market Data'!B676","v":20020822},{"$f":"'Market Data'!C676","v":5222.5},{"$f":"'Market Data'!D676","v":5267.5},{"$f":"'Market Data'!E676","v":5190},{"$f":"'Market Data'!F676","v":5219},null,672,"Hidden","Long",null,1,0,"",null,1,"Stay Long",455,-99823.459999999992]
[null,{"$f":"'Market Data'!B677","v":20020823},{"$f":"'Market Data'!C677","v":5248.5},{"$f":"'Market Data'!D677","v":5264},{"$f":"'Market Data'!E677","v":5151},{"$f":"'Market Data'!F677","v":5158.5},null,673,"Hidden","Long",null,1,0,"",null,1,"Stay Long",-2117.5,-101940.95999999999]
[null,{"$f":"'Market Data'!B678","v":20020826},{"$f":"'Market Data'!C678","v":5181.5},{"$f":"'Market Data'!D678","v":5237.5},{"$f":"'Market Data'!E678","v":5082.5},{"$f":"'Market Data'!F678","v":5128.5},null,674,"Hidden","Long",null,1,0,"",null,1,"Stay Long",-1050,-102990.95999999999]
[null,{"$f":"'Market Data'!B679","v":20020827},{"$f":"'Market Data'!C679","v":5128},{"$f":"'Market Data'!D679","v":5237.5},{"$f":"'Market Data'!E679","v":5102},{"$f":"'Market Data'!F679","v":5183},null,675,"Hidden","Long",null,1,0,"",null,1,"Stay Long",1907.5,-101083.45999999999]
[null,{"$f":"'Market Data'!B680","v":20020828},{"$f":"'Market Data'!C680","v":5157.5},{"$f":"'Market Data'!D680","v":5157.5},{"$f":"'Market Data'!E680","v":5015.5},{"$f":"'Market Data'!F680","v":5039.5},null,676,"Hidden","Long",null,1,0,"",null,1,"Stay Long",-5022.5,-106105.95999999999]
[null,{"$f":"'Market Data'!B681","v":20020829},{"$f":"'Market Data'!C681","v":5014.5},{"$f":"'Market Data'!D681","v":5034.5},{"$f":"'Market Data'!E681","v":4914},{"$f":"'Market Data'!F681","v":5005.5},null,677,"Hidden","Long",null,1,0,"",null,1,"Stay Long",-1190,-107295.95999999999]
[null,{"$f":"'Market Data'!B682","v":20020830},{"$f":"'Market Data'!C682","v":5006.5},{"$f":"'Market Data'!D682","v":5056.5},{"$f":"'Market Data'!E682","v":4938},{"$f":"'Market Data'!F682","v":5050},null,678,"Hidden","Long",null,1,0,"",null,1,"Stay Long",1557.5,-105738.45999999999]
[null,{"$f":"'Market Data'!B683","v":20020902},{"$f":"'Market Data'!C683","v":5007.5},{"$f":"'Market Data'!D683","v":5007.5},{"$f":"'Market Data'!E683","v":4928},{"$f":"'Market Data'!F683","v":4950.5},null,679,"Hidden","Long",null,1,0,"",null,1,"Stay Long",-3482.5,-109220.95999999999]
[null,{"$f":"'Market Data'!B684","v":20020903},{"$f":"'Market Data'!C684","v":4887.5},{"$f":"'Market Data'!D684","v":4890.5},{"$f":"'Market Data'!E684","v":4733},{"$f":"'Market Data'!F684","v":4740.5},null,680,"Hidden","Long",null,1,0,"",null,1,"Stay Long",-7350,-116570.95999999999]
[null,{"$f":"'Market Data'!B685","v":20020904},{"$f":"'Market Data'!C685","v":4729.5},{"$f":"'Market Data'!D685","v":4797},{"$f":"'Market Data'!E685","v":4680},{"$f":"'Market Data'!F685","v":4766},null,681,"Hidden","Long",null,1,0,"",null,1,"Stay Long",892.5,-115678.45999999999]
[null,{"$f":"'Market Data'!B686","v":20020905},{"$f":"'Market Data'!C686","v":4772.5},{"$f":"'Market Data'!D686","v":4799.5},{"$f":"'Market Data'!E686","v":4627.5},{"$f":"'Market Data'!F686","v":4690},null,682,"Hidden","Long",null,1,0,"",null,1,"Stay Long",-2660,-118338.45999999999]
[null,{"$f":"'Market Data'!B687","v":20020906},{"$f":"'Market Data'!C687","v":4722.5},{"$f":"'Market Data'!D687","v":4813},{"$f":"'Market Data'!E687","v":4681.5},{"$f":"'Market Data'!F687","v":4812.5},null,683,"Hidden","Long",null,1,0,"",null,1,"Stay Long",4287.5,-114050.95999999999]
[null,{"$f":"'Market Data'!B688","v":20020909},{"$f":"'Market Data'!C688","v":4778.5},{"$f":"'Market Data'!D688","v":4790.5},{"$f":"'Market Data'!E688","v":4712.5},{"$f":"'Market Data'!F688","v":4755},null,684,"Hidden","Long",null,1,0,"",null,1,"Stay Long",-2012.5,-116063.45999999999]
[null,{"$f":"'Market Data'!B689","v":20020910},{"$f":"'Market Data'!C689","v":4787.5},{"$f":"'Market Data'!D689","v":4851.5},{"$f":"'Market Data'!E689","v":4783.5},{"$f":"'Market Data'!F689","v":4813.5},null,685,"Hidden","Long",null,1,0,"",null,1,"Stay Long",2047.5,-114015.95999999999]
[null,{"$f":"'Market Data'!B690","v":20020911},{"$f":"'Market Data'!C690","v":4847.5},{"$f":"'Market Data'!D690","v":4948},{"$f":"'Market Data'!E690","v":4794.5},{"$f":"'Market Data'!F690","v":4905.5},null,686,"Hidden","Long",null,1,0,"",null,1,"Stay Long",3220,-110795.95999999999]
[null,{"$f":"'Market Data'!B691","v":20020912},{"$f":"'Market Data'!C691","v":4867.5},{"$f":"'Market Data'!D691","v":4895},{"$f":"'Market Data'!E691","v":4750.5},{"$f":"'Market Data'!F691","v":4765.5},null,687,"Hidden","Long",null,1,0,"",null,1,"Stay Long",-4900,-115695.95999999999]
[null,{"$f":"'Market Data'!B692","v":20020913},{"$f":"'Market Data'!C692","v":4697.5},{"$f":"'Market Data'!D692","v":4722.5},{"$f":"'Market Data'!E692","v":4604.5},{"$f":"'Market Data'!F692","v":4701},null,688,"Hidden","Long",null,1,0,"",null,1,"Stay Long",-2257.5,-117953.45999999999]
[null,{"$f":"'Market Data'!B693","v":20020916},{"$f":"'Market Data'!C693","v":4702.5},{"$f":"'Market Data'!D693","v":4709.5},{"$f":"'Market Data'!E693","v":4615.5},{"$f":"'Market Data'!F693","v":4644.5},null,689,"Hidden","Long",null,1,0,"",null,1,"Stay Long",-1977.5,-119930.95999999999]
[null,{"$f":"'Market Data'!B694","v":20020917},{"$f":"'Market Data'!C694","v":4762.5},{"$f":"'Market Data'!D694","v":4774},{"$f":"'Market Data'!E694","v":4573},{"$f":"'Market Data'!F694","v":4608},null,690,"Hidden","Long",null,1,0,"",null,1,"Stay Long",-1277.5,-121208.45999999999]
[null,{"$f":"'Market Data'!B695","v":20020918},{"$f":"'Market Data'!C695","v":4542.5},{"$f":"'Market Data'!D695","v":4561},{"$f":"'Market Data'!E695","v":4441.5},{"$f":"'Market Data'!F695","v":4465},null,691,"Hidden","Long",null,1,0,"",null,1,"Stay Long",-5005,-126213.45999999999]
[null,{"$f":"'Market Data'!B696","v":20020919},{"$f":"'Market Data'!C696","v":4471},{"$f":"'Market Data'!D696","v":4491.5},{"$f":"'Market Data'!E696","v":4348.5},{"$f":"'Market Data'!F696","v":4362},null,692,"Hidden","Long",null,1,0,"",null,1,"Stay Long",-3605,-129818.45999999999]
[null,{"$f":"'Market Data'!B697","v":20020920},{"$f":"'Market Data'!C697","v":4306.5},{"$f":"'Market Data'!D697","v":4425.5},{"$f":"'Market Data'!E697","v":4287.5},{"$f":"'Market Data'!F697","v":4415.5},null,693,"Hidden","Long",null,1,0,"",null,1,"Stay Long",1872.5,-127945.95999999999]
[null,{"$f":"'Market Data'!B698","v":20020923},{"$f":"'Market Data'!C698","v":4352.5},{"$f":"'Market Data'!D698","v":4436},{"$f":"'Market Data'!E698","v":4218},{"$f":"'Market Data'!F698","v":4252},null,694,"Hidden","Long",null,1,0,"",null,1,"Stay Long",-5722.5,-133668.46]
[null,{"$f":"'Market Data'!B699","v":20020924},{"$f":"'Market Data'!C699","v":4247.5},{"$f":"'Market Data'!D699","v":4289},{"$f":"'Market Data'!E699","v":4098},{"$f":"'Market Data'!F699","v":4215.5},null,695,"Hidden","Long",null,1,0,"",null,1,"Stay Long",-1277.5,-134945.96]
[null,{"$f":"'Market Data'!B700","v":20020925},{"$f":"'Market Data'!C700","v":4157.5},{"$f":"'Market Data'!D700","v":4315.5},{"$f":"'Market Data'!E700","v":4131.5},{"$f":"'Market Data'!F700","v":4289.5},null,696,"Hidden","Long",null,1,0,"",null,1,"Stay Long",2590,-132355.96]
[null,{"$f":"'Market Data'!B701","v":20020926},{"$f":"'Market Data'!C701","v":4301.5},{"$f":"'Market Data'!D701","v":4394.5},{"$f":"'Market Data'!E701","v":4253.5},{"$f":"'Market Data'!F701","v":4338.5},null,697,"Hidden","Long",null,1,0,"",null,1,"Stay Long",1715,-130640.95999999999]
[null,{"$f":"'Market Data'!B702","v":20020927},{"$f":"'Market Data'!C702","v":4351.5},{"$f":"'Market Data'!D702","v":4381},{"$f":"'Market Data'!E702","v":4207.5},{"$f":"'Market Data'!F702","v":4208},null,698,"Hidden","Long",null,1,0,"",null,1,"Stay Long",-4567.5,-135208.46]
[null,{"$f":"'Market Data'!B703","v":20020930},{"$f":"'Market Data'!C703","v":4153.5},{"$f":"'Market Data'!D703","v":4164.5},{"$f":"'Market Data'!E703","v":4043},{"$f":"'Market Data'!F703","v":4125.5},null,699,"Hidden","Long",null,1,0,"",null,1,"Stay Long",-2887.5,-138095.96]
[null,{"$f":"'Market Data'!B704","v":20021001},{"$f":"'Market Data'!C704","v":4149.5},{"$f":"'Market Data'!D704","v":4221.5},{"$f":"'Market Data'!E704","v":4053},{"$f":"'Market Data'!F704","v":4193},null,700,"Hidden","Long",null,1,0,"",null,1,"Stay Long",2362.5,-135733.46]
[null,{"$f":"'Market Data'!B705","v":20021002},{"$f":"'Market Data'!C705","v":4256},{"$f":"'Market Data'!D705","v":4300.5},{"$f":"'Market Data'!E705","v":4140},{"$f":"'Market Data'!F705","v":4239.5},null,701,"Hidden","Long",null,1,0,"",null,1,"Stay Long",1627.5,-134105.96]
[null,{"$f":"'Market Data'!B706","v":20021003},{"$f":"'Market Data'!C706","v":4151.5},{"$f":"'Market Data'!D706","v":4266},{"$f":"'Market Data'!E706","v":4128},{"$f":"'Market Data'!F706","v":4150.5},null,702,"Hidden","Long",null,1,0,"",null,1,"Stay Long",-3115,-137220.96]
[null,{"$f":"'Market Data'!B707","v":20021004},{"$f":"'Market Data'!C707","v":4132.5},{"$f":"'Market Data'!D707","v":4171},{"$f":"'Market Data'!E707","v":3997},{"$f":"'Market Data'!F707","v":4011.5},null,703,"Hidden","Long",null,1,{"$f":"$L720-P720","v":0},"",null,1,"Stay Long",-4865,-142085.96]
[null,{"$f":"'Market Data'!B708","v":20021007},{"$f":"'Market Data'!C708","v":3998.5},{"$f":"'Market Data'!D708","v":4033.5},{"$f":"'Market Data'!E708","v":3942.5},{"$f":"'Market Data'!F708","v":3997.5},null,704,"Hidden","Long",null,1,0,"",null,{"$f":"IF($N720=\"Fill\",$L720,$P720)","v":1},"Stay Long",{"$f":"IF(OR($P720&$L720=\"01\",$P720&$L720=\"0-1\"),(($F721-$C721)*$R$3*$L720)-(ABS($M720)*$R$4),IF(OR($P720&$L720=\"10\",$P720&$L720=\"-10\"),(($C721-$F720)*$R$3*$P720)-(ABS($M720)*$R$4),IF(OR($P720&$L720=\"1-1\",$P720&$L720=\"-11\"),(($C721-$F720)*$R$3*$P720)-(ABS($M720)*$R$4)+(($F721-$C721)*$R$3*$P721),IF(OR($P720&$L720=\"11\",$P720&$L720=\"-1-1\"),(($F721-$F720)*$R$3*$P721),0))))","v":-490},-142575.96]
[null,{"$f":"'Market Data'!B709","v":20021008},{"$f":"'Market Data'!C709","v":4017.5},{"$f":"'Market Data'!D709","v":4045.5},{"$f":"'Market Data'!E709","v":3860},{"$f":"'Market Data'!F709","v":3939},null,{"$f":"ROW()-ROW(H$17)","v":705},"Hidden",{"$f":"$I$4","v":"Long"},null,1,0,{"$f":"IF(NOT($M722=0),\"Fill\",\"\")","v":""},null,1,{"$f":"IF($P721&$L721=\"00\",\"Stay Flat\",IF($P721&$L721=\"01\",\"Go Long\",IF($P721&$L721=\"0-1\",\"Go Short\",IF($P721&$L721=\"-10\",\"Exit Short\",IF($P721&$L721=\"-1-1\",\"Stay Short\",IF($P721&$L721=\"-11\",\"Exit Short, Go Long\",IF($P721&$L721=\"10\",\"Exit Long\",IF($P721&$L721=\"1-1\",\"Exit Long, Go Short\",IF($P721&$L721=\"11\",\"Stay Long\",\"\")))))))))","v":"Stay Long"},-2047.5,{"$f":"S721+R722","v":-144623.46}]
[null,{"$f":"'Market Data'!B710","v":20021009},{"$f":"'Market Data'!C710","v":3917.5},{"$f":"'Market Data'!D710","v":3928.5},{"$f":"'Market Data'!E710","v":3838},{"$f":"'Market Data'!F710","v":3926.5},null,706,"Hidden","Long",null,{"$f":"IF($J723=\"Short\",-1,IF($J723=\"Long\",1,0))","v":1},0,"",null,1,"Stay Long",-437.5,-145060.96]
[null,{"$f":"'Market Data'!B711","v":20021010},{"$f":"'Market Data'!C711","v":3869.5},{"$f":"'Market Data'!D711","v":4043.5},{"$f":"'Market Data'!E711","v":3868},{"$f":"'Market Data'!F711","v":4032},null,707,"Hidden","Long",null,1,0,"",null,1,"Stay Long",3692.5,-141368.46]
[null,{"$f":"'Market Data'!B712","v":20021011},{"$f":"'Market Data'!C712","v":4036.5},{"$f":"'Market Data'!D712","v":4234},{"$f":"'Market Data'!E712","v":4031},{"$f":"'Market Data'!F712","v":4228},null,708,"Hidden","Long",null,1,0,"",null,1,"Stay Long",6860,-134508.46]
[null,{"$f":"'Market Data'!B713","v":20021014},{"$f":"'Market Data'!C713","v":4197.5},{"$f":"'Market Data'!D713","v":4231},{"$f":"'Market Data'!E713","v":4108},{"$f":"'Market Data'!F713","v":4176.5},null,709,"Hidden","Long",null,1,0,"",null,1,"Stay Long",-1802.5,-136310.96]
[null,{"$f":"'Market Data'!B714","v":20021015},{"$f":"'Market Data'!C714","v":4229.5},{"$f":"'Market Data'!D714","v":4356.5},{"$f":"'Market Data'!E714","v":4221.5},{"$f":"'Market Data'!F714","v":4336.5},null,710,"Hidden","Long",null,1,0,"",null,1,"Stay Long",5600,-130710.95999999999]
[null,{"$f":"'Market Data'!B715","v":20021016},{"$f":"'Market Data'!C715","v":4296.5},{"$f":"'Market Data'!D715","v":4429.5},{"$f":"'Market Data'!E715","v":4283.5},{"$f":"'Market Data'!F715","v":4324.5},null,711,"Hidden","Long",null,1,0,"",null,1,"Stay Long",-420,-131130.96]
[null,{"$f":"'Market Data'!B716","v":20021017},{"$f":"'Market Data'!C716","v":4403.5},{"$f":"'Market Data'!D716","v":4509.5},{"$f":"'Market Data'!E716","v":4403.5},{"$f":"'Market Data'!F716","v":4490},null,712,"Hidden","Long",null,1,0,"",null,1,"Stay Long",5792.5,-125338.45999999999]
[null,{"$f":"'Market Data'!B717","v":20021018},{"$f":"'Market Data'!C717","v":4525.5},{"$f":"'Market Data'!D717","v":4526},{"$f":"'Market Data'!E717","v":4403},{"$f":"'Market Data'!F717","v":4484},null,713,"Hidden","Long",null,1,0,"",null,1,"Stay Long",-210,-125548.45999999999]
[null,{"$f":"'Market Data'!B718","v":20021021},{"$f":"'Market Data'!C718","v":4459},{"$f":"'Market Data'!D718","v":4589},{"$f":"'Market Data'!E718","v":4414.5},{"$f":"'Market Data'!F718","v":4586.5},null,714,"Hidden","Long",null,1,0,"",null,1,"Stay Long",3587.5,-121960.95999999999]
[null,{"$f":"'Market Data'!B719","v":20021022},{"$f":"'Market Data'!C719","v":4521.5},{"$f":"'Market Data'!D719","v":4617.5},{"$f":"'Market Data'!E719","v":4458.5},{"$f":"'Market Data'!F719","v":4460.5},null,715,"Hidden","Long",null,1,0,"",null,1,"Stay Long",-4410,-126370.95999999999]
[null,{"$f":"'Market Data'!B720","v":20021023},{"$f":"'Market Data'!C720","v":4531.5},{"$f":"'Market Data'!D720","v":4552.5},{"$f":"'Market Data'!E720","v":4300.5},{"$f":"'Market Data'!F720","v":4353.5},null,716,"Hidden","Long",null,1,0,"",null,1,"Stay Long",-3745,-130115.95999999999]
[null,{"$f":"'Market Data'!B721","v":20021024},{"$f":"'Market Data'!C721","v":4390},{"$f":"'Market Data'!D721","v":4449.5},{"$f":"'Market Data'!E721","v":4339},{"$f":"'Market Data'!F721","v":4394.5},null,717,"Hidden","Long",null,1,0,"",null,1,"Stay Long",1435,-128680.95999999999]
[null,{"$f":"'Market Data'!B722","v":20021025},{"$f":"'Market Data'!C722","v":4364.5},{"$f":"'Market Data'!D722","v":4439},{"$f":"'Market Data'!E722","v":4333.5},{"$f":"'Market Data'!F722","v":4421},null,718,"Hidden","Long",null,1,0,"",null,1,"Stay Long",927.5,-127753.45999999999]
[null,{"$f":"'Market Data'!B723","v":20021028},{"$f":"'Market Data'!C723","v":4463},{"$f":"'Market Data'!D723","v":4553},{"$f":"'Market Data'!E723","v":4463},{"$f":"'Market Data'!F723","v":4490.5},null,719,"Hidden","Long",null,1,0,"",null,1,"Stay Long",2432.5,-125320.95999999999]
[null,{"$f":"'Market Data'!B724","v":20021029},{"$f":"'Market Data'!C724","v":4463.5},{"$f":"'Market Data'!D724","v":4507.5},{"$f":"'Market Data'!E724","v":4327.5},{"$f":"'Market Data'!F724","v":4342},null,720,"Hidden","Long",null,1,0,"",null,1,"Stay Long",-5197.5,-130518.45999999999]
[null,{"$f":"'Market Data'!B725","v":20021030},{"$f":"'Market Data'!C725","v":4396.5},{"$f":"'Market Data'!D725","v":4459},{"$f":"'Market Data'!E725","v":4314},{"$f":"'Market Data'!F725","v":4450.5},null,721,"Hidden","Long",null,1,0,"",null,1,"Stay Long",3797.5,-126720.95999999999]
[null,{"$f":"'Market Data'!B726","v":20021031},{"$f":"'Market Data'!C726","v":4436.5},{"$f":"'Market Data'!D726","v":4533},{"$f":"'Market Data'!E726","v":4402.5},{"$f":"'Market Data'!F726","v":4489.5},null,722,"Hidden","Long",null,1,0,"",null,1,"Stay Long",1365,-125355.95999999999]
[null,{"$f":"'Market Data'!B727","v":20021101},{"$f":"'Market Data'!C727","v":4471.5},{"$f":"'Market Data'!D727","v":4493.5},{"$f":"'Market Data'!E727","v":4371},{"$f":"'Market Data'!F727","v":4477.5},null,723,"Hidden","Long",null,1,0,"",null,1,"Stay Long",-420,-125775.95999999999]
[null,{"$f":"'Market Data'!B728","v":20021104},{"$f":"'Market Data'!C728","v":4557},{"$f":"'Market Data'!D728","v":4649},{"$f":"'Market Data'!E728","v":4557},{"$f":"'Market Data'!F728","v":4645.5},null,724,"Hidden","Long",null,1,0,"",null,1,"Stay Long",5880,-119895.95999999999]
[null,{"$f":"'Market Data'!B729","v":20021105},{"$f":"'Market Data'!C729","v":4612},{"$f":"'Market Data'!D729","v":4714.5},{"$f":"'Market Data'!E729","v":4583.5},{"$f":"'Market Data'!F729","v":4679},null,725,"Hidden","Long",null,1,0,"",null,1,"Stay Long",1172.5,-118723.45999999999]
[null,{"$f":"'Market Data'!B730","v":20021106},{"$f":"'Market Data'!C730","v":4733.5},{"$f":"'Market Data'!D730","v":4761},{"$f":"'Market Data'!E730","v":4594},{"$f":"'Market Data'!F730","v":4618},null,726,"Hidden","Long",null,1,0,"",null,1,"Stay Long",-2135,-120858.45999999999]
[null,{"$f":"'Market Data'!B731","v":20021107},{"$f":"'Market Data'!C731","v":4629.5},{"$f":"'Market Data'!D731","v":4649.5},{"$f":"'Market Data'!E731","v":4442.5},{"$f":"'Market Data'!F731","v":4489.5},null,727,"Hidden","Long",null,1,0,"",null,1,"Stay Long",-4497.5,-125355.95999999999]
[null,{"$f":"'Market Data'!B732","v":20021108},{"$f":"'Market Data'!C732","v":4443},{"$f":"'Market Data'!D732","v":4491},{"$f":"'Market Data'!E732","v":4387.5},{"$f":"'Market Data'!F732","v":4388},null,728,"Hidden","Long",null,1,0,"",null,1,"Stay Long",-3552.5,-128908.45999999999]
[null,{"$f":"'Market Data'!B733","v":20021111},{"$f":"'Market Data'!C733","v":4349.5},{"$f":"'Market Data'!D733","v":4387.5},{"$f":"'Market Data'!E733","v":4319.5},{"$f":"'Market Data'!F733","v":4337.5},null,729,"Hidden","Long",null,1,0,"",null,1,"Stay Long",-1767.5,-130675.95999999999]
[null,{"$f":"'Market Data'!B734","v":20021112},{"$f":"'Market Data'!C734","v":4378.5},{"$f":"'Market Data'!D734","v":4451.5},{"$f":"'Market Data'!E734","v":4339},{"$f":"'Market Data'!F734","v":4429.5},null,730,"Hidden","Long",null,1,0,"",null,1,"Stay Long",3220,-127455.95999999999]
[null,{"$f":"'Market Data'!B735","v":20021113},{"$f":"'Market Data'!C735","v":4391.5},{"$f":"'Market Data'!D735","v":4434.5},{"$f":"'Market Data'!E735","v":4299},{"$f":"'Market Data'!F735","v":4385.5},null,731,"Hidden","Long",null,1,0,"",null,1,"Stay Long",-1540,-128995.95999999999]
[null,{"$f":"'Market Data'!B736","v":20021114},{"$f":"'Market Data'!C736","v":4379.5},{"$f":"'Market Data'!D736","v":4509.5},{"$f":"'Market Data'!E736","v":4347.5},{"$f":"'Market Data'!F736","v":4491},null,732,"Hidden","Long",null,1,0,"",null,1,"Stay Long",3692.5,-125303.45999999999]
[null,{"$f":"'Market Data'!B737","v":20021115},{"$f":"'Market Data'!C737","v":4511.5},{"$f":"'Market Data'!D737","v":4547.5},{"$f":"'Market Data'!E737","v":4463.5},{"$f":"'Market Data'!F737","v":4499.5},null,733,"Hidden","Long",null,1,0,"",null,1,"Stay Long",297.5,-125005.95999999999]
[null,{"$f":"'Market Data'!B738","v":20021118},{"$f":"'Market Data'!C738","v":4531.5},{"$f":"'Market Data'!D738","v":4575.5},{"$f":"'Market Data'!E738","v":4495},{"$f":"'Market Data'!F738","v":4523},null,734,"Hidden","Long",null,1,0,"",null,1,"Stay Long",822.5,-124183.45999999999]
[null,{"$f":"'Market Data'!B739","v":20021119},{"$f":"'Market Data'!C739","v":4466},{"$f":"'Market Data'!D739","v":4535},{"$f":"'Market Data'!E739","v":4455.5},{"$f":"'Market Data'!F739","v":4533.5},null,735,"Hidden","Long",null,1,0,"",null,1,"Stay Long",367.5,-123815.95999999999]
[null,{"$f":"'Market Data'!B740","v":20021120},{"$f":"'Market Data'!C740","v":4531.5},{"$f":"'Market Data'!D740","v":4538.5},{"$f":"'Market Data'!E740","v":4427},{"$f":"'Market Data'!F740","v":4527},null,736,"Hidden","Long",null,1,0,"",null,1,"Stay Long",-227.5,-124043.45999999999]
[null,{"$f":"'Market Data'!B741","v":20021121},{"$f":"'Market Data'!C741","v":4566.5},{"$f":"'Market Data'!D741","v":4615.5},{"$f":"'Market Data'!E741","v":4538},{"$f":"'Market Data'!F741","v":4604.5},null,737,"Hidden","Long",null,1,0,"",null,1,"Stay Long",2712.5,-121330.95999999999]
[null,{"$f":"'Market Data'!B742","v":20021122},{"$f":"'Market Data'!C742","v":4621.5},{"$f":"'Market Data'!D742","v":4649},{"$f":"'Market Data'!E742","v":4586.5},{"$f":"'Market Data'!F742","v":4635.5},null,738,"Hidden","Long",null,1,0,"",null,1,"Stay Long",1085,-120245.95999999999]
[null,{"$f":"'Market Data'!B743","v":20021125},{"$f":"'Market Data'!C743","v":4645},{"$f":"'Market Data'!D743","v":4676.5},{"$f":"'Market Data'!E743","v":4588},{"$f":"'Market Data'!F743","v":4610.5},null,739,"Hidden","Long",null,1,0,"",null,1,"Stay Long",-875,-121120.95999999999]
[null,{"$f":"'Market Data'!B744","v":20021126},{"$f":"'Market Data'!C744","v":4606.5},{"$f":"'Market Data'!D744","v":4645.5},{"$f":"'Market Data'!E744","v":4491},{"$f":"'Market Data'!F744","v":4496},null,740,"Hidden","Long",null,1,0,"",null,1,"Stay Long",-4007.5,-125128.45999999999]
[null,{"$f":"'Market Data'!B745","v":20021127},{"$f":"'Market Data'!C745","v":4486.5},{"$f":"'Market Data'!D745","v":4653.5},{"$f":"'Market Data'!E745","v":4454},{"$f":"'Market Data'!F745","v":4638},null,741,"Hidden","Long",null,1,0,"",null,1,"Stay Long",4970,-120158.45999999999]
[null,{"$f":"'Market Data'!B746","v":20021128},{"$f":"'Market Data'!C746","v":4641.5},{"$f":"'Market Data'!D746","v":4686},{"$f":"'Market Data'!E746","v":4612.5},{"$f":"'Market Data'!F746","v":4681},null,742,"Hidden","Long",null,1,0,"",null,1,"Stay Long",1505,-118653.45999999999]
[null,{"$f":"'Market Data'!B747","v":20021129},{"$f":"'Market Data'!C747","v":4680.5},{"$f":"'Market Data'!D747","v":4713.5},{"$f":"'Market Data'!E747","v":4644.5},{"$f":"'Market Data'!F747","v":4660},null,743,"Hidden","Long",null,1,0,"",null,1,"Stay Long",-735,-119388.45999999999]
[null,{"$f":"'Market Data'!B748","v":20021202},{"$f":"'Market Data'!C748","v":4690},{"$f":"'Market Data'!D748","v":4786},{"$f":"'Market Data'!E748","v":4670},{"$f":"'Market Data'!F748","v":4673},null,744,"Hidden","Long",null,1,0,"",null,1,"Stay Long",455,-118933.45999999999]
[null,{"$f":"'Market Data'!B749","v":20021203},{"$f":"'Market Data'!C749","v":4700.5},{"$f":"'Market Data'!D749","v":4717.5},{"$f":"'Market Data'!E749","v":4584.5},{"$f":"'Market Data'!F749","v":4596.5},null,745,"Hidden","Long",null,1,0,"",null,1,"Stay Long",-2677.5,-121610.95999999999]
[null,{"$f":"'Market Data'!B750","v":20021204},{"$f":"'Market Data'!C750","v":4561.5},{"$f":"'Market Data'!D750","v":4639.5},{"$f":"'Market Data'!E750","v":4543},{"$f":"'Market Data'!F750","v":4633},null,746,"Hidden","Long",null,1,0,"",null,1,"Stay Long",1277.5,-120333.45999999999]
[null,{"$f":"'Market Data'!B751","v":20021205},{"$f":"'Market Data'!C751","v":4643.5},{"$f":"'Market Data'!D751","v":4696},{"$f":"'Market Data'!E751","v":4492.5},{"$f":"'Market Data'!F751","v":4531.5},null,747,"Hidden","Long",null,1,0,"",null,1,"Stay Long",-3552.5,-123885.95999999999]
[null,{"$f":"'Market Data'!B752","v":20021206},{"$f":"'Market Data'!C752","v":4539},{"$f":"'Market Data'!D752","v":4552.5},{"$f":"'Market Data'!E752","v":4413},{"$f":"'Market Data'!F752","v":4500},null,748,"Hidden","Long",null,1,0,"",null,1,"Stay Long",-1102.5,-124988.45999999999]
[null,{"$f":"'Market Data'!B753","v":20021209},{"$f":"'Market Data'!C753","v":4502.5},{"$f":"'Market Data'!D753","v":4529},{"$f":"'Market Data'!E753","v":4371.5},{"$f":"'Market Data'!F753","v":4378},null,749,"Hidden","Long",null,1,0,"",null,1,"Stay Long",-4270,-129258.45999999999]
[null,{"$f":"'Market Data'!B754","v":20021210},{"$f":"'Market Data'!C754","v":4385.5},{"$f":"'Market Data'!D754","v":4481},{"$f":"'Market Data'!E754","v":4372},{"$f":"'Market Data'!F754","v":4464},null,750,"Hidden","Long",null,1,0,"",null,1,"Stay Long",3010,-126248.45999999999]
[null,{"$f":"'Market Data'!B755","v":20021211},{"$f":"'Market Data'!C755","v":4454.5},{"$f":"'Market Data'!D755","v":4519},{"$f":"'Market Data'!E755","v":4438.5},{"$f":"'Market Data'!F755","v":4489.5},null,751,"Hidden","Long",null,1,0,"",null,1,"Stay Long",892.5,-125355.95999999999]
[null,{"$f":"'Market Data'!B756","v":20021212},{"$f":"'Market Data'!C756","v":4477},{"$f":"'Market Data'!D756","v":4515.5},{"$f":"'Market Data'!E756","v":4402.5},{"$f":"'Market Data'!F756","v":4418.5},null,752,"Hidden","Long",null,1,0,"",null,1,"Stay Long",-2485,-127840.95999999999]
[null,{"$f":"'Market Data'!B757","v":20021213},{"$f":"'Market Data'!C757","v":4406.5},{"$f":"'Market Data'!D757","v":4411.5},{"$f":"'Market Data'!E757","v":4337.5},{"$f":"'Market Data'!F757","v":4361.5},null,753,"Hidden","Long",null,1,0,"",null,1,"Stay Long",-1995,-129835.95999999999]
[null,{"$f":"'Market Data'!B758","v":20021216},{"$f":"'Market Data'!C758","v":4351.5},{"$f":"'Market Data'!D758","v":4499},{"$f":"'Market Data'!E758","v":4332},{"$f":"'Market Data'!F758","v":4499},null,754,"Hidden","Long",null,1,0,"",null,1,"Stay Long",4812.5,-125023.45999999999]
[null,{"$f":"'Market Data'!B759","v":20021217},{"$f":"'Market Data'!C759","v":4502},{"$f":"'Market Data'!D759","v":4526.5},{"$f":"'Market Data'!E759","v":4438},{"$f":"'Market Data'!F759","v":4448},null,755,"Hidden","Long",null,1,0,"",null,1,"Stay Long",-1785,-126808.45999999999]
[null,{"$f":"'Market Data'!B760","v":20021218},{"$f":"'Market Data'!C760","v":4419},{"$f":"'Market Data'!D760","v":4437},{"$f":"'Market Data'!E760","v":4324},{"$f":"'Market Data'!F760","v":4341.5},null,756,"Hidden","Long",null,1,0,"",null,1,"Stay Long",-3727.5,-130535.95999999999]
[null,{"$f":"'Market Data'!B761","v":20021219},{"$f":"'Market Data'!C761","v":4358},{"$f":"'Market Data'!D761","v":4401},{"$f":"'Market Data'!E761","v":4225.5},{"$f":"'Market Data'!F761","v":4254.5},null,757,"Hidden","Long",null,1,0,"",null,1,"Stay Long",-3045,-133580.96]
[null,{"$f":"'Market Data'!B762","v":20021220},{"$f":"'Market Data'!C762","v":4298},{"$f":"'Market Data'!D762","v":4342.5},{"$f":"'Market Data'!E762","v":4246},{"$f":"'Market Data'!F762","v":4337},null,758,"Hidden","Long",null,1,0,"",null,1,"Stay Long",2887.5,-130693.45999999999]
[null,{"$f":"'Market Data'!B763","v":20021223},{"$f":"'Market Data'!C763","v":4334},{"$f":"'Market Data'!D763","v":4354},{"$f":"'Market Data'!E763","v":4261},{"$f":"'Market Data'!F763","v":4284.5},null,759,"Hidden","Long",null,1,0,"",null,1,"Stay Long",-1837.5,-132530.96]
[null,{"$f":"'Market Data'!B764","v":20021227},{"$f":"'Market Data'!C764","v":4273},{"$f":"'Market Data'!D764","v":4286},{"$f":"'Market Data'!E764","v":4139},{"$f":"'Market Data'!F764","v":4143.5},null,760,"Hidden","Long",null,1,0,"",null,1,"Stay Long",-4935,-137465.96]
[null,{"$f":"'Market Data'!B765","v":20021230},{"$f":"'Market Data'!C765","v":4149},{"$f":"'Market Data'!D765","v":4200.5},{"$f":"'Market Data'!E765","v":4133},{"$f":"'Market Data'!F765","v":4183.5},null,761,"Hidden","Long",null,1,0,"",null,1,"Stay Long",1400,-136065.96]
[null,{"$f":"'Market Data'!B766","v":20030102},{"$f":"'Market Data'!C766","v":4201.5},{"$f":"'Market Data'!D766","v":4379},{"$f":"'Market Data'!E766","v":4197},{"$f":"'Market Data'!F766","v":4378},null,762,"Hidden","Long",null,1,0,"",null,1,"Stay Long",6807.5,-129258.45999999999]
[null,{"$f":"'Market Data'!B767","v":20030103},{"$f":"'Market Data'!C767","v":4372},{"$f":"'Market Data'!D767","v":4423},{"$f":"'Market Data'!E767","v":4367},{"$f":"'Market Data'!F767","v":4395},null,763,"Hidden","Long",null,1,0,"",null,1,"Stay Long",595,-128663.45999999999]
[null,{"$f":"'Market Data'!B768","v":20030106},{"$f":"'Market Data'!C768","v":4405},{"$f":"'Market Data'!D768","v":4448.5},{"$f":"'Market Data'!E768","v":4329},{"$f":"'Market Data'!F768","v":4442.5},null,764,"Hidden","Long",null,1,0,"",null,1,"Stay Long",1662.5,-127000.95999999999]
[null,{"$f":"'Market Data'!B769","v":20030107},{"$f":"'Market Data'!C769","v":4432},{"$f":"'Market Data'!D769","v":4446.5},{"$f":"'Market Data'!E769","v":4365.5},{"$f":"'Market Data'!F769","v":4401},null,765,"Hidden","Long",null,1,0,"",null,1,"Stay Long",-1452.5,-128453.45999999999]
[null,{"$f":"'Market Data'!B770","v":20030108},{"$f":"'Market Data'!C770","v":4380},{"$f":"'Market Data'!D770","v":4386.5},{"$f":"'Market Data'!E770","v":4293.5},{"$f":"'Market Data'!F770","v":4312},null,766,"Hidden","Long",null,1,0,"",null,1,"Stay Long",-3115,-131568.46]
[null,{"$f":"'Market Data'!B771","v":20030109},{"$f":"'Market Data'!C771","v":4327},{"$f":"'Market Data'!D771","v":4341.5},{"$f":"'Market Data'!E771","v":4226},{"$f":"'Market Data'!F771","v":4316},null,767,"Hidden","Long",null,1,{"$f":"$L784-P784","v":0},"",null,1,"Stay Long",140,-131428.46]
[null,{"$f":"'Market Data'!B772","v":20030110},{"$f":"'Market Data'!C772","v":4341.5},{"$f":"'Market Data'!D772","v":4393},{"$f":"'Market Data'!E772","v":4282.5},{"$f":"'Market Data'!F772","v":4337},null,768,"Hidden","Long",null,1,0,"",null,{"$f":"IF($N784=\"Fill\",$L784,$P784)","v":1},"Stay Long",{"$f":"IF(OR($P784&$L784=\"01\",$P784&$L784=\"0-1\"),(($F785-$C785)*$R$3*$L784)-(ABS($M784)*$R$4),IF(OR($P784&$L784=\"10\",$P784&$L784=\"-10\"),(($C785-$F784)*$R$3*$P784)-(ABS($M784)*$R$4),IF(OR($P784&$L784=\"1-1\",$P784&$L784=\"-11\"),(($C785-$F784)*$R$3*$P784)-(ABS($M784)*$R$4)+(($F785-$C785)*$R$3*$P785),IF(OR($P784&$L784=\"11\",$P784&$L784=\"-1-1\"),(($F785-$F784)*$R$3*$P785),0))))","v":735},-130693.45999999999]
[null,{"$f":"'Market Data'!B773","v":20030113},{"$f":"'Market Data'!C773","v":4384},{"$f":"'Market Data'!D773","v":4423.5},{"$f":"'Market Data'!E773","v":4346},{"$f":"'Market Data'!F773","v":4368},null,{"$f":"ROW()-ROW(H$17)","v":769},"Hidden",{"$f":"$I$4","v":"Long"},null,1,0,{"$f":"IF(NOT($M786=0),\"Fill\",\"\")","v":""},null,1,{"$f":"IF($P785&$L785=\"00\",\"Stay Flat\",IF($P785&$L785=\"01\",\"Go Long\",IF($P785&$L785=\"0-1\",\"Go Short\",IF($P785&$L785=\"-10\",\"Exit Short\",IF($P785&$L785=\"-1-1\",\"Stay Short\",IF($P785&$L785=\"-11\",\"Exit Short, Go Long\",IF($P785&$L785=\"10\",\"Exit Long\",IF($P785&$L785=\"1-1\",\"Exit Long, Go Short\",IF($P785&$L785=\"11\",\"Stay Long\",\"\")))))))))","v":"Stay Long"},1085,{"$f":"S785+R786","v":-129608.45999999999}]
[null,{"$f":"'Market Data'!B774","v":20030114},{"$f":"'Market Data'!C774","v":4368},{"$f":"'Market Data'!D774","v":4437.5},{"$f":"'Market Data'!E774","v":4351},{"$f":"'Market Data'!F774","v":4417},null,770,"Hidden","Long",null,{"$f":"IF($J787=\"Short\",-1,IF($J787=\"Long\",1,0))","v":1},0,"",null,1,"Stay Long",1715,-127893.45999999999]
[null,{"$f":"'Market Data'!B775","v":20030115},{"$f":"'Market Data'!C775","v":4428},{"$f":"'Market Data'!D775","v":4441.5},{"$f":"'Market Data'!E775","v":4330.5},{"$f":"'Market Data'!F775","v":4334},null,771,"Hidden","Long",null,1,0,"",null,1,"Stay Long",-2905,-130798.45999999999]
[null,{"$f":"'Market Data'!B776","v":20030116},{"$f":"'Market Data'!C776","v":4333},{"$f":"'Market Data'!D776","v":4379},{"$f":"'Market Data'!E776","v":4315.5},{"$f":"'Market Data'!F776","v":4344},null,772,"Hidden","Long",null,1,0,"",null,1,"Stay Long",350,-130448.45999999999]
[null,{"$f":"'Market Data'!B777","v":20030117},{"$f":"'Market Data'!C777","v":4314},{"$f":"'Market Data'!D777","v":4323},{"$f":"'Market Data'!E777","v":4214},{"$f":"'Market Data'!F777","v":4217},null,773,"Hidden","Long",null,1,0,"",null,1,"Stay Long",-4445,-134893.46]
[null,{"$f":"'Market Data'!B778","v":20030120},{"$f":"'Market Data'!C778","v":4239},{"$f":"'Market Data'!D778","v":4261.5},{"$f":"'Market Data'!E778","v":4186},{"$f":"'Market Data'!F778","v":4210.5},null,774,"Hidden","Long",null,1,0,"",null,1,"Stay Long",-227.5,-135120.95999999999]
[null,{"$f":"'Market Data'!B779","v":20030121},{"$f":"'Market Data'!C779","v":4230},{"$f":"'Market Data'!D779","v":4250.5},{"$f":"'Market Data'!E779","v":4153},{"$f":"'Market Data'!F779","v":4169},null,775,"Hidden","Long",null,1,0,"",null,1,"Stay Long",-1452.5,-136573.46]
[null,{"$f":"'Market Data'!B780","v":20030122},{"$f":"'Market Data'!C780","v":4159},{"$f":"'Market Data'!D780","v":4192},{"$f":"'Market Data'!E780","v":4056},{"$f":"'Market Data'!F780","v":4090},null,776,"Hidden","Long",null,1,0,"",null,1,"Stay Long",-2765,-139338.46]
[null,{"$f":"'Market Data'!B781","v":20030123},{"$f":"'Market Data'!C781","v":4139},{"$f":"'Market Data'!D781","v":4155},{"$f":"'Market Data'!E781","v":4064.5},{"$f":"'Market Data'!F781","v":4104},null,777,"Hidden","Long",null,1,0,"",null,1,"Stay Long",490,-138848.46]
[null,{"$f":"'Market Data'!B782","v":20030124},{"$f":"'Market Data'!C782","v":4084},{"$f":"'Market Data'!D782","v":4118.5},{"$f":"'Market Data'!E782","v":4003},{"$f":"'Market Data'!F782","v":4009.5},null,778,"Hidden","Long",null,1,0,"",null,1,"Stay Long",-3307.5,-142155.96]
[null,{"$f":"'Market Data'!B783","v":20030127},{"$f":"'Market Data'!C783","v":4015},{"$f":"'Market Data'!D783","v":4021},{"$f":"'Market Data'!E783","v":3902},{"$f":"'Market Data'!F783","v":3932.5},null,779,"Hidden","Long",null,1,0,"",null,1,"Stay Long",-2695,-144850.96]
[null,{"$f":"'Market Data'!B784","v":20030128},{"$f":"'Market Data'!C784","v":3973.5},{"$f":"'Market Data'!D784","v":3996.5},{"$f":"'Market Data'!E784","v":3904},{"$f":"'Market Data'!F784","v":3968.5},null,780,"Hidden","Long",null,1,0,"",null,1,"Stay Long",1260,-143590.96]
[null,{"$f":"'Market Data'!B785","v":20030129},{"$f":"'Market Data'!C785","v":3928},{"$f":"'Market Data'!D785","v":4036},{"$f":"'Market Data'!E785","v":3851.5},{"$f":"'Market Data'!F785","v":4010},null,781,"Hidden","Long",null,1,0,"",null,1,"Stay Long",1452.5,-142138.46]
[null,{"$f":"'Market Data'!B786","v":20030130},{"$f":"'Market Data'!C786","v":3999},{"$f":"'Market Data'!D786","v":4033},{"$f":"'Market Data'!E786","v":3950},{"$f":"'Market Data'!F786","v":3956.5},null,782,"Hidden","Long",null,1,0,"",null,1,"Stay Long",-1872.5,-144010.96]
[null,{"$f":"'Market Data'!B787","v":20030131},{"$f":"'Market Data'!C787","v":3917},{"$f":"'Market Data'!D787","v":4042.5},{"$f":"'Market Data'!E787","v":3909},{"$f":"'Market Data'!F787","v":4038.5},null,783,"Hidden","Long",null,1,0,"",null,1,"Stay Long",2870,-141140.96]
[null,{"$f":"'Market Data'!B788","v":20030203},{"$f":"'Market Data'!C788","v":4054},{"$f":"'Market Data'!D788","v":4096},{"$f":"'Market Data'!E788","v":4021},{"$f":"'Market Data'!F788","v":4044},null,784,"Hidden","Long",null,1,0,"",null,1,"Stay Long",192.5,-140948.46]
[null,{"$f":"'Market Data'!B789","v":20030204},{"$f":"'Market Data'!C789","v":4011},{"$f":"'Market Data'!D789","v":4017.5},{"$f":"'Market Data'!E789","v":3904},{"$f":"'Market Data'!F789","v":3914.5},null,785,"Hidden","Long",null,1,0,"",null,1,"Stay Long",-4532.5,-145480.95999999999]
[null,{"$f":"'Market Data'!B790","v":20030205},{"$f":"'Market Data'!C790","v":3919},{"$f":"'Market Data'!D790","v":4029.5},{"$f":"'Market Data'!E790","v":3870},{"$f":"'Market Data'!F790","v":4024},null,786,"Hidden","Long",null,1,0,"",null,1,"Stay Long",3832.5,-141648.46]
[null,{"$f":"'Market Data'!B791","v":20030206},{"$f":"'Market Data'!C791","v":3960.5},{"$f":"'Market Data'!D791","v":4009},{"$f":"'Market Data'!E791","v":3904},{"$f":"'Market Data'!F791","v":3917},null,787,"Hidden","Long",null,1,0,"",null,1,"Stay Long",-3745,-145393.46]
[null,{"$f":"'Market Data'!B792","v":20030207},{"$f":"'Market Data'!C792","v":3934},{"$f":"'Market Data'!D792","v":3957.5},{"$f":"'Market Data'!E792","v":3846},{"$f":"'Market Data'!F792","v":3849},null,788,"Hidden","Long",null,1,0,"",null,1,"Stay Long",-2380,-147773.46]
[null,{"$f":"'Market Data'!B793","v":20030210},{"$f":"'Market Data'!C793","v":3868},{"$f":"'Market Data'!D793","v":3881.5},{"$f":"'Market Data'!E793","v":3814.5},{"$f":"'Market Data'!F793","v":3858},null,789,"Hidden","Long",null,1,0,"",null,1,"Stay Long",315,-147458.46]
[null,{"$f":"'Market Data'!B794","v":20030211},{"$f":"'Market Data'!C794","v":3893.5},{"$f":"'Market Data'!D794","v":3953},{"$f":"'Market Data'!E794","v":3870},{"$f":"'Market Data'!F794","v":3908},null,790,"Hidden","Long",null,1,0,"",null,1,"Stay Long",1750,-145708.46]
[null,{"$f":"'Market Data'!B795","v":20030212},{"$f":"'Market Data'!C795","v":3881},{"$f":"'Market Data'!D795","v":3906},{"$f":"'Market Data'!E795","v":3850},{"$f":"'Market Data'!F795","v":3871},null,791,"Hidden","Long",null,1,0,"",null,1,"Stay Long",-1295,-147003.46]
[null,{"$f":"'Market Data'!B796","v":20030213},{"$f":"'Market Data'!C796","v":3826},{"$f":"'Market Data'!D796","v":3886},{"$f":"'Market Data'!E796","v":3819},{"$f":"'Market Data'!F796","v":3842},null,792,"Hidden","Long",null,1,0,"",null,1,"Stay Long",-1015,-148018.46]
[null,{"$f":"'Market Data'!B797","v":20030214},{"$f":"'Market Data'!C797","v":3874},{"$f":"'Market Data'!D797","v":4004},{"$f":"'Market Data'!E797","v":3864},{"$f":"'Market Data'!F797","v":3950.5},null,793,"Hidden","Long",null,1,0,"",null,1,"Stay Long",3797.5,-144220.96]
[null,{"$f":"'Market Data'!B798","v":20030217},{"$f":"'Market Data'!C798","v":3999},{"$f":"'Market Data'!D798","v":4011},{"$f":"'Market Data'!E798","v":3964},{"$f":"'Market Data'!F798","v":3990.5},null,794,"Hidden","Long",null,1,0,"",null,1,"Stay Long",1400,-142820.96]
[null,{"$f":"'Market Data'!B799","v":20030218},{"$f":"'Market Data'!C799","v":3977},{"$f":"'Market Data'!D799","v":4038.5},{"$f":"'Market Data'!E799","v":3958.5},{"$f":"'Market Data'!F799","v":4010.5},null,795,"Hidden","Long",null,1,0,"",null,1,"Stay Long",700,-142120.95999999999]
[null,{"$f":"'Market Data'!B800","v":20030219},{"$f":"'Market Data'!C800","v":3987},{"$f":"'Market Data'!D800","v":4009},{"$f":"'Market Data'!E800","v":3900.5},{"$f":"'Market Data'!F800","v":3901.5},null,796,"Hidden","Long",null,1,0,"",null,1,"Stay Long",-3815,-145935.96]
[null,{"$f":"'Market Data'!B801","v":20030220},{"$f":"'Market Data'!C801","v":3932},{"$f":"'Market Data'!D801","v":3955.5},{"$f":"'Market Data'!E801","v":3860},{"$f":"'Market Data'!F801","v":3875},null,797,"Hidden","Long",null,1,0,"",null,1,"Stay Long",-927.5,-146863.46]
[null,{"$f":"'Market Data'!B802","v":20030221},{"$f":"'Market Data'!C802","v":3861.5},{"$f":"'Market Data'!D802","v":3932.5},{"$f":"'Market Data'!E802","v":3847.5},{"$f":"'Market Data'!F802","v":3925},null,798,"Hidden","Long",null,1,0,"",null,1,"Stay Long",1750,-145113.46]
[null,{"$f":"'Market Data'!B803","v":20030224},{"$f":"'Market Data'!C803","v":3921},{"$f":"'Market Data'!D803","v":3930.5},{"$f":"'Market Data'!E803","v":3854},{"$f":"'Market Data'!F803","v":3860},null,799,"Hidden","Long",null,1,0,"",null,1,"Stay Long",-2275,-147388.46]
[null,{"$f":"'Market Data'!B804","v":20030225},{"$f":"'Market Data'!C804","v":3829},{"$f":"'Market Data'!D804","v":3838},{"$f":"'Market Data'!E804","v":3731},{"$f":"'Market Data'!F804","v":3761},null,800,"Hidden","Long",null,1,0,"",null,1,"Stay Long",-3465,-150853.46]
[null,{"$f":"'Market Data'!B805","v":20030226},{"$f":"'Market Data'!C805","v":3792.5},{"$f":"'Market Data'!D805","v":3805},{"$f":"'Market Data'!E805","v":3716.5},{"$f":"'Market Data'!F805","v":3745},null,801,"Hidden","Long",null,1,0,"",null,1,"Stay Long",-560,-151413.46]
[null,{"$f":"'Market Data'!B806","v":20030227},{"$f":"'Market Data'!C806","v":3737},{"$f":"'Market Data'!D806","v":3799},{"$f":"'Market Data'!E806","v":3717},{"$f":"'Market Data'!F806","v":3778.5},null,802,"Hidden","Long",null,1,0,"",null,1,"Stay Long",1172.5,-150240.95999999999]
[null,{"$f":"'Market Data'!B807","v":20030228},{"$f":"'Market Data'!C807","v":3779.5},{"$f":"'Market Data'!D807","v":3867},{"$f":"'Market Data'!E807","v":3761},{"$f":"'Market Data'!F807","v":3820.5},null,803,"Hidden","Long",null,1,0,"",null,1,"Stay Long",1470,-148770.96]
[null,{"$f":"'Market Data'!B808","v":20030303},{"$f":"'Market Data'!C808","v":3859},{"$f":"'Market Data'!D808","v":3892},{"$f":"'Market Data'!E808","v":3815},{"$f":"'Market Data'!F808","v":3828},null,804,"Hidden","Long",null,1,0,"",null,1,"Stay Long",262.5,-148508.46]
[null,{"$f":"'Market Data'!B809","v":20030304},{"$f":"'Market Data'!C809","v":3803},{"$f":"'Market Data'!D809","v":3814},{"$f":"'Market Data'!E809","v":3758.5},{"$f":"'Market Data'!F809","v":3785.5},null,805,"Hidden","Long",null,1,0,"",null,1,"Stay Long",-1487.5,-149995.96]
[null,{"$f":"'Market Data'!B810","v":20030305},{"$f":"'Market Data'!C810","v":3760},{"$f":"'Market Data'!D810","v":3824},{"$f":"'Market Data'!E810","v":3737},{"$f":"'Market Data'!F810","v":3797.5},null,806,"Hidden","Long",null,1,0,"",null,1,"Stay Long",420,-149575.96]
[null,{"$f":"'Market Data'!B811","v":20030306},{"$f":"'Market Data'!C811","v":3807},{"$f":"'Market Data'!D811","v":3813.5},{"$f":"'Market Data'!E811","v":3712},{"$f":"'Market Data'!F811","v":3719.5},null,807,"Hidden","Long",null,1,0,"",null,1,"Stay Long",-2730,-152305.96]
[null,{"$f":"'Market Data'!B812","v":20030307},{"$f":"'Market Data'!C812","v":3698.5},{"$f":"'Market Data'!D812","v":3749},{"$f":"'Market Data'!E812","v":3673.5},{"$f":"'Market Data'!F812","v":3719},null,808,"Hidden","Long",null,1,0,"",null,1,"Stay Long",-17.5,-152323.46]
[null,{"$f":"'Market Data'!B813","v":20030310},{"$f":"'Market Data'!C813","v":3716},{"$f":"'Market Data'!D813","v":3723},{"$f":"'Market Data'!E813","v":3604},{"$f":"'Market Data'!F813","v":3606},null,809,"Hidden","Long",null,1,0,"",null,1,"Stay Long",-3955,-156278.46]
[null,{"$f":"'Market Data'!B814","v":20030311},{"$f":"'Market Data'!C814","v":3612},{"$f":"'Market Data'!D814","v":3629.5},{"$f":"'Market Data'!E814","v":3538.5},{"$f":"'Market Data'!F814","v":3578},null,810,"Hidden","Long",null,1,0,"",null,1,"Stay Long",-980,-157258.46]
[null,{"$f":"'Market Data'!B815","v":20030312},{"$f":"'Market Data'!C815","v":3568},{"$f":"'Market Data'!D815","v":3599},{"$f":"'Market Data'!E815","v":3466},{"$f":"'Market Data'!F815","v":3479},null,811,"Hidden","Long",null,1,0,"",null,1,"Stay Long",-3465,-160723.46]
[null,{"$f":"'Market Data'!B816","v":20030313},{"$f":"'Market Data'!C816","v":3529},{"$f":"'Market Data'!D816","v":3626},{"$f":"'Market Data'!E816","v":3511},{"$f":"'Market Data'!F816","v":3625.5},null,812,"Hidden","Long",null,1,0,"",null,1,"Stay Long",5127.5,-155595.96]
[null,{"$f":"'Market Data'!B817","v":20030314},{"$f":"'Market Data'!C817","v":3682},{"$f":"'Market Data'!D817","v":3767},{"$f":"'Market Data'!E817","v":3651.5},{"$f":"'Market Data'!F817","v":3675.5},null,813,"Hidden","Long",null,1,0,"",null,1,"Stay Long",1750,-153845.96]
[null,{"$f":"'Market Data'!B818","v":20030317},{"$f":"'Market Data'!C818","v":3619},{"$f":"'Market Data'!D818","v":3803.5},{"$f":"'Market Data'!E818","v":3605.5},{"$f":"'Market Data'!F818","v":3780.5},null,814,"Hidden","Long",null,1,0,"",null,1,"Stay Long",3675,-150170.96]
[null,{"$f":"'Market Data'!B819","v":20030318},{"$f":"'Market Data'!C819","v":3814},{"$f":"'Market Data'!D819","v":3906},{"$f":"'Market Data'!E819","v":3772},{"$f":"'Market Data'!F819","v":3858},null,815,"Hidden","Long",null,1,0,"",null,1,"Stay Long",2712.5,-147458.46]
[null,{"$f":"'Market Data'!B820","v":20030319},{"$f":"'Market Data'!C820","v":3829},{"$f":"'Market Data'!D820","v":3956},{"$f":"'Market Data'!E820","v":3801.5},{"$f":"'Market Data'!F820","v":3895.5},null,816,"Hidden","Long",null,1,0,"",null,1,"Stay Long",1312.5,-146145.96]
[null,{"$f":"'Market Data'!B821","v":20030320},{"$f":"'Market Data'!C821","v":3837},{"$f":"'Market Data'!D821","v":3937},{"$f":"'Market Data'!E821","v":3830},{"$f":"'Market Data'!F821","v":3895.5},null,817,"Hidden","Long",null,1,0,"",null,1,"Stay Long",0,-146145.96]
[null,{"$f":"'Market Data'!B822","v":20030321},{"$f":"'Market Data'!C822","v":3902},{"$f":"'Market Data'!D822","v":4013.5},{"$f":"'Market Data'!E822","v":3902},{"$f":"'Market Data'!F822","v":3993},null,818,"Hidden","Long",null,1,0,"",null,1,"Stay Long",3412.5,-142733.46]
[null,{"$f":"'Market Data'!B823","v":20030324},{"$f":"'Market Data'!C823","v":3925},{"$f":"'Market Data'!D823","v":3934},{"$f":"'Market Data'!E823","v":3835},{"$f":"'Market Data'!F823","v":3846},null,819,"Hidden","Long",null,1,0,"",null,1,"Stay Long",-5145,-147878.46]
[null,{"$f":"'Market Data'!B824","v":20030325},{"$f":"'Market Data'!C824","v":3819},{"$f":"'Market Data'!D824","v":3919},{"$f":"'Market Data'!E824","v":3759.5},{"$f":"'Market Data'!F824","v":3907.5},null,820,"Hidden","Long",null,1,0,"",null,1,"Stay Long",2152.5,-145725.96]
[null,{"$f":"'Market Data'!B825","v":20030326},{"$f":"'Market Data'!C825","v":3903},{"$f":"'Market Data'!D825","v":3960},{"$f":"'Market Data'!E825","v":3865.5},{"$f":"'Market Data'!F825","v":3868.5},null,821,"Hidden","Long",null,1,0,"",null,1,"Stay Long",-1365,-147090.96]
[null,{"$f":"'Market Data'!B826","v":20030327},{"$f":"'Market Data'!C826","v":3849},{"$f":"'Market Data'!D826","v":3873},{"$f":"'Market Data'!E826","v":3787},{"$f":"'Market Data'!F826","v":3872},null,822,"Hidden","Long",null,1,0,"",null,1,"Stay Long",122.5,-146968.46]
[null,{"$f":"'Market Data'!B827","v":20030328},{"$f":"'Market Data'!C827","v":3855},{"$f":"'Market Data'!D827","v":3856.5},{"$f":"'Market Data'!E827","v":3774},{"$f":"'Market Data'!F827","v":3825},null,823,"Hidden","Long",null,1,0,"",null,1,"Stay Long",-1645,-148613.46]
[null,{"$f":"'Market Data'!B828","v":20030331},{"$f":"'Market Data'!C828","v":3734},{"$f":"'Market Data'!D828","v":3737.5},{"$f":"'Market Data'!E828","v":3672.5},{"$f":"'Market Data'!F828","v":3702},null,824,"Hidden","Long",null,1,0,"",null,1,"Stay Long",-4305,-152918.46]
[null,{"$f":"'Market Data'!B829","v":20030401},{"$f":"'Market Data'!C829","v":3732},{"$f":"'Market Data'!D829","v":3751},{"$f":"'Market Data'!E829","v":3669.5},{"$f":"'Market Data'!F829","v":3714},null,825,"Hidden","Long",null,1,0,"",null,1,"Stay Long",420,-152498.46]
[null,{"$f":"'Market Data'!B830","v":20030402},{"$f":"'Market Data'!C830","v":3780},{"$f":"'Market Data'!D830","v":3857.5},{"$f":"'Market Data'!E830","v":3761},{"$f":"'Market Data'!F830","v":3853},null,826,"Hidden","Long",null,1,0,"",null,1,"Stay Long",4865,-147633.46]
[null,{"$f":"'Market Data'!B831","v":20030403},{"$f":"'Market Data'!C831","v":3842},{"$f":"'Market Data'!D831","v":3923},{"$f":"'Market Data'!E831","v":3830},{"$f":"'Market Data'!F831","v":3833},null,827,"Hidden","Long",null,1,0,"",null,1,"Stay Long",-700,-148333.46]
[null,{"$f":"'Market Data'!B832","v":20030404},{"$f":"'Market Data'!C832","v":3858},{"$f":"'Market Data'!D832","v":3935},{"$f":"'Market Data'!E832","v":3828},{"$f":"'Market Data'!F832","v":3920},null,828,"Hidden","Long",null,1,0,"",null,1,"Stay Long",3045,-145288.46]
[null,{"$f":"'Market Data'!B833","v":20030407},{"$f":"'Market Data'!C833","v":4027},{"$f":"'Market Data'!D833","v":4093.5},{"$f":"'Market Data'!E833","v":4027},{"$f":"'Market Data'!F833","v":4081},null,829,"Hidden","Long",null,1,0,"",null,1,"Stay Long",5635,-139653.46]
[null,{"$f":"'Market Data'!B834","v":20030408},{"$f":"'Market Data'!C834","v":4039},{"$f":"'Market Data'!D834","v":4088},{"$f":"'Market Data'!E834","v":4018},{"$f":"'Market Data'!F834","v":4042},null,830,"Hidden","Long",null,1,0,"",null,1,"Stay Long",-1365,-141018.46]
[null,{"$f":"'Market Data'!B835","v":20030409},{"$f":"'Market Data'!C835","v":3996},{"$f":"'Market Data'!D835","v":4103},{"$f":"'Market Data'!E835","v":3972.5},{"$f":"'Market Data'!F835","v":4012.5},null,831,"Hidden","Long",null,1,{"$f":"$L848-P848","v":0},"",null,1,"Stay Long",-1032.5,-142050.96]
[null,{"$f":"'Market Data'!B836","v":20030410},{"$f":"'Market Data'!C836","v":3981.5},{"$f":"'Market Data'!D836","v":4042},{"$f":"'Market Data'!E836","v":3960},{"$f":"'Market Data'!F836","v":3977},null,832,"Hidden","Long",null,1,0,"",null,{"$f":"IF($N848=\"Fill\",$L848,$P848)","v":1},"Stay Long",{"$f":"IF(OR($P848&$L848=\"01\",$P848&$L848=\"0-1\"),(($F849-$C849)*$R$3*$L848)-(ABS($M848)*$R$4),IF(OR($P848&$L848=\"10\",$P848&$L848=\"-10\"),(($C849-$F848)*$R$3*$P848)-(ABS($M848)*$R$4),IF(OR($P848&$L848=\"1-1\",$P848&$L848=\"-11\"),(($C849-$F848)*$R$3*$P848)-(ABS($M848)*$R$4)+(($F849-$C849)*$R$3*$P849),IF(OR($P848&$L848=\"11\",$P848&$L848=\"-1-1\"),(($F849-$F848)*$R$3*$P849),0))))","v":-1242.5},-143293.46]
[null,{"$f":"'Market Data'!B837","v":20030411},{"$f":"'Market Data'!C837","v":3990},{"$f":"'Market Data'!D837","v":4079.5},{"$f":"'Market Data'!E837","v":3987.5},{"$f":"'Market Data'!F837","v":4004},null,{"$f":"ROW()-ROW(H$17)","v":833},"Hidden",{"$f":"$I$4","v":"Long"},null,1,0,{"$f":"IF(NOT($M850=0),\"Fill\",\"\")","v":""},null,1,{"$f":"IF($P849&$L849=\"00\",\"Stay Flat\",IF($P849&$L849=\"01\",\"Go Long\",IF($P849&$L849=\"0-1\",\"Go Short\",IF($P849&$L849=\"-10\",\"Exit Short\",IF($P849&$L849=\"-1-1\",\"Stay Short\",IF($P849&$L849=\"-11\",\"Exit Short, Go Long\",IF($P849&$L849=\"10\",\"Exit Long\",IF($P849&$L849=\"1-1\",\"Exit Long, Go Short\",IF($P849&$L849=\"11\",\"Stay Long\",\"\")))))))))","v":"Stay Long"},945,{"$f":"S849+R850","v":-142348.46}]
[null,{"$f":"'Market Data'!B838","v":20030414},{"$f":"'Market Data'!C838","v":4037},{"$f":"'Market Data'!D838","v":4065},{"$f":"'Market Data'!E838","v":3974.5},{"$f":"'Market Data'!F838","v":4061.5},null,834,"Hidden","Long",null,{"$f":"IF($J851=\"Short\",-1,IF($J851=\"Long\",1,0))","v":1},0,"",null,1,"Stay Long",2012.5,-140335.96]
[null,{"$f":"'Market Data'!B839","v":20030415},{"$f":"'Market Data'!C839","v":4087},{"$f":"'Market Data'!D839","v":4144},{"$f":"'Market Data'!E839","v":4082.5},{"$f":"'Market Data'!F839","v":4112},null,835,"Hidden","Long",null,1,0,"",null,1,"Stay Long",1767.5,-138568.46]
[null,{"$f":"'Market Data'!B840","v":20030416},{"$f":"'Market Data'!C840","v":4182},{"$f":"'Market Data'!D840","v":4186.5},{"$f":"'Market Data'!E840","v":4098.5},{"$f":"'Market Data'!F840","v":4110},null,836,"Hidden","Long",null,1,0,"",null,1,"Stay Long",-70,-138638.46]
[null,{"$f":"'Market Data'!B841","v":20030417},{"$f":"'Market Data'!C841","v":4097},{"$f":"'Market Data'!D841","v":4179},{"$f":"'Market Data'!E841","v":4077},{"$f":"'Market Data'!F841","v":4172},null,837,"Hidden","Long",null,1,0,"",null,1,"Stay Long",2170,-136468.46]
[null,{"$f":"'Market Data'!B842","v":20030422},{"$f":"'Market Data'!C842","v":4155},{"$f":"'Market Data'!D842","v":4243},{"$f":"'Market Data'!E842","v":4116},{"$f":"'Market Data'!F842","v":4235.5},null,838,"Hidden","Long",null,1,0,"",null,1,"Stay Long",2222.5,-134245.96]
[null,{"$f":"'Market Data'!B843","v":20030423},{"$f":"'Market Data'!C843","v":4248},{"$f":"'Market Data'!D843","v":4277},{"$f":"'Market Data'!E843","v":4207.5},{"$f":"'Market Data'!F843","v":4230.5},null,839,"Hidden","Long",null,1,0,"",null,1,"Stay Long",-175,-134420.96]
[null,{"$f":"'Market Data'!B844","v":20030424},{"$f":"'Market Data'!C844","v":4218},{"$f":"'Market Data'!D844","v":4247},{"$f":"'Market Data'!E844","v":4154},{"$f":"'Market Data'!F844","v":4173.5},null,840,"Hidden","Long",null,1,0,"",null,1,"Stay Long",-1995,-136415.96]
[null,{"$f":"'Market Data'!B845","v":20030425},{"$f":"'Market Data'!C845","v":4167},{"$f":"'Market Data'!D845","v":4184.5},{"$f":"'Market Data'!E845","v":4100.5},{"$f":"'Market Data'!F845","v":4119},null,841,"Hidden","Long",null,1,0,"",null,1,"Stay Long",-1907.5,-138323.46]
[null,{"$f":"'Market Data'!B846","v":20030428},{"$f":"'Market Data'!C846","v":4104},{"$f":"'Market Data'!D846","v":4226},{"$f":"'Market Data'!E846","v":4091},{"$f":"'Market Data'!F846","v":4222.5},null,842,"Hidden","Long",null,1,0,"",null,1,"Stay Long",3622.5,-134700.96]
[null,{"$f":"'Market Data'!B847","v":20030429},{"$f":"'Market Data'!C847","v":4238},{"$f":"'Market Data'!D847","v":4280},{"$f":"'Market Data'!E847","v":4188.5},{"$f":"'Market Data'!F847","v":4192},null,843,"Hidden","Long",null,1,0,"",null,1,"Stay Long",-1067.5,-135768.46]
[null,{"$f":"'Market Data'!B848","v":20030430},{"$f":"'Market Data'!C848","v":4205},{"$f":"'Market Data'!D848","v":4242},{"$f":"'Market Data'!E848","v":4186},{"$f":"'Market Data'!F848","v":4195},null,844,"Hidden","Long",null,1,0,"",null,1,"Stay Long",105,-135663.46]
[null,{"$f":"'Market Data'!B849","v":20030502},{"$f":"'Market Data'!C849","v":4187.5},{"$f":"'Market Data'!D849","v":4255.5},{"$f":"'Market Data'!E849","v":4158.5},{"$f":"'Market Data'!F849","v":4250},null,845,"Hidden","Long",null,1,0,"",null,1,"Stay Long",1925,-133738.46]
[null,{"$f":"'Market Data'!B850","v":20030505},{"$f":"'Market Data'!C850","v":4275},{"$f":"'Market Data'!D850","v":4314.5},{"$f":"'Market Data'!E850","v":4250},{"$f":"'Market Data'!F850","v":4284.5},null,846,"Hidden","Long",null,1,0,"",null,1,"Stay Long",1207.5,-132530.96]
[null,{"$f":"'Market Data'!B851","v":20030506},{"$f":"'Market Data'!C851","v":4268},{"$f":"'Market Data'!D851","v":4336},{"$f":"'Market Data'!E851","v":4248},{"$f":"'Market Data'!F851","v":4329.5},null,847,"Hidden","Long",null,1,0,"",null,1,"Stay Long",1575,-130955.95999999999]
[null,{"$f":"'Market Data'!B852","v":20030507},{"$f":"'Market Data'!C852","v":4311},{"$f":"'Market Data'!D852","v":4340},{"$f":"'Market Data'!E852","v":4263},{"$f":"'Market Data'!F852","v":4271.5},null,848,"Hidden","Long",null,1,0,"",null,1,"Stay Long",-2030,-132985.96]
[null,{"$f":"'Market Data'!B853","v":20030508},{"$f":"'Market Data'!C853","v":4260.5},{"$f":"'Market Data'!D853","v":4288.5},{"$f":"'Market Data'!E853","v":4153},{"$f":"'Market Data'!F853","v":4158},null,849,"Hidden","Long",null,1,0,"",null,1,"Stay Long",-3972.5,-136958.46]
[null,{"$f":"'Market Data'!B854","v":20030509},{"$f":"'Market Data'!C854","v":4187},{"$f":"'Market Data'!D854","v":4213.5},{"$f":"'Market Data'!E854","v":4130},{"$f":"'Market Data'!F854","v":4211},null,850,"Hidden","Long",null,1,0,"",null,1,"Stay Long",1855,-135103.46]
[null,{"$f":"'Market Data'!B855","v":20030512},{"$f":"'Market Data'!C855","v":4239},{"$f":"'Market Data'!D855","v":4242},{"$f":"'Market Data'!E855","v":4140},{"$f":"'Market Data'!F855","v":4203.5},null,851,"Hidden","Long",null,1,0,"",null,1,"Stay Long",-262.5,-135365.96]
[null,{"$f":"'Market Data'!B856","v":20030513},{"$f":"'Market Data'!C856","v":4210},{"$f":"'Market Data'!D856","v":4222},{"$f":"'Market Data'!E856","v":4151},{"$f":"'Market Data'!F856","v":4171},null,852,"Hidden","Long",null,1,0,"",null,1,"Stay Long",-1137.5,-136503.46]
[null,{"$f":"'Market Data'!B857","v":20030514},{"$f":"'Market Data'!C857","v":4176},{"$f":"'Market Data'!D857","v":4232.5},{"$f":"'Market Data'!E857","v":4157.5},{"$f":"'Market Data'!F857","v":4192},null,853,"Hidden","Long",null,1,0,"",null,1,"Stay Long",735,-135768.46]
[null,{"$f":"'Market Data'!B858","v":20030515},{"$f":"'Market Data'!C858","v":4181.5},{"$f":"'Market Data'!D858","v":4259.5},{"$f":"'Market Data'!E858","v":4170},{"$f":"'Market Data'!F858","v":4252},null,854,"Hidden","Long",null,1,0,"",null,1,"Stay Long",2100,-133668.46]
[null,{"$f":"'Market Data'!B859","v":20030516},{"$f":"'Market Data'!C859","v":4239},{"$f":"'Market Data'!D859","v":4299},{"$f":"'Market Data'!E859","v":4219},{"$f":"'Market Data'!F859","v":4261.5},null,855,"Hidden","Long",null,1,0,"",null,1,"Stay Long",332.5,-133335.96]
[null,{"$f":"'Market Data'!B860","v":20030519},{"$f":"'Market Data'!C860","v":4205},{"$f":"'Market Data'!D860","v":4211},{"$f":"'Market Data'!E860","v":4104.5},{"$f":"'Market Data'!F860","v":4108},null,856,"Hidden","Long",null,1,0,"",null,1,"Stay Long",-5372.5,-138708.46]
[null,{"$f":"'Market Data'!B861","v":20030520},{"$f":"'Market Data'!C861","v":4118.5},{"$f":"'Market Data'!D861","v":4145},{"$f":"'Market Data'!E861","v":4087.5},{"$f":"'Market Data'!F861","v":4112},null,857,"Hidden","Long",null,1,0,"",null,1,"Stay Long",140,-138568.46]
[null,{"$f":"'Market Data'!B862","v":20030521},{"$f":"'Market Data'!C862","v":4113.5},{"$f":"'Market Data'!D862","v":4117.5},{"$f":"'Market Data'!E862","v":4040.5},{"$f":"'Market Data'!F862","v":4080.5},null,858,"Hidden","Long",null,1,0,"",null,1,"Stay Long",-1102.5,-139670.96]
[null,{"$f":"'Market Data'!B863","v":20030522},{"$f":"'Market Data'!C863","v":4088},{"$f":"'Market Data'!D863","v":4127},{"$f":"'Market Data'!E863","v":4084.5},{"$f":"'Market Data'!F863","v":4126},null,859,"Hidden","Long",null,1,0,"",null,1,"Stay Long",1592.5,-138078.46]
[null,{"$f":"'Market Data'!B864","v":20030523},{"$f":"'Market Data'!C864","v":4142},{"$f":"'Market Data'!D864","v":4157},{"$f":"'Market Data'!E864","v":4070},{"$f":"'Market Data'!F864","v":4099.5},null,860,"Hidden","Long",null,1,0,"",null,1,"Stay Long",-927.5,-139005.96]
[null,{"$f":"'Market Data'!B865","v":20030526},{"$f":"'Market Data'!C865","v":4104},{"$f":"'Market Data'!D865","v":4122.5},{"$f":"'Market Data'!E865","v":4078},{"$f":"'Market Data'!F865","v":4100},null,861,"Hidden","Long",null,1,0,"",null,1,"Stay Long",17.5,-138988.46]
[null,{"$f":"'Market Data'!B866","v":20030527},{"$f":"'Market Data'!C866","v":4087},{"$f":"'Market Data'!D866","v":4141.5},{"$f":"'Market Data'!E866","v":4035.5},{"$f":"'Market Data'!F866","v":4136.5},null,862,"Hidden","Long",null,1,0,"",null,1,"Stay Long",1277.5,-137710.96]
[null,{"$f":"'Market Data'!B867","v":20030528},{"$f":"'Market Data'!C867","v":4162},{"$f":"'Market Data'!D867","v":4227},{"$f":"'Market Data'!E867","v":4159.5},{"$f":"'Market Data'!F867","v":4178},null,863,"Hidden","Long",null,1,0,"",null,1,"Stay Long",1452.5,-136258.46]
[null,{"$f":"'Market Data'!B868","v":20030529},{"$f":"'Market Data'!C868","v":4187},{"$f":"'Market Data'!D868","v":4235.5},{"$f":"'Market Data'!E868","v":4163.5},{"$f":"'Market Data'!F868","v":4174},null,864,"Hidden","Long",null,1,0,"",null,1,"Stay Long",-140,-136398.46]
[null,{"$f":"'Market Data'!B869","v":20030530},{"$f":"'Market Data'!C869","v":4177},{"$f":"'Market Data'!D869","v":4266},{"$f":"'Market Data'!E869","v":4175},{"$f":"'Market Data'!F869","v":4259},null,865,"Hidden","Long",null,1,0,"",null,1,"Stay Long",2975,-133423.46]
[null,{"$f":"'Market Data'!B870","v":20030602},{"$f":"'Market Data'!C870","v":4306},{"$f":"'Market Data'!D870","v":4334},{"$f":"'Market Data'!E870","v":4283},{"$f":"'Market Data'!F870","v":4327},null,866,"Hidden","Long",null,1,0,"",null,1,"Stay Long",2380,-131043.45999999999]
[null,{"$f":"'Market Data'!B871","v":20030603},{"$f":"'Market Data'!C871","v":4282},{"$f":"'Market Data'!D871","v":4311},{"$f":"'Market Data'!E871","v":4268.5},{"$f":"'Market Data'!F871","v":4286},null,867,"Hidden","Long",null,1,0,"",null,1,"Stay Long",-1435,-132478.46]
[null,{"$f":"'Market Data'!B872","v":20030604},{"$f":"'Market Data'!C872","v":4306},{"$f":"'Market Data'!D872","v":4367},{"$f":"'Market Data'!E872","v":4286},{"$f":"'Market Data'!F872","v":4336},null,868,"Hidden","Long",null,1,0,"",null,1,"Stay Long",1750,-130728.45999999999]
[null,{"$f":"'Market Data'!B873","v":20030605},{"$f":"'Market Data'!C873","v":4352},{"$f":"'Market Data'!D873","v":4373.5},{"$f":"'Market Data'!E873","v":4284},{"$f":"'Market Data'!F873","v":4306.5},null,869,"Hidden","Long",null,1,0,"",null,1,"Stay Long",-1032.5,-131760.95999999999]
[null,{"$f":"'Market Data'!B874","v":20030606},{"$f":"'Market Data'!C874","v":4346.5},{"$f":"'Market Data'!D874","v":4412.5},{"$f":"'Market Data'!E874","v":4336.5},{"$f":"'Market Data'!F874","v":4392},null,870,"Hidden","Long",null,1,0,"",null,1,"Stay Long",2992.5,-128768.45999999999]
[null,{"$f":"'Market Data'!B875","v":20030609},{"$f":"'Market Data'!C875","v":4380},{"$f":"'Market Data'!D875","v":4398},{"$f":"'Market Data'!E875","v":4339},{"$f":"'Market Data'!F875","v":4362},null,871,"Hidden","Long",null,1,0,"",null,1,"Stay Long",-1050,-129818.45999999999]
[null,{"$f":"'Market Data'!B876","v":20030610},{"$f":"'Market Data'!C876","v":4342},{"$f":"'Market Data'!D876","v":4415.5},{"$f":"'Market Data'!E876","v":4337},{"$f":"'Market Data'!F876","v":4403},null,872,"Hidden","Long",null,1,0,"",null,1,"Stay Long",1435,-128383.45999999999]
[null,{"$f":"'Market Data'!B877","v":20030611},{"$f":"'Market Data'!C877","v":4426},{"$f":"'Market Data'!D877","v":4456},{"$f":"'Market Data'!E877","v":4396.5},{"$f":"'Market Data'!F877","v":4446.5},null,873,"Hidden","Long",null,1,0,"",null,1,"Stay Long",1522.5,-126860.95999999999]
[null,{"$f":"'Market Data'!B878","v":20030612},{"$f":"'Market Data'!C878","v":4471},{"$f":"'Market Data'!D878","v":4518},{"$f":"'Market Data'!E878","v":4469},{"$f":"'Market Data'!F878","v":4481},null,874,"Hidden","Long",null,1,0,"",null,1,"Stay Long",1207.5,-125653.45999999999]
[null,{"$f":"'Market Data'!B879","v":20030613},{"$f":"'Market Data'!C879","v":4494},{"$f":"'Market Data'!D879","v":4510.5},{"$f":"'Market Data'!E879","v":4419.5},{"$f":"'Market Data'!F879","v":4425.5},null,875,"Hidden","Long",null,1,0,"",null,1,"Stay Long",-1942.5,-127595.95999999999]
[null,{"$f":"'Market Data'!B880","v":20030616},{"$f":"'Market Data'!C880","v":4405},{"$f":"'Market Data'!D880","v":4527},{"$f":"'Market Data'!E880","v":4384},{"$f":"'Market Data'!F880","v":4525.5},null,876,"Hidden","Long",null,1,0,"",null,1,"Stay Long",3500,-124095.95999999999]
[null,{"$f":"'Market Data'!B881","v":20030617},{"$f":"'Market Data'!C881","v":4562},{"$f":"'Market Data'!D881","v":4586},{"$f":"'Market Data'!E881","v":4527},{"$f":"'Market Data'!F881","v":4549},null,877,"Hidden","Long",null,1,0,"",null,1,"Stay Long",822.5,-123273.45999999999]
[null,{"$f":"'Market Data'!B882","v":20030618},{"$f":"'Market Data'!C882","v":4558},{"$f":"'Market Data'!D882","v":4580},{"$f":"'Market Data'!E882","v":4526},{"$f":"'Market Data'!F882","v":4570},null,878,"Hidden","Long",null,1,0,"",null,1,"Stay Long",735,-122538.45999999999]
[null,{"$f":"'Market Data'!B883","v":20030619},{"$f":"'Market Data'!C883","v":4581.5},{"$f":"'Market Data'!D883","v":4587},{"$f":"'Market Data'!E883","v":4477},{"$f":"'Market Data'!F883","v":4493},null,879,"Hidden","Long",null,1,0,"",null,1,"Stay Long",-2695,-125233.45999999999]
[null,{"$f":"'Market Data'!B884","v":20030620},{"$f":"'Market Data'!C884","v":4495},{"$f":"'Market Data'!D884","v":4531},{"$f":"'Market Data'!E884","v":4482},{"$f":"'Market Data'!F884","v":4507},null,880,"Hidden","Long",null,1,0,"",null,1,"Stay Long",490,-124743.45999999999]
[null,{"$f":"'Market Data'!B885","v":20030623},{"$f":"'Market Data'!C885","v":4492},{"$f":"'Market Data'!D885","v":4510},{"$f":"'Market Data'!E885","v":4432},{"$f":"'Market Data'!F885","v":4453.5},null,881,"Hidden","Long",null,1,0,"",null,1,"Stay Long",-1872.5,-126615.95999999999]
[null,{"$f":"'Market Data'!B886","v":20030624},{"$f":"'Market Data'!C886","v":4454},{"$f":"'Market Data'!D886","v":4493},{"$f":"'Market Data'!E886","v":4426},{"$f":"'Market Data'!F886","v":4491.5},null,882,"Hidden","Long",null,1,0,"",null,1,"Stay Long",1330,-125285.95999999999]
[null,{"$f":"'Market Data'!B887","v":20030625},{"$f":"'Market Data'!C887","v":4490},{"$f":"'Market Data'!D887","v":4499},{"$f":"'Market Data'!E887","v":4441},{"$f":"'Market Data'!F887","v":4458},null,883,"Hidden","Long",null,1,0,"",null,1,"Stay Long",-1172.5,-126458.45999999999]
[null,{"$f":"'Market Data'!B888","v":20030626},{"$f":"'Market Data'!C888","v":4429},{"$f":"'Market Data'!D888","v":4509},{"$f":"'Market Data'!E888","v":4418},{"$f":"'Market Data'!F888","v":4496},null,884,"Hidden","Long",null,1,0,"",null,1,"Stay Long",1330,-125128.45999999999]
[null,{"$f":"'Market Data'!B889","v":20030627},{"$f":"'Market Data'!C889","v":4513},{"$f":"'Market Data'!D889","v":4525},{"$f":"'Market Data'!E889","v":4466},{"$f":"'Market Data'!F889","v":4468.5},null,885,"Hidden","Long",null,1,0,"",null,1,"Stay Long",-962.5,-126090.95999999999]
[null,{"$f":"'Market Data'!B890","v":20030630},{"$f":"'Market Data'!C890","v":4489},{"$f":"'Market Data'!D890","v":4533.5},{"$f":"'Market Data'!E890","v":4441},{"$f":"'Market Data'!F890","v":4473.5},null,886,"Hidden","Long",null,1,0,"",null,1,"Stay Long",175,-125915.95999999999]
[null,{"$f":"'Market Data'!B891","v":20030701},{"$f":"'Market Data'!C891","v":4460},{"$f":"'Market Data'!D891","v":4468.5},{"$f":"'Market Data'!E891","v":4378},{"$f":"'Market Data'!F891","v":4410},null,887,"Hidden","Long",null,1,0,"",null,1,"Stay Long",-2222.5,-128138.45999999999]
[null,{"$f":"'Market Data'!B892","v":20030702},{"$f":"'Market Data'!C892","v":4460},{"$f":"'Market Data'!D892","v":4505},{"$f":"'Market Data'!E892","v":4443.5},{"$f":"'Market Data'!F892","v":4501},null,888,"Hidden","Long",null,1,0,"",null,1,"Stay Long",3185,-124953.45999999999]
[null,{"$f":"'Market Data'!B893","v":20030703},{"$f":"'Market Data'!C893","v":4486},{"$f":"'Market Data'!D893","v":4524},{"$f":"'Market Data'!E893","v":4455.5},{"$f":"'Market Data'!F893","v":4487},null,889,"Hidden","Long",null,1,0,"",null,1,"Stay Long",-490,-125443.45999999999]
[null,{"$f":"'Market Data'!B894","v":20030704},{"$f":"'Market Data'!C894","v":4488.5},{"$f":"'Market Data'!D894","v":4507.5},{"$f":"'Market Data'!E894","v":4472},{"$f":"'Market Data'!F894","v":4503},null,890,"Hidden","Long",null,1,0,"",null,1,"Stay Long",560,-124883.45999999999]
[null,{"$f":"'Market Data'!B895","v":20030707},{"$f":"'Market Data'!C895","v":4531},{"$f":"'Market Data'!D895","v":4619},{"$f":"'Market Data'!E895","v":4531},{"$f":"'Market Data'!F895","v":4609},null,891,"Hidden","Long",null,1,0,"",null,1,"Stay Long",3710,-121173.45999999999]
[null,{"$f":"'Market Data'!B896","v":20030708},{"$f":"'Market Data'!C896","v":4602},{"$f":"'Market Data'!D896","v":4624},{"$f":"'Market Data'!E896","v":4567},{"$f":"'Market Data'!F896","v":4594.5},null,892,"Hidden","Long",null,1,0,"",null,1,"Stay Long",-507.5,-121680.95999999999]
[null,{"$f":"'Market Data'!B897","v":20030709},{"$f":"'Market Data'!C897","v":4598},{"$f":"'Market Data'!D897","v":4618.5},{"$f":"'Market Data'!E897","v":4557.5},{"$f":"'Market Data'!F897","v":4583},null,893,"Hidden","Long",null,1,0,"",null,1,"Stay Long",-402.5,-122083.45999999999]
[null,{"$f":"'Market Data'!B898","v":20030710},{"$f":"'Market Data'!C898","v":4572},{"$f":"'Market Data'!D898","v":4578},{"$f":"'Market Data'!E898","v":4512},{"$f":"'Market Data'!F898","v":4526},null,894,"Hidden","Long",null,1,0,"",null,1,"Stay Long",-1995,-124078.45999999999]
[null,{"$f":"'Market Data'!B899","v":20030711},{"$f":"'Market Data'!C899","v":4509},{"$f":"'Market Data'!D899","v":4593},{"$f":"'Market Data'!E899","v":4504},{"$f":"'Market Data'!F899","v":4579},null,895,"Hidden","Long",null,1,{"$f":"$L912-P912","v":0},"",null,1,"Stay Long",1855,-122223.45999999999]
[null,{"$f":"'Market Data'!B900","v":20030714},{"$f":"'Market Data'!C900","v":4594.5},{"$f":"'Market Data'!D900","v":4663},{"$f":"'Market Data'!E900","v":4590.5},{"$f":"'Market Data'!F900","v":4655},null,896,"Hidden","Long",null,1,0,"",null,{"$f":"IF($N912=\"Fill\",$L912,$P912)","v":1},"Stay Long",{"$f":"IF(OR($P912&$L912=\"01\",$P912&$L912=\"0-1\"),(($F913-$C913)*$R$3*$L912)-(ABS($M912)*$R$4),IF(OR($P912&$L912=\"10\",$P912&$L912=\"-10\"),(($C913-$F912)*$R$3*$P912)-(ABS($M912)*$R$4),IF(OR($P912&$L912=\"1-1\",$P912&$L912=\"-11\"),(($C913-$F912)*$R$3*$P912)-(ABS($M912)*$R$4)+(($F913-$C913)*$R$3*$P913),IF(OR($P912&$L912=\"11\",$P912&$L912=\"-1-1\"),(($F913-$F912)*$R$3*$P913),0))))","v":2660},-119563.45999999999]
[null,{"$f":"'Market Data'!B901","v":20030715},{"$f":"'Market Data'!C901","v":4631},{"$f":"'Market Data'!D901","v":4688.5},{"$f":"'Market Data'!E901","v":4629.5},{"$f":"'Market Data'!F901","v":4651.5},null,{"$f":"ROW()-ROW(H$17)","v":897},"Hidden",{"$f":"$I$4","v":"Long"},null,1,0,{"$f":"IF(NOT($M914=0),\"Fill\",\"\")","v":""},null,1,{"$f":"IF($P913&$L913=\"00\",\"Stay Flat\",IF($P913&$L913=\"01\",\"Go Long\",IF($P913&$L913=\"0-1\",\"Go Short\",IF($P913&$L913=\"-10\",\"Exit Short\",IF($P913&$L913=\"-1-1\",\"Stay Short\",IF($P913&$L913=\"-11\",\"Exit Short, Go Long\",IF($P913&$L913=\"10\",\"Exit Long\",IF($P913&$L913=\"1-1\",\"Exit Long, Go Short\",IF($P913&$L913=\"11\",\"Stay Long\",\"\")))))))))","v":"Stay Long"},-122.5,{"$f":"S913+R914","v":-119685.95999999999}]
[null,{"$f":"'Market Data'!B902","v":20030716},{"$f":"'Market Data'!C902","v":4674},{"$f":"'Market Data'!D902","v":4690.5},{"$f":"'Market Data'!E902","v":4615.5},{"$f":"'Market Data'!F902","v":4639.5},null,898,"Hidden","Long",null,{"$f":"IF($J915=\"Short\",-1,IF($J915=\"Long\",1,0))","v":1},0,"",null,1,"Stay Long",-420,-120105.95999999999]
[null,{"$f":"'Market Data'!B903","v":20030717},{"$f":"'Market Data'!C903","v":4620},{"$f":"'Market Data'!D903","v":4625.5},{"$f":"'Market Data'!E903","v":4570.5},{"$f":"'Market Data'!F903","v":4591.5},null,899,"Hidden","Long",null,1,0,"",null,1,"Stay Long",-1680,-121785.95999999999]
[null,{"$f":"'Market Data'!B904","v":20030718},{"$f":"'Market Data'!C904","v":4593},{"$f":"'Market Data'!D904","v":4637},{"$f":"'Market Data'!E904","v":4585.5},{"$f":"'Market Data'!F904","v":4623.5},null,900,"Hidden","Long",null,1,0,"",null,1,"Stay Long",1120,-120665.95999999999]
[null,{"$f":"'Market Data'!B905","v":20030721},{"$f":"'Market Data'!C905","v":4645},{"$f":"'Market Data'!D905","v":4650},{"$f":"'Market Data'!E905","v":4536},{"$f":"'Market Data'!F905","v":4538},null,901,"Hidden","Long",null,1,0,"",null,1,"Stay Long",-2992.5,-123658.45999999999]
[null,{"$f":"'Market Data'!B906","v":20030722},{"$f":"'Market Data'!C906","v":4573.5},{"$f":"'Market Data'!D906","v":4581},{"$f":"'Market Data'!E906","v":4512},{"$f":"'Market Data'!F906","v":4563},null,902,"Hidden","Long",null,1,0,"",null,1,"Stay Long",875,-122783.45999999999]
[null,{"$f":"'Market Data'!B907","v":20030723},{"$f":"'Market Data'!C907","v":4594},{"$f":"'Market Data'!D907","v":4596},{"$f":"'Market Data'!E907","v":4532.5},{"$f":"'Market Data'!F907","v":4562.5},null,903,"Hidden","Long",null,1,0,"",null,1,"Stay Long",-17.5,-122800.95999999999]
[null,{"$f":"'Market Data'!B908","v":20030724},{"$f":"'Market Data'!C908","v":4566},{"$f":"'Market Data'!D908","v":4633.5},{"$f":"'Market Data'!E908","v":4537},{"$f":"'Market Data'!F908","v":4625},null,904,"Hidden","Long",null,1,0,"",null,1,"Stay Long",2187.5,-120613.45999999999]
[null,{"$f":"'Market Data'!B909","v":20030725},{"$f":"'Market Data'!C909","v":4585},{"$f":"'Market Data'!D909","v":4633},{"$f":"'Market Data'!E909","v":4568},{"$f":"'Market Data'!F909","v":4610.5},null,905,"Hidden","Long",null,1,0,"",null,1,"Stay Long",-507.5,-121120.95999999999]
[null,{"$f":"'Market Data'!B910","v":20030728},{"$f":"'Market Data'!C910","v":4645},{"$f":"'Market Data'!D910","v":4682.5},{"$f":"'Market Data'!E910","v":4640},{"$f":"'Market Data'!F910","v":4668},null,906,"Hidden","Long",null,1,0,"",null,1,"Stay Long",2012.5,-119108.45999999999]
[null,{"$f":"'Market Data'!B911","v":20030729},{"$f":"'Market Data'!C911","v":4670},{"$f":"'Market Data'!D911","v":4709.5},{"$f":"'Market Data'!E911","v":4628},{"$f":"'Market Data'!F911","v":4674},null,907,"Hidden","Long",null,1,0,"",null,1,"Stay Long",210,-118898.45999999999]
[null,{"$f":"'Market Data'!B912","v":20030730},{"$f":"'Market Data'!C912","v":4656},{"$f":"'Market Data'!D912","v":4709},{"$f":"'Market Data'!E912","v":4651},{"$f":"'Market Data'!F912","v":4695},null,908,"Hidden","Long",null,1,0,"",null,1,"Stay Long",735,-118163.45999999999]
[null,{"$f":"'Market Data'!B913","v":20030731},{"$f":"'Market Data'!C913","v":4693},{"$f":"'Market Data'!D913","v":4740.5},{"$f":"'Market Data'!E913","v":4653.5},{"$f":"'Market Data'!F913","v":4723.5},null,909,"Hidden","Long",null,1,0,"",null,1,"Stay Long",997.5,-117165.95999999999]
[null,{"$f":"'Market Data'!B914","v":20030801},{"$f":"'Market Data'!C914","v":4712},{"$f":"'Market Data'!D914","v":4730.5},{"$f":"'Market Data'!E914","v":4656.5},{"$f":"'Market Data'!F914","v":4687},null,910,"Hidden","Long",null,1,0,"",null,1,"Stay Long",-1277.5,-118443.45999999999]
[null,{"$f":"'Market Data'!B915","v":20030804},{"$f":"'Market Data'!C915","v":4672},{"$f":"'Market Data'!D915","v":4720},{"$f":"'Market Data'!E915","v":4617},{"$f":"'Market Data'!F915","v":4652},null,911,"Hidden","Long",null,1,0,"",null,1,"Stay Long",-1225,-119668.45999999999]
[null,{"$f":"'Market Data'!B916","v":20030805},{"$f":"'Market Data'!C916","v":4672},{"$f":"'Market Data'!D916","v":4713},{"$f":"'Market Data'!E916","v":4652.5},{"$f":"'Market Data'!F916","v":4689},null,912,"Hidden","Long",null,1,0,"",null,1,"Stay Long",1295,-118373.45999999999]
[null,{"$f":"'Market Data'!B917","v":20030806},{"$f":"'Market Data'!C917","v":4635},{"$f":"'Market Data'!D917","v":4656},{"$f":"'Market Data'!E917","v":4570.5},{"$f":"'Market Data'!F917","v":4622},null,913,"Hidden","Long",null,1,0,"",null,1,"Stay Long",-2345,-120718.45999999999]
[null,{"$f":"'Market Data'!B918","v":20030807},{"$f":"'Market Data'!C918","v":4615.5},{"$f":"'Market Data'!D918","v":4616},{"$f":"'Market Data'!E918","v":4552},{"$f":"'Market Data'!F918","v":4579},null,914,"Hidden","Long",null,1,0,"",null,1,"Stay Long",-1505,-122223.45999999999]
[null,{"$f":"'Market Data'!B919","v":20030808},{"$f":"'Market Data'!C919","v":4588},{"$f":"'Market Data'!D919","v":4621},{"$f":"'Market Data'!E919","v":4560},{"$f":"'Market Data'!F919","v":4573},null,915,"Hidden","Long",null,1,0,"",null,1,"Stay Long",-210,-122433.45999999999]
[null,{"$f":"'Market Data'!B920","v":20030811},{"$f":"'Market Data'!C920","v":4600},{"$f":"'Market Data'!D920","v":4616},{"$f":"'Market Data'!E920","v":4562.5},{"$f":"'Market Data'!F920","v":4591.5},null,916,"Hidden","Long",null,1,0,"",null,1,"Stay Long",647.5,-121785.95999999999]
[null,{"$f":"'Market Data'!B921","v":20030812},{"$f":"'Market Data'!C921","v":4603},{"$f":"'Market Data'!D921","v":4652.5},{"$f":"'Market Data'!E921","v":4596.5},{"$f":"'Market Data'!F921","v":4637},null,917,"Hidden","Long",null,1,0,"",null,1,"Stay Long",1592.5,-120193.45999999999]
[null,{"$f":"'Market Data'!B922","v":20030813},{"$f":"'Market Data'!C922","v":4666},{"$f":"'Market Data'!D922","v":4683},{"$f":"'Market Data'!E922","v":4628},{"$f":"'Market Data'!F922","v":4643},null,918,"Hidden","Long",null,1,0,"",null,1,"Stay Long",210,-119983.45999999999]
[null,{"$f":"'Market Data'!B923","v":20030814},{"$f":"'Market Data'!C923","v":4657},{"$f":"'Market Data'!D923","v":4705},{"$f":"'Market Data'!E923","v":4631},{"$f":"'Market Data'!F923","v":4704},null,919,"Hidden","Long",null,1,0,"",null,1,"Stay Long",2135,-117848.45999999999]
[null,{"$f":"'Market Data'!B924","v":20030815},{"$f":"'Market Data'!C924","v":4696},{"$f":"'Market Data'!D924","v":4724.5},{"$f":"'Market Data'!E924","v":4684.5},{"$f":"'Market Data'!F924","v":4695},null,920,"Hidden","Long",null,1,0,"",null,1,"Stay Long",-315,-118163.45999999999]
[null,{"$f":"'Market Data'!B925","v":20030818},{"$f":"'Market Data'!C925","v":4710},{"$f":"'Market Data'!D925","v":4760},{"$f":"'Market Data'!E925","v":4705},{"$f":"'Market Data'!F925","v":4759},null,921,"Hidden","Long",null,1,0,"",null,1,"Stay Long",2240,-115923.45999999999]
[null,{"$f":"'Market Data'!B926","v":20030819},{"$f":"'Market Data'!C926","v":4781.5},{"$f":"'Market Data'!D926","v":4802.5},{"$f":"'Market Data'!E926","v":4736.5},{"$f":"'Market Data'!F926","v":4751},null,922,"Hidden","Long",null,1,0,"",null,1,"Stay Long",-280,-116203.45999999999]
[null,{"$f":"'Market Data'!B927","v":20030820},{"$f":"'Market Data'!C927","v":4770},{"$f":"'Market Data'!D927","v":4770},{"$f":"'Market Data'!E927","v":4712.5},{"$f":"'Market Data'!F927","v":4751},null,923,"Hidden","Long",null,1,0,"",null,1,"Stay Long",0,-116203.45999999999]
[null,{"$f":"'Market Data'!B928","v":20030821},{"$f":"'Market Data'!C928","v":4750.5},{"$f":"'Market Data'!D928","v":4818},{"$f":"'Market Data'!E928","v":4750},{"$f":"'Market Data'!F928","v":4808.5},null,924,"Hidden","Long",null,1,0,"",null,1,"Stay Long",2012.5,-114190.95999999999]
[null,{"$f":"'Market Data'!B929","v":20030822},{"$f":"'Market Data'!C929","v":4787},{"$f":"'Market Data'!D929","v":4840},{"$f":"'Market Data'!E929","v":4784},{"$f":"'Market Data'!F929","v":4797},null,925,"Hidden","Long",null,1,0,"",null,1,"Stay Long",-402.5,-114593.45999999999]
[null,{"$f":"'Market Data'!B930","v":20030825},{"$f":"'Market Data'!C930","v":4791},{"$f":"'Market Data'!D930","v":4791},{"$f":"'Market Data'!E930","v":4738.5},{"$f":"'Market Data'!F930","v":4752.5},null,926,"Hidden","Long",null,1,0,"",null,1,"Stay Long",-1557.5,-116150.95999999999]
[null,{"$f":"'Market Data'!B931","v":20030826},{"$f":"'Market Data'!C931","v":4754.5},{"$f":"'Market Data'!D931","v":4804.5},{"$f":"'Market Data'!E931","v":4687},{"$f":"'Market Data'!F931","v":4702},null,927,"Hidden","Long",null,1,0,"",null,1,"Stay Long",-1767.5,-117918.45999999999]
[null,{"$f":"'Market Data'!B932","v":20030827},{"$f":"'Market Data'!C932","v":4733},{"$f":"'Market Data'!D932","v":4743},{"$f":"'Market Data'!E932","v":4700.5},{"$f":"'Market Data'!F932","v":4736},null,928,"Hidden","Long",null,1,0,"",null,1,"Stay Long",1190,-116728.45999999999]
[null,{"$f":"'Market Data'!B933","v":20030828},{"$f":"'Market Data'!C933","v":4740},{"$f":"'Market Data'!D933","v":4781.5},{"$f":"'Market Data'!E933","v":4712.5},{"$f":"'Market Data'!F933","v":4752},null,929,"Hidden","Long",null,1,0,"",null,1,"Stay Long",560,-116168.45999999999]
[null,{"$f":"'Market Data'!B934","v":20030829},{"$f":"'Market Data'!C934","v":4775},{"$f":"'Market Data'!D934","v":4781.5},{"$f":"'Market Data'!E934","v":4725},{"$f":"'Market Data'!F934","v":4735.5},null,930,"Hidden","Long",null,1,0,"",null,1,"Stay Long",-577.5,-116745.95999999999]
[null,{"$f":"'Market Data'!B935","v":20030901},{"$f":"'Market Data'!C935","v":4764.5},{"$f":"'Market Data'!D935","v":4829},{"$f":"'Market Data'!E935","v":4764},{"$f":"'Market Data'!F935","v":4824},null,931,"Hidden","Long",null,1,0,"",null,1,"Stay Long",3097.5,-113648.45999999999]
[null,{"$f":"'Market Data'!B936","v":20030902},{"$f":"'Market Data'!C936","v":4816},{"$f":"'Market Data'!D936","v":4841},{"$f":"'Market Data'!E936","v":4779.5},{"$f":"'Market Data'!F936","v":4814},null,932,"Hidden","Long",null,1,0,"",null,1,"Stay Long",-350,-113998.45999999999]
[null,{"$f":"'Market Data'!B937","v":20030903},{"$f":"'Market Data'!C937","v":4848},{"$f":"'Market Data'!D937","v":4905.5},{"$f":"'Market Data'!E937","v":4848},{"$f":"'Market Data'!F937","v":4898.5},null,933,"Hidden","Long",null,1,0,"",null,1,"Stay Long",2957.5,-111040.95999999999]
[null,{"$f":"'Market Data'!B938","v":20030904},{"$f":"'Market Data'!C938","v":4884.5},{"$f":"'Market Data'!D938","v":4923},{"$f":"'Market Data'!E938","v":4877},{"$f":"'Market Data'!F938","v":4918.5},null,934,"Hidden","Long",null,1,0,"",null,1,"Stay Long",700,-110340.95999999999]
[null,{"$f":"'Market Data'!B939","v":20030905},{"$f":"'Market Data'!C939","v":4917},{"$f":"'Market Data'!D939","v":4926.5},{"$f":"'Market Data'!E939","v":4846.5},{"$f":"'Market Data'!F939","v":4858},null,935,"Hidden","Long",null,1,0,"",null,1,"Stay Long",-2117.5,-112458.45999999999]
[null,{"$f":"'Market Data'!B940","v":20030908},{"$f":"'Market Data'!C940","v":4874},{"$f":"'Market Data'!D940","v":4905},{"$f":"'Market Data'!E940","v":4859},{"$f":"'Market Data'!F940","v":4893},null,936,"Hidden","Long",null,1,0,"",null,1,"Stay Long",1225,-111233.45999999999]
[null,{"$f":"'Market Data'!B941","v":20030909},{"$f":"'Market Data'!C941","v":4917},{"$f":"'Market Data'!D941","v":4917},{"$f":"'Market Data'!E941","v":4830},{"$f":"'Market Data'!F941","v":4840},null,937,"Hidden","Long",null,1,0,"",null,1,"Stay Long",-1855,-113088.45999999999]
[null,{"$f":"'Market Data'!B942","v":20030910},{"$f":"'Market Data'!C942","v":4830},{"$f":"'Market Data'!D942","v":4830},{"$f":"'Market Data'!E942","v":4769},{"$f":"'Market Data'!F942","v":4788},null,938,"Hidden","Long",null,1,0,"",null,1,"Stay Long",-1820,-114908.45999999999]
[null,{"$f":"'Market Data'!B943","v":20030911},{"$f":"'Market Data'!C943","v":4761},{"$f":"'Market Data'!D943","v":4812},{"$f":"'Market Data'!E943","v":4742},{"$f":"'Market Data'!F943","v":4807},null,939,"Hidden","Long",null,1,0,"",null,1,"Stay Long",665,-114243.45999999999]
[null,{"$f":"'Market Data'!B944","v":20030912},{"$f":"'Market Data'!C944","v":4810},{"$f":"'Market Data'!D944","v":4821},{"$f":"'Market Data'!E944","v":4717.5},{"$f":"'Market Data'!F944","v":4739.5},null,940,"Hidden","Long",null,1,0,"",null,1,"Stay Long",-2362.5,-116605.95999999999]
[null,{"$f":"'Market Data'!B945","v":20030915},{"$f":"'Market Data'!C945","v":4771},{"$f":"'Market Data'!D945","v":4793.5},{"$f":"'Market Data'!E945","v":4751},{"$f":"'Market Data'!F945","v":4767},null,941,"Hidden","Long",null,1,0,"",null,1,"Stay Long",962.5,-115643.45999999999]
[null,{"$f":"'Market Data'!B946","v":20030916},{"$f":"'Market Data'!C946","v":4775},{"$f":"'Market Data'!D946","v":4816.5},{"$f":"'Market Data'!E946","v":4753.5},{"$f":"'Market Data'!F946","v":4810.5},null,942,"Hidden","Long",null,1,0,"",null,1,"Stay Long",1522.5,-114120.95999999999]
[null,{"$f":"'Market Data'!B947","v":20030917},{"$f":"'Market Data'!C947","v":4853},{"$f":"'Market Data'!D947","v":4860},{"$f":"'Market Data'!E947","v":4796},{"$f":"'Market Data'!F947","v":4798},null,943,"Hidden","Long",null,1,0,"",null,1,"Stay Long",-437.5,-114558.45999999999]
[null,{"$f":"'Market Data'!B948","v":20030918},{"$f":"'Market Data'!C948","v":4815},{"$f":"'Market Data'!D948","v":4873},{"$f":"'Market Data'!E948","v":4798.5},{"$f":"'Market Data'!F948","v":4871.5},null,944,"Hidden","Long",null,1,0,"",null,1,"Stay Long",2572.5,-111985.95999999999]
[null,{"$f":"'Market Data'!B949","v":20030919},{"$f":"'Market Data'!C949","v":4867.5},{"$f":"'Market Data'!D949","v":4877.5},{"$f":"'Market Data'!E949","v":4828.5},{"$f":"'Market Data'!F949","v":4835},null,945,"Hidden","Long",null,1,0,"",null,1,"Stay Long",-1277.5,-113263.45999999999]
[null,{"$f":"'Market Data'!B950","v":20030922},{"$f":"'Market Data'!C950","v":4748},{"$f":"'Market Data'!D950","v":4785},{"$f":"'Market Data'!E950","v":4700.5},{"$f":"'Market Data'!F950","v":4704},null,946,"Hidden","Long",null,1,0,"",null,1,"Stay Long",-4585,-117848.45999999999]
[null,{"$f":"'Market Data'!B951","v":20030923},{"$f":"'Market Data'!C951","v":4722},{"$f":"'Market Data'!D951","v":4730},{"$f":"'Market Data'!E951","v":4639},{"$f":"'Market Data'!F951","v":4649.5},null,947,"Hidden","Long",null,1,0,"",null,1,"Stay Long",-1907.5,-119755.95999999999]
[null,{"$f":"'Market Data'!B952","v":20030924},{"$f":"'Market Data'!C952","v":4681.5},{"$f":"'Market Data'!D952","v":4694.5},{"$f":"'Market Data'!E952","v":4523},{"$f":"'Market Data'!F952","v":4546},null,948,"Hidden","Long",null,1,0,"",null,1,"Stay Long",-3622.5,-123378.45999999999]
[null,{"$f":"'Market Data'!B953","v":20030925},{"$f":"'Market Data'!C953","v":4544},{"$f":"'Market Data'!D953","v":4603},{"$f":"'Market Data'!E953","v":4544},{"$f":"'Market Data'!F953","v":4571},null,949,"Hidden","Long",null,1,0,"",null,1,"Stay Long",875,-122503.45999999999]
[null,{"$f":"'Market Data'!B954","v":20030926},{"$f":"'Market Data'!C954","v":4549},{"$f":"'Market Data'!D954","v":4588},{"$f":"'Market Data'!E954","v":4514.5},{"$f":"'Market Data'!F954","v":4569},null,950,"Hidden","Long",null,1,0,"",null,1,"Stay Long",-70,-122573.45999999999]
[null,{"$f":"'Market Data'!B955","v":20030929},{"$f":"'Market Data'!C955","v":4553},{"$f":"'Market Data'!D955","v":4605},{"$f":"'Market Data'!E955","v":4521},{"$f":"'Market Data'!F955","v":4551},null,951,"Hidden","Long",null,1,0,"",null,1,"Stay Long",-630,-123203.45999999999]
[null,{"$f":"'Market Data'!B956","v":20030930},{"$f":"'Market Data'!C956","v":4540},{"$f":"'Market Data'!D956","v":4572},{"$f":"'Market Data'!E956","v":4442.5},{"$f":"'Market Data'!F956","v":4494.5},null,952,"Hidden","Long",null,1,0,"",null,1,"Stay Long",-1977.5,-125180.95999999999]
[null,{"$f":"'Market Data'!B957","v":20031001},{"$f":"'Market Data'!C957","v":4489},{"$f":"'Market Data'!D957","v":4561},{"$f":"'Market Data'!E957","v":4457},{"$f":"'Market Data'!F957","v":4559.5},null,953,"Hidden","Long",null,1,0,"",null,1,"Stay Long",2275,-122905.95999999999]
[null,{"$f":"'Market Data'!B958","v":20031002},{"$f":"'Market Data'!C958","v":4580.5},{"$f":"'Market Data'!D958","v":4598},{"$f":"'Market Data'!E958","v":4510.5},{"$f":"'Market Data'!F958","v":4525},null,954,"Hidden","Long",null,1,0,"",null,1,"Stay Long",-1207.5,-124113.45999999999]
[null,{"$f":"'Market Data'!B959","v":20031003},{"$f":"'Market Data'!C959","v":4554},{"$f":"'Market Data'!D959","v":4683.5},{"$f":"'Market Data'!E959","v":4531.5},{"$f":"'Market Data'!F959","v":4656.5},null,955,"Hidden","Long",null,1,0,"",null,1,"Stay Long",4602.5,-119510.95999999999]
[null,{"$f":"'Market Data'!B960","v":20031006},{"$f":"'Market Data'!C960","v":4637.5},{"$f":"'Market Data'!D960","v":4657.5},{"$f":"'Market Data'!E960","v":4619},{"$f":"'Market Data'!F960","v":4647},null,956,"Hidden","Long",null,1,0,"",null,1,"Stay Long",-332.5,-119843.45999999999]
[null,{"$f":"'Market Data'!B961","v":20031007},{"$f":"'Market Data'!C961","v":4654},{"$f":"'Market Data'!D961","v":4655},{"$f":"'Market Data'!E961","v":4571.5},{"$f":"'Market Data'!F961","v":4590.5},null,957,"Hidden","Long",null,1,0,"",null,1,"Stay Long",-1977.5,-121820.95999999999]
[null,{"$f":"'Market Data'!B962","v":20031008},{"$f":"'Market Data'!C962","v":4600},{"$f":"'Market Data'!D962","v":4671.5},{"$f":"'Market Data'!E962","v":4582.5},{"$f":"'Market Data'!F962","v":4639},null,958,"Hidden","Long",null,1,0,"",null,1,"Stay Long",1697.5,-120123.45999999999]
[null,{"$f":"'Market Data'!B963","v":20031009},{"$f":"'Market Data'!C963","v":4653},{"$f":"'Market Data'!D963","v":4733},{"$f":"'Market Data'!E963","v":4627},{"$f":"'Market Data'!F963","v":4721.5},null,959,"Hidden","Long",null,1,{"$f":"$L976-P976","v":0},"",null,1,"Stay Long",2887.5,-117235.95999999999]
[null,{"$f":"'Market Data'!B964","v":20031010},{"$f":"'Market Data'!C964","v":4709},{"$f":"'Market Data'!D964","v":4753},{"$f":"'Market Data'!E964","v":4694.5},{"$f":"'Market Data'!F964","v":4714.5},null,960,"Hidden","Long",null,1,0,"",null,{"$f":"IF($N976=\"Fill\",$L976,$P976)","v":1},"Stay Long",{"$f":"IF(OR($P976&$L976=\"01\",$P976&$L976=\"0-1\"),(($F977-$C977)*$R$3*$L976)-(ABS($M976)*$R$4),IF(OR($P976&$L976=\"10\",$P976&$L976=\"-10\"),(($C977-$F976)*$R$3*$P976)-(ABS($M976)*$R$4),IF(OR($P976&$L976=\"1-1\",$P976&$L976=\"-11\"),(($C977-$F976)*$R$3*$P976)-(ABS($M976)*$R$4)+(($F977-$C977)*$R$3*$P977),IF(OR($P976&$L976=\"11\",$P976&$L976=\"-1-1\"),(($F977-$F976)*$R$3*$P977),0))))","v":-245},-117480.95999999999]
[null,{"$f":"'Market Data'!B965","v":20031013},{"$f":"'Market Data'!C965","v":4734},{"$f":"'Market Data'!D965","v":4795},{"$f":"'Market Data'!E965","v":4734},{"$f":"'Market Data'!F965","v":4781},null,{"$f":"ROW()-ROW(H$17)","v":961},"Hidden",{"$f":"$I$4","v":"Long"},null,1,0,{"$f":"IF(NOT($M978=0),\"Fill\",\"\")","v":""},null,1,{"$f":"IF($P977&$L977=\"00\",\"Stay Flat\",IF($P977&$L977=\"01\",\"Go Long\",IF($P977&$L977=\"0-1\",\"Go Short\",IF($P977&$L977=\"-10\",\"Exit Short\",IF($P977&$L977=\"-1-1\",\"Stay Short\",IF($P977&$L977=\"-11\",\"Exit Short, Go Long\",IF($P977&$L977=\"10\",\"Exit Long\",IF($P977&$L977=\"1-1\",\"Exit Long, Go Short\",IF($P977&$L977=\"11\",\"Stay Long\",\"\")))))))))","v":"Stay Long"},2327.5,{"$f":"S977+R978","v":-115153.45999999999}]
[null,{"$f":"'Market Data'!B966","v":20031014},{"$f":"'Market Data'!C966","v":4800},{"$f":"'Market Data'!D966","v":4810},{"$f":"'Market Data'!E966","v":4742.5},{"$f":"'Market Data'!F966","v":4778},null,962,"Hidden","Long",null,{"$f":"IF($J979=\"Short\",-1,IF($J979=\"Long\",1,0))","v":1},0,"",null,1,"Stay Long",-105,-115258.45999999999]
[null,{"$f":"'Market Data'!B967","v":20031015},{"$f":"'Market Data'!C967","v":4810},{"$f":"'Market Data'!D967","v":4847},{"$f":"'Market Data'!E967","v":4780.5},{"$f":"'Market Data'!F967","v":4804},null,963,"Hidden","Long",null,1,0,"",null,1,"Stay Long",910,-114348.45999999999]
[null,{"$f":"'Market Data'!B968","v":20031016},{"$f":"'Market Data'!C968","v":4789.5},{"$f":"'Market Data'!D968","v":4836},{"$f":"'Market Data'!E968","v":4761.5},{"$f":"'Market Data'!F968","v":4817},null,964,"Hidden","Long",null,1,0,"",null,1,"Stay Long",455,-113893.45999999999]
[null,{"$f":"'Market Data'!B969","v":20031017},{"$f":"'Market Data'!C969","v":4799},{"$f":"'Market Data'!D969","v":4833},{"$f":"'Market Data'!E969","v":4747},{"$f":"'Market Data'!F969","v":4748.5},null,965,"Hidden","Long",null,1,0,"",null,1,"Stay Long",-2397.5,-116290.95999999999]
[null,{"$f":"'Market Data'!B970","v":20031020},{"$f":"'Market Data'!C970","v":4763},{"$f":"'Market Data'!D970","v":4808},{"$f":"'Market Data'!E970","v":4733},{"$f":"'Market Data'!F970","v":4801},null,966,"Hidden","Long",null,1,0,"",null,1,"Stay Long",1837.5,-114453.45999999999]
[null,{"$f":"'Market Data'!B971","v":20031021},{"$f":"'Market Data'!C971","v":4821},{"$f":"'Market Data'!D971","v":4832.5},{"$f":"'Market Data'!E971","v":4773.5},{"$f":"'Market Data'!F971","v":4822},null,967,"Hidden","Long",null,1,0,"",null,1,"Stay Long",735,-113718.45999999999]
[null,{"$f":"'Market Data'!B972","v":20031022},{"$f":"'Market Data'!C972","v":4796},{"$f":"'Market Data'!D972","v":4811},{"$f":"'Market Data'!E972","v":4725.5},{"$f":"'Market Data'!F972","v":4730},null,968,"Hidden","Long",null,1,0,"",null,1,"Stay Long",-3220,-116938.45999999999]
[null,{"$f":"'Market Data'!B973","v":20031023},{"$f":"'Market Data'!C973","v":4676},{"$f":"'Market Data'!D973","v":4742.5},{"$f":"'Market Data'!E973","v":4668.5},{"$f":"'Market Data'!F973","v":4740.5},null,969,"Hidden","Long",null,1,0,"",null,1,"Stay Long",367.5,-116570.95999999999]
[null,{"$f":"'Market Data'!B974","v":20031024},{"$f":"'Market Data'!C974","v":4716},{"$f":"'Market Data'!D974","v":4728},{"$f":"'Market Data'!E974","v":4675},{"$f":"'Market Data'!F974","v":4691},null,970,"Hidden","Long",null,1,0,"",null,1,"Stay Long",-1732.5,-118303.45999999999]
[null,{"$f":"'Market Data'!B975","v":20031027},{"$f":"'Market Data'!C975","v":4726},{"$f":"'Market Data'!D975","v":4767.5},{"$f":"'Market Data'!E975","v":4717},{"$f":"'Market Data'!F975","v":4758.5},null,971,"Hidden","Long",null,1,0,"",null,1,"Stay Long",2362.5,-115940.95999999999]
[null,{"$f":"'Market Data'!B976","v":20031028},{"$f":"'Market Data'!C976","v":4780},{"$f":"'Market Data'!D976","v":4840.5},{"$f":"'Market Data'!E976","v":4776},{"$f":"'Market Data'!F976","v":4837},null,972,"Hidden","Long",null,1,0,"",null,1,"Stay Long",2747.5,-113193.45999999999]
[null,{"$f":"'Market Data'!B977","v":20031029},{"$f":"'Market Data'!C977","v":4853.5},{"$f":"'Market Data'!D977","v":4864},{"$f":"'Market Data'!E977","v":4820},{"$f":"'Market Data'!F977","v":4859.5},null,973,"Hidden","Long",null,1,0,"",null,1,"Stay Long",787.5,-112405.95999999999]
[null,{"$f":"'Market Data'!B978","v":20031030},{"$f":"'Market Data'!C978","v":4855},{"$f":"'Market Data'!D978","v":4913},{"$f":"'Market Data'!E978","v":4818.5},{"$f":"'Market Data'!F978","v":4884.5},null,974,"Hidden","Long",null,1,0,"",null,1,"Stay Long",875,-111530.95999999999]
[null,{"$f":"'Market Data'!B979","v":20031031},{"$f":"'Market Data'!C979","v":4864},{"$f":"'Market Data'!D979","v":4897.5},{"$f":"'Market Data'!E979","v":4847},{"$f":"'Market Data'!F979","v":4885},null,975,"Hidden","Long",null,1,0,"",null,1,"Stay Long",17.5,-111513.45999999999]
[null,{"$f":"'Market Data'!B980","v":20031103},{"$f":"'Market Data'!C980","v":4888.5},{"$f":"'Market Data'!D980","v":4995.5},{"$f":"'Market Data'!E980","v":4884.5},{"$f":"'Market Data'!F980","v":4994},null,976,"Hidden","Long",null,1,0,"",null,1,"Stay Long",3815,-107698.45999999999]
[null,{"$f":"'Market Data'!B981","v":20031104},{"$f":"'Market Data'!C981","v":4981},{"$f":"'Market Data'!D981","v":5006.5},{"$f":"'Market Data'!E981","v":4960},{"$f":"'Market Data'!F981","v":4967.5},null,977,"Hidden","Long",null,1,0,"",null,1,"Stay Long",-927.5,-108625.95999999999]
[null,{"$f":"'Market Data'!B982","v":20031105},{"$f":"'Market Data'!C982","v":4961},{"$f":"'Market Data'!D982","v":4993},{"$f":"'Market Data'!E982","v":4924},{"$f":"'Market Data'!F982","v":4969},null,978,"Hidden","Long",null,1,0,"",null,1,"Stay Long",52.5,-108573.45999999999]
[null,{"$f":"'Market Data'!B983","v":20031106},{"$f":"'Market Data'!C983","v":4966},{"$f":"'Market Data'!D983","v":4997.5},{"$f":"'Market Data'!E983","v":4916.5},{"$f":"'Market Data'!F983","v":4987},null,979,"Hidden","Long",null,1,0,"",null,1,"Stay Long",630,-107943.45999999999]
[null,{"$f":"'Market Data'!B984","v":20031107},{"$f":"'Market Data'!C984","v":4993},{"$f":"'Market Data'!D984","v":5051},{"$f":"'Market Data'!E984","v":4993},{"$f":"'Market Data'!F984","v":5017},null,980,"Hidden","Long",null,1,0,"",null,1,"Stay Long",1050,-106893.45999999999]
[null,{"$f":"'Market Data'!B985","v":20031110},{"$f":"'Market Data'!C985","v":4995},{"$f":"'Market Data'!D985","v":5025},{"$f":"'Market Data'!E985","v":4968.5},{"$f":"'Market Data'!F985","v":4989.5},null,981,"Hidden","Long",null,1,0,"",null,1,"Stay Long",-962.5,-107855.95999999999]
[null,{"$f":"'Market Data'!B986","v":20031111},{"$f":"'Market Data'!C986","v":4947},{"$f":"'Market Data'!D986","v":4986},{"$f":"'Market Data'!E986","v":4934.5},{"$f":"'Market Data'!F986","v":4978},null,982,"Hidden","Long",null,1,0,"",null,1,"Stay Long",-402.5,-108258.45999999999]
[null,{"$f":"'Market Data'!B987","v":20031112},{"$f":"'Market Data'!C987","v":4970},{"$f":"'Market Data'!D987","v":5013},{"$f":"'Market Data'!E987","v":4930},{"$f":"'Market Data'!F987","v":5012.5},null,983,"Hidden","Long",null,1,0,"",null,1,"Stay Long",1207.5,-107050.95999999999]
[null,{"$f":"'Market Data'!B988","v":20031113},{"$f":"'Market Data'!C988","v":5037},{"$f":"'Market Data'!D988","v":5048},{"$f":"'Market Data'!E988","v":4971},{"$f":"'Market Data'!F988","v":4997.5},null,984,"Hidden","Long",null,1,0,"",null,1,"Stay Long",-525,-107575.95999999999]
[null,{"$f":"'Market Data'!B989","v":20031114},{"$f":"'Market Data'!C989","v":4986},{"$f":"'Market Data'!D989","v":5050},{"$f":"'Market Data'!E989","v":4979},{"$f":"'Market Data'!F989","v":5026},null,985,"Hidden","Long",null,1,0,"",null,1,"Stay Long",997.5,-106578.45999999999]
[null,{"$f":"'Market Data'!B990","v":20031117},{"$f":"'Market Data'!C990","v":4947.5},{"$f":"'Market Data'!D990","v":4962.5},{"$f":"'Market Data'!E990","v":4896},{"$f":"'Market Data'!F990","v":4906.5},null,986,"Hidden","Long",null,1,0,"",null,1,"Stay Long",-4182.5,-110760.95999999999]
[null,{"$f":"'Market Data'!B991","v":20031118},{"$f":"'Market Data'!C991","v":4940},{"$f":"'Market Data'!D991","v":4949.5},{"$f":"'Market Data'!E991","v":4856},{"$f":"'Market Data'!F991","v":4856},null,987,"Hidden","Long",null,1,0,"",null,1,"Stay Long",-1767.5,-112528.45999999999]
[null,{"$f":"'Market Data'!B992","v":20031119},{"$f":"'Market Data'!C992","v":4837},{"$f":"'Market Data'!D992","v":4894},{"$f":"'Market Data'!E992","v":4827.5},{"$f":"'Market Data'!F992","v":4890},null,988,"Hidden","Long",null,1,0,"",null,1,"Stay Long",1190,-111338.45999999999]
[null,{"$f":"'Market Data'!B993","v":20031120},{"$f":"'Market Data'!C993","v":4903},{"$f":"'Market Data'!D993","v":4905},{"$f":"'Market Data'!E993","v":4796},{"$f":"'Market Data'!F993","v":4892},null,989,"Hidden","Long",null,1,0,"",null,1,"Stay Long",70,-111268.45999999999]
[null,{"$f":"'Market Data'!B994","v":20031121},{"$f":"'Market Data'!C994","v":4865.5},{"$f":"'Market Data'!D994","v":4892},{"$f":"'Market Data'!E994","v":4849.5},{"$f":"'Market Data'!F994","v":4867},null,990,"Hidden","Long",null,1,0,"",null,1,"Stay Long",-875,-112143.45999999999]
[null,{"$f":"'Market Data'!B995","v":20031124},{"$f":"'Market Data'!C995","v":4882},{"$f":"'Market Data'!D995","v":4982.5},{"$f":"'Market Data'!E995","v":4879.5},{"$f":"'Market Data'!F995","v":4979.5},null,991,"Hidden","Long",null,1,0,"",null,1,"Stay Long",3937.5,-108205.95999999999]
[null,{"$f":"'Market Data'!B996","v":20031125},{"$f":"'Market Data'!C996","v":4969.5},{"$f":"'Market Data'!D996","v":5001},{"$f":"'Market Data'!E996","v":4958.5},{"$f":"'Market Data'!F996","v":4971},null,992,"Hidden","Long",null,1,0,"",null,1,"Stay Long",-297.5,-108503.45999999999]
[null,{"$f":"'Market Data'!B997","v":20031126},{"$f":"'Market Data'!C997","v":4968.5},{"$f":"'Market Data'!D997","v":5019.5},{"$f":"'Market Data'!E997","v":4936},{"$f":"'Market Data'!F997","v":4964},null,993,"Hidden","Long",null,1,0,"",null,1,"Stay Long",-245,-108748.45999999999]
[null,{"$f":"'Market Data'!B998","v":20031127},{"$f":"'Market Data'!C998","v":4979},{"$f":"'Market Data'!D998","v":4987.5},{"$f":"'Market Data'!E998","v":4959.5},{"$f":"'Market Data'!F998","v":4982},null,994,"Hidden","Long",null,1,0,"",null,1,"Stay Long",630,-108118.45999999999]
[null,{"$f":"'Market Data'!B999","v":20031128},{"$f":"'Market Data'!C999","v":4983.5},{"$f":"'Market Data'!D999","v":5001.5},{"$f":"'Market Data'!E999","v":4920},{"$f":"'Market Data'!F999","v":4973.5},null,995,"Hidden","Long",null,1,0,"",null,1,"Stay Long",-297.5,-108415.95999999999]
[null,{"$f":"'Market Data'!B1000","v":20031201},{"$f":"'Market Data'!C1000","v":5011},{"$f":"'Market Data'!D1000","v":5064},{"$f":"'Market Data'!E1000","v":5008.5},{"$f":"'Market Data'!F1000","v":5057.5},null,996,"Hidden","Long",null,1,0,"",null,1,"Stay Long",2940,-105475.95999999999]
[null,{"$f":"'Market Data'!B1001","v":20031202},{"$f":"'Market Data'!C1001","v":5052},{"$f":"'Market Data'!D1001","v":5069},{"$f":"'Market Data'!E1001","v":5018},{"$f":"'Market Data'!F1001","v":5055.5},null,997,"Hidden","Long",null,1,0,"",null,1,"Stay Long",-70,-105545.95999999999]
[null,{"$f":"'Market Data'!B1002","v":20031203},{"$f":"'Market Data'!C1002","v":5035},{"$f":"'Market Data'!D1002","v":5117},{"$f":"'Market Data'!E1002","v":5032},{"$f":"'Market Data'!F1002","v":5115.5},null,998,"Hidden","Long",null,1,0,"",null,1,"Stay Long",2100,-103445.95999999999]
[null,{"$f":"'Market Data'!B1003","v":20031204},{"$f":"'Market Data'!C1003","v":5101},{"$f":"'Market Data'!D1003","v":5125.5},{"$f":"'Market Data'!E1003","v":5076.5},{"$f":"'Market Data'!F1003","v":5083.5},null,999,"Hidden","Long",null,1,0,"",null,1,"Stay Long",-1120,-104565.95999999999]
[null,{"$f":"'Market Data'!B1004","v":20031205},{"$f":"'Market Data'!C1004","v":5083.5},{"$f":"'Market Data'!D1004","v":5104.5},{"$f":"'Market Data'!E1004","v":5041.5},{"$f":"'Market Data'!F1004","v":5054.5},null,1000,"Hidden","Long",null,1,0,"",null,1,"Stay Long",-1015,-105580.95999999999]
[null,{"$f":"'Market Data'!B1005","v":20031208},{"$f":"'Market Data'!C1005","v":5034},{"$f":"'Market Data'!D1005","v":5056},{"$f":"'Market Data'!E1005","v":5007},{"$f":"'Market Data'!F1005","v":5056},null,1001,"Hidden","Long",null,1,0,"",null,1,"Stay Long",52.5,-105528.45999999999]
[null,{"$f":"'Market Data'!B1006","v":20031209},{"$f":"'Market Data'!C1006","v":5084.5},{"$f":"'Market Data'!D1006","v":5110.5},{"$f":"'Market Data'!E1006","v":5067},{"$f":"'Market Data'!F1006","v":5084.5},null,1002,"Hidden","Long",null,1,0,"",null,1,"Stay Long",997.5,-104530.95999999999]
[null,{"$f":"'Market Data'!B1007","v":20031210},{"$f":"'Market Data'!C1007","v":5054},{"$f":"'Market Data'!D1007","v":5078},{"$f":"'Market Data'!E1007","v":5025},{"$f":"'Market Data'!F1007","v":5057},null,1003,"Hidden","Long",null,1,0,"",null,1,"Stay Long",-962.5,-105493.45999999999]
[null,{"$f":"'Market Data'!B1008","v":20031211},{"$f":"'Market Data'!C1008","v":5066.5},{"$f":"'Market Data'!D1008","v":5093.5},{"$f":"'Market Data'!E1008","v":5054},{"$f":"'Market Data'!F1008","v":5083},null,1004,"Hidden","Long",null,1,0,"",null,1,"Stay Long",910,-104583.45999999999]
[null,{"$f":"'Market Data'!B1009","v":20031212},{"$f":"'Market Data'!C1009","v":5116},{"$f":"'Market Data'!D1009","v":5133},{"$f":"'Market Data'!E1009","v":5057.5},{"$f":"'Market Data'!F1009","v":5080.5},null,1005,"Hidden","Long",null,1,0,"",null,1,"Stay Long",-87.5,-104670.95999999999]
[null,{"$f":"'Market Data'!B1010","v":20031215},{"$f":"'Market Data'!C1010","v":5160},{"$f":"'Market Data'!D1010","v":5161},{"$f":"'Market Data'!E1010","v":5086},{"$f":"'Market Data'!F1010","v":5088.5},null,1006,"Hidden","Long",null,1,0,"",null,1,"Stay Long",280,-104390.95999999999]
[null,{"$f":"'Market Data'!B1011","v":20031216},{"$f":"'Market Data'!C1011","v":5075},{"$f":"'Market Data'!D1011","v":5114.5},{"$f":"'Market Data'!E1011","v":5062},{"$f":"'Market Data'!F1011","v":5102},null,1007,"Hidden","Long",null,1,0,"",null,1,"Stay Long",472.5,-103918.45999999999]
[null,{"$f":"'Market Data'!B1012","v":20031217},{"$f":"'Market Data'!C1012","v":5104.5},{"$f":"'Market Data'!D1012","v":5108.5},{"$f":"'Market Data'!E1012","v":5029.5},{"$f":"'Market Data'!F1012","v":5037},null,1008,"Hidden","Long",null,1,0,"",null,1,"Stay Long",-2275,-106193.45999999999]
[null,{"$f":"'Market Data'!B1013","v":20031218},{"$f":"'Market Data'!C1013","v":5060.5},{"$f":"'Market Data'!D1013","v":5110},{"$f":"'Market Data'!E1013","v":5048.5},{"$f":"'Market Data'!F1013","v":5107.5},null,1009,"Hidden","Long",null,1,0,"",null,1,"Stay Long",2467.5,-103725.95999999999]
[null,{"$f":"'Market Data'!B1014","v":20031219},{"$f":"'Market Data'!C1014","v":5118},{"$f":"'Market Data'!D1014","v":5133},{"$f":"'Market Data'!E1014","v":5096.5},{"$f":"'Market Data'!F1014","v":5105.5},null,1010,"Hidden","Long",null,1,0,"",null,1,"Stay Long",-70,-103795.95999999999]
[null,{"$f":"'Market Data'!B1015","v":20031222},{"$f":"'Market Data'!C1015","v":5092.5},{"$f":"'Market Data'!D1015","v":5136},{"$f":"'Market Data'!E1015","v":5092.5},{"$f":"'Market Data'!F1015","v":5119},null,1011,"Hidden","Long",null,1,0,"",null,1,"Stay Long",472.5,-103323.45999999999]
[null,{"$f":"'Market Data'!B1016","v":20031223},{"$f":"'Market Data'!C1016","v":5135},{"$f":"'Market Data'!D1016","v":5141},{"$f":"'Market Data'!E1016","v":5116},{"$f":"'Market Data'!F1016","v":5128.5},null,1012,"Hidden","Long",null,1,0,"",null,1,"Stay Long",332.5,-102990.95999999999]
[null,{"$f":"'Market Data'!B1017","v":20031229},{"$f":"'Market Data'!C1017","v":5155.5},{"$f":"'Market Data'!D1017","v":5195},{"$f":"'Market Data'!E1017","v":5142},{"$f":"'Market Data'!F1017","v":5191},null,1013,"Hidden","Long",null,1,0,"",null,1,"Stay Long",2187.5,-100803.45999999999]
[null,{"$f":"'Market Data'!B1018","v":20031230},{"$f":"'Market Data'!C1018","v":5211},{"$f":"'Market Data'!D1018","v":5221.5},{"$f":"'Market Data'!E1018","v":5192.5},{"$f":"'Market Data'!F1018","v":5200.5},null,1014,"Hidden","Long",null,1,0,"",null,1,"Stay Long",332.5,-100470.95999999999]
[null,{"$f":"'Market Data'!B1019","v":20040102},{"$f":"'Market Data'!C1019","v":5215.5},{"$f":"'Market Data'!D1019","v":5253.5},{"$f":"'Market Data'!E1019","v":5204.5},{"$f":"'Market Data'!F1019","v":5250},null,1015,"Hidden","Long",null,1,0,"",null,1,"Stay Long",1732.5,-98738.459999999992]
[null,{"$f":"'Market Data'!B1020","v":20040105},{"$f":"'Market Data'!C1020","v":5245.5},{"$f":"'Market Data'!D1020","v":5272.5},{"$f":"'Market Data'!E1020","v":5223},{"$f":"'Market Data'!F1020","v":5269.5},null,1016,"Hidden","Long",null,1,0,"",null,1,"Stay Long",682.5,-98055.959999999992]
[null,{"$f":"'Market Data'!B1021","v":20040106},{"$f":"'Market Data'!C1021","v":5268.5},{"$f":"'Market Data'!D1021","v":5276},{"$f":"'Market Data'!E1021","v":5225},{"$f":"'Market Data'!F1021","v":5265},null,1017,"Hidden","Long",null,1,0,"",null,1,"Stay Long",-157.5,-98213.459999999992]
[null,{"$f":"'Market Data'!B1022","v":20040107},{"$f":"'Market Data'!C1022","v":5275.5},{"$f":"'Market Data'!D1022","v":5275.5},{"$f":"'Market Data'!E1022","v":5212},{"$f":"'Market Data'!F1022","v":5250},null,1018,"Hidden","Long",null,1,0,"",null,1,"Stay Long",-525,-98738.459999999992]
[null,{"$f":"'Market Data'!B1023","v":20040108},{"$f":"'Market Data'!C1023","v":5268.5},{"$f":"'Market Data'!D1023","v":5293},{"$f":"'Market Data'!E1023","v":5252},{"$f":"'Market Data'!F1023","v":5279.5},null,1019,"Hidden","Long",null,1,0,"",null,1,"Stay Long",1032.5,-97705.959999999992]
[null,{"$f":"'Market Data'!B1024","v":20040109},{"$f":"'Market Data'!C1024","v":5291},{"$f":"'Market Data'!D1024","v":5296.5},{"$f":"'Market Data'!E1024","v":5203},{"$f":"'Market Data'!F1024","v":5238},null,1020,"Hidden","Long",null,1,0,"",null,1,"Stay Long",-1452.5,-99158.459999999992]
[null,{"$f":"'Market Data'!B1025","v":20040112},{"$f":"'Market Data'!C1025","v":5217.5},{"$f":"'Market Data'!D1025","v":5231},{"$f":"'Market Data'!E1025","v":5201.5},{"$f":"'Market Data'!F1025","v":5219.5},null,1021,"Hidden","Long",null,1,0,"",null,1,"Stay Long",-647.5,-99805.959999999992]
[null,{"$f":"'Market Data'!B1026","v":20040113},{"$f":"'Market Data'!C1026","v":5235},{"$f":"'Market Data'!D1026","v":5254.5},{"$f":"'Market Data'!E1026","v":5187},{"$f":"'Market Data'!F1026","v":5200.5},null,1022,"Hidden","Long",null,1,0,"",null,1,"Stay Long",-665,-100470.95999999999]
[null,{"$f":"'Market Data'!B1027","v":20040114},{"$f":"'Market Data'!C1027","v":5212.5},{"$f":"'Market Data'!D1027","v":5277.5},{"$f":"'Market Data'!E1027","v":5201.5},{"$f":"'Market Data'!F1027","v":5270.5},null,1023,"Hidden","Long",null,1,{"$f":"$L1040-P1040","v":0},"",null,1,"Stay Long",2450,-98020.959999999992]
[null,{"$f":"'Market Data'!B1028","v":20040115},{"$f":"'Market Data'!C1028","v":5254.5},{"$f":"'Market Data'!D1028","v":5314.5},{"$f":"'Market Data'!E1028","v":5246.5},{"$f":"'Market Data'!F1028","v":5310},null,1024,"Hidden","Long",null,1,0,"",null,{"$f":"IF($N1040=\"Fill\",$L1040,$P1040)","v":1},"Stay Long",{"$f":"IF(OR($P1040&$L1040=\"01\",$P1040&$L1040=\"0-1\"),(($F1041-$C1041)*$R$3*$L1040)-(ABS($M1040)*$R$4),IF(OR($P1040&$L1040=\"10\",$P1040&$L1040=\"-10\"),(($C1041-$F1040)*$R$3*$P1040)-(ABS($M1040)*$R$4),IF(OR($P1040&$L1040=\"1-1\",$P1040&$L1040=\"-11\"),(($C1041-$F1040)*$R$3*$P1040)-(ABS($M1040)*$R$4)+(($F1041-$C1041)*$R$3*$P1041),IF(OR($P1040&$L1040=\"11\",$P1040&$L1040=\"-1-1\"),(($F1041-$F1040)*$R$3*$P1041),0))))","v":1382.5},-96638.459999999992]
[null,{"$f":"'Market Data'!B1029","v":20040116},{"$f":"'Market Data'!C1029","v":5309.5},{"$f":"'Market Data'!D1029","v":5345},{"$f":"'Market Data'!E1029","v":5308},{"$f":"'Market Data'!F1029","v":5336},null,{"$f":"ROW()-ROW(H$17)","v":1025},"Hidden",{"$f":"$I$4","v":"Long"},null,1,0,{"$f":"IF(NOT($M1042=0),\"Fill\",\"\")","v":""},null,1,{"$f":"IF($P1041&$L1041=\"00\",\"Stay Flat\",IF($P1041&$L1041=\"01\",\"Go Long\",IF($P1041&$L1041=\"0-1\",\"Go Short\",IF($P1041&$L1041=\"-10\",\"Exit Short\",IF($P1041&$L1041=\"-1-1\",\"Stay Short\",IF($P1041&$L1041=\"-11\",\"Exit Short, Go Long\",IF($P1041&$L1041=\"10\",\"Exit Long\",IF($P1041&$L1041=\"1-1\",\"Exit Long, Go Short\",IF($P1041&$L1041=\"11\",\"Stay Long\",\"\")))))))))","v":"Stay Long"},910,{"$f":"S1041+R1042","v":-95728.459999999992}]
[null,{"$f":"'Market Data'!B1030","v":20040119},{"$f":"'Market Data'!C1030","v":5339.5},{"$f":"'Market Data'!D1030","v":5372},{"$f":"'Market Data'!E1030","v":5339},{"$f":"'Market Data'!F1030","v":5361.5},null,1026,"Hidden","Long",null,{"$f":"IF($J1043=\"Short\",-1,IF($J1043=\"Long\",1,0))","v":1},0,"",null,1,"Stay Long",892.5,-94835.959999999992]
[null,{"$f":"'Market Data'!B1031","v":20040120},{"$f":"'Market Data'!C1031","v":5355.5},{"$f":"'Market Data'!D1031","v":5376.5},{"$f":"'Market Data'!E1031","v":5320.5},{"$f":"'Market Data'!F1031","v":5341.5},null,1027,"Hidden","Long",null,1,0,"",null,1,"Stay Long",-700,-95535.959999999992]
[null,{"$f":"'Market Data'!B1032","v":20040121},{"$f":"'Market Data'!C1032","v":5327.5},{"$f":"'Market Data'!D1032","v":5375.5},{"$f":"'Market Data'!E1032","v":5318},{"$f":"'Market Data'!F1032","v":5372},null,1028,"Hidden","Long",null,1,0,"",null,1,"Stay Long",1067.5,-94468.459999999992]
[null,{"$f":"'Market Data'!B1033","v":20040122},{"$f":"'Market Data'!C1033","v":5383.5},{"$f":"'Market Data'!D1033","v":5391},{"$f":"'Market Data'!E1033","v":5346.5},{"$f":"'Market Data'!F1033","v":5366.5},null,1029,"Hidden","Long",null,1,0,"",null,1,"Stay Long",-192.5,-94660.959999999992]
[null,{"$f":"'Market Data'!B1034","v":20040123},{"$f":"'Market Data'!C1034","v":5357.5},{"$f":"'Market Data'!D1034","v":5383.5},{"$f":"'Market Data'!E1034","v":5349},{"$f":"'Market Data'!F1034","v":5358.5},null,1030,"Hidden","Long",null,1,0,"",null,1,"Stay Long",-280,-94940.959999999992]
[null,{"$f":"'Market Data'!B1035","v":20040126},{"$f":"'Market Data'!C1035","v":5363.5},{"$f":"'Market Data'!D1035","v":5368.5},{"$f":"'Market Data'!E1035","v":5334},{"$f":"'Market Data'!F1035","v":5361.5},null,1031,"Hidden","Long",null,1,0,"",null,1,"Stay Long",105,-94835.959999999992]
[null,{"$f":"'Market Data'!B1036","v":20040127},{"$f":"'Market Data'!C1036","v":5384},{"$f":"'Market Data'!D1036","v":5395.5},{"$f":"'Market Data'!E1036","v":5340},{"$f":"'Market Data'!F1036","v":5353.5},null,1032,"Hidden","Long",null,1,0,"",null,1,"Stay Long",-280,-95115.959999999992]
[null,{"$f":"'Market Data'!B1037","v":20040128},{"$f":"'Market Data'!C1037","v":5326.5},{"$f":"'Market Data'!D1037","v":5377},{"$f":"'Market Data'!E1037","v":5322},{"$f":"'Market Data'!F1037","v":5372.5},null,1033,"Hidden","Long",null,1,0,"",null,1,"Stay Long",665,-94450.959999999992]
[null,{"$f":"'Market Data'!B1038","v":20040129},{"$f":"'Market Data'!C1038","v":5325},{"$f":"'Market Data'!D1038","v":5345.5},{"$f":"'Market Data'!E1038","v":5299},{"$f":"'Market Data'!F1038","v":5306.5},null,1034,"Hidden","Long",null,1,0,"",null,1,"Stay Long",-2310,-96760.959999999992]
[null,{"$f":"'Market Data'!B1039","v":20040130},{"$f":"'Market Data'!C1039","v":5326.5},{"$f":"'Market Data'!D1039","v":5333.5},{"$f":"'Market Data'!E1039","v":5264},{"$f":"'Market Data'!F1039","v":5284.5},null,1035,"Hidden","Long",null,1,0,"",null,1,"Stay Long",-770,-97530.959999999992]
[null,{"$f":"'Market Data'!B1040","v":20040202},{"$f":"'Market Data'!C1040","v":5293.5},{"$f":"'Market Data'!D1040","v":5323.5},{"$f":"'Market Data'!E1040","v":5262},{"$f":"'Market Data'!F1040","v":5319},null,1036,"Hidden","Long",null,1,0,"",null,1,"Stay Long",1207.5,-96323.459999999992]
[null,{"$f":"'Market Data'!B1041","v":20040203},{"$f":"'Market Data'!C1041","v":5295.5},{"$f":"'Market Data'!D1041","v":5296.5},{"$f":"'Market Data'!E1041","v":5235},{"$f":"'Market Data'!F1041","v":5266},null,1037,"Hidden","Long",null,1,0,"",null,1,"Stay Long",-1855,-98178.459999999992]
[null,{"$f":"'Market Data'!B1042","v":20040204},{"$f":"'Market Data'!C1042","v":5255.5},{"$f":"'Market Data'!D1042","v":5261.5},{"$f":"'Market Data'!E1042","v":5223.5},{"$f":"'Market Data'!F1042","v":5235},null,1038,"Hidden","Long",null,1,0,"",null,1,"Stay Long",-1085,-99263.459999999992]
[null,{"$f":"'Market Data'!B1043","v":20040205},{"$f":"'Market Data'!C1043","v":5224},{"$f":"'Market Data'!D1043","v":5271.5},{"$f":"'Market Data'!E1043","v":5214.5},{"$f":"'Market Data'!F1043","v":5243.5},null,1039,"Hidden","Long",null,1,0,"",null,1,"Stay Long",297.5,-98965.959999999992]
[null,{"$f":"'Market Data'!B1044","v":20040206},{"$f":"'Market Data'!C1044","v":5245.5},{"$f":"'Market Data'!D1044","v":5270.5},{"$f":"'Market Data'!E1044","v":5222},{"$f":"'Market Data'!F1044","v":5254},null,1040,"Hidden","Long",null,1,0,"",null,1,"Stay Long",367.5,-98598.459999999992]
[null,{"$f":"'Market Data'!B1045","v":20040209},{"$f":"'Market Data'!C1045","v":5275.5},{"$f":"'Market Data'!D1045","v":5330},{"$f":"'Market Data'!E1045","v":5269.5},{"$f":"'Market Data'!F1045","v":5322.5},null,1041,"Hidden","Long",null,1,0,"",null,1,"Stay Long",2397.5,-96200.959999999992]
[null,{"$f":"'Market Data'!B1046","v":20040210},{"$f":"'Market Data'!C1046","v":5315.5},{"$f":"'Market Data'!D1046","v":5338.5},{"$f":"'Market Data'!E1046","v":5297.5},{"$f":"'Market Data'!F1046","v":5333},null,1042,"Hidden","Long",null,1,0,"",null,1,"Stay Long",367.5,-95833.459999999992]
[null,{"$f":"'Market Data'!B1047","v":20040211},{"$f":"'Market Data'!C1047","v":5333.5},{"$f":"'Market Data'!D1047","v":5346.5},{"$f":"'Market Data'!E1047","v":5314.5},{"$f":"'Market Data'!F1047","v":5345},null,1043,"Hidden","Long",null,1,0,"",null,1,"Stay Long",420,-95413.459999999992]
[null,{"$f":"'Market Data'!B1048","v":20040212},{"$f":"'Market Data'!C1048","v":5354.5},{"$f":"'Market Data'!D1048","v":5366.5},{"$f":"'Market Data'!E1048","v":5314},{"$f":"'Market Data'!F1048","v":5328.5},null,1044,"Hidden","Long",null,1,0,"",null,1,"Stay Long",-577.5,-95990.959999999992]
[null,{"$f":"'Market Data'!B1049","v":20040213},{"$f":"'Market Data'!C1049","v":5335.5},{"$f":"'Market Data'!D1049","v":5346.5},{"$f":"'Market Data'!E1049","v":5251.5},{"$f":"'Market Data'!F1049","v":5257.5},null,1045,"Hidden","Long",null,1,0,"",null,1,"Stay Long",-2485,-98475.959999999992]
[null,{"$f":"'Market Data'!B1050","v":20040216},{"$f":"'Market Data'!C1050","v":5266.5},{"$f":"'Market Data'!D1050","v":5283.5},{"$f":"'Market Data'!E1050","v":5255},{"$f":"'Market Data'!F1050","v":5282.5},null,1046,"Hidden","Long",null,1,0,"",null,1,"Stay Long",875,-97600.959999999992]
[null,{"$f":"'Market Data'!B1051","v":20040217},{"$f":"'Market Data'!C1051","v":5286},{"$f":"'Market Data'!D1051","v":5317},{"$f":"'Market Data'!E1051","v":5284},{"$f":"'Market Data'!F1051","v":5314},null,1047,"Hidden","Long",null,1,0,"",null,1,"Stay Long",1102.5,-96498.459999999992]
[null,{"$f":"'Market Data'!B1052","v":20040218},{"$f":"'Market Data'!C1052","v":5318.5},{"$f":"'Market Data'!D1052","v":5324.5},{"$f":"'Market Data'!E1052","v":5297},{"$f":"'Market Data'!F1052","v":5320},null,1048,"Hidden","Long",null,1,0,"",null,1,"Stay Long",210,-96288.459999999992]
[null,{"$f":"'Market Data'!B1053","v":20040219},{"$f":"'Market Data'!C1053","v":5331.5},{"$f":"'Market Data'!D1053","v":5359.5},{"$f":"'Market Data'!E1053","v":5324.5},{"$f":"'Market Data'!F1053","v":5351.5},null,1049,"Hidden","Long",null,1,0,"",null,1,"Stay Long",1102.5,-95185.959999999992]
[null,{"$f":"'Market Data'!B1054","v":20040220},{"$f":"'Market Data'!C1054","v":5332.5},{"$f":"'Market Data'!D1054","v":5348.5},{"$f":"'Market Data'!E1054","v":5264},{"$f":"'Market Data'!F1054","v":5283},null,1050,"Hidden","Long",null,1,0,"",null,1,"Stay Long",-2397.5,-97583.459999999992]
[null,{"$f":"'Market Data'!B1055","v":20040223},{"$f":"'Market Data'!C1055","v":5295.5},{"$f":"'Market Data'!D1055","v":5318.5},{"$f":"'Market Data'!E1055","v":5264.5},{"$f":"'Market Data'!F1055","v":5275},null,1051,"Hidden","Long",null,1,0,"",null,1,"Stay Long",-280,-97863.459999999992]
[null,{"$f":"'Market Data'!B1056","v":20040224},{"$f":"'Market Data'!C1056","v":5270},{"$f":"'Market Data'!D1056","v":5273.5},{"$f":"'Market Data'!E1056","v":5177},{"$f":"'Market Data'!F1056","v":5199.5},null,1052,"Hidden","Long",null,1,0,"",null,1,"Stay Long",-2642.5,-100505.95999999999]
[null,{"$f":"'Market Data'!B1057","v":20040225},{"$f":"'Market Data'!C1057","v":5205.5},{"$f":"'Market Data'!D1057","v":5220},{"$f":"'Market Data'!E1057","v":5169.5},{"$f":"'Market Data'!F1057","v":5206.5},null,1053,"Hidden","Long",null,1,0,"",null,1,"Stay Long",245,-100260.95999999999]
[null,{"$f":"'Market Data'!B1058","v":20040226},{"$f":"'Market Data'!C1058","v":5220.5},{"$f":"'Market Data'!D1058","v":5233.5},{"$f":"'Market Data'!E1058","v":5183.5},{"$f":"'Market Data'!F1058","v":5221.5},null,1054,"Hidden","Long",null,1,0,"",null,1,"Stay Long",525,-99735.959999999992]
[null,{"$f":"'Market Data'!B1059","v":20040227},{"$f":"'Market Data'!C1059","v":5235},{"$f":"'Market Data'!D1059","v":5263},{"$f":"'Market Data'!E1059","v":5213},{"$f":"'Market Data'!F1059","v":5232},null,1055,"Hidden","Long",null,1,0,"",null,1,"Stay Long",367.5,-99368.459999999992]
[null,{"$f":"'Market Data'!B1060","v":20040301},{"$f":"'Market Data'!C1060","v":5258.5},{"$f":"'Market Data'!D1060","v":5277},{"$f":"'Market Data'!E1060","v":5242},{"$f":"'Market Data'!F1060","v":5275.5},null,1056,"Hidden","Long",null,1,0,"",null,1,"Stay Long",1522.5,-97845.959999999992]
[null,{"$f":"'Market Data'!B1061","v":20040302},{"$f":"'Market Data'!C1061","v":5284.5},{"$f":"'Market Data'!D1061","v":5315},{"$f":"'Market Data'!E1061","v":5277.5},{"$f":"'Market Data'!F1061","v":5289},null,1057,"Hidden","Long",null,1,0,"",null,1,"Stay Long",472.5,-97373.459999999992]
[null,{"$f":"'Market Data'!B1062","v":20040303},{"$f":"'Market Data'!C1062","v":5289.5},{"$f":"'Market Data'!D1062","v":5307},{"$f":"'Market Data'!E1062","v":5266.5},{"$f":"'Market Data'!F1062","v":5292.5},null,1058,"Hidden","Long",null,1,0,"",null,1,"Stay Long",122.5,-97250.959999999992]
[null,{"$f":"'Market Data'!B1063","v":20040304},{"$f":"'Market Data'!C1063","v":5298.5},{"$f":"'Market Data'!D1063","v":5357},{"$f":"'Market Data'!E1063","v":5286.5},{"$f":"'Market Data'!F1063","v":5348.5},null,1059,"Hidden","Long",null,1,0,"",null,1,"Stay Long",1960,-95290.959999999992]
[null,{"$f":"'Market Data'!B1064","v":20040305},{"$f":"'Market Data'!C1064","v":5345.5},{"$f":"'Market Data'!D1064","v":5360.5},{"$f":"'Market Data'!E1064","v":5298.5},{"$f":"'Market Data'!F1064","v":5344.5},null,1060,"Hidden","Long",null,1,0,"",null,1,"Stay Long",-140,-95430.959999999992]
[null,{"$f":"'Market Data'!B1065","v":20040308},{"$f":"'Market Data'!C1065","v":5355.5},{"$f":"'Market Data'!D1065","v":5382.5},{"$f":"'Market Data'!E1065","v":5343},{"$f":"'Market Data'!F1065","v":5345.5},null,1061,"Hidden","Long",null,1,0,"",null,1,"Stay Long",35,-95395.959999999992]
[null,{"$f":"'Market Data'!B1066","v":20040309},{"$f":"'Market Data'!C1066","v":5334.5},{"$f":"'Market Data'!D1066","v":5338},{"$f":"'Market Data'!E1066","v":5258.5},{"$f":"'Market Data'!F1066","v":5261.5},null,1062,"Hidden","Long",null,1,0,"",null,1,"Stay Long",-2940,-98335.959999999992]
[null,{"$f":"'Market Data'!B1067","v":20040310},{"$f":"'Market Data'!C1067","v":5266.5},{"$f":"'Market Data'!D1067","v":5271},{"$f":"'Market Data'!E1067","v":5221},{"$f":"'Market Data'!F1067","v":5225.5},null,1063,"Hidden","Long",null,1,0,"",null,1,"Stay Long",-1260,-99595.959999999992]
[null,{"$f":"'Market Data'!B1068","v":20040311},{"$f":"'Market Data'!C1068","v":5179.5},{"$f":"'Market Data'!D1068","v":5181},{"$f":"'Market Data'!E1068","v":5081},{"$f":"'Market Data'!F1068","v":5134.5},null,1064,"Hidden","Long",null,1,0,"",null,1,"Stay Long",-3185,-102780.95999999999]
[null,{"$f":"'Market Data'!B1069","v":20040312},{"$f":"'Market Data'!C1069","v":5065.5},{"$f":"'Market Data'!D1069","v":5132.5},{"$f":"'Market Data'!E1069","v":5031},{"$f":"'Market Data'!F1069","v":5110.5},null,1065,"Hidden","Long",null,1,0,"",null,1,"Stay Long",-840,-103620.95999999999]
[null,{"$f":"'Market Data'!B1070","v":20040315},{"$f":"'Market Data'!C1070","v":5084.5},{"$f":"'Market Data'!D1070","v":5118},{"$f":"'Market Data'!E1070","v":5007.5},{"$f":"'Market Data'!F1070","v":5015.5},null,1066,"Hidden","Long",null,1,0,"",null,1,"Stay Long",-3325,-106945.95999999999]
[null,{"$f":"'Market Data'!B1071","v":20040316},{"$f":"'Market Data'!C1071","v":5029},{"$f":"'Market Data'!D1071","v":5058.5},{"$f":"'Market Data'!E1071","v":4981.5},{"$f":"'Market Data'!F1071","v":5015.5},null,1067,"Hidden","Long",null,1,0,"",null,1,"Stay Long",0,-106945.95999999999]
[null,{"$f":"'Market Data'!B1072","v":20040317},{"$f":"'Market Data'!C1072","v":5058.5},{"$f":"'Market Data'!D1072","v":5109.5},{"$f":"'Market Data'!E1072","v":5044},{"$f":"'Market Data'!F1072","v":5102.5},null,1068,"Hidden","Long",null,1,0,"",null,1,"Stay Long",3045,-103900.95999999999]
[null,{"$f":"'Market Data'!B1073","v":20040318},{"$f":"'Market Data'!C1073","v":5103.5},{"$f":"'Market Data'!D1073","v":5109},{"$f":"'Market Data'!E1073","v":5002.5},{"$f":"'Market Data'!F1073","v":5036},null,1069,"Hidden","Long",null,1,0,"",null,1,"Stay Long",-2327.5,-106228.45999999999]
[null,{"$f":"'Market Data'!B1074","v":20040319},{"$f":"'Market Data'!C1074","v":5067.5},{"$f":"'Market Data'!D1074","v":5070},{"$f":"'Market Data'!E1074","v":5006.5},{"$f":"'Market Data'!F1074","v":5014},null,1070,"Hidden","Long",null,1,0,"",null,1,"Stay Long",-770,-106998.45999999999]
[null,{"$f":"'Market Data'!B1075","v":20040322},{"$f":"'Market Data'!C1075","v":4966},{"$f":"'Market Data'!D1075","v":4969.5},{"$f":"'Market Data'!E1075","v":4898},{"$f":"'Market Data'!F1075","v":4914.5},null,1071,"Hidden","Long",null,1,0,"",null,1,"Stay Long",-3482.5,-110480.95999999999]
[null,{"$f":"'Market Data'!B1076","v":20040323},{"$f":"'Market Data'!C1076","v":4932},{"$f":"'Market Data'!D1076","v":4978},{"$f":"'Market Data'!E1076","v":4907.5},{"$f":"'Market Data'!F1076","v":4932},null,1072,"Hidden","Long",null,1,0,"",null,1,"Stay Long",612.5,-109868.45999999999]
[null,{"$f":"'Market Data'!B1077","v":20040324},{"$f":"'Market Data'!C1077","v":4932},{"$f":"'Market Data'!D1077","v":4964},{"$f":"'Market Data'!E1077","v":4893},{"$f":"'Market Data'!F1077","v":4957.5},null,1073,"Hidden","Long",null,1,0,"",null,1,"Stay Long",892.5,-108975.95999999999]
[null,{"$f":"'Market Data'!B1078","v":20040325},{"$f":"'Market Data'!C1078","v":4970},{"$f":"'Market Data'!D1078","v":5037.5},{"$f":"'Market Data'!E1078","v":4962.5},{"$f":"'Market Data'!F1078","v":5034},null,1074,"Hidden","Long",null,1,0,"",null,1,"Stay Long",2677.5,-106298.45999999999]
[null,{"$f":"'Market Data'!B1079","v":20040326},{"$f":"'Market Data'!C1079","v":5056},{"$f":"'Market Data'!D1079","v":5058},{"$f":"'Market Data'!E1079","v":5003.5},{"$f":"'Market Data'!F1079","v":5022},null,1075,"Hidden","Long",null,1,0,"",null,1,"Stay Long",-420,-106718.45999999999]
[null,{"$f":"'Market Data'!B1080","v":20040329},{"$f":"'Market Data'!C1080","v":5035},{"$f":"'Market Data'!D1080","v":5096},{"$f":"'Market Data'!E1080","v":5025},{"$f":"'Market Data'!F1080","v":5090},null,1076,"Hidden","Long",null,1,0,"",null,1,"Stay Long",2380,-104338.45999999999]
[null,{"$f":"'Market Data'!B1081","v":20040330},{"$f":"'Market Data'!C1081","v":5084},{"$f":"'Market Data'!D1081","v":5090},{"$f":"'Market Data'!E1081","v":5046.5},{"$f":"'Market Data'!F1081","v":5069},null,1077,"Hidden","Long",null,1,0,"",null,1,"Stay Long",-735,-105073.45999999999]
[null,{"$f":"'Market Data'!B1082","v":20040331},{"$f":"'Market Data'!C1082","v":5080},{"$f":"'Market Data'!D1082","v":5105},{"$f":"'Market Data'!E1082","v":5040.5},{"$f":"'Market Data'!F1082","v":5062.5},null,1078,"Hidden","Long",null,1,0,"",null,1,"Stay Long",-227.5,-105300.95999999999]
[null,{"$f":"'Market Data'!B1083","v":20040401},{"$f":"'Market Data'!C1083","v":5087},{"$f":"'Market Data'!D1083","v":5141},{"$f":"'Market Data'!E1083","v":5057},{"$f":"'Market Data'!F1083","v":5125},null,1079,"Hidden","Long",null,1,0,"",null,1,"Stay Long",2187.5,-103113.45999999999]
[null,{"$f":"'Market Data'!B1084","v":20040402},{"$f":"'Market Data'!C1084","v":5133},{"$f":"'Market Data'!D1084","v":5228.5},{"$f":"'Market Data'!E1084","v":5122.5},{"$f":"'Market Data'!F1084","v":5225},null,1080,"Hidden","Long",null,1,0,"",null,1,"Stay Long",3500,-99613.459999999992]
[null,{"$f":"'Market Data'!B1085","v":20040405},{"$f":"'Market Data'!C1085","v":5222},{"$f":"'Market Data'!D1085","v":5263},{"$f":"'Market Data'!E1085","v":5207},{"$f":"'Market Data'!F1085","v":5257.5},null,1081,"Hidden","Long",null,1,0,"",null,1,"Stay Long",1137.5,-98475.959999999992]
[null,{"$f":"'Market Data'!B1086","v":20040406},{"$f":"'Market Data'!C1086","v":5265},{"$f":"'Market Data'!D1086","v":5266},{"$f":"'Market Data'!E1086","v":5211.5},{"$f":"'Market Data'!F1086","v":5226.5},null,1082,"Hidden","Long",null,1,0,"",null,1,"Stay Long",-1085,-99560.959999999992]
[null,{"$f":"'Market Data'!B1087","v":20040407},{"$f":"'Market Data'!C1087","v":5222},{"$f":"'Market Data'!D1087","v":5251},{"$f":"'Market Data'!E1087","v":5198.5},{"$f":"'Market Data'!F1087","v":5208},null,1083,"Hidden","Long",null,1,0,"",null,1,"Stay Long",-647.5,-100208.45999999999]
[null,{"$f":"'Market Data'!B1088","v":20040408},{"$f":"'Market Data'!C1088","v":5235},{"$f":"'Market Data'!D1088","v":5262},{"$f":"'Market Data'!E1088","v":5205},{"$f":"'Market Data'!F1088","v":5224},null,1084,"Hidden","Long",null,1,0,"",null,1,"Stay Long",560,-99648.459999999992]
[null,{"$f":"'Market Data'!B1089","v":20040413},{"$f":"'Market Data'!C1089","v":5254},{"$f":"'Market Data'!D1089","v":5297},{"$f":"'Market Data'!E1089","v":5246.5},{"$f":"'Market Data'!F1089","v":5246.5},null,1085,"Hidden","Long",null,1,0,"",null,1,"Stay Long",787.5,-98860.959999999992]
[null,{"$f":"'Market Data'!B1090","v":20040414},{"$f":"'Market Data'!C1090","v":5231},{"$f":"'Market Data'!D1090","v":5239},{"$f":"'Market Data'!E1090","v":5170},{"$f":"'Market Data'!F1090","v":5219},null,1086,"Hidden","Long",null,1,0,"",null,1,"Stay Long",-962.5,-99823.459999999992]
[null,{"$f":"'Market Data'!B1091","v":20040415},{"$f":"'Market Data'!C1091","v":5201},{"$f":"'Market Data'!D1091","v":5236.5},{"$f":"'Market Data'!E1091","v":5188},{"$f":"'Market Data'!F1091","v":5192},null,1087,"Hidden","Long",null,1,{"$f":"$L1104-P1104","v":0},"",null,1,"Stay Long",-945,-100768.45999999999]
[null,{"$f":"'Market Data'!B1092","v":20040416},{"$f":"'Market Data'!C1092","v":5180},{"$f":"'Market Data'!D1092","v":5244},{"$f":"'Market Data'!E1092","v":5175.5},{"$f":"'Market Data'!F1092","v":5240},null,1088,"Hidden","Long",null,1,0,"",null,{"$f":"IF($N1104=\"Fill\",$L1104,$P1104)","v":1},"Stay Long",{"$f":"IF(OR($P1104&$L1104=\"01\",$P1104&$L1104=\"0-1\"),(($F1105-$C1105)*$R$3*$L1104)-(ABS($M1104)*$R$4),IF(OR($P1104&$L1104=\"10\",$P1104&$L1104=\"-10\"),(($C1105-$F1104)*$R$3*$P1104)-(ABS($M1104)*$R$4),IF(OR($P1104&$L1104=\"1-1\",$P1104&$L1104=\"-11\"),(($C1105-$F1104)*$R$3*$P1104)-(ABS($M1104)*$R$4)+(($F1105-$C1105)*$R$3*$P1105),IF(OR($P1104&$L1104=\"11\",$P1104&$L1104=\"-1-1\"),(($F1105-$F1104)*$R$3*$P1105),0))))","v":1680},-99088.459999999992]
[null,{"$f":"'Market Data'!B1093","v":20040419},{"$f":"'Market Data'!C1093","v":5220.5},{"$f":"'Market Data'!D1093","v":5239.5},{"$f":"'Market Data'!E1093","v":5193.5},{"$f":"'Market Data'!F1093","v":5230},null,{"$f":"ROW()-ROW(H$17)","v":1089},"Hidden",{"$f":"$I$4","v":"Long"},null,1,0,{"$f":"IF(NOT($M1106=0),\"Fill\",\"\")","v":""},null,1,{"$f":"IF($P1105&$L1105=\"00\",\"Stay Flat\",IF($P1105&$L1105=\"01\",\"Go Long\",IF($P1105&$L1105=\"0-1\",\"Go Short\",IF($P1105&$L1105=\"-10\",\"Exit Short\",IF($P1105&$L1105=\"-1-1\",\"Stay Short\",IF($P1105&$L1105=\"-11\",\"Exit Short, Go Long\",IF($P1105&$L1105=\"10\",\"Exit Long\",IF($P1105&$L1105=\"1-1\",\"Exit Long, Go Short\",IF($P1105&$L1105=\"11\",\"Stay Long\",\"\")))))))))","v":"Stay Long"},-350,{"$f":"S1105+R1106","v":-99438.459999999992}]
[null,{"$f":"'Market Data'!B1094","v":20040420},{"$f":"'Market Data'!C1094","v":5246},{"$f":"'Market Data'!D1094","v":5282.5},{"$f":"'Market Data'!E1094","v":5246},{"$f":"'Market Data'!F1094","v":5263},null,1090,"Hidden","Long",null,{"$f":"IF($J1107=\"Short\",-1,IF($J1107=\"Long\",1,0))","v":1},0,"",null,1,"Stay Long",1155,-98283.459999999992]
[null,{"$f":"'Market Data'!B1095","v":20040421},{"$f":"'Market Data'!C1095","v":5225},{"$f":"'Market Data'!D1095","v":5256},{"$f":"'Market Data'!E1095","v":5212.5},{"$f":"'Market Data'!F1095","v":5248},null,1091,"Hidden","Long",null,1,0,"",null,1,"Stay Long",-525,-98808.459999999992]
[null,{"$f":"'Market Data'!B1096","v":20040422},{"$f":"'Market Data'!C1096","v":5251.5},{"$f":"'Market Data'!D1096","v":5295},{"$f":"'Market Data'!E1096","v":5194},{"$f":"'Market Data'!F1096","v":5295},null,1092,"Hidden","Long",null,1,0,"",null,1,"Stay Long",1645,-97163.459999999992]
[null,{"$f":"'Market Data'!B1097","v":20040423},{"$f":"'Market Data'!C1097","v":5326.5},{"$f":"'Market Data'!D1097","v":5335},{"$f":"'Market Data'!E1097","v":5299.5},{"$f":"'Market Data'!F1097","v":5306},null,1093,"Hidden","Long",null,1,0,"",null,1,"Stay Long",385,-96778.459999999992]
[null,{"$f":"'Market Data'!B1098","v":20040426},{"$f":"'Market Data'!C1098","v":5313.5},{"$f":"'Market Data'!D1098","v":5357.5},{"$f":"'Market Data'!E1098","v":5303.5},{"$f":"'Market Data'!F1098","v":5324},null,1094,"Hidden","Long",null,1,0,"",null,1,"Stay Long",630,-96148.459999999992]
[null,{"$f":"'Market Data'!B1099","v":20040427},{"$f":"'Market Data'!C1099","v":5325},{"$f":"'Market Data'!D1099","v":5350.5},{"$f":"'Market Data'!E1099","v":5309.5},{"$f":"'Market Data'!F1099","v":5348.5},null,1095,"Hidden","Long",null,1,0,"",null,1,"Stay Long",857.5,-95290.959999999992]
[null,{"$f":"'Market Data'!B1100","v":20040428},{"$f":"'Market Data'!C1100","v":5318},{"$f":"'Market Data'!D1100","v":5329},{"$f":"'Market Data'!E1100","v":5259},{"$f":"'Market Data'!F1100","v":5270},null,1096,"Hidden","Long",null,1,0,"",null,1,"Stay Long",-2747.5,-98038.459999999992]
[null,{"$f":"'Market Data'!B1101","v":20040429},{"$f":"'Market Data'!C1101","v":5253},{"$f":"'Market Data'!D1101","v":5261},{"$f":"'Market Data'!E1101","v":5177},{"$f":"'Market Data'!F1101","v":5188},null,1097,"Hidden","Long",null,1,0,"",null,1,"Stay Long",-2870,-100908.45999999999]
[null,{"$f":"'Market Data'!B1102","v":20040430},{"$f":"'Market Data'!C1102","v":5173.5},{"$f":"'Market Data'!D1102","v":5206.5},{"$f":"'Market Data'!E1102","v":5160},{"$f":"'Market Data'!F1102","v":5163},null,1098,"Hidden","Long",null,1,0,"",null,1,"Stay Long",-875,-101783.45999999999]
[null,{"$f":"'Market Data'!B1103","v":20040503},{"$f":"'Market Data'!C1103","v":5154},{"$f":"'Market Data'!D1103","v":5208},{"$f":"'Market Data'!E1103","v":5140},{"$f":"'Market Data'!F1103","v":5192.5},null,1099,"Hidden","Long",null,1,0,"",null,1,"Stay Long",1032.5,-100750.95999999999]
[null,{"$f":"'Market Data'!B1104","v":20040504},{"$f":"'Market Data'!C1104","v":5198.5},{"$f":"'Market Data'!D1104","v":5213.5},{"$f":"'Market Data'!E1104","v":5163},{"$f":"'Market Data'!F1104","v":5172},null,1100,"Hidden","Long",null,1,0,"",null,1,"Stay Long",-717.5,-101468.45999999999]
[null,{"$f":"'Market Data'!B1105","v":20040505},{"$f":"'Market Data'!C1105","v":5168},{"$f":"'Market Data'!D1105","v":5226.5},{"$f":"'Market Data'!E1105","v":5161.5},{"$f":"'Market Data'!F1105","v":5221},null,1101,"Hidden","Long",null,1,0,"",null,1,"Stay Long",1715,-99753.459999999992]
[null,{"$f":"'Market Data'!B1106","v":20040506},{"$f":"'Market Data'!C1106","v":5193.5},{"$f":"'Market Data'!D1106","v":5208.5},{"$f":"'Market Data'!E1106","v":5073.5},{"$f":"'Market Data'!F1106","v":5077},null,1102,"Hidden","Long",null,1,0,"",null,1,"Stay Long",-5040,-104793.45999999999]
[null,{"$f":"'Market Data'!B1107","v":20040507},{"$f":"'Market Data'!C1107","v":5093},{"$f":"'Market Data'!D1107","v":5122},{"$f":"'Market Data'!E1107","v":5045},{"$f":"'Market Data'!F1107","v":5059.5},null,1103,"Hidden","Long",null,1,0,"",null,1,"Stay Long",-612.5,-105405.95999999999]
[null,{"$f":"'Market Data'!B1108","v":20040510},{"$f":"'Market Data'!C1108","v":4994},{"$f":"'Market Data'!D1108","v":5022.5},{"$f":"'Market Data'!E1108","v":4968.5},{"$f":"'Market Data'!F1108","v":4988},null,1104,"Hidden","Long",null,1,0,"",null,1,"Stay Long",-2502.5,-107908.45999999999]
[null,{"$f":"'Market Data'!B1109","v":20040511},{"$f":"'Market Data'!C1109","v":5004.5},{"$f":"'Market Data'!D1109","v":5051.5},{"$f":"'Market Data'!E1109","v":5002.5},{"$f":"'Market Data'!F1109","v":5024},null,1105,"Hidden","Long",null,1,0,"",null,1,"Stay Long",1260,-106648.45999999999]
[null,{"$f":"'Market Data'!B1110","v":20040512},{"$f":"'Market Data'!C1110","v":5043.5},{"$f":"'Market Data'!D1110","v":5045.5},{"$f":"'Market Data'!E1110","v":4938},{"$f":"'Market Data'!F1110","v":4942},null,1106,"Hidden","Long",null,1,0,"",null,1,"Stay Long",-2870,-109518.45999999999]
[null,{"$f":"'Market Data'!B1111","v":20040513},{"$f":"'Market Data'!C1111","v":4982.5},{"$f":"'Market Data'!D1111","v":5041.5},{"$f":"'Market Data'!E1111","v":4971},{"$f":"'Market Data'!F1111","v":5008.5},null,1107,"Hidden","Long",null,1,0,"",null,1,"Stay Long",2327.5,-107190.95999999999]
[null,{"$f":"'Market Data'!B1112","v":20040514},{"$f":"'Market Data'!C1112","v":5002},{"$f":"'Market Data'!D1112","v":5026.5},{"$f":"'Market Data'!E1112","v":4961},{"$f":"'Market Data'!F1112","v":5004},null,1108,"Hidden","Long",null,1,0,"",null,1,"Stay Long",-157.5,-107348.45999999999]
[null,{"$f":"'Market Data'!B1113","v":20040517},{"$f":"'Market Data'!C1113","v":4930.5},{"$f":"'Market Data'!D1113","v":4954},{"$f":"'Market Data'!E1113","v":4903.5},{"$f":"'Market Data'!F1113","v":4940.5},null,1109,"Hidden","Long",null,1,0,"",null,1,"Stay Long",-2222.5,-109570.95999999999]
[null,{"$f":"'Market Data'!B1114","v":20040518},{"$f":"'Market Data'!C1114","v":4964},{"$f":"'Market Data'!D1114","v":4989.5},{"$f":"'Market Data'!E1114","v":4946.5},{"$f":"'Market Data'!F1114","v":4967.5},null,1110,"Hidden","Long",null,1,0,"",null,1,"Stay Long",945,-108625.95999999999]
[null,{"$f":"'Market Data'!B1115","v":20040519},{"$f":"'Market Data'!C1115","v":5021},{"$f":"'Market Data'!D1115","v":5076},{"$f":"'Market Data'!E1115","v":5017},{"$f":"'Market Data'!F1115","v":5053},null,1111,"Hidden","Long",null,1,0,"",null,1,"Stay Long",2992.5,-105633.45999999999]
[null,{"$f":"'Market Data'!B1116","v":20040520},{"$f":"'Market Data'!C1116","v":5015.5},{"$f":"'Market Data'!D1116","v":5038},{"$f":"'Market Data'!E1116","v":5002},{"$f":"'Market Data'!F1116","v":5024.5},null,1112,"Hidden","Long",null,1,0,"",null,1,"Stay Long",-997.5,-106630.95999999999]
[null,{"$f":"'Market Data'!B1117","v":20040521},{"$f":"'Market Data'!C1117","v":5045},{"$f":"'Market Data'!D1117","v":5061.5},{"$f":"'Market Data'!E1117","v":4998},{"$f":"'Market Data'!F1117","v":5014.5},null,1113,"Hidden","Long",null,1,0,"",null,1,"Stay Long",-350,-106980.95999999999]
[null,{"$f":"'Market Data'!B1118","v":20040524},{"$f":"'Market Data'!C1118","v":5041},{"$f":"'Market Data'!D1118","v":5093.5},{"$f":"'Market Data'!E1118","v":5036.5},{"$f":"'Market Data'!F1118","v":5045},null,1114,"Hidden","Long",null,1,0,"",null,1,"Stay Long",1067.5,-105913.45999999999]
[null,{"$f":"'Market Data'!B1119","v":20040525},{"$f":"'Market Data'!C1119","v":5026.5},{"$f":"'Market Data'!D1119","v":5062},{"$f":"'Market Data'!E1119","v":4998.5},{"$f":"'Market Data'!F1119","v":5060.5},null,1115,"Hidden","Long",null,1,0,"",null,1,"Stay Long",542.5,-105370.95999999999]
[null,{"$f":"'Market Data'!B1120","v":20040526},{"$f":"'Market Data'!C1120","v":5096.5},{"$f":"'Market Data'!D1120","v":5099},{"$f":"'Market Data'!E1120","v":5047.5},{"$f":"'Market Data'!F1120","v":5068},null,1116,"Hidden","Long",null,1,0,"",null,1,"Stay Long",262.5,-105108.45999999999]
[null,{"$f":"'Market Data'!B1121","v":20040527},{"$f":"'Market Data'!C1121","v":5076},{"$f":"'Market Data'!D1121","v":5117.5},{"$f":"'Market Data'!E1121","v":5070.5},{"$f":"'Market Data'!F1121","v":5097.5},null,1117,"Hidden","Long",null,1,0,"",null,1,"Stay Long",1032.5,-104075.95999999999]
[null,{"$f":"'Market Data'!B1122","v":20040528},{"$f":"'Market Data'!C1122","v":5125},{"$f":"'Market Data'!D1122","v":5132},{"$f":"'Market Data'!E1122","v":5081.5},{"$f":"'Market Data'!F1122","v":5106.5},null,1118,"Hidden","Long",null,1,0,"",null,1,"Stay Long",315,-103760.95999999999]
[null,{"$f":"'Market Data'!B1123","v":20040531},{"$f":"'Market Data'!C1123","v":5097},{"$f":"'Market Data'!D1123","v":5123},{"$f":"'Market Data'!E1123","v":5088.5},{"$f":"'Market Data'!F1123","v":5117},null,1119,"Hidden","Long",null,1,0,"",null,1,"Stay Long",367.5,-103393.45999999999]
[null,{"$f":"'Market Data'!B1124","v":20040601},{"$f":"'Market Data'!C1124","v":5117},{"$f":"'Market Data'!D1124","v":5117},{"$f":"'Market Data'!E1124","v":5043.5},{"$f":"'Market Data'!F1124","v":5058.5},null,1120,"Hidden","Long",null,1,0,"",null,1,"Stay Long",-2047.5,-105440.95999999999]
[null,{"$f":"'Market Data'!B1125","v":20040602},{"$f":"'Market Data'!C1125","v":5079},{"$f":"'Market Data'!D1125","v":5108},{"$f":"'Market Data'!E1125","v":5068.5},{"$f":"'Market Data'!F1125","v":5108},null,1121,"Hidden","Long",null,1,0,"",null,1,"Stay Long",1732.5,-103708.45999999999]
[null,{"$f":"'Market Data'!B1126","v":20040603},{"$f":"'Market Data'!C1126","v":5082},{"$f":"'Market Data'!D1126","v":5126},{"$f":"'Market Data'!E1126","v":5057.5},{"$f":"'Market Data'!F1126","v":5110},null,1122,"Hidden","Long",null,1,0,"",null,1,"Stay Long",70,-103638.45999999999]
[null,{"$f":"'Market Data'!B1127","v":20040604},{"$f":"'Market Data'!C1127","v":5105},{"$f":"'Market Data'!D1127","v":5169.5},{"$f":"'Market Data'!E1127","v":5102.5},{"$f":"'Market Data'!F1127","v":5167.5},null,1123,"Hidden","Long",null,1,0,"",null,1,"Stay Long",2012.5,-101625.95999999999]
[null,{"$f":"'Market Data'!B1128","v":20040607},{"$f":"'Market Data'!C1128","v":5197},{"$f":"'Market Data'!D1128","v":5213},{"$f":"'Market Data'!E1128","v":5189.5},{"$f":"'Market Data'!F1128","v":5211},null,1124,"Hidden","Long",null,1,0,"",null,1,"Stay Long",1522.5,-100103.45999999999]
[null,{"$f":"'Market Data'!B1129","v":20040608},{"$f":"'Market Data'!C1129","v":5228},{"$f":"'Market Data'!D1129","v":5230},{"$f":"'Market Data'!E1129","v":5190.5},{"$f":"'Market Data'!F1129","v":5208},null,1125,"Hidden","Long",null,1,0,"",null,1,"Stay Long",-105,-100208.45999999999]
[null,{"$f":"'Market Data'!B1130","v":20040609},{"$f":"'Market Data'!C1130","v":5213.5},{"$f":"'Market Data'!D1130","v":5225.5},{"$f":"'Market Data'!E1130","v":5173},{"$f":"'Market Data'!F1130","v":5177},null,1126,"Hidden","Long",null,1,0,"",null,1,"Stay Long",-1085,-101293.45999999999]
[null,{"$f":"'Market Data'!B1131","v":20040610},{"$f":"'Market Data'!C1131","v":5184},{"$f":"'Market Data'!D1131","v":5216},{"$f":"'Market Data'!E1131","v":5179},{"$f":"'Market Data'!F1131","v":5203.5},null,1127,"Hidden","Long",null,1,0,"",null,1,"Stay Long",927.5,-100365.95999999999]
[null,{"$f":"'Market Data'!B1132","v":20040611},{"$f":"'Market Data'!C1132","v":5203},{"$f":"'Market Data'!D1132","v":5206},{"$f":"'Market Data'!E1132","v":5179},{"$f":"'Market Data'!F1132","v":5198},null,1128,"Hidden","Long",null,1,0,"",null,1,"Stay Long",-192.5,-100558.45999999999]
[null,{"$f":"'Market Data'!B1133","v":20040614},{"$f":"'Market Data'!C1133","v":5184},{"$f":"'Market Data'!D1133","v":5191},{"$f":"'Market Data'!E1133","v":5113.5},{"$f":"'Market Data'!F1133","v":5118.5},null,1129,"Hidden","Long",null,1,0,"",null,1,"Stay Long",-2782.5,-103340.95999999999]
[null,{"$f":"'Market Data'!B1134","v":20040615},{"$f":"'Market Data'!C1134","v":5130},{"$f":"'Market Data'!D1134","v":5201},{"$f":"'Market Data'!E1134","v":5118},{"$f":"'Market Data'!F1134","v":5198},null,1130,"Hidden","Long",null,1,0,"",null,1,"Stay Long",2782.5,-100558.45999999999]
[null,{"$f":"'Market Data'!B1135","v":20040616},{"$f":"'Market Data'!C1135","v":5191.5},{"$f":"'Market Data'!D1135","v":5201.5},{"$f":"'Market Data'!E1135","v":5179},{"$f":"'Market Data'!F1135","v":5187.5},null,1131,"Hidden","Long",null,1,0,"",null,1,"Stay Long",-367.5,-100925.95999999999]
[null,{"$f":"'Market Data'!B1136","v":20040617},{"$f":"'Market Data'!C1136","v":5183.5},{"$f":"'Market Data'!D1136","v":5205.5},{"$f":"'Market Data'!E1136","v":5156},{"$f":"'Market Data'!F1136","v":5181},null,1132,"Hidden","Long",null,1,0,"",null,1,"Stay Long",-227.5,-101153.45999999999]
[null,{"$f":"'Market Data'!B1137","v":20040618},{"$f":"'Market Data'!C1137","v":5168.5},{"$f":"'Market Data'!D1137","v":5191},{"$f":"'Market Data'!E1137","v":5150},{"$f":"'Market Data'!F1137","v":5176},null,1133,"Hidden","Long",null,1,0,"",null,1,"Stay Long",-175,-101328.45999999999]
[null,{"$f":"'Market Data'!B1138","v":20040621},{"$f":"'Market Data'!C1138","v":5213.5},{"$f":"'Market Data'!D1138","v":5220.5},{"$f":"'Market Data'!E1138","v":5161.5},{"$f":"'Market Data'!F1138","v":5175.5},null,1134,"Hidden","Long",null,1,0,"",null,1,"Stay Long",-17.5,-101345.95999999999]
[null,{"$f":"'Market Data'!B1139","v":20040622},{"$f":"'Market Data'!C1139","v":5157.5},{"$f":"'Market Data'!D1139","v":5170.5},{"$f":"'Market Data'!E1139","v":5099},{"$f":"'Market Data'!F1139","v":5123.5},null,1135,"Hidden","Long",null,1,0,"",null,1,"Stay Long",-1820,-103165.95999999999]
[null,{"$f":"'Market Data'!B1140","v":20040623},{"$f":"'Market Data'!C1140","v":5138.5},{"$f":"'Market Data'!D1140","v":5152.5},{"$f":"'Market Data'!E1140","v":5118.5},{"$f":"'Market Data'!F1140","v":5145.5},null,1136,"Hidden","Long",null,1,0,"",null,1,"Stay Long",770,-102395.95999999999]
[null,{"$f":"'Market Data'!B1141","v":20040624},{"$f":"'Market Data'!C1141","v":5182.5},{"$f":"'Market Data'!D1141","v":5197.5},{"$f":"'Market Data'!E1141","v":5169},{"$f":"'Market Data'!F1141","v":5185},null,1137,"Hidden","Long",null,1,0,"",null,1,"Stay Long",1382.5,-101013.45999999999]
[null,{"$f":"'Market Data'!B1142","v":20040625},{"$f":"'Market Data'!C1142","v":5187.5},{"$f":"'Market Data'!D1142","v":5204.5},{"$f":"'Market Data'!E1142","v":5169.5},{"$f":"'Market Data'!F1142","v":5187.5},null,1138,"Hidden","Long",null,1,0,"",null,1,"Stay Long",87.5,-100925.95999999999]
[null,{"$f":"'Market Data'!B1143","v":20040628},{"$f":"'Market Data'!C1143","v":5202.5},{"$f":"'Market Data'!D1143","v":5271},{"$f":"'Market Data'!E1143","v":5187},{"$f":"'Market Data'!F1143","v":5256.5},null,1139,"Hidden","Long",null,1,0,"",null,1,"Stay Long",2415,-98510.959999999992]
[null,{"$f":"'Market Data'!B1144","v":20040629},{"$f":"'Market Data'!C1144","v":5247.5},{"$f":"'Market Data'!D1144","v":5271},{"$f":"'Market Data'!E1144","v":5234},{"$f":"'Market Data'!F1144","v":5255.5},null,1140,"Hidden","Long",null,1,0,"",null,1,"Stay Long",-35,-98545.959999999992]
[null,{"$f":"'Market Data'!B1145","v":20040630},{"$f":"'Market Data'!C1145","v":5260},{"$f":"'Market Data'!D1145","v":5274.5},{"$f":"'Market Data'!E1145","v":5234.5},{"$f":"'Market Data'!F1145","v":5250.5},null,1141,"Hidden","Long",null,1,0,"",null,1,"Stay Long",-175,-98720.959999999992]
[null,{"$f":"'Market Data'!B1146","v":20040701},{"$f":"'Market Data'!C1146","v":5271.5},{"$f":"'Market Data'!D1146","v":5284.5},{"$f":"'Market Data'!E1146","v":5198.5},{"$f":"'Market Data'!F1146","v":5203.5},null,1142,"Hidden","Long",null,1,0,"",null,1,"Stay Long",-1645,-100365.95999999999]
[null,{"$f":"'Market Data'!B1147","v":20040702},{"$f":"'Market Data'!C1147","v":5203.5},{"$f":"'Market Data'!D1147","v":5213},{"$f":"'Market Data'!E1147","v":5170.5},{"$f":"'Market Data'!F1147","v":5194.5},null,1143,"Hidden","Long",null,1,0,"",null,1,"Stay Long",-315,-100680.95999999999]
[null,{"$f":"'Market Data'!B1148","v":20040705},{"$f":"'Market Data'!C1148","v":5174},{"$f":"'Market Data'!D1148","v":5194},{"$f":"'Market Data'!E1148","v":5173},{"$f":"'Market Data'!F1148","v":5184},null,1144,"Hidden","Long",null,1,0,"",null,1,"Stay Long",-367.5,-101048.45999999999]
[null,{"$f":"'Market Data'!B1149","v":20040706},{"$f":"'Market Data'!C1149","v":5188},{"$f":"'Market Data'!D1149","v":5190},{"$f":"'Market Data'!E1149","v":5116},{"$f":"'Market Data'!F1149","v":5122.5},null,1145,"Hidden","Long",null,1,0,"",null,1,"Stay Long",-2152.5,-103200.95999999999]
[null,{"$f":"'Market Data'!B1150","v":20040707},{"$f":"'Market Data'!C1150","v":5125},{"$f":"'Market Data'!D1150","v":5140.5},{"$f":"'Market Data'!E1150","v":5102},{"$f":"'Market Data'!F1150","v":5129},null,1146,"Hidden","Long",null,1,0,"",null,1,"Stay Long",227.5,-102973.45999999999]
[null,{"$f":"'Market Data'!B1151","v":20040708},{"$f":"'Market Data'!C1151","v":5093.5},{"$f":"'Market Data'!D1151","v":5117},{"$f":"'Market Data'!E1151","v":5073.5},{"$f":"'Market Data'!F1151","v":5093},null,1147,"Hidden","Long",null,1,0,"",null,1,"Stay Long",-1260,-104233.45999999999]
[null,{"$f":"'Market Data'!B1152","v":20040709},{"$f":"'Market Data'!C1152","v":5084.5},{"$f":"'Market Data'!D1152","v":5112},{"$f":"'Market Data'!E1152","v":5060},{"$f":"'Market Data'!F1152","v":5088.5},null,1148,"Hidden","Long",null,1,0,"",null,1,"Stay Long",-157.5,-104390.95999999999]
[null,{"$f":"'Market Data'!B1153","v":20040712},{"$f":"'Market Data'!C1153","v":5074.5},{"$f":"'Market Data'!D1153","v":5108.5},{"$f":"'Market Data'!E1153","v":5060.5},{"$f":"'Market Data'!F1153","v":5068.5},null,1149,"Hidden","Long",null,1,0,"",null,1,"Stay Long",-700,-105090.95999999999]
[null,{"$f":"'Market Data'!B1154","v":20040713},{"$f":"'Market Data'!C1154","v":5087.5},{"$f":"'Market Data'!D1154","v":5098.5},{"$f":"'Market Data'!E1154","v":5069.5},{"$f":"'Market Data'!F1154","v":5084.5},null,1150,"Hidden","Long",null,1,0,"",null,1,"Stay Long",560,-104530.95999999999]
[null,{"$f":"'Market Data'!B1155","v":20040714},{"$f":"'Market Data'!C1155","v":5044},{"$f":"'Market Data'!D1155","v":5082},{"$f":"'Market Data'!E1155","v":5029},{"$f":"'Market Data'!F1155","v":5069.5},null,1151,"Hidden","Long",null,1,{"$f":"$L1168-P1168","v":0},"",null,1,"Stay Long",-525,-105055.95999999999]
[null,{"$f":"'Market Data'!B1156","v":20040715},{"$f":"'Market Data'!C1156","v":5067.5},{"$f":"'Market Data'!D1156","v":5069},{"$f":"'Market Data'!E1156","v":5021},{"$f":"'Market Data'!F1156","v":5039},null,1152,"Hidden","Long",null,1,0,"",null,{"$f":"IF($N1168=\"Fill\",$L1168,$P1168)","v":1},"Stay Long",{"$f":"IF(OR($P1168&$L1168=\"01\",$P1168&$L1168=\"0-1\"),(($F1169-$C1169)*$R$3*$L1168)-(ABS($M1168)*$R$4),IF(OR($P1168&$L1168=\"10\",$P1168&$L1168=\"-10\"),(($C1169-$F1168)*$R$3*$P1168)-(ABS($M1168)*$R$4),IF(OR($P1168&$L1168=\"1-1\",$P1168&$L1168=\"-11\"),(($C1169-$F1168)*$R$3*$P1168)-(ABS($M1168)*$R$4)+(($F1169-$C1169)*$R$3*$P1169),IF(OR($P1168&$L1168=\"11\",$P1168&$L1168=\"-1-1\"),(($F1169-$F1168)*$R$3*$P1169),0))))","v":-1067.5},-106123.45999999999]
[null,{"$f":"'Market Data'!B1157","v":20040716},{"$f":"'Market Data'!C1157","v":5030},{"$f":"'Market Data'!D1157","v":5061.5},{"$f":"'Market Data'!E1157","v":5007.5},{"$f":"'Market Data'!F1157","v":5011},null,{"$f":"ROW()-ROW(H$17)","v":1153},"Hidden",{"$f":"$I$4","v":"Long"},null,1,0,{"$f":"IF(NOT($M1170=0),\"Fill\",\"\")","v":""},null,1,{"$f":"IF($P1169&$L1169=\"00\",\"Stay Flat\",IF($P1169&$L1169=\"01\",\"Go Long\",IF($P1169&$L1169=\"0-1\",\"Go Short\",IF($P1169&$L1169=\"-10\",\"Exit Short\",IF($P1169&$L1169=\"-1-1\",\"Stay Short\",IF($P1169&$L1169=\"-11\",\"Exit Short, Go Long\",IF($P1169&$L1169=\"10\",\"Exit Long\",IF($P1169&$L1169=\"1-1\",\"Exit Long, Go Short\",IF($P1169&$L1169=\"11\",\"Stay Long\",\"\")))))))))","v":"Stay Long"},-980,{"$f":"S1169+R1170","v":-107103.45999999999}]
[null,{"$f":"'Market Data'!B1158","v":20040719},{"$f":"'Market Data'!C1158","v":5011.5},{"$f":"'Market Data'!D1158","v":5023},{"$f":"'Market Data'!E1158","v":4974.5},{"$f":"'Market Data'!F1158","v":4977.5},null,1154,"Hidden","Long",null,{"$f":"IF($J1171=\"Short\",-1,IF($J1171=\"Long\",1,0))","v":1},0,"",null,1,"Stay Long",-1172.5,-108275.95999999999]
[null,{"$f":"'Market Data'!B1159","v":20040720},{"$f":"'Market Data'!C1159","v":4972.5},{"$f":"'Market Data'!D1159","v":5022},{"$f":"'Market Data'!E1159","v":4961.5},{"$f":"'Market Data'!F1159","v":5021.5},null,1155,"Hidden","Long",null,1,0,"",null,1,"Stay Long",1540,-106735.95999999999]
[null,{"$f":"'Market Data'!B1160","v":20040721},{"$f":"'Market Data'!C1160","v":5042.5},{"$f":"'Market Data'!D1160","v":5076.5},{"$f":"'Market Data'!E1160","v":5031},{"$f":"'Market Data'!F1160","v":5032},null,1156,"Hidden","Long",null,1,0,"",null,1,"Stay Long",367.5,-106368.45999999999]
[null,{"$f":"'Market Data'!B1161","v":20040722},{"$f":"'Market Data'!C1161","v":4994},{"$f":"'Market Data'!D1161","v":5006},{"$f":"'Market Data'!E1161","v":4967},{"$f":"'Market Data'!F1161","v":4989.5},null,1157,"Hidden","Long",null,1,0,"",null,1,"Stay Long",-1487.5,-107855.95999999999]
[null,{"$f":"'Market Data'!B1162","v":20040723},{"$f":"'Market Data'!C1162","v":4988.5},{"$f":"'Market Data'!D1162","v":5000.5},{"$f":"'Market Data'!E1162","v":4957},{"$f":"'Market Data'!F1162","v":4965},null,1158,"Hidden","Long",null,1,0,"",null,1,"Stay Long",-857.5,-108713.45999999999]
[null,{"$f":"'Market Data'!B1163","v":20040726},{"$f":"'Market Data'!C1163","v":4967.5},{"$f":"'Market Data'!D1163","v":4987.5},{"$f":"'Market Data'!E1163","v":4923.5},{"$f":"'Market Data'!F1163","v":4930.5},null,1159,"Hidden","Long",null,1,0,"",null,1,"Stay Long",-1207.5,-109920.95999999999]
[null,{"$f":"'Market Data'!B1164","v":20040727},{"$f":"'Market Data'!C1164","v":4943},{"$f":"'Market Data'!D1164","v":5004},{"$f":"'Market Data'!E1164","v":4938},{"$f":"'Market Data'!F1164","v":4997.5},null,1160,"Hidden","Long",null,1,0,"",null,1,"Stay Long",2345,-107575.95999999999]
[null,{"$f":"'Market Data'!B1165","v":20040728},{"$f":"'Market Data'!C1165","v":5012.5},{"$f":"'Market Data'!D1165","v":5031.5},{"$f":"'Market Data'!E1165","v":4969},{"$f":"'Market Data'!F1165","v":4976.5},null,1161,"Hidden","Long",null,1,0,"",null,1,"Stay Long",-735,-108310.95999999999]
[null,{"$f":"'Market Data'!B1166","v":20040729},{"$f":"'Market Data'!C1166","v":5005},{"$f":"'Market Data'!D1166","v":5081.5},{"$f":"'Market Data'!E1166","v":5000.5},{"$f":"'Market Data'!F1166","v":5067},null,1162,"Hidden","Long",null,1,0,"",null,1,"Stay Long",3167.5,-105143.45999999999]
[null,{"$f":"'Market Data'!B1167","v":20040730},{"$f":"'Market Data'!C1167","v":5072.5},{"$f":"'Market Data'!D1167","v":5088.5},{"$f":"'Market Data'!E1167","v":5041},{"$f":"'Market Data'!F1167","v":5067.5},null,1163,"Hidden","Long",null,1,0,"",null,1,"Stay Long",17.5,-105125.95999999999]
[null,{"$f":"'Market Data'!B1168","v":20040802},{"$f":"'Market Data'!C1168","v":5050.5},{"$f":"'Market Data'!D1168","v":5054},{"$f":"'Market Data'!E1168","v":5014},{"$f":"'Market Data'!F1168","v":5047.5},null,1164,"Hidden","Long",null,1,0,"",null,1,"Stay Long",-700,-105825.95999999999]
[null,{"$f":"'Market Data'!B1169","v":20040803},{"$f":"'Market Data'!C1169","v":5053},{"$f":"'Market Data'!D1169","v":5067.5},{"$f":"'Market Data'!E1169","v":5029.5},{"$f":"'Market Data'!F1169","v":5033.5},null,1165,"Hidden","Long",null,1,0,"",null,1,"Stay Long",-490,-106315.95999999999]
[null,{"$f":"'Market Data'!B1170","v":20040804},{"$f":"'Market Data'!C1170","v":5013.5},{"$f":"'Market Data'!D1170","v":5018},{"$f":"'Market Data'!E1170","v":4979.5},{"$f":"'Market Data'!F1170","v":5009.5},null,1166,"Hidden","Long",null,1,0,"",null,1,"Stay Long",-840,-107155.95999999999]
[null,{"$f":"'Market Data'!B1171","v":20040805},{"$f":"'Market Data'!C1171","v":5019},{"$f":"'Market Data'!D1171","v":5032},{"$f":"'Market Data'!E1171","v":4973.5},{"$f":"'Market Data'!F1171","v":4982.5},null,1167,"Hidden","Long",null,1,0,"",null,1,"Stay Long",-945,-108100.95999999999]
[null,{"$f":"'Market Data'!B1172","v":20040806},{"$f":"'Market Data'!C1172","v":4943.5},{"$f":"'Market Data'!D1172","v":4959.5},{"$f":"'Market Data'!E1172","v":4883.5},{"$f":"'Market Data'!F1172","v":4887.5},null,1168,"Hidden","Long",null,1,0,"",null,1,"Stay Long",-3325,-111425.95999999999]
[null,{"$f":"'Market Data'!B1173","v":20040809},{"$f":"'Market Data'!C1173","v":4901},{"$f":"'Market Data'!D1173","v":4908.5},{"$f":"'Market Data'!E1173","v":4836},{"$f":"'Market Data'!F1173","v":4857.5},null,1169,"Hidden","Long",null,1,0,"",null,1,"Stay Long",-1050,-112475.95999999999]
[null,{"$f":"'Market Data'!B1174","v":20040810},{"$f":"'Market Data'!C1174","v":4869},{"$f":"'Market Data'!D1174","v":4895},{"$f":"'Market Data'!E1174","v":4859.5},{"$f":"'Market Data'!F1174","v":4892},null,1170,"Hidden","Long",null,1,0,"",null,1,"Stay Long",1207.5,-111268.45999999999]
[null,{"$f":"'Market Data'!B1175","v":20040811},{"$f":"'Market Data'!C1175","v":4899.5},{"$f":"'Market Data'!D1175","v":4900},{"$f":"'Market Data'!E1175","v":4808.5},{"$f":"'Market Data'!F1175","v":4842},null,1171,"Hidden","Long",null,1,0,"",null,1,"Stay Long",-1750,-113018.45999999999]
[null,{"$f":"'Market Data'!B1176","v":20040812},{"$f":"'Market Data'!C1176","v":4863},{"$f":"'Market Data'!D1176","v":4880},{"$f":"'Market Data'!E1176","v":4790.5},{"$f":"'Market Data'!F1176","v":4802.5},null,1172,"Hidden","Long",null,1,0,"",null,1,"Stay Long",-1382.5,-114400.95999999999]
[null,{"$f":"'Market Data'!B1177","v":20040813},{"$f":"'Market Data'!C1177","v":4800.5},{"$f":"'Market Data'!D1177","v":4833},{"$f":"'Market Data'!E1177","v":4789.5},{"$f":"'Market Data'!F1177","v":4818},null,1173,"Hidden","Long",null,1,0,"",null,1,"Stay Long",542.5,-113858.45999999999]
[null,{"$f":"'Market Data'!B1178","v":20040816},{"$f":"'Market Data'!C1178","v":4803.5},{"$f":"'Market Data'!D1178","v":4877.5},{"$f":"'Market Data'!E1178","v":4788},{"$f":"'Market Data'!F1178","v":4869.5},null,1174,"Hidden","Long",null,1,0,"",null,1,"Stay Long",1802.5,-112055.95999999999]
[null,{"$f":"'Market Data'!B1179","v":20040817},{"$f":"'Market Data'!C1179","v":4865.5},{"$f":"'Market Data'!D1179","v":4905.5},{"$f":"'Market Data'!E1179","v":4847},{"$f":"'Market Data'!F1179","v":4878},null,1175,"Hidden","Long",null,1,0,"",null,1,"Stay Long",297.5,-111758.45999999999]
[null,{"$f":"'Market Data'!B1180","v":20040818},{"$f":"'Market Data'!C1180","v":4875.5},{"$f":"'Market Data'!D1180","v":4901.5},{"$f":"'Market Data'!E1180","v":4847.5},{"$f":"'Market Data'!F1180","v":4901.5},null,1176,"Hidden","Long",null,1,0,"",null,1,"Stay Long",822.5,-110935.95999999999]
[null,{"$f":"'Market Data'!B1181","v":20040819},{"$f":"'Market Data'!C1181","v":4922.5},{"$f":"'Market Data'!D1181","v":4928.5},{"$f":"'Market Data'!E1181","v":4875},{"$f":"'Market Data'!F1181","v":4885},null,1177,"Hidden","Long",null,1,0,"",null,1,"Stay Long",-577.5,-111513.45999999999]
[null,{"$f":"'Market Data'!B1182","v":20040820},{"$f":"'Market Data'!C1182","v":4883.5},{"$f":"'Market Data'!D1182","v":4909.5},{"$f":"'Market Data'!E1182","v":4858},{"$f":"'Market Data'!F1182","v":4906.5},null,1178,"Hidden","Long",null,1,0,"",null,1,"Stay Long",752.5,-110760.95999999999]
[null,{"$f":"'Market Data'!B1183","v":20040823},{"$f":"'Market Data'!C1183","v":4922},{"$f":"'Market Data'!D1183","v":4952.5},{"$f":"'Market Data'!E1183","v":4906.5},{"$f":"'Market Data'!F1183","v":4942.5},null,1179,"Hidden","Long",null,1,0,"",null,1,"Stay Long",1260,-109500.95999999999]
[null,{"$f":"'Market Data'!B1184","v":20040824},{"$f":"'Market Data'!C1184","v":4943},{"$f":"'Market Data'!D1184","v":4970.5},{"$f":"'Market Data'!E1184","v":4931.5},{"$f":"'Market Data'!F1184","v":4963.5},null,1180,"Hidden","Long",null,1,0,"",null,1,"Stay Long",735,-108765.95999999999]
[null,{"$f":"'Market Data'!B1185","v":20040825},{"$f":"'Market Data'!C1185","v":4971.5},{"$f":"'Market Data'!D1185","v":4999.5},{"$f":"'Market Data'!E1185","v":4938.5},{"$f":"'Market Data'!F1185","v":4994},null,1181,"Hidden","Long",null,1,0,"",null,1,"Stay Long",1067.5,-107698.45999999999]
[null,{"$f":"'Market Data'!B1186","v":20040826},{"$f":"'Market Data'!C1186","v":4998.5},{"$f":"'Market Data'!D1186","v":5008},{"$f":"'Market Data'!E1186","v":4983.5},{"$f":"'Market Data'!F1186","v":4999.5},null,1182,"Hidden","Long",null,1,0,"",null,1,"Stay Long",192.5,-107505.95999999999]
[null,{"$f":"'Market Data'!B1187","v":20040827},{"$f":"'Market Data'!C1187","v":5008},{"$f":"'Market Data'!D1187","v":5029.5},{"$f":"'Market Data'!E1187","v":4980},{"$f":"'Market Data'!F1187","v":5029},null,1183,"Hidden","Long",null,1,0,"",null,1,"Stay Long",1032.5,-106473.45999999999]
[null,{"$f":"'Market Data'!B1188","v":20040830},{"$f":"'Market Data'!C1188","v":5017.5},{"$f":"'Market Data'!D1188","v":5022},{"$f":"'Market Data'!E1188","v":4986.5},{"$f":"'Market Data'!F1188","v":5005.5},null,1184,"Hidden","Long",null,1,0,"",null,1,"Stay Long",-822.5,-107295.95999999999]
[null,{"$f":"'Market Data'!B1189","v":20040831},{"$f":"'Market Data'!C1189","v":4987.5},{"$f":"'Market Data'!D1189","v":4993},{"$f":"'Market Data'!E1189","v":4944.5},{"$f":"'Market Data'!F1189","v":4958.5},null,1185,"Hidden","Long",null,1,0,"",null,1,"Stay Long",-1645,-108940.95999999999]
[null,{"$f":"'Market Data'!B1190","v":20040901},{"$f":"'Market Data'!C1190","v":4988.5},{"$f":"'Market Data'!D1190","v":4997.5},{"$f":"'Market Data'!E1190","v":4959.5},{"$f":"'Market Data'!F1190","v":4979.5},null,1186,"Hidden","Long",null,1,0,"",null,1,"Stay Long",735,-108205.95999999999]
[null,{"$f":"'Market Data'!B1191","v":20040902},{"$f":"'Market Data'!C1191","v":4974.5},{"$f":"'Market Data'!D1191","v":5012.5},{"$f":"'Market Data'!E1191","v":4965},{"$f":"'Market Data'!F1191","v":5010.5},null,1187,"Hidden","Long",null,1,0,"",null,1,"Stay Long",1085,-107120.95999999999]
[null,{"$f":"'Market Data'!B1192","v":20040903},{"$f":"'Market Data'!C1192","v":5000.5},{"$f":"'Market Data'!D1192","v":5050},{"$f":"'Market Data'!E1192","v":4989},{"$f":"'Market Data'!F1192","v":5040.5},null,1188,"Hidden","Long",null,1,0,"",null,1,"Stay Long",1050,-106070.95999999999]
[null,{"$f":"'Market Data'!B1193","v":20040906},{"$f":"'Market Data'!C1193","v":5043},{"$f":"'Market Data'!D1193","v":5067.5},{"$f":"'Market Data'!E1193","v":5037},{"$f":"'Market Data'!F1193","v":5062.5},null,1189,"Hidden","Long",null,1,0,"",null,1,"Stay Long",770,-105300.95999999999]
[null,{"$f":"'Market Data'!B1194","v":20040907},{"$f":"'Market Data'!C1194","v":5058},{"$f":"'Market Data'!D1194","v":5077.5},{"$f":"'Market Data'!E1194","v":5039},{"$f":"'Market Data'!F1194","v":5064},null,1190,"Hidden","Long",null,1,0,"",null,1,"Stay Long",52.5,-105248.45999999999]
[null,{"$f":"'Market Data'!B1195","v":20040908},{"$f":"'Market Data'!C1195","v":5055},{"$f":"'Market Data'!D1195","v":5065},{"$f":"'Market Data'!E1195","v":5024},{"$f":"'Market Data'!F1195","v":5046},null,1191,"Hidden","Long",null,1,0,"",null,1,"Stay Long",-630,-105878.45999999999]
[null,{"$f":"'Market Data'!B1196","v":20040909},{"$f":"'Market Data'!C1196","v":5029},{"$f":"'Market Data'!D1196","v":5042.5},{"$f":"'Market Data'!E1196","v":5002},{"$f":"'Market Data'!F1196","v":5039.5},null,1192,"Hidden","Long",null,1,0,"",null,1,"Stay Long",-227.5,-106105.95999999999]
[null,{"$f":"'Market Data'!B1197","v":20040910},{"$f":"'Market Data'!C1197","v":5026},{"$f":"'Market Data'!D1197","v":5061},{"$f":"'Market Data'!E1197","v":5025.5},{"$f":"'Market Data'!F1197","v":5054},null,1193,"Hidden","Long",null,1,0,"",null,1,"Stay Long",507.5,-105598.45999999999]
[null,{"$f":"'Market Data'!B1198","v":20040913},{"$f":"'Market Data'!C1198","v":5073.5},{"$f":"'Market Data'!D1198","v":5125.5},{"$f":"'Market Data'!E1198","v":5071},{"$f":"'Market Data'!F1198","v":5121},null,1194,"Hidden","Long",null,1,0,"",null,1,"Stay Long",2345,-103253.45999999999]
[null,{"$f":"'Market Data'!B1199","v":20040914},{"$f":"'Market Data'!C1199","v":5117.5},{"$f":"'Market Data'!D1199","v":5130.5},{"$f":"'Market Data'!E1199","v":5098},{"$f":"'Market Data'!F1199","v":5121},null,1195,"Hidden","Long",null,1,0,"",null,1,"Stay Long",0,-103253.45999999999]
[null,{"$f":"'Market Data'!B1200","v":20040915},{"$f":"'Market Data'!C1200","v":5112.5},{"$f":"'Market Data'!D1200","v":5135},{"$f":"'Market Data'!E1200","v":5092.5},{"$f":"'Market Data'!F1200","v":5116},null,1196,"Hidden","Long",null,1,0,"",null,1,"Stay Long",-175,-103428.45999999999]
[null,{"$f":"'Market Data'!B1201","v":20040916},{"$f":"'Market Data'!C1201","v":5111.5},{"$f":"'Market Data'!D1201","v":5134},{"$f":"'Market Data'!E1201","v":5106.5},{"$f":"'Market Data'!F1201","v":5130.5},null,1197,"Hidden","Long",null,1,0,"",null,1,"Stay Long",507.5,-102920.95999999999]
[null,{"$f":"'Market Data'!B1202","v":20040917},{"$f":"'Market Data'!C1202","v":5122.5},{"$f":"'Market Data'!D1202","v":5165.5},{"$f":"'Market Data'!E1202","v":5120},{"$f":"'Market Data'!F1202","v":5150.5},null,1198,"Hidden","Long",null,1,0,"",null,1,"Stay Long",700,-102220.95999999999]
[null,{"$f":"'Market Data'!B1203","v":20040920},{"$f":"'Market Data'!C1203","v":5142.5},{"$f":"'Market Data'!D1203","v":5147},{"$f":"'Market Data'!E1203","v":5118.5},{"$f":"'Market Data'!F1203","v":5130.5},null,1199,"Hidden","Long",null,1,0,"",null,1,"Stay Long",-700,-102920.95999999999]
[null,{"$f":"'Market Data'!B1204","v":20040921},{"$f":"'Market Data'!C1204","v":5134.5},{"$f":"'Market Data'!D1204","v":5161},{"$f":"'Market Data'!E1204","v":5132.5},{"$f":"'Market Data'!F1204","v":5159.5},null,1200,"Hidden","Long",null,1,0,"",null,1,"Stay Long",1015,-101905.95999999999]
[null,{"$f":"'Market Data'!B1205","v":20040922},{"$f":"'Market Data'!C1205","v":5151.5},{"$f":"'Market Data'!D1205","v":5164},{"$f":"'Market Data'!E1205","v":5095},{"$f":"'Market Data'!F1205","v":5095.5},null,1201,"Hidden","Long",null,1,0,"",null,1,"Stay Long",-2240,-104145.95999999999]
[null,{"$f":"'Market Data'!B1206","v":20040923},{"$f":"'Market Data'!C1206","v":5095.5},{"$f":"'Market Data'!D1206","v":5097.5},{"$f":"'Market Data'!E1206","v":5053.5},{"$f":"'Market Data'!F1206","v":5060.5},null,1202,"Hidden","Long",null,1,0,"",null,1,"Stay Long",-1225,-105370.95999999999]
[null,{"$f":"'Market Data'!B1207","v":20040924},{"$f":"'Market Data'!C1207","v":5057.5},{"$f":"'Market Data'!D1207","v":5080.5},{"$f":"'Market Data'!E1207","v":5049},{"$f":"'Market Data'!F1207","v":5072.5},null,1203,"Hidden","Long",null,1,0,"",null,1,"Stay Long",420,-104950.95999999999]
[null,{"$f":"'Market Data'!B1208","v":20040927},{"$f":"'Market Data'!C1208","v":5065},{"$f":"'Market Data'!D1208","v":5066},{"$f":"'Market Data'!E1208","v":5020.5},{"$f":"'Market Data'!F1208","v":5041.5},null,1204,"Hidden","Long",null,1,0,"",null,1,"Stay Long",-1085,-106035.95999999999]
[null,{"$f":"'Market Data'!B1209","v":20040928},{"$f":"'Market Data'!C1209","v":5015.5},{"$f":"'Market Data'!D1209","v":5064},{"$f":"'Market Data'!E1209","v":5009.5},{"$f":"'Market Data'!F1209","v":5055.5},null,1205,"Hidden","Long",null,1,0,"",null,1,"Stay Long",490,-105545.95999999999]
[null,{"$f":"'Market Data'!B1210","v":20040929},{"$f":"'Market Data'!C1210","v":5054.5},{"$f":"'Market Data'!D1210","v":5106},{"$f":"'Market Data'!E1210","v":5051.5},{"$f":"'Market Data'!F1210","v":5085.5},null,1206,"Hidden","Long",null,1,0,"",null,1,"Stay Long",1050,-104495.95999999999]
[null,{"$f":"'Market Data'!B1211","v":20040930},{"$f":"'Market Data'!C1211","v":5108.5},{"$f":"'Market Data'!D1211","v":5112},{"$f":"'Market Data'!E1211","v":5034},{"$f":"'Market Data'!F1211","v":5052.5},null,1207,"Hidden","Long",null,1,0,"",null,1,"Stay Long",-1155,-105650.95999999999]
[null,{"$f":"'Market Data'!B1212","v":20041001},{"$f":"'Market Data'!C1212","v":5065},{"$f":"'Market Data'!D1212","v":5156.5},{"$f":"'Market Data'!E1212","v":5064.5},{"$f":"'Market Data'!F1212","v":5154},null,1208,"Hidden","Long",null,1,0,"",null,1,"Stay Long",3552.5,-102098.45999999999]
[null,{"$f":"'Market Data'!B1213","v":20041004},{"$f":"'Market Data'!C1213","v":5201},{"$f":"'Market Data'!D1213","v":5221},{"$f":"'Market Data'!E1213","v":5188.5},{"$f":"'Market Data'!F1213","v":5202.5},null,1209,"Hidden","Long",null,1,0,"",null,1,"Stay Long",1697.5,-100400.95999999999]
[null,{"$f":"'Market Data'!B1214","v":20041005},{"$f":"'Market Data'!C1214","v":5202.5},{"$f":"'Market Data'!D1214","v":5239.5},{"$f":"'Market Data'!E1214","v":5183.5},{"$f":"'Market Data'!F1214","v":5202.5},null,1210,"Hidden","Long",null,1,0,"",null,1,"Stay Long",0,-100400.95999999999]
[null,{"$f":"'Market Data'!B1215","v":20041006},{"$f":"'Market Data'!C1215","v":5208.5},{"$f":"'Market Data'!D1215","v":5225.5},{"$f":"'Market Data'!E1215","v":5191},{"$f":"'Market Data'!F1215","v":5215.5},null,1211,"Hidden","Long",null,1,0,"",null,1,"Stay Long",455,-99945.959999999992]
[null,{"$f":"'Market Data'!B1216","v":20041007},{"$f":"'Market Data'!C1216","v":5223.5},{"$f":"'Market Data'!D1216","v":5235.5},{"$f":"'Market Data'!E1216","v":5193},{"$f":"'Market Data'!F1216","v":5205.5},null,1212,"Hidden","Long",null,1,0,"",null,1,"Stay Long",-350,-100295.95999999999]
[null,{"$f":"'Market Data'!B1217","v":20041008},{"$f":"'Market Data'!C1217","v":5181.5},{"$f":"'Market Data'!D1217","v":5226.5},{"$f":"'Market Data'!E1217","v":5160.5},{"$f":"'Market Data'!F1217","v":5180.5},null,1213,"Hidden","Long",null,1,0,"",null,1,"Stay Long",-875,-101170.95999999999]
[null,{"$f":"'Market Data'!B1218","v":20041011},{"$f":"'Market Data'!C1218","v":5174.5},{"$f":"'Market Data'!D1218","v":5187},{"$f":"'Market Data'!E1218","v":5163},{"$f":"'Market Data'!F1218","v":5186},null,1214,"Hidden","Long",null,1,0,"",null,1,"Stay Long",192.5,-100978.45999999999]
[null,{"$f":"'Market Data'!B1219","v":20041012},{"$f":"'Market Data'!C1219","v":5167.5},{"$f":"'Market Data'!D1219","v":5167.5},{"$f":"'Market Data'!E1219","v":5101.5},{"$f":"'Market Data'!F1219","v":5126},null,1215,"Hidden","Long",null,1,{"$f":"$L1232-P1232","v":0},"",null,1,"Stay Long",-2100,-103078.45999999999]
[null,{"$f":"'Market Data'!B1220","v":20041013},{"$f":"'Market Data'!C1220","v":5145.5},{"$f":"'Market Data'!D1220","v":5178},{"$f":"'Market Data'!E1220","v":5084.5},{"$f":"'Market Data'!F1220","v":5099},null,1216,"Hidden","Long",null,1,0,"",null,{"$f":"IF($N1232=\"Fill\",$L1232,$P1232)","v":1},"Stay Long",{"$f":"IF(OR($P1232&$L1232=\"01\",$P1232&$L1232=\"0-1\"),(($F1233-$C1233)*$R$3*$L1232)-(ABS($M1232)*$R$4),IF(OR($P1232&$L1232=\"10\",$P1232&$L1232=\"-10\"),(($C1233-$F1232)*$R$3*$P1232)-(ABS($M1232)*$R$4),IF(OR($P1232&$L1232=\"1-1\",$P1232&$L1232=\"-11\"),(($C1233-$F1232)*$R$3*$P1232)-(ABS($M1232)*$R$4)+(($F1233-$C1233)*$R$3*$P1233),IF(OR($P1232&$L1232=\"11\",$P1232&$L1232=\"-1-1\"),(($F1233-$F1232)*$R$3*$P1233),0))))","v":-945},-104023.45999999999]
[null,{"$f":"'Market Data'!B1221","v":20041014},{"$f":"'Market Data'!C1221","v":5099.5},{"$f":"'Market Data'!D1221","v":5118.5},{"$f":"'Market Data'!E1221","v":5076},{"$f":"'Market Data'!F1221","v":5080.5},null,{"$f":"ROW()-ROW(H$17)","v":1217},"Hidden",{"$f":"$I$4","v":"Long"},null,1,0,{"$f":"IF(NOT($M1234=0),\"Fill\",\"\")","v":""},null,1,{"$f":"IF($P1233&$L1233=\"00\",\"Stay Flat\",IF($P1233&$L1233=\"01\",\"Go Long\",IF($P1233&$L1233=\"0-1\",\"Go Short\",IF($P1233&$L1233=\"-10\",\"Exit Short\",IF($P1233&$L1233=\"-1-1\",\"Stay Short\",IF($P1233&$L1233=\"-11\",\"Exit Short, Go Long\",IF($P1233&$L1233=\"10\",\"Exit Long\",IF($P1233&$L1233=\"1-1\",\"Exit Long, Go Short\",IF($P1233&$L1233=\"11\",\"Stay Long\",\"\")))))))))","v":"Stay Long"},-647.5,{"$f":"S1233+R1234","v":-104670.95999999999}]
[null,{"$f":"'Market Data'!B1222","v":20041015},{"$f":"'Market Data'!C1222","v":5071},{"$f":"'Market Data'!D1222","v":5119},{"$f":"'Market Data'!E1222","v":5054},{"$f":"'Market Data'!F1222","v":5111.5},null,1218,"Hidden","Long",null,{"$f":"IF($J1235=\"Short\",-1,IF($J1235=\"Long\",1,0))","v":1},0,"",null,1,"Stay Long",1085,-103585.95999999999]
[null,{"$f":"'Market Data'!B1223","v":20041018},{"$f":"'Market Data'!C1223","v":5082.5},{"$f":"'Market Data'!D1223","v":5109},{"$f":"'Market Data'!E1223","v":5052},{"$f":"'Market Data'!F1223","v":5097.5},null,1219,"Hidden","Long",null,1,0,"",null,1,"Stay Long",-490,-104075.95999999999]
[null,{"$f":"'Market Data'!B1224","v":20041019},{"$f":"'Market Data'!C1224","v":5115.5},{"$f":"'Market Data'!D1224","v":5141.5},{"$f":"'Market Data'!E1224","v":5106},{"$f":"'Market Data'!F1224","v":5107.5},null,1220,"Hidden","Long",null,1,0,"",null,1,"Stay Long",350,-103725.95999999999]
[null,{"$f":"'Market Data'!B1225","v":20041020},{"$f":"'Market Data'!C1225","v":5058.5},{"$f":"'Market Data'!D1225","v":5098},{"$f":"'Market Data'!E1225","v":5045.5},{"$f":"'Market Data'!F1225","v":5075.5},null,1221,"Hidden","Long",null,1,0,"",null,1,"Stay Long",-1120,-104845.95999999999]
[null,{"$f":"'Market Data'!B1226","v":20041021},{"$f":"'Market Data'!C1226","v":5093},{"$f":"'Market Data'!D1226","v":5103.5},{"$f":"'Market Data'!E1226","v":5049.5},{"$f":"'Market Data'!F1226","v":5072.5},null,1222,"Hidden","Long",null,1,0,"",null,1,"Stay Long",-105,-104950.95999999999]
[null,{"$f":"'Market Data'!B1227","v":20041022},{"$f":"'Market Data'!C1227","v":5089.5},{"$f":"'Market Data'!D1227","v":5125.5},{"$f":"'Market Data'!E1227","v":5061},{"$f":"'Market Data'!F1227","v":5068.5},null,1223,"Hidden","Long",null,1,0,"",null,1,"Stay Long",-140,-105090.95999999999]
[null,{"$f":"'Market Data'!B1228","v":20041025},{"$f":"'Market Data'!C1228","v":5008},{"$f":"'Market Data'!D1228","v":5021},{"$f":"'Market Data'!E1228","v":4987.5},{"$f":"'Market Data'!F1228","v":5015.5},null,1224,"Hidden","Long",null,1,0,"",null,1,"Stay Long",-1855,-106945.95999999999]
[null,{"$f":"'Market Data'!B1229","v":20041026},{"$f":"'Market Data'!C1229","v":5020.5},{"$f":"'Market Data'!D1229","v":5037},{"$f":"'Market Data'!E1229","v":4997.5},{"$f":"'Market Data'!F1229","v":5026.5},null,1225,"Hidden","Long",null,1,0,"",null,1,"Stay Long",385,-106560.95999999999]
[null,{"$f":"'Market Data'!B1230","v":20041027},{"$f":"'Market Data'!C1230","v":5041.5},{"$f":"'Market Data'!D1230","v":5100},{"$f":"'Market Data'!E1230","v":5019.5},{"$f":"'Market Data'!F1230","v":5100},null,1226,"Hidden","Long",null,1,0,"",null,1,"Stay Long",2572.5,-103988.45999999999]
[null,{"$f":"'Market Data'!B1231","v":20041028},{"$f":"'Market Data'!C1231","v":5112},{"$f":"'Market Data'!D1231","v":5131},{"$f":"'Market Data'!E1231","v":5101},{"$f":"'Market Data'!F1231","v":5126},null,1227,"Hidden","Long",null,1,0,"",null,1,"Stay Long",910,-103078.45999999999]
[null,{"$f":"'Market Data'!B1232","v":20041029},{"$f":"'Market Data'!C1232","v":5116.5},{"$f":"'Market Data'!D1232","v":5149.5},{"$f":"'Market Data'!E1232","v":5105.5},{"$f":"'Market Data'!F1232","v":5119},null,1228,"Hidden","Long",null,1,0,"",null,1,"Stay Long",-245,-103323.45999999999]
[null,{"$f":"'Market Data'!B1233","v":20041101},{"$f":"'Market Data'!C1233","v":5116},{"$f":"'Market Data'!D1233","v":5173.5},{"$f":"'Market Data'!E1233","v":5111.5},{"$f":"'Market Data'!F1233","v":5154.5},null,1229,"Hidden","Long",null,1,0,"",null,1,"Stay Long",1242.5,-102080.95999999999]
[null,{"$f":"'Market Data'!B1234","v":20041102},{"$f":"'Market Data'!C1234","v":5177.5},{"$f":"'Market Data'!D1234","v":5202.5},{"$f":"'Market Data'!E1234","v":5164},{"$f":"'Market Data'!F1234","v":5202.5},null,1230,"Hidden","Long",null,1,0,"",null,1,"Stay Long",1680,-100400.95999999999]
[null,{"$f":"'Market Data'!B1235","v":20041103},{"$f":"'Market Data'!C1235","v":5227.5},{"$f":"'Market Data'!D1235","v":5229.5},{"$f":"'Market Data'!E1235","v":5174.5},{"$f":"'Market Data'!F1235","v":5183.5},null,1231,"Hidden","Long",null,1,0,"",null,1,"Stay Long",-665,-101065.95999999999]
[null,{"$f":"'Market Data'!B1236","v":20041104},{"$f":"'Market Data'!C1236","v":5183.5},{"$f":"'Market Data'!D1236","v":5232.5},{"$f":"'Market Data'!E1236","v":5165.5},{"$f":"'Market Data'!F1236","v":5232.5},null,1232,"Hidden","Long",null,1,0,"",null,1,"Stay Long",1715,-99350.959999999992]
[null,{"$f":"'Market Data'!B1237","v":20041105},{"$f":"'Market Data'!C1237","v":5237.5},{"$f":"'Market Data'!D1237","v":5269.5},{"$f":"'Market Data'!E1237","v":5199},{"$f":"'Market Data'!F1237","v":5225},null,1233,"Hidden","Long",null,1,0,"",null,1,"Stay Long",-262.5,-99613.459999999992]
[null,{"$f":"'Market Data'!B1238","v":20041108},{"$f":"'Market Data'!C1238","v":5211.5},{"$f":"'Market Data'!D1238","v":5235},{"$f":"'Market Data'!E1238","v":5203.5},{"$f":"'Market Data'!F1238","v":5235},null,1234,"Hidden","Long",null,1,0,"",null,1,"Stay Long",350,-99263.459999999992]
[null,{"$f":"'Market Data'!B1239","v":20041109},{"$f":"'Market Data'!C1239","v":5227.5},{"$f":"'Market Data'!D1239","v":5239},{"$f":"'Market Data'!E1239","v":5209},{"$f":"'Market Data'!F1239","v":5230.5},null,1235,"Hidden","Long",null,1,0,"",null,1,"Stay Long",-157.5,-99420.959999999992]
[null,{"$f":"'Market Data'!B1240","v":20041110},{"$f":"'Market Data'!C1240","v":5233.5},{"$f":"'Market Data'!D1240","v":5259},{"$f":"'Market Data'!E1240","v":5229.5},{"$f":"'Market Data'!F1240","v":5253.5},null,1236,"Hidden","Long",null,1,0,"",null,1,"Stay Long",805,-98615.959999999992]
[null,{"$f":"'Market Data'!B1241","v":20041111},{"$f":"'Market Data'!C1241","v":5241.5},{"$f":"'Market Data'!D1241","v":5297.5},{"$f":"'Market Data'!E1241","v":5230.5},{"$f":"'Market Data'!F1241","v":5297.5},null,1237,"Hidden","Long",null,1,0,"",null,1,"Stay Long",1540,-97075.959999999992]
[null,{"$f":"'Market Data'!B1242","v":20041112},{"$f":"'Market Data'!C1242","v":5304},{"$f":"'Market Data'!D1242","v":5314.5},{"$f":"'Market Data'!E1242","v":5282.5},{"$f":"'Market Data'!F1242","v":5299},null,1238,"Hidden","Long",null,1,0,"",null,1,"Stay Long",52.5,-97023.459999999992]
[null,{"$f":"'Market Data'!B1243","v":20041115},{"$f":"'Market Data'!C1243","v":5319},{"$f":"'Market Data'!D1243","v":5323.5},{"$f":"'Market Data'!E1243","v":5280},{"$f":"'Market Data'!F1243","v":5297},null,1239,"Hidden","Long",null,1,0,"",null,1,"Stay Long",-70,-97093.459999999992]
[null,{"$f":"'Market Data'!B1244","v":20041116},{"$f":"'Market Data'!C1244","v":5290.5},{"$f":"'Market Data'!D1244","v":5295.5},{"$f":"'Market Data'!E1244","v":5257.5},{"$f":"'Market Data'!F1244","v":5275.5},null,1240,"Hidden","Long",null,1,0,"",null,1,"Stay Long",-752.5,-97845.959999999992]
[null,{"$f":"'Market Data'!B1245","v":20041117},{"$f":"'Market Data'!C1245","v":5282},{"$f":"'Market Data'!D1245","v":5344.5},{"$f":"'Market Data'!E1245","v":5265.5},{"$f":"'Market Data'!F1245","v":5327.5},null,1241,"Hidden","Long",null,1,0,"",null,1,"Stay Long",1820,-96025.959999999992]
[null,{"$f":"'Market Data'!B1246","v":20041118},{"$f":"'Market Data'!C1246","v":5313.5},{"$f":"'Market Data'!D1246","v":5342},{"$f":"'Market Data'!E1246","v":5311},{"$f":"'Market Data'!F1246","v":5329},null,1242,"Hidden","Long",null,1,0,"",null,1,"Stay Long",52.5,-95973.459999999992]
[null,{"$f":"'Market Data'!B1247","v":20041119},{"$f":"'Market Data'!C1247","v":5327.5},{"$f":"'Market Data'!D1247","v":5351.5},{"$f":"'Market Data'!E1247","v":5272.5},{"$f":"'Market Data'!F1247","v":5272.5},null,1243,"Hidden","Long",null,1,0,"",null,1,"Stay Long",-1977.5,-97950.959999999992]
[null,{"$f":"'Market Data'!B1248","v":20041122},{"$f":"'Market Data'!C1248","v":5263.5},{"$f":"'Market Data'!D1248","v":5298.5},{"$f":"'Market Data'!E1248","v":5236},{"$f":"'Market Data'!F1248","v":5297.5},null,1244,"Hidden","Long",null,1,0,"",null,1,"Stay Long",875,-97075.959999999992]
[null,{"$f":"'Market Data'!B1249","v":20041123},{"$f":"'Market Data'!C1249","v":5295.5},{"$f":"'Market Data'!D1249","v":5310.5},{"$f":"'Market Data'!E1249","v":5251},{"$f":"'Market Data'!F1249","v":5263.5},null,1245,"Hidden","Long",null,1,0,"",null,1,"Stay Long",-1190,-98265.959999999992]
[null,{"$f":"'Market Data'!B1250","v":20041124},{"$f":"'Market Data'!C1250","v":5294.5},{"$f":"'Market Data'!D1250","v":5295},{"$f":"'Market Data'!E1250","v":5263},{"$f":"'Market Data'!F1250","v":5277.5},null,1246,"Hidden","Long",null,1,0,"",null,1,"Stay Long",490,-97775.959999999992]
[null,{"$f":"'Market Data'!B1251","v":20041125},{"$f":"'Market Data'!C1251","v":5287.5},{"$f":"'Market Data'!D1251","v":5318},{"$f":"'Market Data'!E1251","v":5278},{"$f":"'Market Data'!F1251","v":5310.5},null,1247,"Hidden","Long",null,1,0,"",null,1,"Stay Long",1155,-96620.959999999992]
[null,{"$f":"'Market Data'!B1252","v":20041126},{"$f":"'Market Data'!C1252","v":5292.5},{"$f":"'Market Data'!D1252","v":5308},{"$f":"'Market Data'!E1252","v":5282.5},{"$f":"'Market Data'!F1252","v":5286},null,1248,"Hidden","Long",null,1,0,"",null,1,"Stay Long",-857.5,-97478.459999999992]
[null,{"$f":"'Market Data'!B1253","v":20041129},{"$f":"'Market Data'!C1253","v":5307.5},{"$f":"'Market Data'!D1253","v":5368},{"$f":"'Market Data'!E1253","v":5285.5},{"$f":"'Market Data'!F1253","v":5312.5},null,1249,"Hidden","Long",null,1,0,"",null,1,"Stay Long",927.5,-96550.959999999992]
[null,{"$f":"'Market Data'!B1254","v":20041130},{"$f":"'Market Data'!C1254","v":5310.5},{"$f":"'Market Data'!D1254","v":5314},{"$f":"'Market Data'!E1254","v":5259},{"$f":"'Market Data'!F1254","v":5268.5},null,1250,"Hidden","Long",null,1,0,"",null,1,"Stay Long",-1540,-98090.959999999992]
[null,{"$f":"'Market Data'!B1255","v":20041201},{"$f":"'Market Data'!C1255","v":5251},{"$f":"'Market Data'!D1255","v":5342.5},{"$f":"'Market Data'!E1255","v":5250.5},{"$f":"'Market Data'!F1255","v":5329.5},null,1251,"Hidden","Long",null,1,0,"",null,1,"Stay Long",2135,-95955.959999999992]
[null,{"$f":"'Market Data'!B1256","v":20041202},{"$f":"'Market Data'!C1256","v":5350.5},{"$f":"'Market Data'!D1256","v":5374.5},{"$f":"'Market Data'!E1256","v":5331.5},{"$f":"'Market Data'!F1256","v":5348.5},null,1252,"Hidden","Long",null,1,0,"",null,1,"Stay Long",665,-95290.959999999992]
[null,{"$f":"'Market Data'!B1257","v":20041203},{"$f":"'Market Data'!C1257","v":5372.5},{"$f":"'Market Data'!D1257","v":5381.5},{"$f":"'Market Data'!E1257","v":5329.5},{"$f":"'Market Data'!F1257","v":5337.5},null,1253,"Hidden","Long",null,1,0,"",null,1,"Stay Long",-385,-95675.959999999992]
[null,{"$f":"'Market Data'!B1258","v":20041206},{"$f":"'Market Data'!C1258","v":5340},{"$f":"'Market Data'!D1258","v":5361},{"$f":"'Market Data'!E1258","v":5329.5},{"$f":"'Market Data'!F1258","v":5359.5},null,1254,"Hidden","Long",null,1,0,"",null,1,"Stay Long",770,-94905.959999999992]
[null,{"$f":"'Market Data'!B1259","v":20041207},{"$f":"'Market Data'!C1259","v":5345},{"$f":"'Market Data'!D1259","v":5377.5},{"$f":"'Market Data'!E1259","v":5335.5},{"$f":"'Market Data'!F1259","v":5337},null,1255,"Hidden","Long",null,1,0,"",null,1,"Stay Long",-787.5,-95693.459999999992]
[null,{"$f":"'Market Data'!B1260","v":20041208},{"$f":"'Market Data'!C1260","v":5322},{"$f":"'Market Data'!D1260","v":5363.5},{"$f":"'Market Data'!E1260","v":5316},{"$f":"'Market Data'!F1260","v":5360},null,1256,"Hidden","Long",null,1,0,"",null,1,"Stay Long",805,-94888.459999999992]
[null,{"$f":"'Market Data'!B1261","v":20041209},{"$f":"'Market Data'!C1261","v":5340},{"$f":"'Market Data'!D1261","v":5351.5},{"$f":"'Market Data'!E1261","v":5275},{"$f":"'Market Data'!F1261","v":5316.5},null,1257,"Hidden","Long",null,1,0,"",null,1,"Stay Long",-1522.5,-96410.959999999992]
[null,{"$f":"'Market Data'!B1262","v":20041210},{"$f":"'Market Data'!C1262","v":5319.5},{"$f":"'Market Data'!D1262","v":5330.5},{"$f":"'Market Data'!E1262","v":5297.5},{"$f":"'Market Data'!F1262","v":5328.5},null,1258,"Hidden","Long",null,1,0,"",null,1,"Stay Long",420,-95990.959999999992]
[null,{"$f":"'Market Data'!B1263","v":20041213},{"$f":"'Market Data'!C1263","v":5338},{"$f":"'Market Data'!D1263","v":5377},{"$f":"'Market Data'!E1263","v":5332},{"$f":"'Market Data'!F1263","v":5372.5},null,1259,"Hidden","Long",null,1,0,"",null,1,"Stay Long",1540,-94450.959999999992]
[null,{"$f":"'Market Data'!B1264","v":20041214},{"$f":"'Market Data'!C1264","v":5385.5},{"$f":"'Market Data'!D1264","v":5394.5},{"$f":"'Market Data'!E1264","v":5368.5},{"$f":"'Market Data'!F1264","v":5377.5},null,1260,"Hidden","Long",null,1,0,"",null,1,"Stay Long",175,-94275.959999999992]
[null,{"$f":"'Market Data'!B1265","v":20041215},{"$f":"'Market Data'!C1265","v":5386},{"$f":"'Market Data'!D1265","v":5389},{"$f":"'Market Data'!E1265","v":5352},{"$f":"'Market Data'!F1265","v":5367.5},null,1261,"Hidden","Long",null,1,0,"",null,1,"Stay Long",-350,-94625.959999999992]
[null,{"$f":"'Market Data'!B1266","v":20041216},{"$f":"'Market Data'!C1266","v":5369},{"$f":"'Market Data'!D1266","v":5385},{"$f":"'Market Data'!E1266","v":5360},{"$f":"'Market Data'!F1266","v":5375},null,1262,"Hidden","Long",null,1,0,"",null,1,"Stay Long",262.5,-94363.459999999992]
[null,{"$f":"'Market Data'!B1267","v":20041217},{"$f":"'Market Data'!C1267","v":5382.5},{"$f":"'Market Data'!D1267","v":5386},{"$f":"'Market Data'!E1267","v":5301},{"$f":"'Market Data'!F1267","v":5304.5},null,1263,"Hidden","Long",null,1,0,"",null,1,"Stay Long",-2467.5,-96830.959999999992]
[null,{"$f":"'Market Data'!B1268","v":20041220},{"$f":"'Market Data'!C1268","v":5325.5},{"$f":"'Market Data'!D1268","v":5372},{"$f":"'Market Data'!E1268","v":5319.5},{"$f":"'Market Data'!F1268","v":5346},null,1264,"Hidden","Long",null,1,0,"",null,1,"Stay Long",1452.5,-95378.459999999992]
[null,{"$f":"'Market Data'!B1269","v":20041221},{"$f":"'Market Data'!C1269","v":5340},{"$f":"'Market Data'!D1269","v":5375.5},{"$f":"'Market Data'!E1269","v":5340},{"$f":"'Market Data'!F1269","v":5368.5},null,1265,"Hidden","Long",null,1,0,"",null,1,"Stay Long",787.5,-94590.959999999992]
[null,{"$f":"'Market Data'!B1270","v":20041222},{"$f":"'Market Data'!C1270","v":5379},{"$f":"'Market Data'!D1270","v":5394.5},{"$f":"'Market Data'!E1270","v":5367.5},{"$f":"'Market Data'!F1270","v":5372},null,1266,"Hidden","Long",null,1,0,"",null,1,"Stay Long",122.5,-94468.459999999992]
[null,{"$f":"'Market Data'!B1271","v":20041223},{"$f":"'Market Data'!C1271","v":5376},{"$f":"'Market Data'!D1271","v":5397},{"$f":"'Market Data'!E1271","v":5375.5},{"$f":"'Market Data'!F1271","v":5389.5},null,1267,"Hidden","Long",null,1,0,"",null,1,"Stay Long",612.5,-93855.959999999992]
[null,{"$f":"'Market Data'!B1272","v":20041227},{"$f":"'Market Data'!C1272","v":5396.5},{"$f":"'Market Data'!D1272","v":5404.5},{"$f":"'Market Data'!E1272","v":5374},{"$f":"'Market Data'!F1272","v":5387.5},null,1268,"Hidden","Long",null,1,0,"",null,1,"Stay Long",-70,-93925.959999999992]
[null,{"$f":"'Market Data'!B1273","v":20041228},{"$f":"'Market Data'!C1273","v":5404.5},{"$f":"'Market Data'!D1273","v":5404.5},{"$f":"'Market Data'!E1273","v":5384.5},{"$f":"'Market Data'!F1273","v":5403.5},null,1269,"Hidden","Long",null,1,0,"",null,1,"Stay Long",560,-93365.959999999992]
[null,{"$f":"'Market Data'!B1274","v":20041229},{"$f":"'Market Data'!C1274","v":5415},{"$f":"'Market Data'!D1274","v":5417},{"$f":"'Market Data'!E1274","v":5379.5},{"$f":"'Market Data'!F1274","v":5394},null,1270,"Hidden","Long",null,1,0,"",null,1,"Stay Long",-332.5,-93698.459999999992]
[null,{"$f":"'Market Data'!B1275","v":20041230},{"$f":"'Market Data'!C1275","v":5400},{"$f":"'Market Data'!D1275","v":5402.5},{"$f":"'Market Data'!E1275","v":5391.5},{"$f":"'Market Data'!F1275","v":5391.5},null,1271,"Hidden","Long",null,1,0,"",null,1,"Stay Long",-87.5,-93785.959999999992]
[null,{"$f":"'Market Data'!B1276","v":20050103},{"$f":"'Market Data'!C1276","v":5403.5},{"$f":"'Market Data'!D1276","v":5450},{"$f":"'Market Data'!E1276","v":5392},{"$f":"'Market Data'!F1276","v":5426.5},null,1272,"Hidden","Long",null,1,0,"",null,1,"Stay Long",1225,-92560.959999999992]
[null,{"$f":"'Market Data'!B1277","v":20050104},{"$f":"'Market Data'!C1277","v":5427},{"$f":"'Market Data'!D1277","v":5446.5},{"$f":"'Market Data'!E1277","v":5414.5},{"$f":"'Market Data'!F1277","v":5414.5},null,1273,"Hidden","Long",null,1,0,"",null,1,"Stay Long",-420,-92980.959999999992]
[null,{"$f":"'Market Data'!B1278","v":20050105},{"$f":"'Market Data'!C1278","v":5398.5},{"$f":"'Market Data'!D1278","v":5419},{"$f":"'Market Data'!E1278","v":5380.5},{"$f":"'Market Data'!F1278","v":5413.5},null,1274,"Hidden","Long",null,1,0,"",null,1,"Stay Long",-35,-93015.959999999992]
[null,{"$f":"'Market Data'!B1279","v":20050106},{"$f":"'Market Data'!C1279","v":5396.5},{"$f":"'Market Data'!D1279","v":5445},{"$f":"'Market Data'!E1279","v":5395},{"$f":"'Market Data'!F1279","v":5442.5},null,1275,"Hidden","Long",null,1,0,"",null,1,"Stay Long",1015,-92000.959999999992]
[null,{"$f":"'Market Data'!B1280","v":20050107},{"$f":"'Market Data'!C1280","v":5427.5},{"$f":"'Market Data'!D1280","v":5465},{"$f":"'Market Data'!E1280","v":5420.5},{"$f":"'Market Data'!F1280","v":5454},null,1276,"Hidden","Long",null,1,0,"",null,1,"Stay Long",402.5,-91598.459999999992]
[null,{"$f":"'Market Data'!B1281","v":20050110},{"$f":"'Market Data'!C1281","v":5448.5},{"$f":"'Market Data'!D1281","v":5462.5},{"$f":"'Market Data'!E1281","v":5427},{"$f":"'Market Data'!F1281","v":5451.5},null,1277,"Hidden","Long",null,1,0,"",null,1,"Stay Long",-87.5,-91685.959999999992]
[null,{"$f":"'Market Data'!B1282","v":20050111},{"$f":"'Market Data'!C1282","v":5442.5},{"$f":"'Market Data'!D1282","v":5453},{"$f":"'Market Data'!E1282","v":5364.5},{"$f":"'Market Data'!F1282","v":5379.5},null,1278,"Hidden","Long",null,1,0,"",null,1,"Stay Long",-2520,-94205.959999999992]
[null,{"$f":"'Market Data'!B1283","v":20050112},{"$f":"'Market Data'!C1283","v":5393},{"$f":"'Market Data'!D1283","v":5396},{"$f":"'Market Data'!E1283","v":5328},{"$f":"'Market Data'!F1283","v":5343.5},null,1279,"Hidden","Long",null,1,{"$f":"$L1296-P1296","v":0},"",null,1,"Stay Long",-1260,-95465.959999999992]
[null,{"$f":"'Market Data'!B1284","v":20050113},{"$f":"'Market Data'!C1284","v":5367},{"$f":"'Market Data'!D1284","v":5370.5},{"$f":"'Market Data'!E1284","v":5336},{"$f":"'Market Data'!F1284","v":5350.5},null,1280,"Hidden","Long",null,1,0,"",null,{"$f":"IF($N1296=\"Fill\",$L1296,$P1296)","v":1},"Stay Long",{"$f":"IF(OR($P1296&$L1296=\"01\",$P1296&$L1296=\"0-1\"),(($F1297-$C1297)*$R$3*$L1296)-(ABS($M1296)*$R$4),IF(OR($P1296&$L1296=\"10\",$P1296&$L1296=\"-10\"),(($C1297-$F1296)*$R$3*$P1296)-(ABS($M1296)*$R$4),IF(OR($P1296&$L1296=\"1-1\",$P1296&$L1296=\"-11\"),(($C1297-$F1296)*$R$3*$P1296)-(ABS($M1296)*$R$4)+(($F1297-$C1297)*$R$3*$P1297),IF(OR($P1296&$L1296=\"11\",$P1296&$L1296=\"-1-1\"),(($F1297-$F1296)*$R$3*$P1297),0))))","v":245},-95220.959999999992]
[null,{"$f":"'Market Data'!B1285","v":20050114},{"$f":"'Market Data'!C1285","v":5323},{"$f":"'Market Data'!D1285","v":5372},{"$f":"'Market Data'!E1285","v":5320},{"$f":"'Market Data'!F1285","v":5357},null,{"$f":"ROW()-ROW(H$17)","v":1281},"Hidden",{"$f":"$I$4","v":"Long"},null,1,0,{"$f":"IF(NOT($M1298=0),\"Fill\",\"\")","v":""},null,1,{"$f":"IF($P1297&$L1297=\"00\",\"Stay Flat\",IF($P1297&$L1297=\"01\",\"Go Long\",IF($P1297&$L1297=\"0-1\",\"Go Short\",IF($P1297&$L1297=\"-10\",\"Exit Short\",IF($P1297&$L1297=\"-1-1\",\"Stay Short\",IF($P1297&$L1297=\"-11\",\"Exit Short, Go Long\",IF($P1297&$L1297=\"10\",\"Exit Long\",IF($P1297&$L1297=\"1-1\",\"Exit Long, Go Short\",IF($P1297&$L1297=\"11\",\"Stay Long\",\"\")))))))))","v":"Stay Long"},227.5,{"$f":"S1297+R1298","v":-94993.459999999992}]
[null,{"$f":"'Market Data'!B1286","v":20050117},{"$f":"'Market Data'!C1286","v":5369},{"$f":"'Market Data'!D1286","v":5389},{"$f":"'Market Data'!E1286","v":5367.5},{"$f":"'Market Data'!F1286","v":5376.5},null,1282,"Hidden","Long",null,{"$f":"IF($J1299=\"Short\",-1,IF($J1299=\"Long\",1,0))","v":1},0,"",null,1,"Stay Long",682.5,-94310.959999999992]
[null,{"$f":"'Market Data'!B1287","v":20050118},{"$f":"'Market Data'!C1287","v":5371.5},{"$f":"'Market Data'!D1287","v":5398.5},{"$f":"'Market Data'!E1287","v":5340.5},{"$f":"'Market Data'!F1287","v":5392.5},null,1283,"Hidden","Long",null,1,0,"",null,1,"Stay Long",560,-93750.959999999992]
[null,{"$f":"'Market Data'!B1288","v":20050119},{"$f":"'Market Data'!C1288","v":5396.5},{"$f":"'Market Data'!D1288","v":5404},{"$f":"'Market Data'!E1288","v":5371},{"$f":"'Market Data'!F1288","v":5377.5},null,1284,"Hidden","Long",null,1,0,"",null,1,"Stay Long",-525,-94275.959999999992]
[null,{"$f":"'Market Data'!B1289","v":20050120},{"$f":"'Market Data'!C1289","v":5345.5},{"$f":"'Market Data'!D1289","v":5362},{"$f":"'Market Data'!E1289","v":5322},{"$f":"'Market Data'!F1289","v":5329.5},null,1285,"Hidden","Long",null,1,0,"",null,1,"Stay Long",-1680,-95955.959999999992]
[null,{"$f":"'Market Data'!B1290","v":20050121},{"$f":"'Market Data'!C1290","v":5335.5},{"$f":"'Market Data'!D1290","v":5356},{"$f":"'Market Data'!E1290","v":5314},{"$f":"'Market Data'!F1290","v":5327.5},null,1286,"Hidden","Long",null,1,0,"",null,1,"Stay Long",-70,-96025.959999999992]
[null,{"$f":"'Market Data'!B1291","v":20050124},{"$f":"'Market Data'!C1291","v":5322.5},{"$f":"'Market Data'!D1291","v":5341.5},{"$f":"'Market Data'!E1291","v":5292},{"$f":"'Market Data'!F1291","v":5329},null,1287,"Hidden","Long",null,1,0,"",null,1,"Stay Long",52.5,-95973.459999999992]
[null,{"$f":"'Market Data'!B1292","v":20050125},{"$f":"'Market Data'!C1292","v":5326},{"$f":"'Market Data'!D1292","v":5375.5},{"$f":"'Market Data'!E1292","v":5322},{"$f":"'Market Data'!F1292","v":5364.5},null,1288,"Hidden","Long",null,1,0,"",null,1,"Stay Long",1242.5,-94730.959999999992]
[null,{"$f":"'Market Data'!B1293","v":20050126},{"$f":"'Market Data'!C1293","v":5371.5},{"$f":"'Market Data'!D1293","v":5378.5},{"$f":"'Market Data'!E1293","v":5336},{"$f":"'Market Data'!F1293","v":5350},null,1289,"Hidden","Long",null,1,0,"",null,1,"Stay Long",-507.5,-95238.459999999992]
[null,{"$f":"'Market Data'!B1294","v":20050127},{"$f":"'Market Data'!C1294","v":5354},{"$f":"'Market Data'!D1294","v":5361},{"$f":"'Market Data'!E1294","v":5316.5},{"$f":"'Market Data'!F1294","v":5347.5},null,1290,"Hidden","Long",null,1,0,"",null,1,"Stay Long",-87.5,-95325.959999999992]
[null,{"$f":"'Market Data'!B1295","v":20050128},{"$f":"'Market Data'!C1295","v":5359.5},{"$f":"'Market Data'!D1295","v":5365.5},{"$f":"'Market Data'!E1295","v":5319},{"$f":"'Market Data'!F1295","v":5329.5},null,1291,"Hidden","Long",null,1,0,"",null,1,"Stay Long",-630,-95955.959999999992]
[null,{"$f":"'Market Data'!B1296","v":20050131},{"$f":"'Market Data'!C1296","v":5363.5},{"$f":"'Market Data'!D1296","v":5395},{"$f":"'Market Data'!E1296","v":5358.5},{"$f":"'Market Data'!F1296","v":5390.5},null,1292,"Hidden","Long",null,1,0,"",null,1,"Stay Long",2135,-93820.959999999992]
[null,{"$f":"'Market Data'!B1297","v":20050201},{"$f":"'Market Data'!C1297","v":5386},{"$f":"'Market Data'!D1297","v":5418.5},{"$f":"'Market Data'!E1297","v":5379.5},{"$f":"'Market Data'!F1297","v":5413.5},null,1293,"Hidden","Long",null,1,0,"",null,1,"Stay Long",805,-93015.959999999992]
[null,{"$f":"'Market Data'!B1298","v":20050202},{"$f":"'Market Data'!C1298","v":5418.5},{"$f":"'Market Data'!D1298","v":5431},{"$f":"'Market Data'!E1298","v":5410},{"$f":"'Market Data'!F1298","v":5421.5},null,1294,"Hidden","Long",null,1,0,"",null,1,"Stay Long",280,-92735.959999999992]
[null,{"$f":"'Market Data'!B1299","v":20050203},{"$f":"'Market Data'!C1299","v":5428.5},{"$f":"'Market Data'!D1299","v":5433},{"$f":"'Market Data'!E1299","v":5403},{"$f":"'Market Data'!F1299","v":5417.5},null,1295,"Hidden","Long",null,1,0,"",null,1,"Stay Long",-140,-92875.959999999992]
[null,{"$f":"'Market Data'!B1300","v":20050204},{"$f":"'Market Data'!C1300","v":5427},{"$f":"'Market Data'!D1300","v":5478.5},{"$f":"'Market Data'!E1300","v":5424},{"$f":"'Market Data'!F1300","v":5478.5},null,1296,"Hidden","Long",null,1,0,"",null,1,"Stay Long",2135,-90740.959999999992]
[null,{"$f":"'Market Data'!B1301","v":20050207},{"$f":"'Market Data'!C1301","v":5478.5},{"$f":"'Market Data'!D1301","v":5504.5},{"$f":"'Market Data'!E1301","v":5478.5},{"$f":"'Market Data'!F1301","v":5491.5},null,1297,"Hidden","Long",null,1,0,"",null,1,"Stay Long",455,-90285.959999999992]
[null,{"$f":"'Market Data'!B1302","v":20050208},{"$f":"'Market Data'!C1302","v":5497.5},{"$f":"'Market Data'!D1302","v":5506.5},{"$f":"'Market Data'!E1302","v":5485.5},{"$f":"'Market Data'!F1302","v":5502},null,1298,"Hidden","Long",null,1,0,"",null,1,"Stay Long",367.5,-89918.459999999992]
[null,{"$f":"'Market Data'!B1303","v":20050209},{"$f":"'Market Data'!C1303","v":5502.5},{"$f":"'Market Data'!D1303","v":5516.5},{"$f":"'Market Data'!E1303","v":5474},{"$f":"'Market Data'!F1303","v":5490.5},null,1299,"Hidden","Long",null,1,0,"",null,1,"Stay Long",-402.5,-90320.959999999992]
[null,{"$f":"'Market Data'!B1304","v":20050210},{"$f":"'Market Data'!C1304","v":5494.5},{"$f":"'Market Data'!D1304","v":5498},{"$f":"'Market Data'!E1304","v":5466.5},{"$f":"'Market Data'!F1304","v":5488.5},null,1300,"Hidden","Long",null,1,0,"",null,1,"Stay Long",-70,-90390.959999999992]
[null,{"$f":"'Market Data'!B1305","v":20050211},{"$f":"'Market Data'!C1305","v":5484.5},{"$f":"'Market Data'!D1305","v":5525.5},{"$f":"'Market Data'!E1305","v":5484.5},{"$f":"'Market Data'!F1305","v":5522},null,1301,"Hidden","Long",null,1,0,"",null,1,"Stay Long",1172.5,-89218.459999999992]
[null,{"$f":"'Market Data'!B1306","v":20050214},{"$f":"'Market Data'!C1306","v":5522.5},{"$f":"'Market Data'!D1306","v":5527},{"$f":"'Market Data'!E1306","v":5500.5},{"$f":"'Market Data'!F1306","v":5509.5},null,1302,"Hidden","Long",null,1,0,"",null,1,"Stay Long",-437.5,-89655.959999999992]
[null,{"$f":"'Market Data'!B1307","v":20050215},{"$f":"'Market Data'!C1307","v":5512},{"$f":"'Market Data'!D1307","v":5537},{"$f":"'Market Data'!E1307","v":5504.5},{"$f":"'Market Data'!F1307","v":5514},null,1303,"Hidden","Long",null,1,0,"",null,1,"Stay Long",157.5,-89498.459999999992]
[null,{"$f":"'Market Data'!B1308","v":20050216},{"$f":"'Market Data'!C1308","v":5521.5},{"$f":"'Market Data'!D1308","v":5521.5},{"$f":"'Market Data'!E1308","v":5475},{"$f":"'Market Data'!F1308","v":5491},null,1304,"Hidden","Long",null,1,0,"",null,1,"Stay Long",-805,-90303.459999999992]
[null,{"$f":"'Market Data'!B1309","v":20050217},{"$f":"'Market Data'!C1309","v":5497.5},{"$f":"'Market Data'!D1309","v":5515},{"$f":"'Market Data'!E1309","v":5486},{"$f":"'Market Data'!F1309","v":5497},null,1305,"Hidden","Long",null,1,0,"",null,1,"Stay Long",210,-90093.459999999992]
[null,{"$f":"'Market Data'!B1310","v":20050218},{"$f":"'Market Data'!C1310","v":5489.5},{"$f":"'Market Data'!D1310","v":5514},{"$f":"'Market Data'!E1310","v":5472.5},{"$f":"'Market Data'!F1310","v":5486.5},null,1306,"Hidden","Long",null,1,0,"",null,1,"Stay Long",-367.5,-90460.959999999992]
[null,{"$f":"'Market Data'!B1311","v":20050221},{"$f":"'Market Data'!C1311","v":5491.5},{"$f":"'Market Data'!D1311","v":5500.5},{"$f":"'Market Data'!E1311","v":5467.5},{"$f":"'Market Data'!F1311","v":5488.5},null,1307,"Hidden","Long",null,1,0,"",null,1,"Stay Long",70,-90390.959999999992]
[null,{"$f":"'Market Data'!B1312","v":20050222},{"$f":"'Market Data'!C1312","v":5474},{"$f":"'Market Data'!D1312","v":5476.5},{"$f":"'Market Data'!E1312","v":5426.5},{"$f":"'Market Data'!F1312","v":5426.5},null,1308,"Hidden","Long",null,1,0,"",null,1,"Stay Long",-2170,-92560.959999999992]
[null,{"$f":"'Market Data'!B1313","v":20050223},{"$f":"'Market Data'!C1313","v":5411.5},{"$f":"'Market Data'!D1313","v":5438.5},{"$f":"'Market Data'!E1313","v":5400.5},{"$f":"'Market Data'!F1313","v":5423.5},null,1309,"Hidden","Long",null,1,0,"",null,1,"Stay Long",-105,-92665.959999999992]
[null,{"$f":"'Market Data'!B1314","v":20050224},{"$f":"'Market Data'!C1314","v":5430},{"$f":"'Market Data'!D1314","v":5436.5},{"$f":"'Market Data'!E1314","v":5412.5},{"$f":"'Market Data'!F1314","v":5433},null,1310,"Hidden","Long",null,1,0,"",null,1,"Stay Long",332.5,-92333.459999999992]
[null,{"$f":"'Market Data'!B1315","v":20050225},{"$f":"'Market Data'!C1315","v":5454.5},{"$f":"'Market Data'!D1315","v":5487},{"$f":"'Market Data'!E1315","v":5452.5},{"$f":"'Market Data'!F1315","v":5481.5},null,1311,"Hidden","Long",null,1,0,"",null,1,"Stay Long",1697.5,-90635.959999999992]
[null,{"$f":"'Market Data'!B1316","v":20050228},{"$f":"'Market Data'!C1316","v":5484.5},{"$f":"'Market Data'!D1316","v":5500.5},{"$f":"'Market Data'!E1316","v":5447},{"$f":"'Market Data'!F1316","v":5449.5},null,1312,"Hidden","Long",null,1,0,"",null,1,"Stay Long",-1120,-91755.959999999992]
[null,{"$f":"'Market Data'!B1317","v":20050301},{"$f":"'Market Data'!C1317","v":5467.5},{"$f":"'Market Data'!D1317","v":5512.5},{"$f":"'Market Data'!E1317","v":5458.5},{"$f":"'Market Data'!F1317","v":5509},null,1313,"Hidden","Long",null,1,0,"",null,1,"Stay Long",2082.5,-89673.459999999992]
[null,{"$f":"'Market Data'!B1318","v":20050302},{"$f":"'Market Data'!C1318","v":5497.5},{"$f":"'Market Data'!D1318","v":5521.5},{"$f":"'Market Data'!E1318","v":5487.5},{"$f":"'Market Data'!F1318","v":5500},null,1314,"Hidden","Long",null,1,0,"",null,1,"Stay Long",-315,-89988.459999999992]
[null,{"$f":"'Market Data'!B1319","v":20050303},{"$f":"'Market Data'!C1319","v":5497.5},{"$f":"'Market Data'!D1319","v":5523.5},{"$f":"'Market Data'!E1319","v":5474.5},{"$f":"'Market Data'!F1319","v":5499},null,1315,"Hidden","Long",null,1,0,"",null,1,"Stay Long",-35,-90023.459999999992]
[null,{"$f":"'Market Data'!B1320","v":20050304},{"$f":"'Market Data'!C1320","v":5504.5},{"$f":"'Market Data'!D1320","v":5552},{"$f":"'Market Data'!E1320","v":5495.5},{"$f":"'Market Data'!F1320","v":5552},null,1316,"Hidden","Long",null,1,0,"",null,1,"Stay Long",1855,-88168.459999999992]
[null,{"$f":"'Market Data'!B1321","v":20050307},{"$f":"'Market Data'!C1321","v":5547.5},{"$f":"'Market Data'!D1321","v":5558},{"$f":"'Market Data'!E1321","v":5540},{"$f":"'Market Data'!F1321","v":5549},null,1317,"Hidden","Long",null,1,0,"",null,1,"Stay Long",-105,-88273.459999999992]
[null,{"$f":"'Market Data'!B1322","v":20050308},{"$f":"'Market Data'!C1322","v":5540},{"$f":"'Market Data'!D1322","v":5546.5},{"$f":"'Market Data'!E1322","v":5510},{"$f":"'Market Data'!F1322","v":5516.5},null,1318,"Hidden","Long",null,1,0,"",null,1,"Stay Long",-1137.5,-89410.959999999992]
[null,{"$f":"'Market Data'!B1323","v":20050309},{"$f":"'Market Data'!C1323","v":5521.5},{"$f":"'Market Data'!D1323","v":5551},{"$f":"'Market Data'!E1323","v":5468},{"$f":"'Market Data'!F1323","v":5478.5},null,1319,"Hidden","Long",null,1,0,"",null,1,"Stay Long",-1330,-90740.959999999992]
[null,{"$f":"'Market Data'!B1324","v":20050310},{"$f":"'Market Data'!C1324","v":5468.5},{"$f":"'Market Data'!D1324","v":5487.5},{"$f":"'Market Data'!E1324","v":5451},{"$f":"'Market Data'!F1324","v":5483.5},null,1320,"Hidden","Long",null,1,0,"",null,1,"Stay Long",175,-90565.959999999992]
[null,{"$f":"'Market Data'!B1325","v":20050311},{"$f":"'Market Data'!C1325","v":5484.5},{"$f":"'Market Data'!D1325","v":5501.5},{"$f":"'Market Data'!E1325","v":5466.5},{"$f":"'Market Data'!F1325","v":5470.5},null,1321,"Hidden","Long",null,1,0,"",null,1,"Stay Long",-455,-91020.959999999992]
[null,{"$f":"'Market Data'!B1326","v":20050314},{"$f":"'Market Data'!C1326","v":5472},{"$f":"'Market Data'!D1326","v":5494},{"$f":"'Market Data'!E1326","v":5460},{"$f":"'Market Data'!F1326","v":5485},null,1322,"Hidden","Long",null,1,0,"",null,1,"Stay Long",507.5,-90513.459999999992]
[null,{"$f":"'Market Data'!B1327","v":20050315},{"$f":"'Market Data'!C1327","v":5492},{"$f":"'Market Data'!D1327","v":5513.5},{"$f":"'Market Data'!E1327","v":5486.5},{"$f":"'Market Data'!F1327","v":5493.5},null,1323,"Hidden","Long",null,1,0,"",null,1,"Stay Long",297.5,-90215.959999999992]
[null,{"$f":"'Market Data'!B1328","v":20050316},{"$f":"'Market Data'!C1328","v":5491.5},{"$f":"'Market Data'!D1328","v":5505},{"$f":"'Market Data'!E1328","v":5420},{"$f":"'Market Data'!F1328","v":5431.5},null,1324,"Hidden","Long",null,1,0,"",null,1,"Stay Long",-2170,-92385.959999999992]
[null,{"$f":"'Market Data'!B1329","v":20050317},{"$f":"'Market Data'!C1329","v":5426.5},{"$f":"'Market Data'!D1329","v":5443},{"$f":"'Market Data'!E1329","v":5416},{"$f":"'Market Data'!F1329","v":5426},null,1325,"Hidden","Long",null,1,0,"",null,1,"Stay Long",-192.5,-92578.459999999992]
[null,{"$f":"'Market Data'!B1330","v":20050318},{"$f":"'Market Data'!C1330","v":5434.5},{"$f":"'Market Data'!D1330","v":5458},{"$f":"'Market Data'!E1330","v":5421},{"$f":"'Market Data'!F1330","v":5430},null,1326,"Hidden","Long",null,1,0,"",null,1,"Stay Long",140,-92438.459999999992]
[null,{"$f":"'Market Data'!B1331","v":20050321},{"$f":"'Market Data'!C1331","v":5435.5},{"$f":"'Market Data'!D1331","v":5457.5},{"$f":"'Market Data'!E1331","v":5412},{"$f":"'Market Data'!F1331","v":5429},null,1327,"Hidden","Long",null,1,0,"",null,1,"Stay Long",-35,-92473.459999999992]
[null,{"$f":"'Market Data'!B1332","v":20050322},{"$f":"'Market Data'!C1332","v":5418},{"$f":"'Market Data'!D1332","v":5452.5},{"$f":"'Market Data'!E1332","v":5399},{"$f":"'Market Data'!F1332","v":5452.5},null,1328,"Hidden","Long",null,1,0,"",null,1,"Stay Long",822.5,-91650.959999999992]
[null,{"$f":"'Market Data'!B1333","v":20050323},{"$f":"'Market Data'!C1333","v":5393.5},{"$f":"'Market Data'!D1333","v":5449},{"$f":"'Market Data'!E1333","v":5389},{"$f":"'Market Data'!F1333","v":5448},null,1329,"Hidden","Long",null,1,0,"",null,1,"Stay Long",-157.5,-91808.459999999992]
[null,{"$f":"'Market Data'!B1334","v":20050324},{"$f":"'Market Data'!C1334","v":5440},{"$f":"'Market Data'!D1334","v":5478.5},{"$f":"'Market Data'!E1334","v":5433},{"$f":"'Market Data'!F1334","v":5471.5},null,1330,"Hidden","Long",null,1,0,"",null,1,"Stay Long",822.5,-90985.959999999992]
[null,{"$f":"'Market Data'!B1335","v":20050329},{"$f":"'Market Data'!C1335","v":5444},{"$f":"'Market Data'!D1335","v":5476},{"$f":"'Market Data'!E1335","v":5424.5},{"$f":"'Market Data'!F1335","v":5462.5},null,1331,"Hidden","Long",null,1,0,"",null,1,"Stay Long",-315,-91300.959999999992]
[null,{"$f":"'Market Data'!B1336","v":20050330},{"$f":"'Market Data'!C1336","v":5440},{"$f":"'Market Data'!D1336","v":5488},{"$f":"'Market Data'!E1336","v":5437},{"$f":"'Market Data'!F1336","v":5486},null,1332,"Hidden","Long",null,1,0,"",null,1,"Stay Long",822.5,-90478.459999999992]
[null,{"$f":"'Market Data'!B1337","v":20050331},{"$f":"'Market Data'!C1337","v":5484},{"$f":"'Market Data'!D1337","v":5493},{"$f":"'Market Data'!E1337","v":5451.5},{"$f":"'Market Data'!F1337","v":5458.5},null,1333,"Hidden","Long",null,1,0,"",null,1,"Stay Long",-962.5,-91440.959999999992]
[null,{"$f":"'Market Data'!B1338","v":20050401},{"$f":"'Market Data'!C1338","v":5465},{"$f":"'Market Data'!D1338","v":5511},{"$f":"'Market Data'!E1338","v":5461.5},{"$f":"'Market Data'!F1338","v":5461.5},null,1334,"Hidden","Long",null,1,0,"",null,1,"Stay Long",105,-91335.959999999992]
[null,{"$f":"'Market Data'!B1339","v":20050404},{"$f":"'Market Data'!C1339","v":5463},{"$f":"'Market Data'!D1339","v":5474.5},{"$f":"'Market Data'!E1339","v":5438.5},{"$f":"'Market Data'!F1339","v":5465.5},null,1335,"Hidden","Long",null,1,0,"",null,1,"Stay Long",140,-91195.959999999992]
[null,{"$f":"'Market Data'!B1340","v":20050405},{"$f":"'Market Data'!C1340","v":5481},{"$f":"'Market Data'!D1340","v":5484},{"$f":"'Market Data'!E1340","v":5468},{"$f":"'Market Data'!F1340","v":5484},null,1336,"Hidden","Long",null,1,0,"",null,1,"Stay Long",647.5,-90548.459999999992]
[null,{"$f":"'Market Data'!B1341","v":20050406},{"$f":"'Market Data'!C1341","v":5481},{"$f":"'Market Data'!D1341","v":5496.5},{"$f":"'Market Data'!E1341","v":5475.5},{"$f":"'Market Data'!F1341","v":5487},null,1337,"Hidden","Long",null,1,0,"",null,1,"Stay Long",105,-90443.459999999992]
[null,{"$f":"'Market Data'!B1342","v":20050407},{"$f":"'Market Data'!C1342","v":5481.5},{"$f":"'Market Data'!D1342","v":5520},{"$f":"'Market Data'!E1342","v":5469},{"$f":"'Market Data'!F1342","v":5506},null,1338,"Hidden","Long",null,1,0,"",null,1,"Stay Long",665,-89778.459999999992]
[null,{"$f":"'Market Data'!B1343","v":20050408},{"$f":"'Market Data'!C1343","v":5523},{"$f":"'Market Data'!D1343","v":5527},{"$f":"'Market Data'!E1343","v":5506.5},{"$f":"'Market Data'!F1343","v":5512},null,1339,"Hidden","Long",null,1,0,"",null,1,"Stay Long",210,-89568.459999999992]
[null,{"$f":"'Market Data'!B1344","v":20050411},{"$f":"'Market Data'!C1344","v":5498},{"$f":"'Market Data'!D1344","v":5523},{"$f":"'Market Data'!E1344","v":5493},{"$f":"'Market Data'!F1344","v":5516},null,1340,"Hidden","Long",null,1,0,"",null,1,"Stay Long",140,-89428.459999999992]
[null,{"$f":"'Market Data'!B1345","v":20050412},{"$f":"'Market Data'!C1345","v":5509.5},{"$f":"'Market Data'!D1345","v":5514.5},{"$f":"'Market Data'!E1345","v":5479},{"$f":"'Market Data'!F1345","v":5481},null,1341,"Hidden","Long",null,1,0,"",null,1,"Stay Long",-1225,-90653.459999999992]
[null,{"$f":"'Market Data'!B1346","v":20050413},{"$f":"'Market Data'!C1346","v":5518},{"$f":"'Market Data'!D1346","v":5525.5},{"$f":"'Market Data'!E1346","v":5506},{"$f":"'Market Data'!F1346","v":5510.5},null,1342,"Hidden","Long",null,1,0,"",null,1,"Stay Long",1032.5,-89620.959999999992]
[null,{"$f":"'Market Data'!B1347","v":20050414},{"$f":"'Market Data'!C1347","v":5497},{"$f":"'Market Data'!D1347","v":5537},{"$f":"'Market Data'!E1347","v":5489},{"$f":"'Market Data'!F1347","v":5500.5},null,1343,"Hidden","Long",null,1,{"$f":"$L1360-P1360","v":0},"",null,1,"Stay Long",-350,-89970.959999999992]
[null,{"$f":"'Market Data'!B1348","v":20050415},{"$f":"'Market Data'!C1348","v":5462.5},{"$f":"'Market Data'!D1348","v":5469},{"$f":"'Market Data'!E1348","v":5394},{"$f":"'Market Data'!F1348","v":5394.5},null,1344,"Hidden","Long",null,1,0,"",null,{"$f":"IF($N1360=\"Fill\",$L1360,$P1360)","v":1},"Stay Long",{"$f":"IF(OR($P1360&$L1360=\"01\",$P1360&$L1360=\"0-1\"),(($F1361-$C1361)*$R$3*$L1360)-(ABS($M1360)*$R$4),IF(OR($P1360&$L1360=\"10\",$P1360&$L1360=\"-10\"),(($C1361-$F1360)*$R$3*$P1360)-(ABS($M1360)*$R$4),IF(OR($P1360&$L1360=\"1-1\",$P1360&$L1360=\"-11\"),(($C1361-$F1360)*$R$3*$P1360)-(ABS($M1360)*$R$4)+(($F1361-$C1361)*$R$3*$P1361),IF(OR($P1360&$L1360=\"11\",$P1360&$L1360=\"-1-1\"),(($F1361-$F1360)*$R$3*$P1361),0))))","v":-3710},-93680.959999999992]
[null,{"$f":"'Market Data'!B1349","v":20050418},{"$f":"'Market Data'!C1349","v":5320.5},{"$f":"'Market Data'!D1349","v":5343.5},{"$f":"'Market Data'!E1349","v":5294.5},{"$f":"'Market Data'!F1349","v":5314},null,{"$f":"ROW()-ROW(H$17)","v":1345},"Hidden",{"$f":"$I$4","v":"Long"},null,1,0,{"$f":"IF(NOT($M1362=0),\"Fill\",\"\")","v":""},null,1,{"$f":"IF($P1361&$L1361=\"00\",\"Stay Flat\",IF($P1361&$L1361=\"01\",\"Go Long\",IF($P1361&$L1361=\"0-1\",\"Go Short\",IF($P1361&$L1361=\"-10\",\"Exit Short\",IF($P1361&$L1361=\"-1-1\",\"Stay Short\",IF($P1361&$L1361=\"-11\",\"Exit Short, Go Long\",IF($P1361&$L1361=\"10\",\"Exit Long\",IF($P1361&$L1361=\"1-1\",\"Exit Long, Go Short\",IF($P1361&$L1361=\"11\",\"Stay Long\",\"\")))))))))","v":"Stay Long"},-2817.5,{"$f":"S1361+R1362","v":-96498.459999999992}]
[null,{"$f":"'Market Data'!B1350","v":20050419},{"$f":"'Market Data'!C1350","v":5328},{"$f":"'Market Data'!D1350","v":5335.5},{"$f":"'Market Data'!E1350","v":5297},{"$f":"'Market Data'!F1350","v":5312.5},null,1346,"Hidden","Long",null,{"$f":"IF($J1363=\"Short\",-1,IF($J1363=\"Long\",1,0))","v":1},0,"",null,1,"Stay Long",-52.5,-96550.959999999992]
[null,{"$f":"'Market Data'!B1351","v":20050420},{"$f":"'Market Data'!C1351","v":5330},{"$f":"'Market Data'!D1351","v":5333.5},{"$f":"'Market Data'!E1351","v":5250},{"$f":"'Market Data'!F1351","v":5256},null,1347,"Hidden","Long",null,1,0,"",null,1,"Stay Long",-1977.5,-98528.459999999992]
[null,{"$f":"'Market Data'!B1352","v":20050421},{"$f":"'Market Data'!C1352","v":5274.5},{"$f":"'Market Data'!D1352","v":5330},{"$f":"'Market Data'!E1352","v":5271.5},{"$f":"'Market Data'!F1352","v":5328},null,1348,"Hidden","Long",null,1,0,"",null,1,"Stay Long",2520,-96008.459999999992]
[null,{"$f":"'Market Data'!B1353","v":20050422},{"$f":"'Market Data'!C1353","v":5324},{"$f":"'Market Data'!D1353","v":5344.5},{"$f":"'Market Data'!E1353","v":5309.5},{"$f":"'Market Data'!F1353","v":5323},null,1349,"Hidden","Long",null,1,0,"",null,1,"Stay Long",-175,-96183.459999999992]
[null,{"$f":"'Market Data'!B1354","v":20050425},{"$f":"'Market Data'!C1354","v":5318.5},{"$f":"'Market Data'!D1354","v":5360.5},{"$f":"'Market Data'!E1354","v":5313},{"$f":"'Market Data'!F1354","v":5351},null,1350,"Hidden","Long",null,1,0,"",null,1,"Stay Long",980,-95203.459999999992]
[null,{"$f":"'Market Data'!B1355","v":20050426},{"$f":"'Market Data'!C1355","v":5353},{"$f":"'Market Data'!D1355","v":5354.5},{"$f":"'Market Data'!E1355","v":5318.5},{"$f":"'Market Data'!F1355","v":5335},null,1351,"Hidden","Long",null,1,0,"",null,1,"Stay Long",-560,-95763.459999999992]
[null,{"$f":"'Market Data'!B1356","v":20050427},{"$f":"'Market Data'!C1356","v":5320},{"$f":"'Market Data'!D1356","v":5327.5},{"$f":"'Market Data'!E1356","v":5266},{"$f":"'Market Data'!F1356","v":5314},null,1352,"Hidden","Long",null,1,0,"",null,1,"Stay Long",-735,-96498.459999999992]
[null,{"$f":"'Market Data'!B1357","v":20050428},{"$f":"'Market Data'!C1357","v":5318},{"$f":"'Market Data'!D1357","v":5324},{"$f":"'Market Data'!E1357","v":5267},{"$f":"'Market Data'!F1357","v":5287},null,1353,"Hidden","Long",null,1,0,"",null,1,"Stay Long",-945,-97443.459999999992]
[null,{"$f":"'Market Data'!B1358","v":20050429},{"$f":"'Market Data'!C1358","v":5263},{"$f":"'Market Data'!D1358","v":5317.5},{"$f":"'Market Data'!E1358","v":5263},{"$f":"'Market Data'!F1358","v":5304},null,1354,"Hidden","Long",null,1,0,"",null,1,"Stay Long",595,-96848.459999999992]
[null,{"$f":"'Market Data'!B1359","v":20050502},{"$f":"'Market Data'!C1359","v":5322.5},{"$f":"'Market Data'!D1359","v":5343.5},{"$f":"'Market Data'!E1359","v":5312},{"$f":"'Market Data'!F1359","v":5331},null,1355,"Hidden","Long",null,1,0,"",null,1,"Stay Long",945,-95903.459999999992]
[null,{"$f":"'Market Data'!B1360","v":20050503},{"$f":"'Market Data'!C1360","v":5336},{"$f":"'Market Data'!D1360","v":5356.5},{"$f":"'Market Data'!E1360","v":5325},{"$f":"'Market Data'!F1360","v":5353},null,1356,"Hidden","Long",null,1,0,"",null,1,"Stay Long",770,-95133.459999999992]
[null,{"$f":"'Market Data'!B1361","v":20050504},{"$f":"'Market Data'!C1361","v":5358},{"$f":"'Market Data'!D1361","v":5384.5},{"$f":"'Market Data'!E1361","v":5332.5},{"$f":"'Market Data'!F1361","v":5383},null,1357,"Hidden","Long",null,1,0,"",null,1,"Stay Long",1050,-94083.459999999992]
[null,{"$f":"'Market Data'!B1362","v":20050505},{"$f":"'Market Data'!C1362","v":5382},{"$f":"'Market Data'!D1362","v":5413},{"$f":"'Market Data'!E1362","v":5370.5},{"$f":"'Market Data'!F1362","v":5381},null,1358,"Hidden","Long",null,1,0,"",null,1,"Stay Long",-70,-94153.459999999992]
[null,{"$f":"'Market Data'!B1363","v":20050506},{"$f":"'Market Data'!C1363","v":5399.5},{"$f":"'Market Data'!D1363","v":5422},{"$f":"'Market Data'!E1363","v":5382},{"$f":"'Market Data'!F1363","v":5408},null,1359,"Hidden","Long",null,1,0,"",null,1,"Stay Long",945,-93208.459999999992]
[null,{"$f":"'Market Data'!B1364","v":20050509},{"$f":"'Market Data'!C1364","v":5414},{"$f":"'Market Data'!D1364","v":5414},{"$f":"'Market Data'!E1364","v":5383.5},{"$f":"'Market Data'!F1364","v":5410.5},null,1360,"Hidden","Long",null,1,0,"",null,1,"Stay Long",87.5,-93120.959999999992]
[null,{"$f":"'Market Data'!B1365","v":20050510},{"$f":"'Market Data'!C1365","v":5407},{"$f":"'Market Data'!D1365","v":5412.5},{"$f":"'Market Data'!E1365","v":5342.5},{"$f":"'Market Data'!F1365","v":5359.5},null,1361,"Hidden","Long",null,1,0,"",null,1,"Stay Long",-1785,-94905.959999999992]
[null,{"$f":"'Market Data'!B1366","v":20050511},{"$f":"'Market Data'!C1366","v":5352.5},{"$f":"'Market Data'!D1366","v":5380},{"$f":"'Market Data'!E1366","v":5333.5},{"$f":"'Market Data'!F1366","v":5361},null,1362,"Hidden","Long",null,1,0,"",null,1,"Stay Long",52.5,-94853.459999999992]
[null,{"$f":"'Market Data'!B1367","v":20050512},{"$f":"'Market Data'!C1367","v":5374},{"$f":"'Market Data'!D1367","v":5387},{"$f":"'Market Data'!E1367","v":5359},{"$f":"'Market Data'!F1367","v":5367},null,1363,"Hidden","Long",null,1,0,"",null,1,"Stay Long",210,-94643.459999999992]
[null,{"$f":"'Market Data'!B1368","v":20050513},{"$f":"'Market Data'!C1368","v":5356},{"$f":"'Market Data'!D1368","v":5389.5},{"$f":"'Market Data'!E1368","v":5346.5},{"$f":"'Market Data'!F1368","v":5370},null,1364,"Hidden","Long",null,1,0,"",null,1,"Stay Long",105,-94538.459999999992]
[null,{"$f":"'Market Data'!B1369","v":20050516},{"$f":"'Market Data'!C1369","v":5363.5},{"$f":"'Market Data'!D1369","v":5380},{"$f":"'Market Data'!E1369","v":5356.5},{"$f":"'Market Data'!F1369","v":5379.5},null,1365,"Hidden","Long",null,1,0,"",null,1,"Stay Long",332.5,-94205.959999999992]
[null,{"$f":"'Market Data'!B1370","v":20050517},{"$f":"'Market Data'!C1370","v":5380},{"$f":"'Market Data'!D1370","v":5380.5},{"$f":"'Market Data'!E1370","v":5335.5},{"$f":"'Market Data'!F1370","v":5358.5},null,1366,"Hidden","Long",null,1,0,"",null,1,"Stay Long",-735,-94940.959999999992]
[null,{"$f":"'Market Data'!B1371","v":20050518},{"$f":"'Market Data'!C1371","v":5380},{"$f":"'Market Data'!D1371","v":5454},{"$f":"'Market Data'!E1371","v":5371.5},{"$f":"'Market Data'!F1371","v":5443.5},null,1367,"Hidden","Long",null,1,0,"",null,1,"Stay Long",2975,-91965.959999999992]
[null,{"$f":"'Market Data'!B1372","v":20050519},{"$f":"'Market Data'!C1372","v":5437},{"$f":"'Market Data'!D1372","v":5468},{"$f":"'Market Data'!E1372","v":5436},{"$f":"'Market Data'!F1372","v":5460},null,1368,"Hidden","Long",null,1,0,"",null,1,"Stay Long",577.5,-91388.459999999992]
[null,{"$f":"'Market Data'!B1373","v":20050520},{"$f":"'Market Data'!C1373","v":5464},{"$f":"'Market Data'!D1373","v":5492},{"$f":"'Market Data'!E1373","v":5453.5},{"$f":"'Market Data'!F1373","v":5492},null,1369,"Hidden","Long",null,1,0,"",null,1,"Stay Long",1120,-90268.459999999992]
[null,{"$f":"'Market Data'!B1374","v":20050523},{"$f":"'Market Data'!C1374","v":5510},{"$f":"'Market Data'!D1374","v":5520},{"$f":"'Market Data'!E1374","v":5493},{"$f":"'Market Data'!F1374","v":5520},null,1370,"Hidden","Long",null,1,0,"",null,1,"Stay Long",980,-89288.459999999992]
[null,{"$f":"'Market Data'!B1375","v":20050524},{"$f":"'Market Data'!C1375","v":5516},{"$f":"'Market Data'!D1375","v":5516.5},{"$f":"'Market Data'!E1375","v":5485.5},{"$f":"'Market Data'!F1375","v":5502.5},null,1371,"Hidden","Long",null,1,0,"",null,1,"Stay Long",-612.5,-89900.959999999992]
[null,{"$f":"'Market Data'!B1376","v":20050525},{"$f":"'Market Data'!C1376","v":5497.5},{"$f":"'Market Data'!D1376","v":5507.5},{"$f":"'Market Data'!E1376","v":5479.5},{"$f":"'Market Data'!F1376","v":5490},null,1372,"Hidden","Long",null,1,0,"",null,1,"Stay Long",-437.5,-90338.459999999992]
[null,{"$f":"'Market Data'!B1377","v":20050526},{"$f":"'Market Data'!C1377","v":5499.5},{"$f":"'Market Data'!D1377","v":5545},{"$f":"'Market Data'!E1377","v":5496},{"$f":"'Market Data'!F1377","v":5544},null,1373,"Hidden","Long",null,1,0,"",null,1,"Stay Long",1890,-88448.459999999992]
[null,{"$f":"'Market Data'!B1378","v":20050527},{"$f":"'Market Data'!C1378","v":5545.5},{"$f":"'Market Data'!D1378","v":5554.5},{"$f":"'Market Data'!E1378","v":5531.5},{"$f":"'Market Data'!F1378","v":5554.5},null,1374,"Hidden","Long",null,1,0,"",null,1,"Stay Long",367.5,-88080.959999999992]
[null,{"$f":"'Market Data'!B1379","v":20050530},{"$f":"'Market Data'!C1379","v":5548},{"$f":"'Market Data'!D1379","v":5584.5},{"$f":"'Market Data'!E1379","v":5541},{"$f":"'Market Data'!F1379","v":5580},null,1375,"Hidden","Long",null,1,0,"",null,1,"Stay Long",892.5,-87188.459999999992]
[null,{"$f":"'Market Data'!B1380","v":20050531},{"$f":"'Market Data'!C1380","v":5580},{"$f":"'Market Data'!D1380","v":5582.5},{"$f":"'Market Data'!E1380","v":5558.5},{"$f":"'Market Data'!F1380","v":5580},null,1376,"Hidden","Long",null,1,0,"",null,1,"Stay Long",0,-87188.459999999992]
[null,{"$f":"'Market Data'!B1381","v":20050601},{"$f":"'Market Data'!C1381","v":5576.5},{"$f":"'Market Data'!D1381","v":5637},{"$f":"'Market Data'!E1381","v":5568.5},{"$f":"'Market Data'!F1381","v":5632.5},null,1377,"Hidden","Long",null,1,0,"",null,1,"Stay Long",1837.5,-85350.959999999992]
[null,{"$f":"'Market Data'!B1382","v":20050602},{"$f":"'Market Data'!C1382","v":5621},{"$f":"'Market Data'!D1382","v":5643.5},{"$f":"'Market Data'!E1382","v":5614.5},{"$f":"'Market Data'!F1382","v":5640},null,1378,"Hidden","Long",null,1,0,"",null,1,"Stay Long",262.5,-85088.459999999992]
[null,{"$f":"'Market Data'!B1383","v":20050603},{"$f":"'Market Data'!C1383","v":5651},{"$f":"'Market Data'!D1383","v":5652},{"$f":"'Market Data'!E1383","v":5593.5},{"$f":"'Market Data'!F1383","v":5603},null,1379,"Hidden","Long",null,1,0,"",null,1,"Stay Long",-1295,-86383.459999999992]
[null,{"$f":"'Market Data'!B1384","v":20050606},{"$f":"'Market Data'!C1384","v":5618},{"$f":"'Market Data'!D1384","v":5622},{"$f":"'Market Data'!E1384","v":5589.5},{"$f":"'Market Data'!F1384","v":5612},null,1380,"Hidden","Long",null,1,0,"",null,1,"Stay Long",315,-86068.459999999992]
[null,{"$f":"'Market Data'!B1385","v":20050607},{"$f":"'Market Data'!C1385","v":5618},{"$f":"'Market Data'!D1385","v":5671},{"$f":"'Market Data'!E1385","v":5614},{"$f":"'Market Data'!F1385","v":5657},null,1381,"Hidden","Long",null,1,0,"",null,1,"Stay Long",1575,-84493.459999999992]
[null,{"$f":"'Market Data'!B1386","v":20050608},{"$f":"'Market Data'!C1386","v":5648},{"$f":"'Market Data'!D1386","v":5666.5},{"$f":"'Market Data'!E1386","v":5642.5},{"$f":"'Market Data'!F1386","v":5655},null,1382,"Hidden","Long",null,1,0,"",null,1,"Stay Long",-70,-84563.459999999992]
[null,{"$f":"'Market Data'!B1387","v":20050609},{"$f":"'Market Data'!C1387","v":5647.5},{"$f":"'Market Data'!D1387","v":5682},{"$f":"'Market Data'!E1387","v":5634},{"$f":"'Market Data'!F1387","v":5672.5},null,1383,"Hidden","Long",null,1,0,"",null,1,"Stay Long",612.5,-83950.959999999992]
[null,{"$f":"'Market Data'!B1388","v":20050610},{"$f":"'Market Data'!C1388","v":5682},{"$f":"'Market Data'!D1388","v":5700},{"$f":"'Market Data'!E1388","v":5669.5},{"$f":"'Market Data'!F1388","v":5683.5},null,1384,"Hidden","Long",null,1,0,"",null,1,"Stay Long",385,-83565.959999999992]
[null,{"$f":"'Market Data'!B1389","v":20050613},{"$f":"'Market Data'!C1389","v":5698},{"$f":"'Market Data'!D1389","v":5702.5},{"$f":"'Market Data'!E1389","v":5664.5},{"$f":"'Market Data'!F1389","v":5685},null,1385,"Hidden","Long",null,1,0,"",null,1,"Stay Long",52.5,-83513.459999999992]
[null,{"$f":"'Market Data'!B1390","v":20050614},{"$f":"'Market Data'!C1390","v":5691.5},{"$f":"'Market Data'!D1390","v":5700.5},{"$f":"'Market Data'!E1390","v":5676.5},{"$f":"'Market Data'!F1390","v":5700.5},null,1386,"Hidden","Long",null,1,0,"",null,1,"Stay Long",542.5,-82970.959999999992]
[null,{"$f":"'Market Data'!B1391","v":20050615},{"$f":"'Market Data'!C1391","v":5696.5},{"$f":"'Market Data'!D1391","v":5706.5},{"$f":"'Market Data'!E1391","v":5632},{"$f":"'Market Data'!F1391","v":5653},null,1387,"Hidden","Long",null,1,0,"",null,1,"Stay Long",-1662.5,-84633.459999999992]
[null,{"$f":"'Market Data'!B1392","v":20050616},{"$f":"'Market Data'!C1392","v":5673.5},{"$f":"'Market Data'!D1392","v":5685},{"$f":"'Market Data'!E1392","v":5650},{"$f":"'Market Data'!F1392","v":5673},null,1388,"Hidden","Long",null,1,0,"",null,1,"Stay Long",700,-83933.459999999992]
[null,{"$f":"'Market Data'!B1393","v":20050617},{"$f":"'Market Data'!C1393","v":5684.5},{"$f":"'Market Data'!D1393","v":5722},{"$f":"'Market Data'!E1393","v":5682},{"$f":"'Market Data'!F1393","v":5710},null,1389,"Hidden","Long",null,1,0,"",null,1,"Stay Long",1295,-82638.459999999992]
[null,{"$f":"'Market Data'!B1394","v":20050620},{"$f":"'Market Data'!C1394","v":5698.5},{"$f":"'Market Data'!D1394","v":5701},{"$f":"'Market Data'!E1394","v":5656.5},{"$f":"'Market Data'!F1394","v":5694},null,1390,"Hidden","Long",null,1,0,"",null,1,"Stay Long",-560,-83198.459999999992]
[null,{"$f":"'Market Data'!B1395","v":20050621},{"$f":"'Market Data'!C1395","v":5703},{"$f":"'Market Data'!D1395","v":5711.5},{"$f":"'Market Data'!E1395","v":5691},{"$f":"'Market Data'!F1395","v":5704},null,1391,"Hidden","Long",null,1,0,"",null,1,"Stay Long",350,-82848.459999999992]
[null,{"$f":"'Market Data'!B1396","v":20050622},{"$f":"'Market Data'!C1396","v":5705.5},{"$f":"'Market Data'!D1396","v":5731.5},{"$f":"'Market Data'!E1396","v":5694.5},{"$f":"'Market Data'!F1396","v":5719},null,1392,"Hidden","Long",null,1,0,"",null,1,"Stay Long",525,-82323.459999999992]
[null,{"$f":"'Market Data'!B1397","v":20050623},{"$f":"'Market Data'!C1397","v":5722},{"$f":"'Market Data'!D1397","v":5737.5},{"$f":"'Market Data'!E1397","v":5693.5},{"$f":"'Market Data'!F1397","v":5700},null,1393,"Hidden","Long",null,1,0,"",null,1,"Stay Long",-665,-82988.459999999992]
[null,{"$f":"'Market Data'!B1398","v":20050624},{"$f":"'Market Data'!C1398","v":5676.5},{"$f":"'Market Data'!D1398","v":5683.5},{"$f":"'Market Data'!E1398","v":5651.5},{"$f":"'Market Data'!F1398","v":5652},null,1394,"Hidden","Long",null,1,0,"",null,1,"Stay Long",-1680,-84668.459999999992]
[null,{"$f":"'Market Data'!B1399","v":20050627},{"$f":"'Market Data'!C1399","v":5634},{"$f":"'Market Data'!D1399","v":5637.5},{"$f":"'Market Data'!E1399","v":5602},{"$f":"'Market Data'!F1399","v":5602},null,1395,"Hidden","Long",null,1,0,"",null,1,"Stay Long",-1750,-86418.459999999992]
[null,{"$f":"'Market Data'!B1400","v":20050628},{"$f":"'Market Data'!C1400","v":5627.5},{"$f":"'Market Data'!D1400","v":5666},{"$f":"'Market Data'!E1400","v":5622.5},{"$f":"'Market Data'!F1400","v":5661.5},null,1396,"Hidden","Long",null,1,0,"",null,1,"Stay Long",2082.5,-84335.959999999992]
[null,{"$f":"'Market Data'!B1401","v":20050629},{"$f":"'Market Data'!C1401","v":5663},{"$f":"'Market Data'!D1401","v":5690},{"$f":"'Market Data'!E1401","v":5653},{"$f":"'Market Data'!F1401","v":5665},null,1397,"Hidden","Long",null,1,0,"",null,1,"Stay Long",122.5,-84213.459999999992]
[null,{"$f":"'Market Data'!B1402","v":20050630},{"$f":"'Market Data'!C1402","v":5669},{"$f":"'Market Data'!D1402","v":5701},{"$f":"'Market Data'!E1402","v":5667.5},{"$f":"'Market Data'!F1402","v":5694.5},null,1398,"Hidden","Long",null,1,0,"",null,1,"Stay Long",1032.5,-83180.959999999992]
[null,{"$f":"'Market Data'!B1403","v":20050701},{"$f":"'Market Data'!C1403","v":5671.5},{"$f":"'Market Data'!D1403","v":5717.5},{"$f":"'Market Data'!E1403","v":5671},{"$f":"'Market Data'!F1403","v":5709.5},null,1399,"Hidden","Long",null,1,0,"",null,1,"Stay Long",525,-82655.959999999992]
[null,{"$f":"'Market Data'!B1404","v":20050704},{"$f":"'Market Data'!C1404","v":5709.5},{"$f":"'Market Data'!D1404","v":5720.5},{"$f":"'Market Data'!E1404","v":5704},{"$f":"'Market Data'!F1404","v":5717},null,1400,"Hidden","Long",null,1,0,"",null,1,"Stay Long",262.5,-82393.459999999992]
[null,{"$f":"'Market Data'!B1405","v":20050705},{"$f":"'Market Data'!C1405","v":5713},{"$f":"'Market Data'!D1405","v":5717},{"$f":"'Market Data'!E1405","v":5669},{"$f":"'Market Data'!F1405","v":5703.5},null,1401,"Hidden","Long",null,1,0,"",null,1,"Stay Long",-472.5,-82865.959999999992]
[null,{"$f":"'Market Data'!B1406","v":20050706},{"$f":"'Market Data'!C1406","v":5706},{"$f":"'Market Data'!D1406","v":5730},{"$f":"'Market Data'!E1406","v":5699},{"$f":"'Market Data'!F1406","v":5709},null,1402,"Hidden","Long",null,1,0,"",null,1,"Stay Long",192.5,-82673.459999999992]
[null,{"$f":"'Market Data'!B1407","v":20050707},{"$f":"'Market Data'!C1407","v":5681.5},{"$f":"'Market Data'!D1407","v":5685.5},{"$f":"'Market Data'!E1407","v":5537},{"$f":"'Market Data'!F1407","v":5652},null,1403,"Hidden","Long",null,1,0,"",null,1,"Stay Long",-1995,-84668.459999999992]
[null,{"$f":"'Market Data'!B1408","v":20050708},{"$f":"'Market Data'!C1408","v":5665.5},{"$f":"'Market Data'!D1408","v":5711},{"$f":"'Market Data'!E1408","v":5648.5},{"$f":"'Market Data'!F1408","v":5706},null,1404,"Hidden","Long",null,1,0,"",null,1,"Stay Long",1890,-82778.459999999992]
[null,{"$f":"'Market Data'!B1409","v":20050711},{"$f":"'Market Data'!C1409","v":5715},{"$f":"'Market Data'!D1409","v":5758},{"$f":"'Market Data'!E1409","v":5712},{"$f":"'Market Data'!F1409","v":5742},null,1405,"Hidden","Long",null,1,0,"",null,1,"Stay Long",1260,-81518.459999999992]
[null,{"$f":"'Market Data'!B1410","v":20050712},{"$f":"'Market Data'!C1410","v":5749},{"$f":"'Market Data'!D1410","v":5763},{"$f":"'Market Data'!E1410","v":5727},{"$f":"'Market Data'!F1410","v":5760},null,1406,"Hidden","Long",null,1,0,"",null,1,"Stay Long",630,-80888.459999999992]
[null,{"$f":"'Market Data'!B1411","v":20050713},{"$f":"'Market Data'!C1411","v":5747},{"$f":"'Market Data'!D1411","v":5774.5},{"$f":"'Market Data'!E1411","v":5746},{"$f":"'Market Data'!F1411","v":5768},null,1407,"Hidden","Long",null,1,{"$f":"$L1424-P1424","v":0},"",null,1,"Stay Long",280,-80608.459999999992]
[null,{"$f":"'Market Data'!B1412","v":20050714},{"$f":"'Market Data'!C1412","v":5780.5},{"$f":"'Market Data'!D1412","v":5805.5},{"$f":"'Market Data'!E1412","v":5776},{"$f":"'Market Data'!F1412","v":5791.5},null,1408,"Hidden","Long",null,1,0,"",null,{"$f":"IF($N1424=\"Fill\",$L1424,$P1424)","v":1},"Stay Long",{"$f":"IF(OR($P1424&$L1424=\"01\",$P1424&$L1424=\"0-1\"),(($F1425-$C1425)*$R$3*$L1424)-(ABS($M1424)*$R$4),IF(OR($P1424&$L1424=\"10\",$P1424&$L1424=\"-10\"),(($C1425-$F1424)*$R$3*$P1424)-(ABS($M1424)*$R$4),IF(OR($P1424&$L1424=\"1-1\",$P1424&$L1424=\"-11\"),(($C1425-$F1424)*$R$3*$P1424)-(ABS($M1424)*$R$4)+(($F1425-$C1425)*$R$3*$P1425),IF(OR($P1424&$L1424=\"11\",$P1424&$L1424=\"-1-1\"),(($F1425-$F1424)*$R$3*$P1425),0))))","v":822.5},-79785.959999999992]
[null,{"$f":"'Market Data'!B1413","v":20050715},{"$f":"'Market Data'!C1413","v":5792},{"$f":"'Market Data'!D1413","v":5813.5},{"$f":"'Market Data'!E1413","v":5779.5},{"$f":"'Market Data'!F1413","v":5809.5},null,{"$f":"ROW()-ROW(H$17)","v":1409},"Hidden",{"$f":"$I$4","v":"Long"},null,1,0,{"$f":"IF(NOT($M1426=0),\"Fill\",\"\")","v":""},null,1,{"$f":"IF($P1425&$L1425=\"00\",\"Stay Flat\",IF($P1425&$L1425=\"01\",\"Go Long\",IF($P1425&$L1425=\"0-1\",\"Go Short\",IF($P1425&$L1425=\"-10\",\"Exit Short\",IF($P1425&$L1425=\"-1-1\",\"Stay Short\",IF($P1425&$L1425=\"-11\",\"Exit Short, Go Long\",IF($P1425&$L1425=\"10\",\"Exit Long\",IF($P1425&$L1425=\"1-1\",\"Exit Long, Go Short\",IF($P1425&$L1425=\"11\",\"Stay Long\",\"\")))))))))","v":"Stay Long"},630,{"$f":"S1425+R1426","v":-79155.959999999992}]
[null,{"$f":"'Market Data'!B1414","v":20050718},{"$f":"'Market Data'!C1414","v":5809.5},{"$f":"'Market Data'!D1414","v":5822},{"$f":"'Market Data'!E1414","v":5793},{"$f":"'Market Data'!F1414","v":5810},null,1410,"Hidden","Long",null,{"$f":"IF($J1427=\"Short\",-1,IF($J1427=\"Long\",1,0))","v":1},0,"",null,1,"Stay Long",17.5,-79138.459999999992]
[null,{"$f":"'Market Data'!B1415","v":20050719},{"$f":"'Market Data'!C1415","v":5814},{"$f":"'Market Data'!D1415","v":5863},{"$f":"'Market Data'!E1415","v":5807},{"$f":"'Market Data'!F1415","v":5855.5},null,1411,"Hidden","Long",null,1,0,"",null,1,"Stay Long",1592.5,-77545.959999999992]
[null,{"$f":"'Market Data'!B1416","v":20050720},{"$f":"'Market Data'!C1416","v":5847.5},{"$f":"'Market Data'!D1416","v":5898.5},{"$f":"'Market Data'!E1416","v":5843.5},{"$f":"'Market Data'!F1416","v":5898.5},null,1412,"Hidden","Long",null,1,0,"",null,1,"Stay Long",1505,-76040.959999999992]
[null,{"$f":"'Market Data'!B1417","v":20050721},{"$f":"'Market Data'!C1417","v":5897},{"$f":"'Market Data'!D1417","v":5956},{"$f":"'Market Data'!E1417","v":5893},{"$f":"'Market Data'!F1417","v":5919},null,1413,"Hidden","Long",null,1,0,"",null,1,"Stay Long",717.5,-75323.459999999992]
[null,{"$f":"'Market Data'!B1418","v":20050722},{"$f":"'Market Data'!C1418","v":5917},{"$f":"'Market Data'!D1418","v":5941},{"$f":"'Market Data'!E1418","v":5902.5},{"$f":"'Market Data'!F1418","v":5929},null,1414,"Hidden","Long",null,1,0,"",null,1,"Stay Long",350,-74973.459999999992]
[null,{"$f":"'Market Data'!B1419","v":20050725},{"$f":"'Market Data'!C1419","v":5932.5},{"$f":"'Market Data'!D1419","v":5941.5},{"$f":"'Market Data'!E1419","v":5906.5},{"$f":"'Market Data'!F1419","v":5924.5},null,1415,"Hidden","Long",null,1,0,"",null,1,"Stay Long",-157.5,-75130.959999999992]
[null,{"$f":"'Market Data'!B1420","v":20050726},{"$f":"'Market Data'!C1420","v":5924.5},{"$f":"'Market Data'!D1420","v":5946.5},{"$f":"'Market Data'!E1420","v":5917},{"$f":"'Market Data'!F1420","v":5932},null,1416,"Hidden","Long",null,1,0,"",null,1,"Stay Long",262.5,-74868.459999999992]
[null,{"$f":"'Market Data'!B1421","v":20050727},{"$f":"'Market Data'!C1421","v":5931},{"$f":"'Market Data'!D1421","v":5954},{"$f":"'Market Data'!E1421","v":5927.5},{"$f":"'Market Data'!F1421","v":5948},null,1417,"Hidden","Long",null,1,0,"",null,1,"Stay Long",560,-74308.459999999992]
[null,{"$f":"'Market Data'!B1422","v":20050728},{"$f":"'Market Data'!C1422","v":5953},{"$f":"'Market Data'!D1422","v":5992},{"$f":"'Market Data'!E1422","v":5947},{"$f":"'Market Data'!F1422","v":5990.5},null,1418,"Hidden","Long",null,1,0,"",null,1,"Stay Long",1487.5,-72820.959999999992]
[null,{"$f":"'Market Data'!B1423","v":20050729},{"$f":"'Market Data'!C1423","v":5990},{"$f":"'Market Data'!D1423","v":6002},{"$f":"'Market Data'!E1423","v":5959.5},{"$f":"'Market Data'!F1423","v":5971.5},null,1419,"Hidden","Long",null,1,0,"",null,1,"Stay Long",-665,-73485.959999999992]
[null,{"$f":"'Market Data'!B1424","v":20050801},{"$f":"'Market Data'!C1424","v":5972},{"$f":"'Market Data'!D1424","v":5999.5},{"$f":"'Market Data'!E1424","v":5963},{"$f":"'Market Data'!F1424","v":5984},null,1420,"Hidden","Long",null,1,0,"",null,1,"Stay Long",437.5,-73048.459999999992]
[null,{"$f":"'Market Data'!B1425","v":20050802},{"$f":"'Market Data'!C1425","v":5981},{"$f":"'Market Data'!D1425","v":6025},{"$f":"'Market Data'!E1425","v":5980.5},{"$f":"'Market Data'!F1425","v":6017.5},null,1421,"Hidden","Long",null,1,0,"",null,1,"Stay Long",1172.5,-71875.959999999992]
[null,{"$f":"'Market Data'!B1426","v":20050803},{"$f":"'Market Data'!C1426","v":6014},{"$f":"'Market Data'!D1426","v":6020.5},{"$f":"'Market Data'!E1426","v":5986.5},{"$f":"'Market Data'!F1426","v":6012},null,1422,"Hidden","Long",null,1,0,"",null,1,"Stay Long",-192.5,-72068.459999999992]
[null,{"$f":"'Market Data'!B1427","v":20050804},{"$f":"'Market Data'!C1427","v":6008.5},{"$f":"'Market Data'!D1427","v":6013},{"$f":"'Market Data'!E1427","v":5922.5},{"$f":"'Market Data'!F1427","v":5929},null,1423,"Hidden","Long",null,1,0,"",null,1,"Stay Long",-2905,-74973.459999999992]
[null,{"$f":"'Market Data'!B1428","v":20050805},{"$f":"'Market Data'!C1428","v":5933.5},{"$f":"'Market Data'!D1428","v":5952.5},{"$f":"'Market Data'!E1428","v":5903.5},{"$f":"'Market Data'!F1428","v":5912},null,1424,"Hidden","Long",null,1,0,"",null,1,"Stay Long",-595,-75568.459999999992]
[null,{"$f":"'Market Data'!B1429","v":20050808},{"$f":"'Market Data'!C1429","v":5923},{"$f":"'Market Data'!D1429","v":5945.5},{"$f":"'Market Data'!E1429","v":5905},{"$f":"'Market Data'!F1429","v":5907},null,1425,"Hidden","Long",null,1,0,"",null,1,"Stay Long",-175,-75743.459999999992]
[null,{"$f":"'Market Data'!B1430","v":20050809},{"$f":"'Market Data'!C1430","v":5917.5},{"$f":"'Market Data'!D1430","v":5998},{"$f":"'Market Data'!E1430","v":5917},{"$f":"'Market Data'!F1430","v":5997},null,1426,"Hidden","Long",null,1,0,"",null,1,"Stay Long",3150,-72593.459999999992]
[null,{"$f":"'Market Data'!B1431","v":20050810},{"$f":"'Market Data'!C1431","v":6011},{"$f":"'Market Data'!D1431","v":6072},{"$f":"'Market Data'!E1431","v":6010},{"$f":"'Market Data'!F1431","v":6043},null,1427,"Hidden","Long",null,1,0,"",null,1,"Stay Long",1610,-70983.459999999992]
[null,{"$f":"'Market Data'!B1432","v":20050811},{"$f":"'Market Data'!C1432","v":6044},{"$f":"'Market Data'!D1432","v":6066},{"$f":"'Market Data'!E1432","v":6017},{"$f":"'Market Data'!F1432","v":6032},null,1428,"Hidden","Long",null,1,0,"",null,1,"Stay Long",-385,-71368.459999999992]
[null,{"$f":"'Market Data'!B1433","v":20050812},{"$f":"'Market Data'!C1433","v":6051.5},{"$f":"'Market Data'!D1433","v":6054.5},{"$f":"'Market Data'!E1433","v":5999.5},{"$f":"'Market Data'!F1433","v":6006.5},null,1429,"Hidden","Long",null,1,0,"",null,1,"Stay Long",-892.5,-72260.959999999992]
[null,{"$f":"'Market Data'!B1434","v":20050815},{"$f":"'Market Data'!C1434","v":6017},{"$f":"'Market Data'!D1434","v":6032.5},{"$f":"'Market Data'!E1434","v":5994.5},{"$f":"'Market Data'!F1434","v":6027},null,1430,"Hidden","Long",null,1,0,"",null,1,"Stay Long",717.5,-71543.459999999992]
[null,{"$f":"'Market Data'!B1435","v":20050816},{"$f":"'Market Data'!C1435","v":6029.5},{"$f":"'Market Data'!D1435","v":6036},{"$f":"'Market Data'!E1435","v":5948.5},{"$f":"'Market Data'!F1435","v":5954},null,1431,"Hidden","Long",null,1,0,"",null,1,"Stay Long",-2555,-74098.459999999992]
[null,{"$f":"'Market Data'!B1436","v":20050817},{"$f":"'Market Data'!C1436","v":5947},{"$f":"'Market Data'!D1436","v":5975},{"$f":"'Market Data'!E1436","v":5921},{"$f":"'Market Data'!F1436","v":5967},null,1432,"Hidden","Long",null,1,0,"",null,1,"Stay Long",455,-73643.459999999992]
[null,{"$f":"'Market Data'!B1437","v":20050818},{"$f":"'Market Data'!C1437","v":5957.5},{"$f":"'Market Data'!D1437","v":5965.5},{"$f":"'Market Data'!E1437","v":5912.5},{"$f":"'Market Data'!F1437","v":5938.5},null,1433,"Hidden","Long",null,1,0,"",null,1,"Stay Long",-997.5,-74640.959999999992]
[null,{"$f":"'Market Data'!B1438","v":20050819},{"$f":"'Market Data'!C1438","v":5934.5},{"$f":"'Market Data'!D1438","v":6012.5},{"$f":"'Market Data'!E1438","v":5930.5},{"$f":"'Market Data'!F1438","v":6001},null,1434,"Hidden","Long",null,1,0,"",null,1,"Stay Long",2187.5,-72453.459999999992]
[null,{"$f":"'Market Data'!B1439","v":20050822},{"$f":"'Market Data'!C1439","v":6015},{"$f":"'Market Data'!D1439","v":6034},{"$f":"'Market Data'!E1439","v":5978},{"$f":"'Market Data'!F1439","v":6002},null,1435,"Hidden","Long",null,1,0,"",null,1,"Stay Long",35,-72418.459999999992]
[null,{"$f":"'Market Data'!B1440","v":20050823},{"$f":"'Market Data'!C1440","v":6006.5},{"$f":"'Market Data'!D1440","v":6012},{"$f":"'Market Data'!E1440","v":5973},{"$f":"'Market Data'!F1440","v":5985},null,1436,"Hidden","Long",null,1,0,"",null,1,"Stay Long",-595,-73013.459999999992]
[null,{"$f":"'Market Data'!B1441","v":20050824},{"$f":"'Market Data'!C1441","v":5985},{"$f":"'Market Data'!D1441","v":6008},{"$f":"'Market Data'!E1441","v":5953},{"$f":"'Market Data'!F1441","v":5995},null,1437,"Hidden","Long",null,1,0,"",null,1,"Stay Long",350,-72663.459999999992]
[null,{"$f":"'Market Data'!B1442","v":20050825},{"$f":"'Market Data'!C1442","v":5949},{"$f":"'Market Data'!D1442","v":5961.5},{"$f":"'Market Data'!E1442","v":5921},{"$f":"'Market Data'!F1442","v":5923.5},null,1438,"Hidden","Long",null,1,0,"",null,1,"Stay Long",-2502.5,-75165.959999999992]
[null,{"$f":"'Market Data'!B1443","v":20050826},{"$f":"'Market Data'!C1443","v":5939},{"$f":"'Market Data'!D1443","v":5958},{"$f":"'Market Data'!E1443","v":5858},{"$f":"'Market Data'!F1443","v":5861},null,1439,"Hidden","Long",null,1,0,"",null,1,"Stay Long",-2187.5,-77353.459999999992]
[null,{"$f":"'Market Data'!B1444","v":20050829},{"$f":"'Market Data'!C1444","v":5823},{"$f":"'Market Data'!D1444","v":5916.5},{"$f":"'Market Data'!E1444","v":5812.5},{"$f":"'Market Data'!F1444","v":5912.5},null,1440,"Hidden","Long",null,1,0,"",null,1,"Stay Long",1802.5,-75550.959999999992]
[null,{"$f":"'Market Data'!B1445","v":20050830},{"$f":"'Market Data'!C1445","v":5909},{"$f":"'Market Data'!D1445","v":5915},{"$f":"'Market Data'!E1445","v":5860},{"$f":"'Market Data'!F1445","v":5884.5},null,1441,"Hidden","Long",null,1,0,"",null,1,"Stay Long",-980,-76530.959999999992]
[null,{"$f":"'Market Data'!B1446","v":20050831},{"$f":"'Market Data'!C1446","v":5872},{"$f":"'Market Data'!D1446","v":5914.5},{"$f":"'Market Data'!E1446","v":5867.5},{"$f":"'Market Data'!F1446","v":5911.5},null,1442,"Hidden","Long",null,1,0,"",null,1,"Stay Long",945,-75585.959999999992]
[null,{"$f":"'Market Data'!B1447","v":20050901},{"$f":"'Market Data'!C1447","v":5929},{"$f":"'Market Data'!D1447","v":5951.5},{"$f":"'Market Data'!E1447","v":5890},{"$f":"'Market Data'!F1447","v":5906.5},null,1443,"Hidden","Long",null,1,0,"",null,1,"Stay Long",-175,-75760.959999999992]
[null,{"$f":"'Market Data'!B1448","v":20050902},{"$f":"'Market Data'!C1448","v":5919},{"$f":"'Market Data'!D1448","v":5939.5},{"$f":"'Market Data'!E1448","v":5894},{"$f":"'Market Data'!F1448","v":5919.5},null,1444,"Hidden","Long",null,1,0,"",null,1,"Stay Long",455,-75305.959999999992]
[null,{"$f":"'Market Data'!B1449","v":20050905},{"$f":"'Market Data'!C1449","v":5926},{"$f":"'Market Data'!D1449","v":5994},{"$f":"'Market Data'!E1449","v":5920.5},{"$f":"'Market Data'!F1449","v":5976},null,1445,"Hidden","Long",null,1,0,"",null,1,"Stay Long",1977.5,-73328.459999999992]
[null,{"$f":"'Market Data'!B1450","v":20050906},{"$f":"'Market Data'!C1450","v":5980.5},{"$f":"'Market Data'!D1450","v":6051.5},{"$f":"'Market Data'!E1450","v":5978.5},{"$f":"'Market Data'!F1450","v":6051},null,1446,"Hidden","Long",null,1,0,"",null,1,"Stay Long",2625,-70703.459999999992]
[null,{"$f":"'Market Data'!B1451","v":20050907},{"$f":"'Market Data'!C1451","v":6059},{"$f":"'Market Data'!D1451","v":6080},{"$f":"'Market Data'!E1451","v":6041.5},{"$f":"'Market Data'!F1451","v":6065},null,1447,"Hidden","Long",null,1,0,"",null,1,"Stay Long",490,-70213.459999999992]
[null,{"$f":"'Market Data'!B1452","v":20050908},{"$f":"'Market Data'!C1452","v":6065.5},{"$f":"'Market Data'!D1452","v":6074.5},{"$f":"'Market Data'!E1452","v":6041.5},{"$f":"'Market Data'!F1452","v":6062},null,1448,"Hidden","Long",null,1,0,"",null,1,"Stay Long",-105,-70318.459999999992]
[null,{"$f":"'Market Data'!B1453","v":20050909},{"$f":"'Market Data'!C1453","v":6077},{"$f":"'Market Data'!D1453","v":6094},{"$f":"'Market Data'!E1453","v":6038.5},{"$f":"'Market Data'!F1453","v":6094},null,1449,"Hidden","Long",null,1,0,"",null,1,"Stay Long",1120,-69198.459999999992]
[null,{"$f":"'Market Data'!B1454","v":20050912},{"$f":"'Market Data'!C1454","v":6100.5},{"$f":"'Market Data'!D1454","v":6110},{"$f":"'Market Data'!E1454","v":6052.5},{"$f":"'Market Data'!F1454","v":6063},null,1450,"Hidden","Long",null,1,0,"",null,1,"Stay Long",-1085,-70283.459999999992]
[null,{"$f":"'Market Data'!B1455","v":20050913},{"$f":"'Market Data'!C1455","v":6071},{"$f":"'Market Data'!D1455","v":6071},{"$f":"'Market Data'!E1455","v":5968.5},{"$f":"'Market Data'!F1455","v":5983.5},null,1451,"Hidden","Long",null,1,0,"",null,1,"Stay Long",-2782.5,-73065.959999999992]
[null,{"$f":"'Market Data'!B1456","v":20050914},{"$f":"'Market Data'!C1456","v":5985},{"$f":"'Market Data'!D1456","v":6008},{"$f":"'Market Data'!E1456","v":5959},{"$f":"'Market Data'!F1456","v":5978},null,1452,"Hidden","Long",null,1,0,"",null,1,"Stay Long",-192.5,-73258.459999999992]
[null,{"$f":"'Market Data'!B1457","v":20050915},{"$f":"'Market Data'!C1457","v":5982.5},{"$f":"'Market Data'!D1457","v":5998},{"$f":"'Market Data'!E1457","v":5960.5},{"$f":"'Market Data'!F1457","v":5969},null,1453,"Hidden","Long",null,1,0,"",null,1,"Stay Long",-315,-73573.459999999992]
[null,{"$f":"'Market Data'!B1458","v":20050916},{"$f":"'Market Data'!C1458","v":5989.5},{"$f":"'Market Data'!D1458","v":6075.5},{"$f":"'Market Data'!E1458","v":5984.5},{"$f":"'Market Data'!F1458","v":6066.5},null,1454,"Hidden","Long",null,1,0,"",null,1,"Stay Long",3412.5,-70160.959999999992]
[null,{"$f":"'Market Data'!B1459","v":20050919},{"$f":"'Market Data'!C1459","v":5946},{"$f":"'Market Data'!D1459","v":6020.5},{"$f":"'Market Data'!E1459","v":5941},{"$f":"'Market Data'!F1459","v":6003.5},null,1455,"Hidden","Long",null,1,0,"",null,1,"Stay Long",-2205,-72365.959999999992]
[null,{"$f":"'Market Data'!B1460","v":20050920},{"$f":"'Market Data'!C1460","v":6011.5},{"$f":"'Market Data'!D1460","v":6041},{"$f":"'Market Data'!E1460","v":5999},{"$f":"'Market Data'!F1460","v":6020},null,1456,"Hidden","Long",null,1,0,"",null,1,"Stay Long",577.5,-71788.459999999992]
[null,{"$f":"'Market Data'!B1461","v":20050921},{"$f":"'Market Data'!C1461","v":5996},{"$f":"'Market Data'!D1461","v":6003},{"$f":"'Market Data'!E1461","v":5919.5},{"$f":"'Market Data'!F1461","v":5926.5},null,1457,"Hidden","Long",null,1,0,"",null,1,"Stay Long",-3272.5,-75060.959999999992]
[null,{"$f":"'Market Data'!B1462","v":20050922},{"$f":"'Market Data'!C1462","v":5921},{"$f":"'Market Data'!D1462","v":5944},{"$f":"'Market Data'!E1462","v":5897.5},{"$f":"'Market Data'!F1462","v":5935.5},null,1458,"Hidden","Long",null,1,0,"",null,1,"Stay Long",315,-74745.959999999992]
[null,{"$f":"'Market Data'!B1463","v":20050923},{"$f":"'Market Data'!C1463","v":5940},{"$f":"'Market Data'!D1463","v":5974},{"$f":"'Market Data'!E1463","v":5925.5},{"$f":"'Market Data'!F1463","v":5973},null,1459,"Hidden","Long",null,1,0,"",null,1,"Stay Long",1312.5,-73433.459999999992]
[null,{"$f":"'Market Data'!B1464","v":20050926},{"$f":"'Market Data'!C1464","v":6013},{"$f":"'Market Data'!D1464","v":6074},{"$f":"'Market Data'!E1464","v":6010},{"$f":"'Market Data'!F1464","v":6048},null,1460,"Hidden","Long",null,1,0,"",null,1,"Stay Long",2625,-70808.459999999992]
[null,{"$f":"'Market Data'!B1465","v":20050927},{"$f":"'Market Data'!C1465","v":6051.5},{"$f":"'Market Data'!D1465","v":6062.5},{"$f":"'Market Data'!E1465","v":6027},{"$f":"'Market Data'!F1465","v":6050},null,1461,"Hidden","Long",null,1,0,"",null,1,"Stay Long",70,-70738.459999999992]
[null,{"$f":"'Market Data'!B1466","v":20050928},{"$f":"'Market Data'!C1466","v":6071},{"$f":"'Market Data'!D1466","v":6123.5},{"$f":"'Market Data'!E1466","v":6068},{"$f":"'Market Data'!F1466","v":6095},null,1462,"Hidden","Long",null,1,0,"",null,1,"Stay Long",1575,-69163.459999999992]
[null,{"$f":"'Market Data'!B1467","v":20050929},{"$f":"'Market Data'!C1467","v":6124},{"$f":"'Market Data'!D1467","v":6129},{"$f":"'Market Data'!E1467","v":6073.5},{"$f":"'Market Data'!F1467","v":6126.5},null,1463,"Hidden","Long",null,1,0,"",null,1,"Stay Long",1102.5,-68060.959999999992]
[null,{"$f":"'Market Data'!B1468","v":20050930},{"$f":"'Market Data'!C1468","v":6131.5},{"$f":"'Market Data'!D1468","v":6134},{"$f":"'Market Data'!E1468","v":6088.5},{"$f":"'Market Data'!F1468","v":6112.5},null,1464,"Hidden","Long",null,1,0,"",null,1,"Stay Long",-490,-68550.959999999992]
[null,{"$f":"'Market Data'!B1469","v":20051003},{"$f":"'Market Data'!C1469","v":6131.5},{"$f":"'Market Data'!D1469","v":6154},{"$f":"'Market Data'!E1469","v":6117},{"$f":"'Market Data'!F1469","v":6147},null,1465,"Hidden","Long",null,1,0,"",null,1,"Stay Long",1207.5,-67343.459999999992]
[null,{"$f":"'Market Data'!B1470","v":20051004},{"$f":"'Market Data'!C1470","v":6156.5},{"$f":"'Market Data'!D1470","v":6213},{"$f":"'Market Data'!E1470","v":6131.5},{"$f":"'Market Data'!F1470","v":6198},null,1466,"Hidden","Long",null,1,0,"",null,1,"Stay Long",1785,-65558.459999999992]
[null,{"$f":"'Market Data'!B1471","v":20051005},{"$f":"'Market Data'!C1471","v":6162},{"$f":"'Market Data'!D1471","v":6173.5},{"$f":"'Market Data'!E1471","v":6122},{"$f":"'Market Data'!F1471","v":6133.5},null,1467,"Hidden","Long",null,1,0,"",null,1,"Stay Long",-2257.5,-67815.959999999992]
[null,{"$f":"'Market Data'!B1472","v":20051006},{"$f":"'Market Data'!C1472","v":6077.5},{"$f":"'Market Data'!D1472","v":6094},{"$f":"'Market Data'!E1472","v":6033.5},{"$f":"'Market Data'!F1472","v":6035.5},null,1468,"Hidden","Long",null,1,0,"",null,1,"Stay Long",-3430,-71245.959999999992]
[null,{"$f":"'Market Data'!B1473","v":20051007},{"$f":"'Market Data'!C1473","v":6064},{"$f":"'Market Data'!D1473","v":6100},{"$f":"'Market Data'!E1473","v":6049.5},{"$f":"'Market Data'!F1473","v":6068},null,1469,"Hidden","Long",null,1,0,"",null,1,"Stay Long",1137.5,-70108.459999999992]
[null,{"$f":"'Market Data'!B1474","v":20051010},{"$f":"'Market Data'!C1474","v":6092},{"$f":"'Market Data'!D1474","v":6123},{"$f":"'Market Data'!E1474","v":6071.5},{"$f":"'Market Data'!F1474","v":6082},null,1470,"Hidden","Long",null,1,0,"",null,1,"Stay Long",490,-69618.459999999992]
[null,{"$f":"'Market Data'!B1475","v":20051011},{"$f":"'Market Data'!C1475","v":6091},{"$f":"'Market Data'!D1475","v":6132.5},{"$f":"'Market Data'!E1475","v":6080},{"$f":"'Market Data'!F1475","v":6087},null,1471,"Hidden","Long",null,1,{"$f":"$L1488-P1488","v":0},"",null,1,"Stay Long",175,-69443.459999999992]
[null,{"$f":"'Market Data'!B1476","v":20051012},{"$f":"'Market Data'!C1476","v":6058.5},{"$f":"'Market Data'!D1476","v":6085},{"$f":"'Market Data'!E1476","v":6003.5},{"$f":"'Market Data'!F1476","v":6011},null,1472,"Hidden","Long",null,1,0,"",null,{"$f":"IF($N1488=\"Fill\",$L1488,$P1488)","v":1},"Stay Long",{"$f":"IF(OR($P1488&$L1488=\"01\",$P1488&$L1488=\"0-1\"),(($F1489-$C1489)*$R$3*$L1488)-(ABS($M1488)*$R$4),IF(OR($P1488&$L1488=\"10\",$P1488&$L1488=\"-10\"),(($C1489-$F1488)*$R$3*$P1488)-(ABS($M1488)*$R$4),IF(OR($P1488&$L1488=\"1-1\",$P1488&$L1488=\"-11\"),(($C1489-$F1488)*$R$3*$P1488)-(ABS($M1488)*$R$4)+(($F1489-$C1489)*$R$3*$P1489),IF(OR($P1488&$L1488=\"11\",$P1488&$L1488=\"-1-1\"),(($F1489-$F1488)*$R$3*$P1489),0))))","v":-2660},-72103.459999999992]
[null,{"$f":"'Market Data'!B1477","v":20051013},{"$f":"'Market Data'!C1477","v":6023.5},{"$f":"'Market Data'!D1477","v":6058.5},{"$f":"'Market Data'!E1477","v":5976},{"$f":"'Market Data'!F1477","v":5997},null,{"$f":"ROW()-ROW(H$17)","v":1473},"Hidden",{"$f":"$I$4","v":"Long"},null,1,0,{"$f":"IF(NOT($M1490=0),\"Fill\",\"\")","v":""},null,1,{"$f":"IF($P1489&$L1489=\"00\",\"Stay Flat\",IF($P1489&$L1489=\"01\",\"Go Long\",IF($P1489&$L1489=\"0-1\",\"Go Short\",IF($P1489&$L1489=\"-10\",\"Exit Short\",IF($P1489&$L1489=\"-1-1\",\"Stay Short\",IF($P1489&$L1489=\"-11\",\"Exit Short, Go Long\",IF($P1489&$L1489=\"10\",\"Exit Long\",IF($P1489&$L1489=\"1-1\",\"Exit Long, Go Short\",IF($P1489&$L1489=\"11\",\"Stay Long\",\"\")))))))))","v":"Stay Long"},-490,{"$f":"S1489+R1490","v":-72593.459999999992}]
[null,{"$f":"'Market Data'!B1478","v":20051014},{"$f":"'Market Data'!C1478","v":6018},{"$f":"'Market Data'!D1478","v":6058},{"$f":"'Market Data'!E1478","v":5996.5},{"$f":"'Market Data'!F1478","v":6036.5},null,1474,"Hidden","Long",null,{"$f":"IF($J1491=\"Short\",-1,IF($J1491=\"Long\",1,0))","v":1},0,"",null,1,"Stay Long",1382.5,-71210.959999999992]
[null,{"$f":"'Market Data'!B1479","v":20051017},{"$f":"'Market Data'!C1479","v":6051},{"$f":"'Market Data'!D1479","v":6064},{"$f":"'Market Data'!E1479","v":6010},{"$f":"'Market Data'!F1479","v":6020},null,1475,"Hidden","Long",null,1,0,"",null,1,"Stay Long",-577.5,-71788.459999999992]
[null,{"$f":"'Market Data'!B1480","v":20051018},{"$f":"'Market Data'!C1480","v":6050},{"$f":"'Market Data'!D1480","v":6057.5},{"$f":"'Market Data'!E1480","v":5987.5},{"$f":"'Market Data'!F1480","v":5995},null,1476,"Hidden","Long",null,1,0,"",null,1,"Stay Long",-875,-72663.459999999992]
[null,{"$f":"'Market Data'!B1481","v":20051019},{"$f":"'Market Data'!C1481","v":5940},{"$f":"'Market Data'!D1481","v":5960.5},{"$f":"'Market Data'!E1481","v":5887.5},{"$f":"'Market Data'!F1481","v":5952.5},null,1477,"Hidden","Long",null,1,0,"",null,1,"Stay Long",-1487.5,-74150.959999999992]
[null,{"$f":"'Market Data'!B1482","v":20051020},{"$f":"'Market Data'!C1482","v":5983},{"$f":"'Market Data'!D1482","v":5995},{"$f":"'Market Data'!E1482","v":5908},{"$f":"'Market Data'!F1482","v":5908},null,1478,"Hidden","Long",null,1,0,"",null,1,"Stay Long",-1557.5,-75708.459999999992]
[null,{"$f":"'Market Data'!B1483","v":20051021},{"$f":"'Market Data'!C1483","v":5906},{"$f":"'Market Data'!D1483","v":5933},{"$f":"'Market Data'!E1483","v":5881},{"$f":"'Market Data'!F1483","v":5921},null,1479,"Hidden","Long",null,1,0,"",null,1,"Stay Long",455,-75253.459999999992]
[null,{"$f":"'Market Data'!B1484","v":20051024},{"$f":"'Market Data'!C1484","v":5904.5},{"$f":"'Market Data'!D1484","v":5982.5},{"$f":"'Market Data'!E1484","v":5902.5},{"$f":"'Market Data'!F1484","v":5982},null,1480,"Hidden","Long",null,1,0,"",null,1,"Stay Long",2135,-73118.459999999992]
[null,{"$f":"'Market Data'!B1485","v":20051025},{"$f":"'Market Data'!C1485","v":5985},{"$f":"'Market Data'!D1485","v":5992.5},{"$f":"'Market Data'!E1485","v":5900},{"$f":"'Market Data'!F1485","v":5900},null,1481,"Hidden","Long",null,1,0,"",null,1,"Stay Long",-2870,-75988.459999999992]
[null,{"$f":"'Market Data'!B1486","v":20051026},{"$f":"'Market Data'!C1486","v":5946},{"$f":"'Market Data'!D1486","v":5978},{"$f":"'Market Data'!E1486","v":5923},{"$f":"'Market Data'!F1486","v":5942},null,1482,"Hidden","Long",null,1,0,"",null,1,"Stay Long",1470,-74518.459999999992]
[null,{"$f":"'Market Data'!B1487","v":20051027},{"$f":"'Market Data'!C1487","v":5926},{"$f":"'Market Data'!D1487","v":5936.5},{"$f":"'Market Data'!E1487","v":5852},{"$f":"'Market Data'!F1487","v":5879},null,1483,"Hidden","Long",null,1,0,"",null,1,"Stay Long",-2205,-76723.459999999992]
[null,{"$f":"'Market Data'!B1488","v":20051028},{"$f":"'Market Data'!C1488","v":5860.5},{"$f":"'Market Data'!D1488","v":5918.5},{"$f":"'Market Data'!E1488","v":5823},{"$f":"'Market Data'!F1488","v":5915.5},null,1484,"Hidden","Long",null,1,0,"",null,1,"Stay Long",1277.5,-75445.959999999992]
[null,{"$f":"'Market Data'!B1489","v":20051031},{"$f":"'Market Data'!C1489","v":5945},{"$f":"'Market Data'!D1489","v":5991},{"$f":"'Market Data'!E1489","v":5941},{"$f":"'Market Data'!F1489","v":5973},null,1485,"Hidden","Long",null,1,0,"",null,1,"Stay Long",2012.5,-73433.459999999992]
[null,{"$f":"'Market Data'!B1490","v":20051101},{"$f":"'Market Data'!C1490","v":5985},{"$f":"'Market Data'!D1490","v":5997},{"$f":"'Market Data'!E1490","v":5965},{"$f":"'Market Data'!F1490","v":5974.5},null,1486,"Hidden","Long",null,1,0,"",null,1,"Stay Long",52.5,-73380.959999999992]
[null,{"$f":"'Market Data'!B1491","v":20051102},{"$f":"'Market Data'!C1491","v":5985.5},{"$f":"'Market Data'!D1491","v":6039},{"$f":"'Market Data'!E1491","v":5949.5},{"$f":"'Market Data'!F1491","v":6036},null,1487,"Hidden","Long",null,1,0,"",null,1,"Stay Long",2152.5,-71228.459999999992]
[null,{"$f":"'Market Data'!B1492","v":20051103},{"$f":"'Market Data'!C1492","v":6038.5},{"$f":"'Market Data'!D1492","v":6073.5},{"$f":"'Market Data'!E1492","v":6024},{"$f":"'Market Data'!F1492","v":6060},null,1488,"Hidden","Long",null,1,0,"",null,1,"Stay Long",840,-70388.459999999992]
[null,{"$f":"'Market Data'!B1493","v":20051104},{"$f":"'Market Data'!C1493","v":6055},{"$f":"'Market Data'!D1493","v":6073},{"$f":"'Market Data'!E1493","v":6034.5},{"$f":"'Market Data'!F1493","v":6036.5},null,1489,"Hidden","Long",null,1,0,"",null,1,"Stay Long",-822.5,-71210.959999999992]
[null,{"$f":"'Market Data'!B1494","v":20051107},{"$f":"'Market Data'!C1494","v":6050},{"$f":"'Market Data'!D1494","v":6092.5},{"$f":"'Market Data'!E1494","v":6039.5},{"$f":"'Market Data'!F1494","v":6083.5},null,1490,"Hidden","Long",null,1,0,"",null,1,"Stay Long",1645,-69565.959999999992]
[null,{"$f":"'Market Data'!B1495","v":20051108},{"$f":"'Market Data'!C1495","v":6089.5},{"$f":"'Market Data'!D1495","v":6105},{"$f":"'Market Data'!E1495","v":6049.5},{"$f":"'Market Data'!F1495","v":6068.5},null,1491,"Hidden","Long",null,1,0,"",null,1,"Stay Long",-525,-70090.959999999992]
[null,{"$f":"'Market Data'!B1496","v":20051109},{"$f":"'Market Data'!C1496","v":6080.5},{"$f":"'Market Data'!D1496","v":6110},{"$f":"'Market Data'!E1496","v":6055.5},{"$f":"'Market Data'!F1496","v":6096},null,1492,"Hidden","Long",null,1,0,"",null,1,"Stay Long",962.5,-69128.459999999992]
[null,{"$f":"'Market Data'!B1497","v":20051110},{"$f":"'Market Data'!C1497","v":6093},{"$f":"'Market Data'!D1497","v":6128.5},{"$f":"'Market Data'!E1497","v":6057.5},{"$f":"'Market Data'!F1497","v":6121},null,1493,"Hidden","Long",null,1,0,"",null,1,"Stay Long",875,-68253.459999999992]
[null,{"$f":"'Market Data'!B1498","v":20051111},{"$f":"'Market Data'!C1498","v":6140.5},{"$f":"'Market Data'!D1498","v":6151},{"$f":"'Market Data'!E1498","v":6122},{"$f":"'Market Data'!F1498","v":6145.5},null,1494,"Hidden","Long",null,1,0,"",null,1,"Stay Long",857.5,-67395.959999999992]
[null,{"$f":"'Market Data'!B1499","v":20051114},{"$f":"'Market Data'!C1499","v":6140.5},{"$f":"'Market Data'!D1499","v":6162.5},{"$f":"'Market Data'!E1499","v":6131},{"$f":"'Market Data'!F1499","v":6147},null,1495,"Hidden","Long",null,1,0,"",null,1,"Stay Long",52.5,-67343.459999999992]
[null,{"$f":"'Market Data'!B1500","v":20051115},{"$f":"'Market Data'!C1500","v":6138.5},{"$f":"'Market Data'!D1500","v":6183.5},{"$f":"'Market Data'!E1500","v":6132.5},{"$f":"'Market Data'!F1500","v":6161.5},null,1496,"Hidden","Long",null,1,0,"",null,1,"Stay Long",507.5,-66835.959999999992]
[null,{"$f":"'Market Data'!B1501","v":20051116},{"$f":"'Market Data'!C1501","v":6163.5},{"$f":"'Market Data'!D1501","v":6170.5},{"$f":"'Market Data'!E1501","v":6118},{"$f":"'Market Data'!F1501","v":6135},null,1497,"Hidden","Long",null,1,0,"",null,1,"Stay Long",-927.5,-67763.459999999992]
[null,{"$f":"'Market Data'!B1502","v":20051117},{"$f":"'Market Data'!C1502","v":6166},{"$f":"'Market Data'!D1502","v":6185.5},{"$f":"'Market Data'!E1502","v":6143},{"$f":"'Market Data'!F1502","v":6159},null,1498,"Hidden","Long",null,1,0,"",null,1,"Stay Long",840,-66923.459999999992]
[null,{"$f":"'Market Data'!B1503","v":20051118},{"$f":"'Market Data'!C1503","v":6203},{"$f":"'Market Data'!D1503","v":6216.5},{"$f":"'Market Data'!E1503","v":6162.5},{"$f":"'Market Data'!F1503","v":6191},null,1499,"Hidden","Long",null,1,0,"",null,1,"Stay Long",1120,-65803.459999999992]
[null,{"$f":"'Market Data'!B1504","v":20051121},{"$f":"'Market Data'!C1504","v":6195},{"$f":"'Market Data'!D1504","v":6236},{"$f":"'Market Data'!E1504","v":6180.5},{"$f":"'Market Data'!F1504","v":6229},null,1500,"Hidden","Long",null,1,0,"",null,1,"Stay Long",1330,-64473.459999999992]
[null,{"$f":"'Market Data'!B1505","v":20051122},{"$f":"'Market Data'!C1505","v":6234},{"$f":"'Market Data'!D1505","v":6236.5},{"$f":"'Market Data'!E1505","v":6215},{"$f":"'Market Data'!F1505","v":6230},null,1501,"Hidden","Long",null,1,0,"",null,1,"Stay Long",35,-64438.459999999992]
[null,{"$f":"'Market Data'!B1506","v":20051123},{"$f":"'Market Data'!C1506","v":6256.5},{"$f":"'Market Data'!D1506","v":6259},{"$f":"'Market Data'!E1506","v":6227},{"$f":"'Market Data'!F1506","v":6249.5},null,1502,"Hidden","Long",null,1,0,"",null,1,"Stay Long",682.5,-63755.959999999992]
[null,{"$f":"'Market Data'!B1507","v":20051124},{"$f":"'Market Data'!C1507","v":6244},{"$f":"'Market Data'!D1507","v":6248},{"$f":"'Market Data'!E1507","v":6224.5},{"$f":"'Market Data'!F1507","v":6245.5},null,1503,"Hidden","Long",null,1,0,"",null,1,"Stay Long",-140,-63895.959999999992]
[null,{"$f":"'Market Data'!B1508","v":20051125},{"$f":"'Market Data'!C1508","v":6240},{"$f":"'Market Data'!D1508","v":6259},{"$f":"'Market Data'!E1508","v":6232.5},{"$f":"'Market Data'!F1508","v":6242.5},null,1504,"Hidden","Long",null,1,0,"",null,1,"Stay Long",-105,-64000.959999999992]
[null,{"$f":"'Market Data'!B1509","v":20051128},{"$f":"'Market Data'!C1509","v":6280.5},{"$f":"'Market Data'!D1509","v":6295},{"$f":"'Market Data'!E1509","v":6208},{"$f":"'Market Data'!F1509","v":6227.5},null,1505,"Hidden","Long",null,1,0,"",null,1,"Stay Long",-525,-64525.959999999992]
[null,{"$f":"'Market Data'!B1510","v":20051129},{"$f":"'Market Data'!C1510","v":6221},{"$f":"'Market Data'!D1510","v":6272.5},{"$f":"'Market Data'!E1510","v":6207},{"$f":"'Market Data'!F1510","v":6241.5},null,1506,"Hidden","Long",null,1,0,"",null,1,"Stay Long",490,-64035.959999999992]
[null,{"$f":"'Market Data'!B1511","v":20051130},{"$f":"'Market Data'!C1511","v":6234},{"$f":"'Market Data'!D1511","v":6261.5},{"$f":"'Market Data'!E1511","v":6217},{"$f":"'Market Data'!F1511","v":6254},null,1507,"Hidden","Long",null,1,0,"",null,1,"Stay Long",437.5,-63598.459999999992]
[null,{"$f":"'Market Data'!B1512","v":20051201},{"$f":"'Market Data'!C1512","v":6256},{"$f":"'Market Data'!D1512","v":6325},{"$f":"'Market Data'!E1512","v":6256},{"$f":"'Market Data'!F1512","v":6315},null,1508,"Hidden","Long",null,1,0,"",null,1,"Stay Long",2135,-61463.459999999992]
[null,{"$f":"'Market Data'!B1513","v":20051202},{"$f":"'Market Data'!C1513","v":6347},{"$f":"'Market Data'!D1513","v":6359.5},{"$f":"'Market Data'!E1513","v":6326},{"$f":"'Market Data'!F1513","v":6353.5},null,1509,"Hidden","Long",null,1,0,"",null,1,"Stay Long",1347.5,-60115.959999999992]
[null,{"$f":"'Market Data'!B1514","v":20051205},{"$f":"'Market Data'!C1514","v":6356},{"$f":"'Market Data'!D1514","v":6357.5},{"$f":"'Market Data'!E1514","v":6302},{"$f":"'Market Data'!F1514","v":6318},null,1510,"Hidden","Long",null,1,0,"",null,1,"Stay Long",-1242.5,-61358.459999999992]
[null,{"$f":"'Market Data'!B1515","v":20051206},{"$f":"'Market Data'!C1515","v":6324},{"$f":"'Market Data'!D1515","v":6368},{"$f":"'Market Data'!E1515","v":6321},{"$f":"'Market Data'!F1515","v":6351.5},null,1511,"Hidden","Long",null,1,0,"",null,1,"Stay Long",1172.5,-60185.959999999992]
[null,{"$f":"'Market Data'!B1516","v":20051207},{"$f":"'Market Data'!C1516","v":6342},{"$f":"'Market Data'!D1516","v":6358.5},{"$f":"'Market Data'!E1516","v":6296.5},{"$f":"'Market Data'!F1516","v":6305.5},null,1512,"Hidden","Long",null,1,0,"",null,1,"Stay Long",-1610,-61795.959999999992]
[null,{"$f":"'Market Data'!B1517","v":20051208},{"$f":"'Market Data'!C1517","v":6279},{"$f":"'Market Data'!D1517","v":6345.5},{"$f":"'Market Data'!E1517","v":6271.5},{"$f":"'Market Data'!F1517","v":6332},null,1513,"Hidden","Long",null,1,0,"",null,1,"Stay Long",927.5,-60868.459999999992]
[null,{"$f":"'Market Data'!B1518","v":20051209},{"$f":"'Market Data'!C1518","v":6311.5},{"$f":"'Market Data'!D1518","v":6343.5},{"$f":"'Market Data'!E1518","v":6308},{"$f":"'Market Data'!F1518","v":6330.5},null,1514,"Hidden","Long",null,1,0,"",null,1,"Stay Long",-52.5,-60920.959999999992]
[null,{"$f":"'Market Data'!B1519","v":20051212},{"$f":"'Market Data'!C1519","v":6363},{"$f":"'Market Data'!D1519","v":6380},{"$f":"'Market Data'!E1519","v":6333.5},{"$f":"'Market Data'!F1519","v":6348.5},null,1515,"Hidden","Long",null,1,0,"",null,1,"Stay Long",630,-60290.959999999992]
[null,{"$f":"'Market Data'!B1520","v":20051213},{"$f":"'Market Data'!C1520","v":6353.5},{"$f":"'Market Data'!D1520","v":6363.5},{"$f":"'Market Data'!E1520","v":6332.5},{"$f":"'Market Data'!F1520","v":6359.5},null,1516,"Hidden","Long",null,1,0,"",null,1,"Stay Long",385,-59905.959999999992]
[null,{"$f":"'Market Data'!B1521","v":20051214},{"$f":"'Market Data'!C1521","v":6361.5},{"$f":"'Market Data'!D1521","v":6367.5},{"$f":"'Market Data'!E1521","v":6322},{"$f":"'Market Data'!F1521","v":6332},null,1517,"Hidden","Long",null,1,0,"",null,1,"Stay Long",-962.5,-60868.459999999992]
[null,{"$f":"'Market Data'!B1522","v":20051215},{"$f":"'Market Data'!C1522","v":6349},{"$f":"'Market Data'!D1522","v":6352.5},{"$f":"'Market Data'!E1522","v":6326.5},{"$f":"'Market Data'!F1522","v":6338.5},null,1518,"Hidden","Long",null,1,0,"",null,1,"Stay Long",227.5,-60640.959999999992]
[null,{"$f":"'Market Data'!B1523","v":20051216},{"$f":"'Market Data'!C1523","v":6348.5},{"$f":"'Market Data'!D1523","v":6401.5},{"$f":"'Market Data'!E1523","v":6348.5},{"$f":"'Market Data'!F1523","v":6396},null,1519,"Hidden","Long",null,1,0,"",null,1,"Stay Long",2012.5,-58628.459999999992]
[null,{"$f":"'Market Data'!B1524","v":20051219},{"$f":"'Market Data'!C1524","v":6383},{"$f":"'Market Data'!D1524","v":6403.5},{"$f":"'Market Data'!E1524","v":6382},{"$f":"'Market Data'!F1524","v":6396},null,1520,"Hidden","Long",null,1,0,"",null,1,"Stay Long",0,-58628.459999999992]
[null,{"$f":"'Market Data'!B1525","v":20051220},{"$f":"'Market Data'!C1525","v":6377},{"$f":"'Market Data'!D1525","v":6414},{"$f":"'Market Data'!E1525","v":6368},{"$f":"'Market Data'!F1525","v":6405},null,1521,"Hidden","Long",null,1,0,"",null,1,"Stay Long",315,-58313.459999999992]
[null,{"$f":"'Market Data'!B1526","v":20051221},{"$f":"'Market Data'!C1526","v":6419},{"$f":"'Market Data'!D1526","v":6447},{"$f":"'Market Data'!E1526","v":6412.5},{"$f":"'Market Data'!F1526","v":6442},null,1522,"Hidden","Long",null,1,0,"",null,1,"Stay Long",1295,-57018.459999999992]
[null,{"$f":"'Market Data'!B1527","v":20051222},{"$f":"'Market Data'!C1527","v":6431.5},{"$f":"'Market Data'!D1527","v":6448.5},{"$f":"'Market Data'!E1527","v":6431},{"$f":"'Market Data'!F1527","v":6445.5},null,1523,"Hidden","Long",null,1,0,"",null,1,"Stay Long",122.5,-56895.959999999992]
[null,{"$f":"'Market Data'!B1528","v":20051223},{"$f":"'Market Data'!C1528","v":6448},{"$f":"'Market Data'!D1528","v":6470.5},{"$f":"'Market Data'!E1528","v":6448},{"$f":"'Market Data'!F1528","v":6463},null,1524,"Hidden","Long",null,1,0,"",null,1,"Stay Long",612.5,-56283.459999999992]
[null,{"$f":"'Market Data'!B1529","v":20051227},{"$f":"'Market Data'!C1529","v":6469},{"$f":"'Market Data'!D1529","v":6499.5},{"$f":"'Market Data'!E1529","v":6463},{"$f":"'Market Data'!F1529","v":6491.5},null,1525,"Hidden","Long",null,1,0,"",null,1,"Stay Long",997.5,-55285.959999999992]
[null,{"$f":"'Market Data'!B1530","v":20051228},{"$f":"'Market Data'!C1530","v":6484},{"$f":"'Market Data'!D1530","v":6505.5},{"$f":"'Market Data'!E1530","v":6476.5},{"$f":"'Market Data'!F1530","v":6492.5},null,1526,"Hidden","Long",null,1,0,"",null,1,"Stay Long",35,-55250.959999999992]
[null,{"$f":"'Market Data'!B1531","v":20051229},{"$f":"'Market Data'!C1531","v":6510.5},{"$f":"'Market Data'!D1531","v":6512},{"$f":"'Market Data'!E1531","v":6480.5},{"$f":"'Market Data'!F1531","v":6501},null,1527,"Hidden","Long",null,1,0,"",null,1,"Stay Long",297.5,-54953.459999999992]
[null,{"$f":"'Market Data'!B1532","v":20051230},{"$f":"'Market Data'!C1532","v":6480},{"$f":"'Market Data'!D1532","v":6487},{"$f":"'Market Data'!E1532","v":6427},{"$f":"'Market Data'!F1532","v":6451},null,1528,"Hidden","Long",null,1,0,"",null,1,"Stay Long",-1750,-56703.459999999992]
[null,{"$f":"'Market Data'!B1533","v":20060102},{"$f":"'Market Data'!C1533","v":6461},{"$f":"'Market Data'!D1533","v":6496},{"$f":"'Market Data'!E1533","v":6454.5},{"$f":"'Market Data'!F1533","v":6490.5},null,1529,"Hidden","Long",null,1,0,"",null,1,"Stay Long",1382.5,-55320.959999999992]
[null,{"$f":"'Market Data'!B1534","v":20060103},{"$f":"'Market Data'!C1534","v":6497.5},{"$f":"'Market Data'!D1534","v":6555},{"$f":"'Market Data'!E1534","v":6481},{"$f":"'Market Data'!F1534","v":6496.5},null,1530,"Hidden","Long",null,1,0,"",null,1,"Stay Long",210,-55110.959999999992]
[null,{"$f":"'Market Data'!B1535","v":20060104},{"$f":"'Market Data'!C1535","v":6554},{"$f":"'Market Data'!D1535","v":6571.5},{"$f":"'Market Data'!E1535","v":6517.5},{"$f":"'Market Data'!F1535","v":6559.5},null,1531,"Hidden","Long",null,1,0,"",null,1,"Stay Long",2205,-52905.959999999992]
[null,{"$f":"'Market Data'!B1536","v":20060105},{"$f":"'Market Data'!C1536","v":6558.5},{"$f":"'Market Data'!D1536","v":6568.5},{"$f":"'Market Data'!E1536","v":6542},{"$f":"'Market Data'!F1536","v":6553},null,1532,"Hidden","Long",null,1,0,"",null,1,"Stay Long",-227.5,-53133.459999999992]
[null,{"$f":"'Market Data'!B1537","v":20060106},{"$f":"'Market Data'!C1537","v":6559.5},{"$f":"'Market Data'!D1537","v":6582.5},{"$f":"'Market Data'!E1537","v":6545.5},{"$f":"'Market Data'!F1537","v":6569.5},null,1533,"Hidden","Long",null,1,0,"",null,1,"Stay Long",577.5,-52555.959999999992]
[null,{"$f":"'Market Data'!B1538","v":20060109},{"$f":"'Market Data'!C1538","v":6578},{"$f":"'Market Data'!D1538","v":6592},{"$f":"'Market Data'!E1538","v":6571.5},{"$f":"'Market Data'!F1538","v":6581},null,1534,"Hidden","Long",null,1,0,"",null,1,"Stay Long",402.5,-52153.459999999992]
[null,{"$f":"'Market Data'!B1539","v":20060110},{"$f":"'Market Data'!C1539","v":6561.5},{"$f":"'Market Data'!D1539","v":6563},{"$f":"'Market Data'!E1539","v":6522},{"$f":"'Market Data'!F1539","v":6535},null,1535,"Hidden","Long",null,1,{"$f":"$L1552-P1552","v":0},"",null,1,"Stay Long",-1610,-53763.459999999992]
[null,{"$f":"'Market Data'!B1540","v":20060111},{"$f":"'Market Data'!C1540","v":6568},{"$f":"'Market Data'!D1540","v":6579},{"$f":"'Market Data'!E1540","v":6553.5},{"$f":"'Market Data'!F1540","v":6566},null,1536,"Hidden","Long",null,1,0,"",null,{"$f":"IF($N1552=\"Fill\",$L1552,$P1552)","v":1},"Stay Long",{"$f":"IF(OR($P1552&$L1552=\"01\",$P1552&$L1552=\"0-1\"),(($F1553-$C1553)*$R$3*$L1552)-(ABS($M1552)*$R$4),IF(OR($P1552&$L1552=\"10\",$P1552&$L1552=\"-10\"),(($C1553-$F1552)*$R$3*$P1552)-(ABS($M1552)*$R$4),IF(OR($P1552&$L1552=\"1-1\",$P1552&$L1552=\"-11\"),(($C1553-$F1552)*$R$3*$P1552)-(ABS($M1552)*$R$4)+(($F1553-$C1553)*$R$3*$P1553),IF(OR($P1552&$L1552=\"11\",$P1552&$L1552=\"-1-1\"),(($F1553-$F1552)*$R$3*$P1553),0))))","v":1085},-52678.459999999992]
[null,{"$f":"'Market Data'!B1541","v":20060112},{"$f":"'Market Data'!C1541","v":6561},{"$f":"'Market Data'!D1541","v":6596.5},{"$f":"'Market Data'!E1541","v":6548},{"$f":"'Market Data'!F1541","v":6579.5},null,{"$f":"ROW()-ROW(H$17)","v":1537},"Hidden",{"$f":"$I$4","v":"Long"},null,1,0,{"$f":"IF(NOT($M1554=0),\"Fill\",\"\")","v":""},null,1,{"$f":"IF($P1553&$L1553=\"00\",\"Stay Flat\",IF($P1553&$L1553=\"01\",\"Go Long\",IF($P1553&$L1553=\"0-1\",\"Go Short\",IF($P1553&$L1553=\"-10\",\"Exit Short\",IF($P1553&$L1553=\"-1-1\",\"Stay Short\",IF($P1553&$L1553=\"-11\",\"Exit Short, Go Long\",IF($P1553&$L1553=\"10\",\"Exit Long\",IF($P1553&$L1553=\"1-1\",\"Exit Long, Go Short\",IF($P1553&$L1553=\"11\",\"Stay Long\",\"\")))))))))","v":"Stay Long"},472.5,{"$f":"S1553+R1554","v":-52205.959999999992}]
[null,{"$f":"'Market Data'!B1542","v":20060113},{"$f":"'Market Data'!C1542","v":6561},{"$f":"'Market Data'!D1542","v":6572.5},{"$f":"'Market Data'!E1542","v":6496},{"$f":"'Market Data'!F1542","v":6520},null,1538,"Hidden","Long",null,{"$f":"IF($J1555=\"Short\",-1,IF($J1555=\"Long\",1,0))","v":1},0,"",null,1,"Stay Long",-2082.5,-54288.459999999992]
[null,{"$f":"'Market Data'!B1543","v":20060116},{"$f":"'Market Data'!C1543","v":6508},{"$f":"'Market Data'!D1543","v":6558},{"$f":"'Market Data'!E1543","v":6494},{"$f":"'Market Data'!F1543","v":6549.5},null,1539,"Hidden","Long",null,1,0,"",null,1,"Stay Long",1032.5,-53255.959999999992]
[null,{"$f":"'Market Data'!B1544","v":20060117},{"$f":"'Market Data'!C1544","v":6502.5},{"$f":"'Market Data'!D1544","v":6510},{"$f":"'Market Data'!E1544","v":6484.5},{"$f":"'Market Data'!F1544","v":6495.5},null,1540,"Hidden","Long",null,1,0,"",null,1,"Stay Long",-1890,-55145.959999999992]
[null,{"$f":"'Market Data'!B1545","v":20060118},{"$f":"'Market Data'!C1545","v":6414.5},{"$f":"'Market Data'!D1545","v":6462.5},{"$f":"'Market Data'!E1545","v":6398.5},{"$f":"'Market Data'!F1545","v":6440},null,1541,"Hidden","Long",null,1,0,"",null,1,"Stay Long",-1942.5,-57088.459999999992]
[null,{"$f":"'Market Data'!B1546","v":20060119},{"$f":"'Market Data'!C1546","v":6454.5},{"$f":"'Market Data'!D1546","v":6480.5},{"$f":"'Market Data'!E1546","v":6443},{"$f":"'Market Data'!F1546","v":6464.5},null,1542,"Hidden","Long",null,1,0,"",null,1,"Stay Long",857.5,-56230.959999999992]
[null,{"$f":"'Market Data'!B1547","v":20060120},{"$f":"'Market Data'!C1547","v":6466},{"$f":"'Market Data'!D1547","v":6480.5},{"$f":"'Market Data'!E1547","v":6359},{"$f":"'Market Data'!F1547","v":6384.5},null,1543,"Hidden","Long",null,1,0,"",null,1,"Stay Long",-2800,-59030.959999999992]
[null,{"$f":"'Market Data'!B1548","v":20060123},{"$f":"'Market Data'!C1548","v":6333},{"$f":"'Market Data'!D1548","v":6383.5},{"$f":"'Market Data'!E1548","v":6325.5},{"$f":"'Market Data'!F1548","v":6381.5},null,1544,"Hidden","Long",null,1,0,"",null,1,"Stay Long",-105,-59135.959999999992]
[null,{"$f":"'Market Data'!B1549","v":20060124},{"$f":"'Market Data'!C1549","v":6382.5},{"$f":"'Market Data'!D1549","v":6402.5},{"$f":"'Market Data'!E1549","v":6353},{"$f":"'Market Data'!F1549","v":6368},null,1545,"Hidden","Long",null,1,0,"",null,1,"Stay Long",-472.5,-59608.459999999992]
[null,{"$f":"'Market Data'!B1550","v":20060125},{"$f":"'Market Data'!C1550","v":6397.5},{"$f":"'Market Data'!D1550","v":6474.5},{"$f":"'Market Data'!E1550","v":6383.5},{"$f":"'Market Data'!F1550","v":6458.5},null,1546,"Hidden","Long",null,1,0,"",null,1,"Stay Long",3167.5,-56440.959999999992]
[null,{"$f":"'Market Data'!B1551","v":20060126},{"$f":"'Market Data'!C1551","v":6483},{"$f":"'Market Data'!D1551","v":6609},{"$f":"'Market Data'!E1551","v":6477},{"$f":"'Market Data'!F1551","v":6576},null,1547,"Hidden","Long",null,1,0,"",null,1,"Stay Long",4112.5,-52328.459999999992]
[null,{"$f":"'Market Data'!B1552","v":20060127},{"$f":"'Market Data'!C1552","v":6647},{"$f":"'Market Data'!D1552","v":6684},{"$f":"'Market Data'!E1552","v":6616.5},{"$f":"'Market Data'!F1552","v":6680.5},null,1548,"Hidden","Long",null,1,0,"",null,1,"Stay Long",3657.5,-48670.959999999992]
[null,{"$f":"'Market Data'!B1553","v":20060130},{"$f":"'Market Data'!C1553","v":6670},{"$f":"'Market Data'!D1553","v":6706.5},{"$f":"'Market Data'!E1553","v":6648.5},{"$f":"'Market Data'!F1553","v":6685.5},null,1549,"Hidden","Long",null,1,0,"",null,1,"Stay Long",175,-48495.959999999992]
[null,{"$f":"'Market Data'!B1554","v":20060131},{"$f":"'Market Data'!C1554","v":6701},{"$f":"'Market Data'!D1554","v":6728.5},{"$f":"'Market Data'!E1554","v":6665.5},{"$f":"'Market Data'!F1554","v":6709.5},null,1550,"Hidden","Long",null,1,0,"",null,1,"Stay Long",840,-47655.959999999992]
[null,{"$f":"'Market Data'!B1555","v":20060201},{"$f":"'Market Data'!C1555","v":6685},{"$f":"'Market Data'!D1555","v":6777.5},{"$f":"'Market Data'!E1555","v":6676},{"$f":"'Market Data'!F1555","v":6753},null,1551,"Hidden","Long",null,1,0,"",null,1,"Stay Long",1522.5,-46133.459999999992]
[null,{"$f":"'Market Data'!B1556","v":20060202},{"$f":"'Market Data'!C1556","v":6763.5},{"$f":"'Market Data'!D1556","v":6790},{"$f":"'Market Data'!E1556","v":6669.5},{"$f":"'Market Data'!F1556","v":6676.5},null,1552,"Hidden","Long",null,1,0,"",null,1,"Stay Long",-2677.5,-48810.959999999992]
[null,{"$f":"'Market Data'!B1557","v":20060203},{"$f":"'Market Data'!C1557","v":6698},{"$f":"'Market Data'!D1557","v":6717},{"$f":"'Market Data'!E1557","v":6641.5},{"$f":"'Market Data'!F1557","v":6680.5},null,1553,"Hidden","Long",null,1,0,"",null,1,"Stay Long",140,-48670.959999999992]
[null,{"$f":"'Market Data'!B1558","v":20060206},{"$f":"'Market Data'!C1558","v":6714},{"$f":"'Market Data'!D1558","v":6732},{"$f":"'Market Data'!E1558","v":6678},{"$f":"'Market Data'!F1558","v":6694},null,1554,"Hidden","Long",null,1,0,"",null,1,"Stay Long",472.5,-48198.459999999992]
[null,{"$f":"'Market Data'!B1559","v":20060207},{"$f":"'Market Data'!C1559","v":6716},{"$f":"'Market Data'!D1559","v":6728.5},{"$f":"'Market Data'!E1559","v":6655.5},{"$f":"'Market Data'!F1559","v":6702.5},null,1555,"Hidden","Long",null,1,0,"",null,1,"Stay Long",297.5,-47900.959999999992]
[null,{"$f":"'Market Data'!B1560","v":20060208},{"$f":"'Market Data'!C1560","v":6639},{"$f":"'Market Data'!D1560","v":6721.5},{"$f":"'Market Data'!E1560","v":6624},{"$f":"'Market Data'!F1560","v":6695},null,1556,"Hidden","Long",null,1,0,"",null,1,"Stay Long",-262.5,-48163.459999999992]
[null,{"$f":"'Market Data'!B1561","v":20060209},{"$f":"'Market Data'!C1561","v":6732},{"$f":"'Market Data'!D1561","v":6786.5},{"$f":"'Market Data'!E1561","v":6726},{"$f":"'Market Data'!F1561","v":6765.5},null,1557,"Hidden","Long",null,1,0,"",null,1,"Stay Long",2467.5,-45695.959999999992]
[null,{"$f":"'Market Data'!B1562","v":20060210},{"$f":"'Market Data'!C1562","v":6752},{"$f":"'Market Data'!D1562","v":6772},{"$f":"'Market Data'!E1562","v":6721.5},{"$f":"'Market Data'!F1562","v":6733.5},null,1558,"Hidden","Long",null,1,0,"",null,1,"Stay Long",-1120,-46815.959999999992]
[null,{"$f":"'Market Data'!B1563","v":20060213},{"$f":"'Market Data'!C1563","v":6720.5},{"$f":"'Market Data'!D1563","v":6786},{"$f":"'Market Data'!E1563","v":6709},{"$f":"'Market Data'!F1563","v":6778.5},null,1559,"Hidden","Long",null,1,0,"",null,1,"Stay Long",1575,-45240.959999999992]
[null,{"$f":"'Market Data'!B1564","v":20060214},{"$f":"'Market Data'!C1564","v":6788},{"$f":"'Market Data'!D1564","v":6812.5},{"$f":"'Market Data'!E1564","v":6742.5},{"$f":"'Market Data'!F1564","v":6788.5},null,1560,"Hidden","Long",null,1,0,"",null,1,"Stay Long",350,-44890.959999999992]
[null,{"$f":"'Market Data'!B1565","v":20060215},{"$f":"'Market Data'!C1565","v":6793},{"$f":"'Market Data'!D1565","v":6816},{"$f":"'Market Data'!E1565","v":6760},{"$f":"'Market Data'!F1565","v":6790.5},null,1561,"Hidden","Long",null,1,0,"",null,1,"Stay Long",70,-44820.959999999992]
[null,{"$f":"'Market Data'!B1566","v":20060216},{"$f":"'Market Data'!C1566","v":6819},{"$f":"'Market Data'!D1566","v":6825},{"$f":"'Market Data'!E1566","v":6781},{"$f":"'Market Data'!F1566","v":6811.5},null,1562,"Hidden","Long",null,1,0,"",null,1,"Stay Long",735,-44085.959999999992]
[null,{"$f":"'Market Data'!B1567","v":20060217},{"$f":"'Market Data'!C1567","v":6807},{"$f":"'Market Data'!D1567","v":6835},{"$f":"'Market Data'!E1567","v":6796},{"$f":"'Market Data'!F1567","v":6820},null,1563,"Hidden","Long",null,1,0,"",null,1,"Stay Long",297.5,-43788.459999999992]
[null,{"$f":"'Market Data'!B1568","v":20060220},{"$f":"'Market Data'!C1568","v":6818.5},{"$f":"'Market Data'!D1568","v":6827},{"$f":"'Market Data'!E1568","v":6790.5},{"$f":"'Market Data'!F1568","v":6818.5},null,1564,"Hidden","Long",null,1,0,"",null,1,"Stay Long",-52.5,-43840.959999999992]
[null,{"$f":"'Market Data'!B1569","v":20060221},{"$f":"'Market Data'!C1569","v":6840},{"$f":"'Market Data'!D1569","v":6874},{"$f":"'Market Data'!E1569","v":6802},{"$f":"'Market Data'!F1569","v":6824.5},null,1565,"Hidden","Long",null,1,0,"",null,1,"Stay Long",210,-43630.959999999992]
[null,{"$f":"'Market Data'!B1570","v":20060222},{"$f":"'Market Data'!C1570","v":6819},{"$f":"'Market Data'!D1570","v":6895.5},{"$f":"'Market Data'!E1570","v":6806},{"$f":"'Market Data'!F1570","v":6880.5},null,1566,"Hidden","Long",null,1,0,"",null,1,"Stay Long",1960,-41670.959999999992]
[null,{"$f":"'Market Data'!B1571","v":20060223},{"$f":"'Market Data'!C1571","v":6893},{"$f":"'Market Data'!D1571","v":6906.5},{"$f":"'Market Data'!E1571","v":6842.5},{"$f":"'Market Data'!F1571","v":6883.5},null,1567,"Hidden","Long",null,1,0,"",null,1,"Stay Long",105,-41565.959999999992]
[null,{"$f":"'Market Data'!B1572","v":20060224},{"$f":"'Market Data'!C1572","v":6887},{"$f":"'Market Data'!D1572","v":6901},{"$f":"'Market Data'!E1572","v":6861.5},{"$f":"'Market Data'!F1572","v":6886},null,1568,"Hidden","Long",null,1,0,"",null,1,"Stay Long",87.5,-41478.459999999992]
[null,{"$f":"'Market Data'!B1573","v":20060227},{"$f":"'Market Data'!C1573","v":6904.5},{"$f":"'Market Data'!D1573","v":6939.5},{"$f":"'Market Data'!E1573","v":6893},{"$f":"'Market Data'!F1573","v":6934.5},null,1569,"Hidden","Long",null,1,0,"",null,1,"Stay Long",1697.5,-39780.959999999992]
[null,{"$f":"'Market Data'!B1574","v":20060228},{"$f":"'Market Data'!C1574","v":6924},{"$f":"'Market Data'!D1574","v":6937.5},{"$f":"'Market Data'!E1574","v":6808.5},{"$f":"'Market Data'!F1574","v":6817},null,1570,"Hidden","Long",null,1,0,"",null,1,"Stay Long",-4112.5,-43893.459999999992]
[null,{"$f":"'Market Data'!B1575","v":20060301},{"$f":"'Market Data'!C1575","v":6834},{"$f":"'Market Data'!D1575","v":6899.5},{"$f":"'Market Data'!E1575","v":6820.5},{"$f":"'Market Data'!F1575","v":6886.5},null,1571,"Hidden","Long",null,1,0,"",null,1,"Stay Long",2432.5,-41460.959999999992]
[null,{"$f":"'Market Data'!B1576","v":20060302},{"$f":"'Market Data'!C1576","v":6895.5},{"$f":"'Market Data'!D1576","v":6905.5},{"$f":"'Market Data'!E1576","v":6767},{"$f":"'Market Data'!F1576","v":6795},null,1572,"Hidden","Long",null,1,0,"",null,1,"Stay Long",-3202.5,-44663.459999999992]
[null,{"$f":"'Market Data'!B1577","v":20060303},{"$f":"'Market Data'!C1577","v":6801.5},{"$f":"'Market Data'!D1577","v":6831.5},{"$f":"'Market Data'!E1577","v":6706.5},{"$f":"'Market Data'!F1577","v":6743},null,1573,"Hidden","Long",null,1,0,"",null,1,"Stay Long",-1820,-46483.459999999992]
[null,{"$f":"'Market Data'!B1578","v":20060306},{"$f":"'Market Data'!C1578","v":6792.5},{"$f":"'Market Data'!D1578","v":6795},{"$f":"'Market Data'!E1578","v":6744.5},{"$f":"'Market Data'!F1578","v":6769.5},null,1574,"Hidden","Long",null,1,0,"",null,1,"Stay Long",927.5,-45555.959999999992]
[null,{"$f":"'Market Data'!B1579","v":20060307},{"$f":"'Market Data'!C1579","v":6738},{"$f":"'Market Data'!D1579","v":6770},{"$f":"'Market Data'!E1579","v":6715},{"$f":"'Market Data'!F1579","v":6765.5},null,1575,"Hidden","Long",null,1,0,"",null,1,"Stay Long",-140,-45695.959999999992]
[null,{"$f":"'Market Data'!B1580","v":20060308},{"$f":"'Market Data'!C1580","v":6764},{"$f":"'Market Data'!D1580","v":6777},{"$f":"'Market Data'!E1580","v":6669.5},{"$f":"'Market Data'!F1580","v":6697.5},null,1576,"Hidden","Long",null,1,0,"",null,1,"Stay Long",-2380,-48075.959999999992]
[null,{"$f":"'Market Data'!B1581","v":20060309},{"$f":"'Market Data'!C1581","v":6754},{"$f":"'Market Data'!D1581","v":6759.5},{"$f":"'Market Data'!E1581","v":6708.5},{"$f":"'Market Data'!F1581","v":6743.5},null,1577,"Hidden","Long",null,1,0,"",null,1,"Stay Long",1610,-46465.959999999992]
[null,{"$f":"'Market Data'!B1582","v":20060310},{"$f":"'Market Data'!C1582","v":6732},{"$f":"'Market Data'!D1582","v":6834},{"$f":"'Market Data'!E1582","v":6722.5},{"$f":"'Market Data'!F1582","v":6814.5},null,1578,"Hidden","Long",null,1,0,"",null,1,"Stay Long",2485,-43980.959999999992]
[null,{"$f":"'Market Data'!B1583","v":20060313},{"$f":"'Market Data'!C1583","v":6861.5},{"$f":"'Market Data'!D1583","v":6875.5},{"$f":"'Market Data'!E1583","v":6847.5},{"$f":"'Market Data'!F1583","v":6867},null,1579,"Hidden","Long",null,1,0,"",null,1,"Stay Long",1837.5,-42143.459999999992]
[null,{"$f":"'Market Data'!B1584","v":20060314},{"$f":"'Market Data'!C1584","v":6847},{"$f":"'Market Data'!D1584","v":6890.5},{"$f":"'Market Data'!E1584","v":6838.5},{"$f":"'Market Data'!F1584","v":6881.5},null,1580,"Hidden","Long",null,1,0,"",null,1,"Stay Long",507.5,-41635.959999999992]
[null,{"$f":"'Market Data'!B1585","v":20060315},{"$f":"'Market Data'!C1585","v":6897.5},{"$f":"'Market Data'!D1585","v":6931},{"$f":"'Market Data'!E1585","v":6885},{"$f":"'Market Data'!F1585","v":6912.5},null,1581,"Hidden","Long",null,1,0,"",null,1,"Stay Long",1085,-40550.959999999992]
[null,{"$f":"'Market Data'!B1586","v":20060316},{"$f":"'Market Data'!C1586","v":6922.5},{"$f":"'Market Data'!D1586","v":6922.5},{"$f":"'Market Data'!E1586","v":6880.5},{"$f":"'Market Data'!F1586","v":6910},null,1582,"Hidden","Long",null,1,0,"",null,1,"Stay Long",-87.5,-40638.459999999992]
[null,{"$f":"'Market Data'!B1587","v":20060317},{"$f":"'Market Data'!C1587","v":6920.5},{"$f":"'Market Data'!D1587","v":6958},{"$f":"'Market Data'!E1587","v":6871.5},{"$f":"'Market Data'!F1587","v":6888.5},null,1583,"Hidden","Long",null,1,0,"",null,1,"Stay Long",-752.5,-41390.959999999992]
[null,{"$f":"'Market Data'!B1588","v":20060320},{"$f":"'Market Data'!C1588","v":6918},{"$f":"'Market Data'!D1588","v":6945.5},{"$f":"'Market Data'!E1588","v":6895.5},{"$f":"'Market Data'!F1588","v":6913.5},null,1584,"Hidden","Long",null,1,0,"",null,1,"Stay Long",875,-40515.959999999992]
[null,{"$f":"'Market Data'!B1589","v":20060321},{"$f":"'Market Data'!C1589","v":6918},{"$f":"'Market Data'!D1589","v":6948},{"$f":"'Market Data'!E1589","v":6858.5},{"$f":"'Market Data'!F1589","v":6918},null,1585,"Hidden","Long",null,1,0,"",null,1,"Stay Long",157.5,-40358.459999999992]
[null,{"$f":"'Market Data'!B1590","v":20060322},{"$f":"'Market Data'!C1590","v":6879},{"$f":"'Market Data'!D1590","v":6963},{"$f":"'Market Data'!E1590","v":6869},{"$f":"'Market Data'!F1590","v":6951},null,1586,"Hidden","Long",null,1,0,"",null,1,"Stay Long",1155,-39203.459999999992]
[null,{"$f":"'Market Data'!B1591","v":20060323},{"$f":"'Market Data'!C1591","v":6961},{"$f":"'Market Data'!D1591","v":6971},{"$f":"'Market Data'!E1591","v":6933},{"$f":"'Market Data'!F1591","v":6961},null,1587,"Hidden","Long",null,1,0,"",null,1,"Stay Long",350,-38853.459999999992]
[null,{"$f":"'Market Data'!B1592","v":20060324},{"$f":"'Market Data'!C1592","v":6970},{"$f":"'Market Data'!D1592","v":6988},{"$f":"'Market Data'!E1592","v":6949.5},{"$f":"'Market Data'!F1592","v":6981},null,1588,"Hidden","Long",null,1,0,"",null,1,"Stay Long",700,-38153.459999999992]
[null,{"$f":"'Market Data'!B1593","v":20060327},{"$f":"'Market Data'!C1593","v":6985.5},{"$f":"'Market Data'!D1593","v":6989.5},{"$f":"'Market Data'!E1593","v":6906},{"$f":"'Market Data'!F1593","v":6923},null,1589,"Hidden","Long",null,1,0,"",null,1,"Stay Long",-2030,-40183.459999999992]
[null,{"$f":"'Market Data'!B1594","v":20060328},{"$f":"'Market Data'!C1594","v":6927.5},{"$f":"'Market Data'!D1594","v":6952},{"$f":"'Market Data'!E1594","v":6871.5},{"$f":"'Market Data'!F1594","v":6900},null,1590,"Hidden","Long",null,1,0,"",null,1,"Stay Long",-805,-40988.459999999992]
[null,{"$f":"'Market Data'!B1595","v":20060329},{"$f":"'Market Data'!C1595","v":6906},{"$f":"'Market Data'!D1595","v":6960},{"$f":"'Market Data'!E1595","v":6877},{"$f":"'Market Data'!F1595","v":6924},null,1591,"Hidden","Long",null,1,0,"",null,1,"Stay Long",840,-40148.459999999992]
[null,{"$f":"'Market Data'!B1596","v":20060330},{"$f":"'Market Data'!C1596","v":6961.5},{"$f":"'Market Data'!D1596","v":7004},{"$f":"'Market Data'!E1596","v":6944.5},{"$f":"'Market Data'!F1596","v":6996.5},null,1592,"Hidden","Long",null,1,0,"",null,1,"Stay Long",2537.5,-37610.959999999992]
[null,{"$f":"'Market Data'!B1597","v":20060331},{"$f":"'Market Data'!C1597","v":6975},{"$f":"'Market Data'!D1597","v":7004},{"$f":"'Market Data'!E1597","v":6951.5},{"$f":"'Market Data'!F1597","v":6974.5},null,1593,"Hidden","Long",null,1,0,"",null,1,"Stay Long",-770,-38380.959999999992]
[null,{"$f":"'Market Data'!B1598","v":20060403},{"$f":"'Market Data'!C1598","v":7004.5},{"$f":"'Market Data'!D1598","v":7038},{"$f":"'Market Data'!E1598","v":6987},{"$f":"'Market Data'!F1598","v":7035},null,1594,"Hidden","Long",null,1,0,"",null,1,"Stay Long",2117.5,-36263.459999999992]
[null,{"$f":"'Market Data'!B1599","v":20060404},{"$f":"'Market Data'!C1599","v":7020.5},{"$f":"'Market Data'!D1599","v":7038.5},{"$f":"'Market Data'!E1599","v":7000.5},{"$f":"'Market Data'!F1599","v":7019.5},null,1595,"Hidden","Long",null,1,0,"",null,1,"Stay Long",-542.5,-36805.959999999992]
[null,{"$f":"'Market Data'!B1600","v":20060405},{"$f":"'Market Data'!C1600","v":7034},{"$f":"'Market Data'!D1600","v":7045.5},{"$f":"'Market Data'!E1600","v":7002},{"$f":"'Market Data'!F1600","v":7036},null,1596,"Hidden","Long",null,1,0,"",null,1,"Stay Long",577.5,-36228.459999999992]
[null,{"$f":"'Market Data'!B1601","v":20060406},{"$f":"'Market Data'!C1601","v":7050},{"$f":"'Market Data'!D1601","v":7055},{"$f":"'Market Data'!E1601","v":7013.5},{"$f":"'Market Data'!F1601","v":7036},null,1597,"Hidden","Long",null,1,0,"",null,1,"Stay Long",0,-36228.459999999992]
[null,{"$f":"'Market Data'!B1602","v":20060407},{"$f":"'Market Data'!C1602","v":7039},{"$f":"'Market Data'!D1602","v":7050.5},{"$f":"'Market Data'!E1602","v":6944},{"$f":"'Market Data'!F1602","v":6960},null,1598,"Hidden","Long",null,1,0,"",null,1,"Stay Long",-2660,-38888.459999999992]
[null,{"$f":"'Market Data'!B1603","v":20060410},{"$f":"'Market Data'!C1603","v":6953.5},{"$f":"'Market Data'!D1603","v":7009.5},{"$f":"'Market Data'!E1603","v":6949},{"$f":"'Market Data'!F1603","v":7007},null,1599,"Hidden","Long",null,1,{"$f":"$L1616-P1616","v":0},"",null,1,"Stay Long",1645,-37243.459999999992]
[null,{"$f":"'Market Data'!B1604","v":20060411},{"$f":"'Market Data'!C1604","v":6993},{"$f":"'Market Data'!D1604","v":7003.5},{"$f":"'Market Data'!E1604","v":6885},{"$f":"'Market Data'!F1604","v":6910},null,1600,"Hidden","Long",null,1,0,"",null,{"$f":"IF($N1616=\"Fill\",$L1616,$P1616)","v":1},"Stay Long",{"$f":"IF(OR($P1616&$L1616=\"01\",$P1616&$L1616=\"0-1\"),(($F1617-$C1617)*$R$3*$L1616)-(ABS($M1616)*$R$4),IF(OR($P1616&$L1616=\"10\",$P1616&$L1616=\"-10\"),(($C1617-$F1616)*$R$3*$P1616)-(ABS($M1616)*$R$4),IF(OR($P1616&$L1616=\"1-1\",$P1616&$L1616=\"-11\"),(($C1617-$F1616)*$R$3*$P1616)-(ABS($M1616)*$R$4)+(($F1617-$C1617)*$R$3*$P1617),IF(OR($P1616&$L1616=\"11\",$P1616&$L1616=\"-1-1\"),(($F1617-$F1616)*$R$3*$P1617),0))))","v":-3395},-40638.459999999992]
[null,{"$f":"'Market Data'!B1605","v":20060412},{"$f":"'Market Data'!C1605","v":6900.5},{"$f":"'Market Data'!D1605","v":6919},{"$f":"'Market Data'!E1605","v":6861.5},{"$f":"'Market Data'!F1605","v":6901.5},null,{"$f":"ROW()-ROW(H$17)","v":1601},"Hidden",{"$f":"$I$4","v":"Long"},null,1,0,{"$f":"IF(NOT($M1618=0),\"Fill\",\"\")","v":""},null,1,{"$f":"IF($P1617&$L1617=\"00\",\"Stay Flat\",IF($P1617&$L1617=\"01\",\"Go Long\",IF($P1617&$L1617=\"0-1\",\"Go Short\",IF($P1617&$L1617=\"-10\",\"Exit Short\",IF($P1617&$L1617=\"-1-1\",\"Stay Short\",IF($P1617&$L1617=\"-11\",\"Exit Short, Go Long\",IF($P1617&$L1617=\"10\",\"Exit Long\",IF($P1617&$L1617=\"1-1\",\"Exit Long, Go Short\",IF($P1617&$L1617=\"11\",\"Stay Long\",\"\")))))))))","v":"Stay Long"},-297.5,{"$f":"S1617+R1618","v":-40935.959999999992}]
[null,{"$f":"'Market Data'!B1606","v":20060413},{"$f":"'Market Data'!C1606","v":6910},{"$f":"'Market Data'!D1606","v":6927},{"$f":"'Market Data'!E1606","v":6873},{"$f":"'Market Data'!F1606","v":6917.5},null,1602,"Hidden","Long",null,{"$f":"IF($J1619=\"Short\",-1,IF($J1619=\"Long\",1,0))","v":1},0,"",null,1,"Stay Long",560,-40375.959999999992]
[null,{"$f":"'Market Data'!B1607","v":20060418},{"$f":"'Market Data'!C1607","v":6915},{"$f":"'Market Data'!D1607","v":6923},{"$f":"'Market Data'!E1607","v":6865.5},{"$f":"'Market Data'!F1607","v":6902.5},null,1603,"Hidden","Long",null,1,0,"",null,1,"Stay Long",-525,-40900.959999999992]
[null,{"$f":"'Market Data'!B1608","v":20060419},{"$f":"'Market Data'!C1608","v":6965.5},{"$f":"'Market Data'!D1608","v":7016},{"$f":"'Market Data'!E1608","v":6961.5},{"$f":"'Market Data'!F1608","v":6992.5},null,1604,"Hidden","Long",null,1,0,"",null,1,"Stay Long",3150,-37750.959999999992]
[null,{"$f":"'Market Data'!B1609","v":20060420},{"$f":"'Market Data'!C1609","v":6996.5},{"$f":"'Market Data'!D1609","v":7090},{"$f":"'Market Data'!E1609","v":6994.5},{"$f":"'Market Data'!F1609","v":7059},null,1605,"Hidden","Long",null,1,0,"",null,1,"Stay Long",2327.5,-35423.459999999992]
[null,{"$f":"'Market Data'!B1610","v":20060421},{"$f":"'Market Data'!C1610","v":7076.5},{"$f":"'Market Data'!D1610","v":7108},{"$f":"'Market Data'!E1610","v":7068.5},{"$f":"'Market Data'!F1610","v":7096.5},null,1606,"Hidden","Long",null,1,0,"",null,1,"Stay Long",1312.5,-34110.959999999992]
[null,{"$f":"'Market Data'!B1611","v":20060424},{"$f":"'Market Data'!C1611","v":7051},{"$f":"'Market Data'!D1611","v":7092.5},{"$f":"'Market Data'!E1611","v":7044},{"$f":"'Market Data'!F1611","v":7077.5},null,1607,"Hidden","Long",null,1,0,"",null,1,"Stay Long",-665,-34775.959999999992]
[null,{"$f":"'Market Data'!B1612","v":20060425},{"$f":"'Market Data'!C1612","v":7085.5},{"$f":"'Market Data'!D1612","v":7108.5},{"$f":"'Market Data'!E1612","v":7048},{"$f":"'Market Data'!F1612","v":7078.5},null,1608,"Hidden","Long",null,1,0,"",null,1,"Stay Long",35,-34740.959999999992]
[null,{"$f":"'Market Data'!B1613","v":20060426},{"$f":"'Market Data'!C1613","v":7091},{"$f":"'Market Data'!D1613","v":7120},{"$f":"'Market Data'!E1613","v":7078.5},{"$f":"'Market Data'!F1613","v":7105},null,1609,"Hidden","Long",null,1,0,"",null,1,"Stay Long",927.5,-33813.459999999992]
[null,{"$f":"'Market Data'!B1614","v":20060427},{"$f":"'Market Data'!C1614","v":7113},{"$f":"'Market Data'!D1614","v":7113.5},{"$f":"'Market Data'!E1614","v":7017},{"$f":"'Market Data'!F1614","v":7062},null,1610,"Hidden","Long",null,1,0,"",null,1,"Stay Long",-1505,-35318.459999999992]
[null,{"$f":"'Market Data'!B1615","v":20060428},{"$f":"'Market Data'!C1615","v":7046},{"$f":"'Market Data'!D1615","v":7048},{"$f":"'Market Data'!E1615","v":6993},{"$f":"'Market Data'!F1615","v":7000.5},null,1611,"Hidden","Long",null,1,0,"",null,1,"Stay Long",-2152.5,-37470.959999999992]
[null,{"$f":"'Market Data'!B1616","v":20060502},{"$f":"'Market Data'!C1616","v":6997.5},{"$f":"'Market Data'!D1616","v":7061},{"$f":"'Market Data'!E1616","v":6997.5},{"$f":"'Market Data'!F1616","v":7043.5},null,1612,"Hidden","Long",null,1,0,"",null,1,"Stay Long",1505,-35965.959999999992]
[null,{"$f":"'Market Data'!B1617","v":20060503},{"$f":"'Market Data'!C1617","v":7066.5},{"$f":"'Market Data'!D1617","v":7075},{"$f":"'Market Data'!E1617","v":6954},{"$f":"'Market Data'!F1617","v":6969},null,1613,"Hidden","Long",null,1,0,"",null,1,"Stay Long",-2607.5,-38573.459999999992]
[null,{"$f":"'Market Data'!B1618","v":20060504},{"$f":"'Market Data'!C1618","v":6976.5},{"$f":"'Market Data'!D1618","v":7043},{"$f":"'Market Data'!E1618","v":6958},{"$f":"'Market Data'!F1618","v":7029.5},null,1614,"Hidden","Long",null,1,0,"",null,1,"Stay Long",2117.5,-36455.959999999992]
[null,{"$f":"'Market Data'!B1619","v":20060505},{"$f":"'Market Data'!C1619","v":7034.5},{"$f":"'Market Data'!D1619","v":7132.5},{"$f":"'Market Data'!E1619","v":7034.5},{"$f":"'Market Data'!F1619","v":7102.5},null,1615,"Hidden","Long",null,1,0,"",null,1,"Stay Long",2555,-33900.959999999992]
[null,{"$f":"'Market Data'!B1620","v":20060508},{"$f":"'Market Data'!C1620","v":7126.5},{"$f":"'Market Data'!D1620","v":7145.5},{"$f":"'Market Data'!E1620","v":7109},{"$f":"'Market Data'!F1620","v":7112.5},null,1616,"Hidden","Long",null,1,0,"",null,1,"Stay Long",350,-33550.959999999992]
[null,{"$f":"'Market Data'!B1621","v":20060509},{"$f":"'Market Data'!C1621","v":7117.5},{"$f":"'Market Data'!D1621","v":7135},{"$f":"'Market Data'!E1621","v":7085.5},{"$f":"'Market Data'!F1621","v":7130.5},null,1617,"Hidden","Long",null,1,0,"",null,1,"Stay Long",630,-32920.959999999992]
[null,{"$f":"'Market Data'!B1622","v":20060510},{"$f":"'Market Data'!C1622","v":7112},{"$f":"'Market Data'!D1622","v":7151},{"$f":"'Market Data'!E1622","v":7094},{"$f":"'Market Data'!F1622","v":7111.5},null,1618,"Hidden","Long",null,1,0,"",null,1,"Stay Long",-665,-33585.959999999992]
[null,{"$f":"'Market Data'!B1623","v":20060511},{"$f":"'Market Data'!C1623","v":7111.5},{"$f":"'Market Data'!D1623","v":7153.5},{"$f":"'Market Data'!E1623","v":7026},{"$f":"'Market Data'!F1623","v":7041},null,1619,"Hidden","Long",null,1,0,"",null,1,"Stay Long",-2467.5,-36053.459999999992]
[null,{"$f":"'Market Data'!B1624","v":20060512},{"$f":"'Market Data'!C1624","v":7013.5},{"$f":"'Market Data'!D1624","v":7033.5},{"$f":"'Market Data'!E1624","v":6879.5},{"$f":"'Market Data'!F1624","v":6907},null,1620,"Hidden","Long",null,1,0,"",null,1,"Stay Long",-4690,-40743.459999999992]
[null,{"$f":"'Market Data'!B1625","v":20060515},{"$f":"'Market Data'!C1625","v":6857},{"$f":"'Market Data'!D1625","v":6892},{"$f":"'Market Data'!E1625","v":6768},{"$f":"'Market Data'!F1625","v":6846},null,1621,"Hidden","Long",null,1,0,"",null,1,"Stay Long",-2135,-42878.459999999992]
[null,{"$f":"'Market Data'!B1626","v":20060516},{"$f":"'Market Data'!C1626","v":6833.5},{"$f":"'Market Data'!D1626","v":6885},{"$f":"'Market Data'!E1626","v":6795},{"$f":"'Market Data'!F1626","v":6842.5},null,1622,"Hidden","Long",null,1,0,"",null,1,"Stay Long",-122.5,-43000.959999999992]
[null,{"$f":"'Market Data'!B1627","v":20060517},{"$f":"'Market Data'!C1627","v":6870},{"$f":"'Market Data'!D1627","v":6881.5},{"$f":"'Market Data'!E1627","v":6635.5},{"$f":"'Market Data'!F1627","v":6643.5},null,1623,"Hidden","Long",null,1,0,"",null,1,"Stay Long",-6965,-49965.959999999992]
[null,{"$f":"'Market Data'!B1628","v":20060518},{"$f":"'Market Data'!C1628","v":6676},{"$f":"'Market Data'!D1628","v":6702.5},{"$f":"'Market Data'!E1628","v":6574.5},{"$f":"'Market Data'!F1628","v":6650.5},null,1624,"Hidden","Long",null,1,0,"",null,1,"Stay Long",245,-49720.959999999992]
[null,{"$f":"'Market Data'!B1629","v":20060519},{"$f":"'Market Data'!C1629","v":6642.5},{"$f":"'Market Data'!D1629","v":6686.5},{"$f":"'Market Data'!E1629","v":6617.5},{"$f":"'Market Data'!F1629","v":6658},null,1625,"Hidden","Long",null,1,0,"",null,1,"Stay Long",262.5,-49458.459999999992]
[null,{"$f":"'Market Data'!B1630","v":20060522},{"$f":"'Market Data'!C1630","v":6628},{"$f":"'Market Data'!D1630","v":6628},{"$f":"'Market Data'!E1630","v":6498},{"$f":"'Market Data'!F1630","v":6515},null,1626,"Hidden","Long",null,1,0,"",null,1,"Stay Long",-5005,-54463.459999999992]
[null,{"$f":"'Market Data'!B1631","v":20060523},{"$f":"'Market Data'!C1631","v":6556},{"$f":"'Market Data'!D1631","v":6688},{"$f":"'Market Data'!E1631","v":6553},{"$f":"'Market Data'!F1631","v":6649},null,1627,"Hidden","Long",null,1,0,"",null,1,"Stay Long",4690,-49773.459999999992]
[null,{"$f":"'Market Data'!B1632","v":20060524},{"$f":"'Market Data'!C1632","v":6610},{"$f":"'Market Data'!D1632","v":6636},{"$f":"'Market Data'!E1632","v":6528.5},{"$f":"'Market Data'!F1632","v":6574},null,1628,"Hidden","Long",null,1,0,"",null,1,"Stay Long",-2625,-52398.459999999992]
[null,{"$f":"'Market Data'!B1633","v":20060525},{"$f":"'Market Data'!C1633","v":6596.5},{"$f":"'Market Data'!D1633","v":6726.5},{"$f":"'Market Data'!E1633","v":6551.5},{"$f":"'Market Data'!F1633","v":6684},null,1629,"Hidden","Long",null,1,0,"",null,1,"Stay Long",3850,-48548.459999999992]
[null,{"$f":"'Market Data'!B1634","v":20060526},{"$f":"'Market Data'!C1634","v":6725},{"$f":"'Market Data'!D1634","v":6771},{"$f":"'Market Data'!E1634","v":6701},{"$f":"'Market Data'!F1634","v":6765},null,1630,"Hidden","Long",null,1,0,"",null,1,"Stay Long",2835,-45713.459999999992]
[null,{"$f":"'Market Data'!B1635","v":20060529},{"$f":"'Market Data'!C1635","v":6755},{"$f":"'Market Data'!D1635","v":6761},{"$f":"'Market Data'!E1635","v":6728},{"$f":"'Market Data'!F1635","v":6743},null,1631,"Hidden","Long",null,1,0,"",null,1,"Stay Long",-770,-46483.459999999992]
[null,{"$f":"'Market Data'!B1636","v":20060530},{"$f":"'Market Data'!C1636","v":6729},{"$f":"'Market Data'!D1636","v":6740},{"$f":"'Market Data'!E1636","v":6574},{"$f":"'Market Data'!F1636","v":6587},null,1632,"Hidden","Long",null,1,0,"",null,1,"Stay Long",-5460,-51943.459999999992]
[null,{"$f":"'Market Data'!B1637","v":20060531},{"$f":"'Market Data'!C1637","v":6532.5},{"$f":"'Market Data'!D1637","v":6687},{"$f":"'Market Data'!E1637","v":6514},{"$f":"'Market Data'!F1637","v":6672},null,1633,"Hidden","Long",null,1,0,"",null,1,"Stay Long",2975,-48968.459999999992]
[null,{"$f":"'Market Data'!B1638","v":20060601},{"$f":"'Market Data'!C1638","v":6669},{"$f":"'Market Data'!D1638","v":6695},{"$f":"'Market Data'!E1638","v":6580},{"$f":"'Market Data'!F1638","v":6683},null,1634,"Hidden","Long",null,1,0,"",null,1,"Stay Long",385,-48583.459999999992]
[null,{"$f":"'Market Data'!B1639","v":20060602},{"$f":"'Market Data'!C1639","v":6676},{"$f":"'Market Data'!D1639","v":6757},{"$f":"'Market Data'!E1639","v":6636.5},{"$f":"'Market Data'!F1639","v":6657.5},null,1635,"Hidden","Long",null,1,0,"",null,1,"Stay Long",-892.5,-49475.959999999992]
[null,{"$f":"'Market Data'!B1640","v":20060605},{"$f":"'Market Data'!C1640","v":6648.5},{"$f":"'Market Data'!D1640","v":6672},{"$f":"'Market Data'!E1640","v":6569.5},{"$f":"'Market Data'!F1640","v":6602},null,1636,"Hidden","Long",null,1,0,"",null,1,"Stay Long",-1942.5,-51418.459999999992]
[null,{"$f":"'Market Data'!B1641","v":20060606},{"$f":"'Market Data'!C1641","v":6543},{"$f":"'Market Data'!D1641","v":6571.5},{"$f":"'Market Data'!E1641","v":6454},{"$f":"'Market Data'!F1641","v":6480},null,1637,"Hidden","Long",null,1,0,"",null,1,"Stay Long",-4270,-55688.459999999992]
[null,{"$f":"'Market Data'!B1642","v":20060607},{"$f":"'Market Data'!C1642","v":6502},{"$f":"'Market Data'!D1642","v":6551},{"$f":"'Market Data'!E1642","v":6450.5},{"$f":"'Market Data'!F1642","v":6521},null,1638,"Hidden","Long",null,1,0,"",null,1,"Stay Long",1435,-54253.459999999992]
[null,{"$f":"'Market Data'!B1643","v":20060608},{"$f":"'Market Data'!C1643","v":6417.5},{"$f":"'Market Data'!D1643","v":6450.5},{"$f":"'Market Data'!E1643","v":6339.5},{"$f":"'Market Data'!F1643","v":6374},null,1639,"Hidden","Long",null,1,0,"",null,1,"Stay Long",-5145,-59398.459999999992]
[null,{"$f":"'Market Data'!B1644","v":20060609},{"$f":"'Market Data'!C1644","v":6440.5},{"$f":"'Market Data'!D1644","v":6463},{"$f":"'Market Data'!E1644","v":6378},{"$f":"'Market Data'!F1644","v":6442},null,1640,"Hidden","Long",null,1,0,"",null,1,"Stay Long",2380,-57018.459999999992]
[null,{"$f":"'Market Data'!B1645","v":20060612},{"$f":"'Market Data'!C1645","v":6394},{"$f":"'Market Data'!D1645","v":6445.5},{"$f":"'Market Data'!E1645","v":6350.5},{"$f":"'Market Data'!F1645","v":6358},null,1641,"Hidden","Long",null,1,0,"",null,1,"Stay Long",-2940,-59958.459999999992]
[null,{"$f":"'Market Data'!B1646","v":20060613},{"$f":"'Market Data'!C1646","v":6298},{"$f":"'Market Data'!D1646","v":6310.5},{"$f":"'Market Data'!E1646","v":6236.5},{"$f":"'Market Data'!F1646","v":6263.5},null,1642,"Hidden","Long",null,1,0,"",null,1,"Stay Long",-3307.5,-63265.959999999992]
[null,{"$f":"'Market Data'!B1647","v":20060614},{"$f":"'Market Data'!C1647","v":6254.5},{"$f":"'Market Data'!D1647","v":6309},{"$f":"'Market Data'!E1647","v":6215.5},{"$f":"'Market Data'!F1647","v":6282.5},null,1643,"Hidden","Long",null,1,0,"",null,1,"Stay Long",665,-62600.959999999992]
[null,{"$f":"'Market Data'!B1648","v":20060615},{"$f":"'Market Data'!C1648","v":6319.5},{"$f":"'Market Data'!D1648","v":6452},{"$f":"'Market Data'!E1648","v":6306},{"$f":"'Market Data'!F1648","v":6402.5},null,1644,"Hidden","Long",null,1,0,"",null,1,"Stay Long",4200,-58400.959999999992]
[null,{"$f":"'Market Data'!B1649","v":20060616},{"$f":"'Market Data'!C1649","v":6453.5},{"$f":"'Market Data'!D1649","v":6475.5},{"$f":"'Market Data'!E1649","v":6340.5},{"$f":"'Market Data'!F1649","v":6346},null,1645,"Hidden","Long",null,1,0,"",null,1,"Stay Long",-1977.5,-60378.459999999992]
[null,{"$f":"'Market Data'!B1650","v":20060619},{"$f":"'Market Data'!C1650","v":6381.5},{"$f":"'Market Data'!D1650","v":6456.5},{"$f":"'Market Data'!E1650","v":6397.5},{"$f":"'Market Data'!F1650","v":6412.5},null,1646,"Hidden","Long",null,1,0,"",null,1,"Stay Long",2327.5,-58050.959999999992]
[null,{"$f":"'Market Data'!B1651","v":20060620},{"$f":"'Market Data'!C1651","v":6350.5},{"$f":"'Market Data'!D1651","v":6483},{"$f":"'Market Data'!E1651","v":6348},{"$f":"'Market Data'!F1651","v":6460},null,1647,"Hidden","Long",null,1,0,"",null,1,"Stay Long",1662.5,-56388.459999999992]
[null,{"$f":"'Market Data'!B1652","v":20060621},{"$f":"'Market Data'!C1652","v":6446.5},{"$f":"'Market Data'!D1652","v":6502},{"$f":"'Market Data'!E1652","v":6386},{"$f":"'Market Data'!F1652","v":6474},null,1648,"Hidden","Long",null,1,0,"",null,1,"Stay Long",490,-55898.459999999992]
[null,{"$f":"'Market Data'!B1653","v":20060622},{"$f":"'Market Data'!C1653","v":6539.5},{"$f":"'Market Data'!D1653","v":6553},{"$f":"'Market Data'!E1653","v":6470.5},{"$f":"'Market Data'!F1653","v":6501},null,1649,"Hidden","Long",null,1,0,"",null,1,"Stay Long",945,-54953.459999999992]
[null,{"$f":"'Market Data'!B1654","v":20060623},{"$f":"'Market Data'!C1654","v":6503},{"$f":"'Market Data'!D1654","v":6532.5},{"$f":"'Market Data'!E1654","v":6471},{"$f":"'Market Data'!F1654","v":6501},null,1650,"Hidden","Long",null,1,0,"",null,1,"Stay Long",0,-54953.459999999992]
[null,{"$f":"'Market Data'!B1655","v":20060626},{"$f":"'Market Data'!C1655","v":6518},{"$f":"'Market Data'!D1655","v":6537.5},{"$f":"'Market Data'!E1655","v":6472.5},{"$f":"'Market Data'!F1655","v":6488.5},null,1651,"Hidden","Long",null,1,0,"",null,1,"Stay Long",-437.5,-55390.959999999992]
[null,{"$f":"'Market Data'!B1656","v":20060627},{"$f":"'Market Data'!C1656","v":6527.5},{"$f":"'Market Data'!D1656","v":6527.5},{"$f":"'Market Data'!E1656","v":6382.5},{"$f":"'Market Data'!F1656","v":6429.5},null,1652,"Hidden","Long",null,1,0,"",null,1,"Stay Long",-2065,-57455.959999999992]
[null,{"$f":"'Market Data'!B1657","v":20060628},{"$f":"'Market Data'!C1657","v":6378},{"$f":"'Market Data'!D1657","v":6462},{"$f":"'Market Data'!E1657","v":6373},{"$f":"'Market Data'!F1657","v":6427},null,1653,"Hidden","Long",null,1,0,"",null,1,"Stay Long",-87.5,-57543.459999999992]
[null,{"$f":"'Market Data'!B1658","v":20060629},{"$f":"'Market Data'!C1658","v":6483.5},{"$f":"'Market Data'!D1658","v":6564},{"$f":"'Market Data'!E1658","v":6451.5},{"$f":"'Market Data'!F1658","v":6547},null,1654,"Hidden","Long",null,1,0,"",null,1,"Stay Long",4200,-53343.459999999992]
[null,{"$f":"'Market Data'!B1659","v":20060630},{"$f":"'Market Data'!C1659","v":6629.5},{"$f":"'Market Data'!D1659","v":6673.5},{"$f":"'Market Data'!E1659","v":6597},{"$f":"'Market Data'!F1659","v":6661},null,1655,"Hidden","Long",null,1,0,"",null,1,"Stay Long",3990,-49353.459999999992]
[null,{"$f":"'Market Data'!B1660","v":20060703},{"$f":"'Market Data'!C1660","v":6659.5},{"$f":"'Market Data'!D1660","v":6698.5},{"$f":"'Market Data'!E1660","v":6644.5},{"$f":"'Market Data'!F1660","v":6694},null,1656,"Hidden","Long",null,1,0,"",null,1,"Stay Long",1155,-48198.459999999992]
[null,{"$f":"'Market Data'!B1661","v":20060704},{"$f":"'Market Data'!C1661","v":6696.5},{"$f":"'Market Data'!D1661","v":6699},{"$f":"'Market Data'!E1661","v":6657},{"$f":"'Market Data'!F1661","v":6695},null,1657,"Hidden","Long",null,1,0,"",null,1,"Stay Long",35,-48163.459999999992]
[null,{"$f":"'Market Data'!B1662","v":20060705},{"$f":"'Market Data'!C1662","v":6657.5},{"$f":"'Market Data'!D1662","v":6677},{"$f":"'Market Data'!E1662","v":6576.5},{"$f":"'Market Data'!F1662","v":6592.5},null,1658,"Hidden","Long",null,1,0,"",null,1,"Stay Long",-3587.5,-51750.959999999992]
[null,{"$f":"'Market Data'!B1663","v":20060706},{"$f":"'Market Data'!C1663","v":6617.5},{"$f":"'Market Data'!D1663","v":6672},{"$f":"'Market Data'!E1663","v":6598.5},{"$f":"'Market Data'!F1663","v":6659},null,1659,"Hidden","Long",null,1,0,"",null,1,"Stay Long",2327.5,-49423.459999999992]
[null,{"$f":"'Market Data'!B1664","v":20060707},{"$f":"'Market Data'!C1664","v":6632.5},{"$f":"'Market Data'!D1664","v":6686.5},{"$f":"'Market Data'!E1664","v":6592.5},{"$f":"'Market Data'!F1664","v":6647},null,1660,"Hidden","Long",null,1,0,"",null,1,"Stay Long",-420,-49843.459999999992]
[null,{"$f":"'Market Data'!B1665","v":20060710},{"$f":"'Market Data'!C1665","v":6642.5},{"$f":"'Market Data'!D1665","v":6679},{"$f":"'Market Data'!E1665","v":6598},{"$f":"'Market Data'!F1665","v":6672},null,1661,"Hidden","Long",null,1,0,"",null,1,"Stay Long",875,-48968.459999999992]
[null,{"$f":"'Market Data'!B1666","v":20060711},{"$f":"'Market Data'!C1666","v":6648},{"$f":"'Market Data'!D1666","v":6650.5},{"$f":"'Market Data'!E1666","v":6557.5},{"$f":"'Market Data'!F1666","v":6587},null,1662,"Hidden","Long",null,1,0,"",null,1,"Stay Long",-2975,-51943.459999999992]
[null,{"$f":"'Market Data'!B1667","v":20060712},{"$f":"'Market Data'!C1667","v":6629},{"$f":"'Market Data'!D1667","v":6667.5},{"$f":"'Market Data'!E1667","v":6581.5},{"$f":"'Market Data'!F1667","v":6596},null,1663,"Hidden","Long",null,1,{"$f":"$L1680-P1680","v":0},"",null,1,"Stay Long",315,-51628.459999999992]
[null,{"$f":"'Market Data'!B1668","v":20060713},{"$f":"'Market Data'!C1668","v":6551.5},{"$f":"'Market Data'!D1668","v":6557.5},{"$f":"'Market Data'!E1668","v":6439.5},{"$f":"'Market Data'!F1668","v":6492.5},null,1664,"Hidden","Long",null,1,0,"",null,{"$f":"IF($N1680=\"Fill\",$L1680,$P1680)","v":1},"Stay Long",{"$f":"IF(OR($P1680&$L1680=\"01\",$P1680&$L1680=\"0-1\"),(($F1681-$C1681)*$R$3*$L1680)-(ABS($M1680)*$R$4),IF(OR($P1680&$L1680=\"10\",$P1680&$L1680=\"-10\"),(($C1681-$F1680)*$R$3*$P1680)-(ABS($M1680)*$R$4),IF(OR($P1680&$L1680=\"1-1\",$P1680&$L1680=\"-11\"),(($C1681-$F1680)*$R$3*$P1680)-(ABS($M1680)*$R$4)+(($F1681-$C1681)*$R$3*$P1681),IF(OR($P1680&$L1680=\"11\",$P1680&$L1680=\"-1-1\"),(($F1681-$F1680)*$R$3*$P1681),0))))","v":-3622.5},-55250.959999999992]
[null,{"$f":"'Market Data'!B1669","v":20060714},{"$f":"'Market Data'!C1669","v":6425.5},{"$f":"'Market Data'!D1669","v":6468},{"$f":"'Market Data'!E1669","v":6378.5},{"$f":"'Market Data'!F1669","v":6388},null,{"$f":"ROW()-ROW(H$17)","v":1665},"Hidden",{"$f":"$I$4","v":"Long"},null,1,0,{"$f":"IF(NOT($M1682=0),\"Fill\",\"\")","v":""},null,1,{"$f":"IF($P1681&$L1681=\"00\",\"Stay Flat\",IF($P1681&$L1681=\"01\",\"Go Long\",IF($P1681&$L1681=\"0-1\",\"Go Short\",IF($P1681&$L1681=\"-10\",\"Exit Short\",IF($P1681&$L1681=\"-1-1\",\"Stay Short\",IF($P1681&$L1681=\"-11\",\"Exit Short, Go Long\",IF($P1681&$L1681=\"10\",\"Exit Long\",IF($P1681&$L1681=\"1-1\",\"Exit Long, Go Short\",IF($P1681&$L1681=\"11\",\"Stay Long\",\"\")))))))))","v":"Stay Long"},-3657.5,{"$f":"S1681+R1682","v":-58908.459999999992}]
[null,{"$f":"'Market Data'!B1670","v":20060717},{"$f":"'Market Data'!C1670","v":6417.5},{"$f":"'Market Data'!D1670","v":6422},{"$f":"'Market Data'!E1670","v":6326},{"$f":"'Market Data'!F1670","v":6375.5},null,1666,"Hidden","Long",null,{"$f":"IF($J1683=\"Short\",-1,IF($J1683=\"Long\",1,0))","v":1},0,"",null,1,"Stay Long",-437.5,-59345.959999999992]
[null,{"$f":"'Market Data'!B1671","v":20060718},{"$f":"'Market Data'!C1671","v":6367.5},{"$f":"'Market Data'!D1671","v":6409},{"$f":"'Market Data'!E1671","v":6325.5},{"$f":"'Market Data'!F1671","v":6347.5},null,1667,"Hidden","Long",null,1,0,"",null,1,"Stay Long",-980,-60325.959999999992]
[null,{"$f":"'Market Data'!B1672","v":20060719},{"$f":"'Market Data'!C1672","v":6385.5},{"$f":"'Market Data'!D1672","v":6513.5},{"$f":"'Market Data'!E1672","v":6362},{"$f":"'Market Data'!F1672","v":6499},null,1668,"Hidden","Long",null,1,0,"",null,1,"Stay Long",5302.5,-55023.459999999992]
[null,{"$f":"'Market Data'!B1673","v":20060720},{"$f":"'Market Data'!C1673","v":6537.5},{"$f":"'Market Data'!D1673","v":6549.5},{"$f":"'Market Data'!E1673","v":6495},{"$f":"'Market Data'!F1673","v":6506},null,1669,"Hidden","Long",null,1,0,"",null,1,"Stay Long",245,-54778.459999999992]
[null,{"$f":"'Market Data'!B1674","v":20060721},{"$f":"'Market Data'!C1674","v":6476.5},{"$f":"'Market Data'!D1674","v":6499},{"$f":"'Market Data'!E1674","v":6381},{"$f":"'Market Data'!F1674","v":6410.5},null,1670,"Hidden","Long",null,1,0,"",null,1,"Stay Long",-3342.5,-58120.959999999992]
[null,{"$f":"'Market Data'!B1675","v":20060724},{"$f":"'Market Data'!C1675","v":6423.5},{"$f":"'Market Data'!D1675","v":6548},{"$f":"'Market Data'!E1675","v":6416},{"$f":"'Market Data'!F1675","v":6529.5},null,1671,"Hidden","Long",null,1,0,"",null,1,"Stay Long",4165,-53955.959999999992]
[null,{"$f":"'Market Data'!B1676","v":20060725},{"$f":"'Market Data'!C1676","v":6540.5},{"$f":"'Market Data'!D1676","v":6580.5},{"$f":"'Market Data'!E1676","v":6501.5},{"$f":"'Market Data'!F1676","v":6522.5},null,1672,"Hidden","Long",null,1,0,"",null,1,"Stay Long",-245,-54200.959999999992]
[null,{"$f":"'Market Data'!B1677","v":20060726},{"$f":"'Market Data'!C1677","v":6544.5},{"$f":"'Market Data'!D1677","v":6559.5},{"$f":"'Market Data'!E1677","v":6513},{"$f":"'Market Data'!F1677","v":6545.5},null,1673,"Hidden","Long",null,1,0,"",null,1,"Stay Long",805,-53395.959999999992]
[null,{"$f":"'Market Data'!B1678","v":20060727},{"$f":"'Market Data'!C1678","v":6583},{"$f":"'Market Data'!D1678","v":6626},{"$f":"'Market Data'!E1678","v":6556},{"$f":"'Market Data'!F1678","v":6619.5},null,1674,"Hidden","Long",null,1,0,"",null,1,"Stay Long",2590,-50805.959999999992]
[null,{"$f":"'Market Data'!B1679","v":20060728},{"$f":"'Market Data'!C1679","v":6596.5},{"$f":"'Market Data'!D1679","v":6675.5},{"$f":"'Market Data'!E1679","v":6577.5},{"$f":"'Market Data'!F1679","v":6665.5},null,1675,"Hidden","Long",null,1,0,"",null,1,"Stay Long",1610,-49195.959999999992]
[null,{"$f":"'Market Data'!B1680","v":20060731},{"$f":"'Market Data'!C1680","v":6662},{"$f":"'Market Data'!D1680","v":6668},{"$f":"'Market Data'!E1680","v":6628.5},{"$f":"'Market Data'!F1680","v":6638.5},null,1676,"Hidden","Long",null,1,0,"",null,1,"Stay Long",-945,-50140.959999999992]
[null,{"$f":"'Market Data'!B1681","v":20060801},{"$f":"'Market Data'!C1681","v":6640},{"$f":"'Market Data'!D1681","v":6651.5},{"$f":"'Market Data'!E1681","v":6540},{"$f":"'Market Data'!F1681","v":6554},null,1677,"Hidden","Long",null,1,0,"",null,1,"Stay Long",-2957.5,-53098.459999999992]
[null,{"$f":"'Market Data'!B1682","v":20060802},{"$f":"'Market Data'!C1682","v":6583.5},{"$f":"'Market Data'!D1682","v":6658.5},{"$f":"'Market Data'!E1682","v":6577.5},{"$f":"'Market Data'!F1682","v":6633.5},null,1678,"Hidden","Long",null,1,0,"",null,1,"Stay Long",2782.5,-50315.959999999992]
[null,{"$f":"'Market Data'!B1683","v":20060803},{"$f":"'Market Data'!C1683","v":6643.5},{"$f":"'Market Data'!D1683","v":6651},{"$f":"'Market Data'!E1683","v":6545.5},{"$f":"'Market Data'!F1683","v":6603},null,1679,"Hidden","Long",null,1,0,"",null,1,"Stay Long",-1067.5,-51383.459999999992]
[null,{"$f":"'Market Data'!B1684","v":20060804},{"$f":"'Market Data'!C1684","v":6645},{"$f":"'Market Data'!D1684","v":6697.5},{"$f":"'Market Data'!E1684","v":6610.5},{"$f":"'Market Data'!F1684","v":6673.5},null,1680,"Hidden","Long",null,1,0,"",null,1,"Stay Long",2467.5,-48915.959999999992]
[null,{"$f":"'Market Data'!B1685","v":20060807},{"$f":"'Market Data'!C1685","v":6580},{"$f":"'Market Data'!D1685","v":6619},{"$f":"'Market Data'!E1685","v":6566.5},{"$f":"'Market Data'!F1685","v":6581.5},null,1681,"Hidden","Long",null,1,0,"",null,1,"Stay Long",-3220,-52135.959999999992]
[null,{"$f":"'Market Data'!B1686","v":20060808},{"$f":"'Market Data'!C1686","v":6629.5},{"$f":"'Market Data'!D1686","v":6632.5},{"$f":"'Market Data'!E1686","v":6552.5},{"$f":"'Market Data'!F1686","v":6603},null,1682,"Hidden","Long",null,1,0,"",null,1,"Stay Long",752.5,-51383.459999999992]
[null,{"$f":"'Market Data'!B1687","v":20060809},{"$f":"'Market Data'!C1687","v":6606.5},{"$f":"'Market Data'!D1687","v":6667.5},{"$f":"'Market Data'!E1687","v":6564.5},{"$f":"'Market Data'!F1687","v":6653},null,1683,"Hidden","Long",null,1,0,"",null,1,"Stay Long",1750,-49633.459999999992]
[null,{"$f":"'Market Data'!B1688","v":20060810},{"$f":"'Market Data'!C1688","v":6604.5},{"$f":"'Market Data'!D1688","v":6608.5},{"$f":"'Market Data'!E1688","v":6507},{"$f":"'Market Data'!F1688","v":6588.5},null,1684,"Hidden","Long",null,1,0,"",null,1,"Stay Long",-2257.5,-51890.959999999992]
[null,{"$f":"'Market Data'!B1689","v":20060811},{"$f":"'Market Data'!C1689","v":6612},{"$f":"'Market Data'!D1689","v":6624.5},{"$f":"'Market Data'!E1689","v":6552},{"$f":"'Market Data'!F1689","v":6576.5},null,1685,"Hidden","Long",null,1,0,"",null,1,"Stay Long",-420,-52310.959999999992]
[null,{"$f":"'Market Data'!B1690","v":20060814},{"$f":"'Market Data'!C1690","v":6618},{"$f":"'Market Data'!D1690","v":6653},{"$f":"'Market Data'!E1690","v":6599.5},{"$f":"'Market Data'!F1690","v":6643.5},null,1686,"Hidden","Long",null,1,0,"",null,1,"Stay Long",2345,-49965.959999999992]
[null,{"$f":"'Market Data'!B1691","v":20060815},{"$f":"'Market Data'!C1691","v":6614.5},{"$f":"'Market Data'!D1691","v":6743.5},{"$f":"'Market Data'!E1691","v":6610},{"$f":"'Market Data'!F1691","v":6730},null,1687,"Hidden","Long",null,1,0,"",null,1,"Stay Long",3027.5,-46938.459999999992]
[null,{"$f":"'Market Data'!B1692","v":20060816},{"$f":"'Market Data'!C1692","v":6744},{"$f":"'Market Data'!D1692","v":6783.5},{"$f":"'Market Data'!E1692","v":6713},{"$f":"'Market Data'!F1692","v":6759},null,1688,"Hidden","Long",null,1,0,"",null,1,"Stay Long",1015,-45923.459999999992]
[null,{"$f":"'Market Data'!B1693","v":20060817},{"$f":"'Market Data'!C1693","v":6768.5},{"$f":"'Market Data'!D1693","v":6794},{"$f":"'Market Data'!E1693","v":6751.5},{"$f":"'Market Data'!F1693","v":6781.5},null,1689,"Hidden","Long",null,1,0,"",null,1,"Stay Long",787.5,-45135.959999999992]
[null,{"$f":"'Market Data'!B1694","v":20060818},{"$f":"'Market Data'!C1694","v":6780},{"$f":"'Market Data'!D1694","v":6797.5},{"$f":"'Market Data'!E1694","v":6750.5},{"$f":"'Market Data'!F1694","v":6765},null,1690,"Hidden","Long",null,1,0,"",null,1,"Stay Long",-577.5,-45713.459999999992]
[null,{"$f":"'Market Data'!B1695","v":20060821},{"$f":"'Market Data'!C1695","v":6769.5},{"$f":"'Market Data'!D1695","v":6771},{"$f":"'Market Data'!E1695","v":6718.5},{"$f":"'Market Data'!F1695","v":6738.5},null,1691,"Hidden","Long",null,1,0,"",null,1,"Stay Long",-927.5,-46640.959999999992]
[null,{"$f":"'Market Data'!B1696","v":20060822},{"$f":"'Market Data'!C1696","v":6772.5},{"$f":"'Market Data'!D1696","v":6780.5},{"$f":"'Market Data'!E1696","v":6702.5},{"$f":"'Market Data'!F1696","v":6766},null,1692,"Hidden","Long",null,1,0,"",null,1,"Stay Long",962.5,-45678.459999999992]
[null,{"$f":"'Market Data'!B1697","v":20060823},{"$f":"'Market Data'!C1697","v":6762},{"$f":"'Market Data'!D1697","v":6766.5},{"$f":"'Market Data'!E1697","v":6706},{"$f":"'Market Data'!F1697","v":6722},null,1693,"Hidden","Long",null,1,0,"",null,1,"Stay Long",-1540,-47218.459999999992]
[null,{"$f":"'Market Data'!B1698","v":20060824},{"$f":"'Market Data'!C1698","v":6718.5},{"$f":"'Market Data'!D1698","v":6794.5},{"$f":"'Market Data'!E1698","v":6686.5},{"$f":"'Market Data'!F1698","v":6760.5},null,1694,"Hidden","Long",null,1,0,"",null,1,"Stay Long",1347.5,-45870.959999999992]
[null,{"$f":"'Market Data'!B1699","v":20060825},{"$f":"'Market Data'!C1699","v":6756.5},{"$f":"'Market Data'!D1699","v":6777.5},{"$f":"'Market Data'!E1699","v":6725},{"$f":"'Market Data'!F1699","v":6757.5},null,1695,"Hidden","Long",null,1,0,"",null,1,"Stay Long",-105,-45975.959999999992]
[null,{"$f":"'Market Data'!B1700","v":20060828},{"$f":"'Market Data'!C1700","v":6741.5},{"$f":"'Market Data'!D1700","v":6815.5},{"$f":"'Market Data'!E1700","v":6710.5},{"$f":"'Market Data'!F1700","v":6799},null,1696,"Hidden","Long",null,1,0,"",null,1,"Stay Long",1452.5,-44523.459999999992]
[null,{"$f":"'Market Data'!B1701","v":20060829},{"$f":"'Market Data'!C1701","v":6806.5},{"$f":"'Market Data'!D1701","v":6825},{"$f":"'Market Data'!E1701","v":6780},{"$f":"'Market Data'!F1701","v":6793.5},null,1697,"Hidden","Long",null,1,0,"",null,1,"Stay Long",-192.5,-44715.959999999992]
[null,{"$f":"'Market Data'!B1702","v":20060830},{"$f":"'Market Data'!C1702","v":6823},{"$f":"'Market Data'!D1702","v":6828.5},{"$f":"'Market Data'!E1702","v":6794.5},{"$f":"'Market Data'!F1702","v":6815},null,1698,"Hidden","Long",null,1,0,"",null,1,"Stay Long",752.5,-43963.459999999992]
[null,{"$f":"'Market Data'!B1703","v":20060831},{"$f":"'Market Data'!C1703","v":6823.5},{"$f":"'Market Data'!D1703","v":6834.5},{"$f":"'Market Data'!E1703","v":6782},{"$f":"'Market Data'!F1703","v":6795.5},null,1699,"Hidden","Long",null,1,0,"",null,1,"Stay Long",-682.5,-44645.959999999992]
[null,{"$f":"'Market Data'!B1704","v":20060901},{"$f":"'Market Data'!C1704","v":6810.5},{"$f":"'Market Data'!D1704","v":6849.5},{"$f":"'Market Data'!E1704","v":6798},{"$f":"'Market Data'!F1704","v":6817},null,1700,"Hidden","Long",null,1,0,"",null,1,"Stay Long",752.5,-43893.459999999992]
[null,{"$f":"'Market Data'!B1705","v":20060904},{"$f":"'Market Data'!C1705","v":6841},{"$f":"'Market Data'!D1705","v":6858},{"$f":"'Market Data'!E1705","v":6833},{"$f":"'Market Data'!F1705","v":6852},null,1701,"Hidden","Long",null,1,0,"",null,1,"Stay Long",1225,-42668.459999999992]
[null,{"$f":"'Market Data'!B1706","v":20060905},{"$f":"'Market Data'!C1706","v":6849.5},{"$f":"'Market Data'!D1706","v":6854},{"$f":"'Market Data'!E1706","v":6797.5},{"$f":"'Market Data'!F1706","v":6819.5},null,1702,"Hidden","Long",null,1,0,"",null,1,"Stay Long",-1137.5,-43805.959999999992]
[null,{"$f":"'Market Data'!B1707","v":20060906},{"$f":"'Market Data'!C1707","v":6830.5},{"$f":"'Market Data'!D1707","v":6833},{"$f":"'Market Data'!E1707","v":6739},{"$f":"'Market Data'!F1707","v":6757.5},null,1703,"Hidden","Long",null,1,0,"",null,1,"Stay Long",-2170,-45975.959999999992]
[null,{"$f":"'Market Data'!B1708","v":20060907},{"$f":"'Market Data'!C1708","v":6728.5},{"$f":"'Market Data'!D1708","v":6741.5},{"$f":"'Market Data'!E1708","v":6691},{"$f":"'Market Data'!F1708","v":6712},null,1704,"Hidden","Long",null,1,0,"",null,1,"Stay Long",-1592.5,-47568.459999999992]
[null,{"$f":"'Market Data'!B1709","v":20060908},{"$f":"'Market Data'!C1709","v":6732.5},{"$f":"'Market Data'!D1709","v":6751},{"$f":"'Market Data'!E1709","v":6711},{"$f":"'Market Data'!F1709","v":6734.5},null,1705,"Hidden","Long",null,1,0,"",null,1,"Stay Long",787.5,-46780.959999999992]
[null,{"$f":"'Market Data'!B1710","v":20060911},{"$f":"'Market Data'!C1710","v":6713},{"$f":"'Market Data'!D1710","v":6773.5},{"$f":"'Market Data'!E1710","v":6671.5},{"$f":"'Market Data'!F1710","v":6735},null,1706,"Hidden","Long",null,1,0,"",null,1,"Stay Long",17.5,-46763.459999999992]
[null,{"$f":"'Market Data'!B1711","v":20060912},{"$f":"'Market Data'!C1711","v":6750},{"$f":"'Market Data'!D1711","v":6842},{"$f":"'Market Data'!E1711","v":6710.5},{"$f":"'Market Data'!F1711","v":6810.5},null,1707,"Hidden","Long",null,1,0,"",null,1,"Stay Long",2642.5,-44120.959999999992]
[null,{"$f":"'Market Data'!B1712","v":20060913},{"$f":"'Market Data'!C1712","v":6831.5},{"$f":"'Market Data'!D1712","v":6845},{"$f":"'Market Data'!E1712","v":6811.5},{"$f":"'Market Data'!F1712","v":6838},null,1708,"Hidden","Long",null,1,0,"",null,1,"Stay Long",962.5,-43158.459999999992]
[null,{"$f":"'Market Data'!B1713","v":20060914},{"$f":"'Market Data'!C1713","v":6849},{"$f":"'Market Data'!D1713","v":6870.5},{"$f":"'Market Data'!E1713","v":6824.5},{"$f":"'Market Data'!F1713","v":6844.5},null,1709,"Hidden","Long",null,1,0,"",null,1,"Stay Long",227.5,-42930.959999999992]
[null,{"$f":"'Market Data'!B1714","v":20060915},{"$f":"'Market Data'!C1714","v":6853},{"$f":"'Market Data'!D1714","v":6890.5},{"$f":"'Market Data'!E1714","v":6841.5},{"$f":"'Market Data'!F1714","v":6866.5},null,1710,"Hidden","Long",null,1,0,"",null,1,"Stay Long",770,-42160.959999999992]
[null,{"$f":"'Market Data'!B1715","v":20060918},{"$f":"'Market Data'!C1715","v":6878},{"$f":"'Market Data'!D1715","v":6885},{"$f":"'Market Data'!E1715","v":6829.5},{"$f":"'Market Data'!F1715","v":6861},null,1711,"Hidden","Long",null,1,0,"",null,1,"Stay Long",-192.5,-42353.459999999992]
[null,{"$f":"'Market Data'!B1716","v":20060919},{"$f":"'Market Data'!C1716","v":6851.5},{"$f":"'Market Data'!D1716","v":6864.5},{"$f":"'Market Data'!E1716","v":6778.5},{"$f":"'Market Data'!F1716","v":6807.5},null,1712,"Hidden","Long",null,1,0,"",null,1,"Stay Long",-1872.5,-44225.959999999992]
[null,{"$f":"'Market Data'!B1717","v":20060920},{"$f":"'Market Data'!C1717","v":6809},{"$f":"'Market Data'!D1717","v":6896.5},{"$f":"'Market Data'!E1717","v":6804.5},{"$f":"'Market Data'!F1717","v":6886},null,1713,"Hidden","Long",null,1,0,"",null,1,"Stay Long",2747.5,-41478.459999999992]
[null,{"$f":"'Market Data'!B1718","v":20060921},{"$f":"'Market Data'!C1718","v":6891.5},{"$f":"'Market Data'!D1718","v":6913},{"$f":"'Market Data'!E1718","v":6858.5},{"$f":"'Market Data'!F1718","v":6899.5},null,1714,"Hidden","Long",null,1,0,"",null,1,"Stay Long",472.5,-41005.959999999992]
[null,{"$f":"'Market Data'!B1719","v":20060922},{"$f":"'Market Data'!C1719","v":6856},{"$f":"'Market Data'!D1719","v":6862.5},{"$f":"'Market Data'!E1719","v":6788.5},{"$f":"'Market Data'!F1719","v":6805.5},null,1715,"Hidden","Long",null,1,0,"",null,1,"Stay Long",-3290,-44295.959999999992]
[null,{"$f":"'Market Data'!B1720","v":20060925},{"$f":"'Market Data'!C1720","v":6833.5},{"$f":"'Market Data'!D1720","v":6869.5},{"$f":"'Market Data'!E1720","v":6794.5},{"$f":"'Market Data'!F1720","v":6828.5},null,1716,"Hidden","Long",null,1,0,"",null,1,"Stay Long",805,-43490.959999999992]
[null,{"$f":"'Market Data'!B1721","v":20060926},{"$f":"'Market Data'!C1721","v":6869.5},{"$f":"'Market Data'!D1721","v":6909.5},{"$f":"'Market Data'!E1721","v":6856},{"$f":"'Market Data'!F1721","v":6894},null,1717,"Hidden","Long",null,1,0,"",null,1,"Stay Long",2292.5,-41198.459999999992]
[null,{"$f":"'Market Data'!B1722","v":20060927},{"$f":"'Market Data'!C1722","v":6913.5},{"$f":"'Market Data'!D1722","v":6930.5},{"$f":"'Market Data'!E1722","v":6884.5},{"$f":"'Market Data'!F1722","v":6917.5},null,1718,"Hidden","Long",null,1,0,"",null,1,"Stay Long",822.5,-40375.959999999992]
[null,{"$f":"'Market Data'!B1723","v":20060928},{"$f":"'Market Data'!C1723","v":6923.5},{"$f":"'Market Data'!D1723","v":6932},{"$f":"'Market Data'!E1723","v":6901},{"$f":"'Market Data'!F1723","v":6916.5},null,1719,"Hidden","Long",null,1,0,"",null,1,"Stay Long",-35,-40410.959999999992]
[null,{"$f":"'Market Data'!B1724","v":20060929},{"$f":"'Market Data'!C1724","v":6931},{"$f":"'Market Data'!D1724","v":6960},{"$f":"'Market Data'!E1724","v":6919.5},{"$f":"'Market Data'!F1724","v":6930.5},null,1720,"Hidden","Long",null,1,0,"",null,1,"Stay Long",490,-39920.959999999992]
[null,{"$f":"'Market Data'!B1725","v":20061002},{"$f":"'Market Data'!C1725","v":6955},{"$f":"'Market Data'!D1725","v":6960.5},{"$f":"'Market Data'!E1725","v":6890.5},{"$f":"'Market Data'!F1725","v":6920},null,1721,"Hidden","Long",null,1,0,"",null,1,"Stay Long",-367.5,-40288.459999999992]
[null,{"$f":"'Market Data'!B1726","v":20061003},{"$f":"'Market Data'!C1726","v":6906},{"$f":"'Market Data'!D1726","v":6953.5},{"$f":"'Market Data'!E1726","v":6870.5},{"$f":"'Market Data'!F1726","v":6915.5},null,1722,"Hidden","Long",null,1,0,"",null,1,"Stay Long",-157.5,-40445.959999999992]
[null,{"$f":"'Market Data'!B1727","v":20061004},{"$f":"'Market Data'!C1727","v":6927},{"$f":"'Market Data'!D1727","v":6979},{"$f":"'Market Data'!E1727","v":6924},{"$f":"'Market Data'!F1727","v":6976.5},null,1723,"Hidden","Long",null,1,0,"",null,1,"Stay Long",2135,-38310.959999999992]
[null,{"$f":"'Market Data'!B1728","v":20061005},{"$f":"'Market Data'!C1728","v":7025},{"$f":"'Market Data'!D1728","v":7025.5},{"$f":"'Market Data'!E1728","v":6993.5},{"$f":"'Market Data'!F1728","v":7004},null,1724,"Hidden","Long",null,1,0,"",null,1,"Stay Long",962.5,-37348.459999999992]
[null,{"$f":"'Market Data'!B1729","v":20061006},{"$f":"'Market Data'!C1729","v":7006.5},{"$f":"'Market Data'!D1729","v":7018.5},{"$f":"'Market Data'!E1729","v":6977},{"$f":"'Market Data'!F1729","v":7010},null,1725,"Hidden","Long",null,1,0,"",null,1,"Stay Long",210,-37138.459999999992]
[null,{"$f":"'Market Data'!B1730","v":20061009},{"$f":"'Market Data'!C1730","v":7003.5},{"$f":"'Market Data'!D1730","v":7019.5},{"$f":"'Market Data'!E1730","v":6977.5},{"$f":"'Market Data'!F1730","v":7006.5},null,1726,"Hidden","Long",null,1,0,"",null,1,"Stay Long",-122.5,-37260.959999999992]
[null,{"$f":"'Market Data'!B1731","v":20061010},{"$f":"'Market Data'!C1731","v":7018},{"$f":"'Market Data'!D1731","v":7053.5},{"$f":"'Market Data'!E1731","v":7012.5},{"$f":"'Market Data'!F1731","v":7047},null,1727,"Hidden","Long",null,1,{"$f":"$L1744-P1744","v":0},"",null,1,"Stay Long",1417.5,-35843.459999999992]
[null,{"$f":"'Market Data'!B1732","v":20061011},{"$f":"'Market Data'!C1732","v":7029.5},{"$f":"'Market Data'!D1732","v":7058.5},{"$f":"'Market Data'!E1732","v":7003},{"$f":"'Market Data'!F1732","v":7045},null,1728,"Hidden","Long",null,1,0,"",null,{"$f":"IF($N1744=\"Fill\",$L1744,$P1744)","v":1},"Stay Long",{"$f":"IF(OR($P1744&$L1744=\"01\",$P1744&$L1744=\"0-1\"),(($F1745-$C1745)*$R$3*$L1744)-(ABS($M1744)*$R$4),IF(OR($P1744&$L1744=\"10\",$P1744&$L1744=\"-10\"),(($C1745-$F1744)*$R$3*$P1744)-(ABS($M1744)*$R$4),IF(OR($P1744&$L1744=\"1-1\",$P1744&$L1744=\"-11\"),(($C1745-$F1744)*$R$3*$P1744)-(ABS($M1744)*$R$4)+(($F1745-$C1745)*$R$3*$P1745),IF(OR($P1744&$L1744=\"11\",$P1744&$L1744=\"-1-1\"),(($F1745-$F1744)*$R$3*$P1745),0))))","v":-70},-35913.459999999992]
[null,{"$f":"'Market Data'!B1733","v":20061012},{"$f":"'Market Data'!C1733","v":7047.5},{"$f":"'Market Data'!D1733","v":7087.5},{"$f":"'Market Data'!E1733","v":7034},{"$f":"'Market Data'!F1733","v":7085},null,{"$f":"ROW()-ROW(H$17)","v":1729},"Hidden",{"$f":"$I$4","v":"Long"},null,1,0,{"$f":"IF(NOT($M1746=0),\"Fill\",\"\")","v":""},null,1,{"$f":"IF($P1745&$L1745=\"00\",\"Stay Flat\",IF($P1745&$L1745=\"01\",\"Go Long\",IF($P1745&$L1745=\"0-1\",\"Go Short\",IF($P1745&$L1745=\"-10\",\"Exit Short\",IF($P1745&$L1745=\"-1-1\",\"Stay Short\",IF($P1745&$L1745=\"-11\",\"Exit Short, Go Long\",IF($P1745&$L1745=\"10\",\"Exit Long\",IF($P1745&$L1745=\"1-1\",\"Exit Long, Go Short\",IF($P1745&$L1745=\"11\",\"Stay Long\",\"\")))))))))","v":"Stay Long"},1400,{"$f":"S1745+R1746","v":-34513.459999999992}]
[null,{"$f":"'Market Data'!B1734","v":20061013},{"$f":"'Market Data'!C1734","v":7102.5},{"$f":"'Market Data'!D1734","v":7112},{"$f":"'Market Data'!E1734","v":7074},{"$f":"'Market Data'!F1734","v":7094},null,1730,"Hidden","Long",null,{"$f":"IF($J1747=\"Short\",-1,IF($J1747=\"Long\",1,0))","v":1},0,"",null,1,"Stay Long",315,-34198.459999999992]
[null,{"$f":"'Market Data'!B1735","v":20061016},{"$f":"'Market Data'!C1735","v":7112.5},{"$f":"'Market Data'!D1735","v":7112.5},{"$f":"'Market Data'!E1735","v":7083},{"$f":"'Market Data'!F1735","v":7105},null,1731,"Hidden","Long",null,1,0,"",null,1,"Stay Long",385,-33813.459999999992]
[null,{"$f":"'Market Data'!B1736","v":20061017},{"$f":"'Market Data'!C1736","v":7102.5},{"$f":"'Market Data'!D1736","v":7102.5},{"$f":"'Market Data'!E1736","v":7026.5},{"$f":"'Market Data'!F1736","v":7029},null,1732,"Hidden","Long",null,1,0,"",null,1,"Stay Long",-2660,-36473.459999999992]
[null,{"$f":"'Market Data'!B1737","v":20061018},{"$f":"'Market Data'!C1737","v":7058},{"$f":"'Market Data'!D1737","v":7133},{"$f":"'Market Data'!E1737","v":7058},{"$f":"'Market Data'!F1737","v":7105},null,1733,"Hidden","Long",null,1,0,"",null,1,"Stay Long",2660,-33813.459999999992]
[null,{"$f":"'Market Data'!B1738","v":20061019},{"$f":"'Market Data'!C1738","v":7078.5},{"$f":"'Market Data'!D1738","v":7123},{"$f":"'Market Data'!E1738","v":7067},{"$f":"'Market Data'!F1738","v":7100.5},null,1734,"Hidden","Long",null,1,0,"",null,1,"Stay Long",-157.5,-33970.959999999992]
[null,{"$f":"'Market Data'!B1739","v":20061020},{"$f":"'Market Data'!C1739","v":7111.5},{"$f":"'Market Data'!D1739","v":7137.5},{"$f":"'Market Data'!E1739","v":7094.5},{"$f":"'Market Data'!F1739","v":7121},null,1735,"Hidden","Long",null,1,0,"",null,1,"Stay Long",717.5,-33253.459999999992]
[null,{"$f":"'Market Data'!B1740","v":20061023},{"$f":"'Market Data'!C1740","v":7141.5},{"$f":"'Market Data'!D1740","v":7168.5},{"$f":"'Market Data'!E1740","v":7102.5},{"$f":"'Market Data'!F1740","v":7157.5},null,1736,"Hidden","Long",null,1,0,"",null,1,"Stay Long",1277.5,-31975.959999999992]
[null,{"$f":"'Market Data'!B1741","v":20061024},{"$f":"'Market Data'!C1741","v":7159.5},{"$f":"'Market Data'!D1741","v":7170.5},{"$f":"'Market Data'!E1741","v":7144.5},{"$f":"'Market Data'!F1741","v":7162.5},null,1737,"Hidden","Long",null,1,0,"",null,1,"Stay Long",175,-31800.959999999992]
[null,{"$f":"'Market Data'!B1742","v":20061025},{"$f":"'Market Data'!C1742","v":7160},{"$f":"'Market Data'!D1742","v":7194},{"$f":"'Market Data'!E1742","v":7150.5},{"$f":"'Market Data'!F1742","v":7181.5},null,1738,"Hidden","Long",null,1,0,"",null,1,"Stay Long",665,-31135.959999999992]
[null,{"$f":"'Market Data'!B1743","v":20061026},{"$f":"'Market Data'!C1743","v":7198},{"$f":"'Market Data'!D1743","v":7220.5},{"$f":"'Market Data'!E1743","v":7185},{"$f":"'Market Data'!F1743","v":7196},null,1739,"Hidden","Long",null,1,0,"",null,1,"Stay Long",507.5,-30628.459999999992]
[null,{"$f":"'Market Data'!B1744","v":20061027},{"$f":"'Market Data'!C1744","v":7212.5},{"$f":"'Market Data'!D1744","v":7216.5},{"$f":"'Market Data'!E1744","v":7144.5},{"$f":"'Market Data'!F1744","v":7178.5},null,1740,"Hidden","Long",null,1,0,"",null,1,"Stay Long",-612.5,-31240.959999999992]
[null,{"$f":"'Market Data'!B1745","v":20061030},{"$f":"'Market Data'!C1745","v":7152},{"$f":"'Market Data'!D1745","v":7185.5},{"$f":"'Market Data'!E1745","v":7122.5},{"$f":"'Market Data'!F1745","v":7175},null,1741,"Hidden","Long",null,1,0,"",null,1,"Stay Long",-122.5,-31363.459999999992]
[null,{"$f":"'Market Data'!B1746","v":20061031},{"$f":"'Market Data'!C1746","v":7175.5},{"$f":"'Market Data'!D1746","v":7201},{"$f":"'Market Data'!E1746","v":7151},{"$f":"'Market Data'!F1746","v":7179},null,1742,"Hidden","Long",null,1,0,"",null,1,"Stay Long",140,-31223.459999999992]
[null,{"$f":"'Market Data'!B1747","v":20061101},{"$f":"'Market Data'!C1747","v":7187},{"$f":"'Market Data'!D1747","v":7226.5},{"$f":"'Market Data'!E1747","v":7165.5},{"$f":"'Market Data'!F1747","v":7208},null,1743,"Hidden","Long",null,1,0,"",null,1,"Stay Long",1015,-30208.459999999992]
[null,{"$f":"'Market Data'!B1748","v":20061102},{"$f":"'Market Data'!C1748","v":7173.5},{"$f":"'Market Data'!D1748","v":7208},{"$f":"'Market Data'!E1748","v":7111.5},{"$f":"'Market Data'!F1748","v":7136.5},null,1744,"Hidden","Long",null,1,0,"",null,1,"Stay Long",-2502.5,-32710.959999999992]
[null,{"$f":"'Market Data'!B1749","v":20061103},{"$f":"'Market Data'!C1749","v":7144.5},{"$f":"'Market Data'!D1749","v":7189.5},{"$f":"'Market Data'!E1749","v":7125.5},{"$f":"'Market Data'!F1749","v":7149.5},null,1745,"Hidden","Long",null,1,0,"",null,1,"Stay Long",455,-32255.959999999992]
[null,{"$f":"'Market Data'!B1750","v":20061106},{"$f":"'Market Data'!C1750","v":7152.5},{"$f":"'Market Data'!D1750","v":7246},{"$f":"'Market Data'!E1750","v":7152},{"$f":"'Market Data'!F1750","v":7240.5},null,1746,"Hidden","Long",null,1,0,"",null,1,"Stay Long",3185,-29070.959999999992]
[null,{"$f":"'Market Data'!B1751","v":20061107},{"$f":"'Market Data'!C1751","v":7240.5},{"$f":"'Market Data'!D1751","v":7265.5},{"$f":"'Market Data'!E1751","v":7238},{"$f":"'Market Data'!F1751","v":7271.5},null,1747,"Hidden","Long",null,1,0,"",null,1,"Stay Long",1085,-27985.959999999992]
[null,{"$f":"'Market Data'!B1752","v":20061108},{"$f":"'Market Data'!C1752","v":7251},{"$f":"'Market Data'!D1752","v":7275.5},{"$f":"'Market Data'!E1752","v":7227},{"$f":"'Market Data'!F1752","v":7262.5},null,1748,"Hidden","Long",null,1,0,"",null,1,"Stay Long",-315,-28300.959999999992]
[null,{"$f":"'Market Data'!B1753","v":20061109},{"$f":"'Market Data'!C1753","v":7268.5},{"$f":"'Market Data'!D1753","v":7277.5},{"$f":"'Market Data'!E1753","v":7238},{"$f":"'Market Data'!F1753","v":7262},null,1749,"Hidden","Long",null,1,0,"",null,1,"Stay Long",-17.5,-28318.459999999992]
[null,{"$f":"'Market Data'!B1754","v":20061110},{"$f":"'Market Data'!C1754","v":7254},{"$f":"'Market Data'!D1754","v":7273},{"$f":"'Market Data'!E1754","v":7215.5},{"$f":"'Market Data'!F1754","v":7260.5},null,1750,"Hidden","Long",null,1,0,"",null,1,"Stay Long",-52.5,-28370.959999999992]
[null,{"$f":"'Market Data'!B1755","v":20061113},{"$f":"'Market Data'!C1755","v":7263},{"$f":"'Market Data'!D1755","v":7311},{"$f":"'Market Data'!E1755","v":7251},{"$f":"'Market Data'!F1755","v":7300},null,1751,"Hidden","Long",null,1,0,"",null,1,"Stay Long",1382.5,-26988.459999999992]
[null,{"$f":"'Market Data'!B1756","v":20061114},{"$f":"'Market Data'!C1756","v":7304},{"$f":"'Market Data'!D1756","v":7316.5},{"$f":"'Market Data'!E1756","v":7269},{"$f":"'Market Data'!F1756","v":7290},null,1752,"Hidden","Long",null,1,0,"",null,1,"Stay Long",-350,-27338.459999999992]
[null,{"$f":"'Market Data'!B1757","v":20061115},{"$f":"'Market Data'!C1757","v":7323.5},{"$f":"'Market Data'!D1757","v":7339},{"$f":"'Market Data'!E1757","v":7311.5},{"$f":"'Market Data'!F1757","v":7334.5},null,1753,"Hidden","Long",null,1,0,"",null,1,"Stay Long",1557.5,-25780.959999999992]
[null,{"$f":"'Market Data'!B1758","v":20061116},{"$f":"'Market Data'!C1758","v":7333.5},{"$f":"'Market Data'!D1758","v":7363},{"$f":"'Market Data'!E1758","v":7319.5},{"$f":"'Market Data'!F1758","v":7347},null,1754,"Hidden","Long",null,1,0,"",null,1,"Stay Long",437.5,-25343.459999999992]
[null,{"$f":"'Market Data'!B1759","v":20061117},{"$f":"'Market Data'!C1759","v":7338.5},{"$f":"'Market Data'!D1759","v":7354.5},{"$f":"'Market Data'!E1759","v":7301.5},{"$f":"'Market Data'!F1759","v":7321},null,1755,"Hidden","Long",null,1,0,"",null,1,"Stay Long",-910,-26253.459999999992]
[null,{"$f":"'Market Data'!B1760","v":20061120},{"$f":"'Market Data'!C1760","v":7310.5},{"$f":"'Market Data'!D1760","v":7362},{"$f":"'Market Data'!E1760","v":7267.5},{"$f":"'Market Data'!F1760","v":7354.5},null,1756,"Hidden","Long",null,1,0,"",null,1,"Stay Long",1172.5,-25080.959999999992]
[null,{"$f":"'Market Data'!B1761","v":20061121},{"$f":"'Market Data'!C1761","v":7348},{"$f":"'Market Data'!D1761","v":7380},{"$f":"'Market Data'!E1761","v":7345},{"$f":"'Market Data'!F1761","v":7361},null,1757,"Hidden","Long",null,1,0,"",null,1,"Stay Long",227.5,-24853.459999999992]
[null,{"$f":"'Market Data'!B1762","v":20061122},{"$f":"'Market Data'!C1762","v":7382.5},{"$f":"'Market Data'!D1762","v":7396.5},{"$f":"'Market Data'!E1762","v":7353},{"$f":"'Market Data'!F1762","v":7378},null,1758,"Hidden","Long",null,1,0,"",null,1,"Stay Long",595,-24258.459999999992]
[null,{"$f":"'Market Data'!B1763","v":20061123},{"$f":"'Market Data'!C1763","v":7386},{"$f":"'Market Data'!D1763","v":7394.5},{"$f":"'Market Data'!E1763","v":7359.5},{"$f":"'Market Data'!F1763","v":7374.5},null,1759,"Hidden","Long",null,1,0,"",null,1,"Stay Long",-122.5,-24380.959999999992]
[null,{"$f":"'Market Data'!B1764","v":20061124},{"$f":"'Market Data'!C1764","v":7365.5},{"$f":"'Market Data'!D1764","v":7370},{"$f":"'Market Data'!E1764","v":7265},{"$f":"'Market Data'!F1764","v":7313},null,1760,"Hidden","Long",null,1,0,"",null,1,"Stay Long",-2152.5,-26533.459999999992]
[null,{"$f":"'Market Data'!B1765","v":20061127},{"$f":"'Market Data'!C1765","v":7289},{"$f":"'Market Data'!D1765","v":7318.5},{"$f":"'Market Data'!E1765","v":7176},{"$f":"'Market Data'!F1765","v":7200.5},null,1761,"Hidden","Long",null,1,0,"",null,1,"Stay Long",-3937.5,-30470.959999999992]
[null,{"$f":"'Market Data'!B1766","v":20061128},{"$f":"'Market Data'!C1766","v":7182.5},{"$f":"'Market Data'!D1766","v":7204.5},{"$f":"'Market Data'!E1766","v":7144.5},{"$f":"'Market Data'!F1766","v":7176},null,1762,"Hidden","Long",null,1,0,"",null,1,"Stay Long",-857.5,-31328.459999999992]
[null,{"$f":"'Market Data'!B1767","v":20061129},{"$f":"'Market Data'!C1767","v":7200.5},{"$f":"'Market Data'!D1767","v":7264.5},{"$f":"'Market Data'!E1767","v":7193},{"$f":"'Market Data'!F1767","v":7259.5},null,1763,"Hidden","Long",null,1,0,"",null,1,"Stay Long",2922.5,-28405.959999999992]
[null,{"$f":"'Market Data'!B1768","v":20061130},{"$f":"'Market Data'!C1768","v":7269},{"$f":"'Market Data'!D1768","v":7298},{"$f":"'Market Data'!E1768","v":7184},{"$f":"'Market Data'!F1768","v":7205.5},null,1764,"Hidden","Long",null,1,0,"",null,1,"Stay Long",-1890,-30295.959999999992]
[null,{"$f":"'Market Data'!B1769","v":20061201},{"$f":"'Market Data'!C1769","v":7226.5},{"$f":"'Market Data'!D1769","v":7255.5},{"$f":"'Market Data'!E1769","v":7090.5},{"$f":"'Market Data'!F1769","v":7142.5},null,1765,"Hidden","Long",null,1,0,"",null,1,"Stay Long",-2205,-32500.959999999992]
[null,{"$f":"'Market Data'!B1770","v":20061204},{"$f":"'Market Data'!C1770","v":7135.5},{"$f":"'Market Data'!D1770","v":7196},{"$f":"'Market Data'!E1770","v":7123.5},{"$f":"'Market Data'!F1770","v":7190.5},null,1766,"Hidden","Long",null,1,0,"",null,1,"Stay Long",1680,-30820.959999999992]
[null,{"$f":"'Market Data'!B1771","v":20061205},{"$f":"'Market Data'!C1771","v":7199.5},{"$f":"'Market Data'!D1771","v":7275.5},{"$f":"'Market Data'!E1771","v":7179.5},{"$f":"'Market Data'!F1771","v":7265},null,1767,"Hidden","Long",null,1,0,"",null,1,"Stay Long",2607.5,-28213.459999999992]
[null,{"$f":"'Market Data'!B1772","v":20061206},{"$f":"'Market Data'!C1772","v":7265.5},{"$f":"'Market Data'!D1772","v":7277.5},{"$f":"'Market Data'!E1772","v":7233},{"$f":"'Market Data'!F1772","v":7264},null,1768,"Hidden","Long",null,1,0,"",null,1,"Stay Long",-35,-28248.459999999992]
[null,{"$f":"'Market Data'!B1773","v":20061207},{"$f":"'Market Data'!C1773","v":7245},{"$f":"'Market Data'!D1773","v":7332},{"$f":"'Market Data'!E1773","v":7240.5},{"$f":"'Market Data'!F1773","v":7298.5},null,1769,"Hidden","Long",null,1,0,"",null,1,"Stay Long",1207.5,-27040.959999999992]
[null,{"$f":"'Market Data'!B1774","v":20061208},{"$f":"'Market Data'!C1774","v":7284.5},{"$f":"'Market Data'!D1774","v":7341},{"$f":"'Market Data'!E1774","v":7240.5},{"$f":"'Market Data'!F1774","v":7315.5},null,1770,"Hidden","Long",null,1,0,"",null,1,"Stay Long",595,-26445.959999999992]
[null,{"$f":"'Market Data'!B1775","v":20061211},{"$f":"'Market Data'!C1775","v":7327.5},{"$f":"'Market Data'!D1775","v":7367},{"$f":"'Market Data'!E1775","v":7327.5},{"$f":"'Market Data'!F1775","v":7359},null,1771,"Hidden","Long",null,1,0,"",null,1,"Stay Long",1522.5,-24923.459999999992]
[null,{"$f":"'Market Data'!B1776","v":20061212},{"$f":"'Market Data'!C1776","v":7352},{"$f":"'Market Data'!D1776","v":7373.5},{"$f":"'Market Data'!E1776","v":7336.5},{"$f":"'Market Data'!F1776","v":7366},null,1772,"Hidden","Long",null,1,0,"",null,1,"Stay Long",245,-24678.459999999992]
[null,{"$f":"'Market Data'!B1777","v":20061213},{"$f":"'Market Data'!C1777","v":7346.5},{"$f":"'Market Data'!D1777","v":7415},{"$f":"'Market Data'!E1777","v":7345},{"$f":"'Market Data'!F1777","v":7407.5},null,1773,"Hidden","Long",null,1,0,"",null,1,"Stay Long",1452.5,-23225.959999999992]
[null,{"$f":"'Market Data'!B1778","v":20061214},{"$f":"'Market Data'!C1778","v":7427.5},{"$f":"'Market Data'!D1778","v":7460.5},{"$f":"'Market Data'!E1778","v":7410.5},{"$f":"'Market Data'!F1778","v":7438.5},null,1774,"Hidden","Long",null,1,0,"",null,1,"Stay Long",1085,-22140.959999999992]
[null,{"$f":"'Market Data'!B1779","v":20061215},{"$f":"'Market Data'!C1779","v":7466},{"$f":"'Market Data'!D1779","v":7491.5},{"$f":"'Market Data'!E1779","v":7443.5},{"$f":"'Market Data'!F1779","v":7477.5},null,1775,"Hidden","Long",null,1,0,"",null,1,"Stay Long",1365,-20775.959999999992]
[null,{"$f":"'Market Data'!B1780","v":20061218},{"$f":"'Market Data'!C1780","v":7470.5},{"$f":"'Market Data'!D1780","v":7501},{"$f":"'Market Data'!E1780","v":7455.5},{"$f":"'Market Data'!F1780","v":7477.5},null,1776,"Hidden","Long",null,1,0,"",null,1,"Stay Long",0,-20775.959999999992]
[null,{"$f":"'Market Data'!B1781","v":20061219},{"$f":"'Market Data'!C1781","v":7455.5},{"$f":"'Market Data'!D1781","v":7464.5},{"$f":"'Market Data'!E1781","v":7408},{"$f":"'Market Data'!F1781","v":7441},null,1777,"Hidden","Long",null,1,0,"",null,1,"Stay Long",-1277.5,-22053.459999999992]
[null,{"$f":"'Market Data'!B1782","v":20061220},{"$f":"'Market Data'!C1782","v":7477},{"$f":"'Market Data'!D1782","v":7491},{"$f":"'Market Data'!E1782","v":7442.5},{"$f":"'Market Data'!F1782","v":7472},null,1778,"Hidden","Long",null,1,0,"",null,1,"Stay Long",1085,-20968.459999999992]
[null,{"$f":"'Market Data'!B1783","v":20061221},{"$f":"'Market Data'!C1783","v":7447.5},{"$f":"'Market Data'!D1783","v":7477},{"$f":"'Market Data'!E1783","v":7423.5},{"$f":"'Market Data'!F1783","v":7457.5},null,1779,"Hidden","Long",null,1,0,"",null,1,"Stay Long",-507.5,-21475.959999999992]
[null,{"$f":"'Market Data'!B1784","v":20061222},{"$f":"'Market Data'!C1784","v":7450},{"$f":"'Market Data'!D1784","v":7457},{"$f":"'Market Data'!E1784","v":7368.5},{"$f":"'Market Data'!F1784","v":7376.5},null,1780,"Hidden","Long",null,1,0,"",null,1,"Stay Long",-2835,-24310.959999999992]
[null,{"$f":"'Market Data'!B1785","v":20061227},{"$f":"'Market Data'!C1785","v":7413.5},{"$f":"'Market Data'!D1785","v":7495.5},{"$f":"'Market Data'!E1785","v":7412},{"$f":"'Market Data'!F1785","v":7489.5},null,1781,"Hidden","Long",null,1,0,"",null,1,"Stay Long",3955,-20355.959999999992]
[null,{"$f":"'Market Data'!B1786","v":20061228},{"$f":"'Market Data'!C1786","v":7502},{"$f":"'Market Data'!D1786","v":7504.5},{"$f":"'Market Data'!E1786","v":7477},{"$f":"'Market Data'!F1786","v":7491},null,1782,"Hidden","Long",null,1,0,"",null,1,"Stay Long",52.5,-20303.459999999992]
[null,{"$f":"'Market Data'!B1787","v":20061229},{"$f":"'Market Data'!C1787","v":7490.5},{"$f":"'Market Data'!D1787","v":7501.5},{"$f":"'Market Data'!E1787","v":7471.5},{"$f":"'Market Data'!F1787","v":7478},null,1783,"Hidden","Long",null,1,0,"",null,1,"Stay Long",-455,-20758.459999999992]
[null,{"$f":"'Market Data'!B1788","v":20070102},{"$f":"'Market Data'!C1788","v":7500},{"$f":"'Market Data'!D1788","v":7565.5},{"$f":"'Market Data'!E1788","v":7495.5},{"$f":"'Market Data'!F1788","v":7554.5},null,1784,"Hidden","Long",null,1,0,"",null,1,"Stay Long",2677.5,-18080.959999999992]
[null,{"$f":"'Market Data'!B1789","v":20070103},{"$f":"'Market Data'!C1789","v":7555.5},{"$f":"'Market Data'!D1789","v":7579.5},{"$f":"'Market Data'!E1789","v":7544},{"$f":"'Market Data'!F1789","v":7566.5},null,1785,"Hidden","Long",null,1,0,"",null,1,"Stay Long",420,-17660.959999999992]
[null,{"$f":"'Market Data'!B1790","v":20070104},{"$f":"'Market Data'!C1790","v":7528.5},{"$f":"'Market Data'!D1790","v":7557.5},{"$f":"'Market Data'!E1790","v":7506},{"$f":"'Market Data'!F1790","v":7548},null,1786,"Hidden","Long",null,1,0,"",null,1,"Stay Long",-647.5,-18308.459999999992]
[null,{"$f":"'Market Data'!B1791","v":20070105},{"$f":"'Market Data'!C1791","v":7534.5},{"$f":"'Market Data'!D1791","v":7537},{"$f":"'Market Data'!E1791","v":7457},{"$f":"'Market Data'!F1791","v":7461.5},null,1787,"Hidden","Long",null,1,0,"",null,1,"Stay Long",-3027.5,-21335.959999999992]
[null,{"$f":"'Market Data'!B1792","v":20070108},{"$f":"'Market Data'!C1792","v":7462.5},{"$f":"'Market Data'!D1792","v":7501},{"$f":"'Market Data'!E1792","v":7438},{"$f":"'Market Data'!F1792","v":7477.5},null,1788,"Hidden","Long",null,1,0,"",null,1,"Stay Long",560,-20775.959999999992]
[null,{"$f":"'Market Data'!B1793","v":20070109},{"$f":"'Market Data'!C1793","v":7515.5},{"$f":"'Market Data'!D1793","v":7539},{"$f":"'Market Data'!E1793","v":7448},{"$f":"'Market Data'!F1793","v":7479.5},null,1789,"Hidden","Long",null,1,0,"",null,1,"Stay Long",70,-20705.959999999992]
[null,{"$f":"'Market Data'!B1794","v":20070110},{"$f":"'Market Data'!C1794","v":7451},{"$f":"'Market Data'!D1794","v":7468},{"$f":"'Market Data'!E1794","v":7399.5},{"$f":"'Market Data'!F1794","v":7438},null,1790,"Hidden","Long",null,1,0,"",null,1,"Stay Long",-1452.5,-22158.459999999992]
[null,{"$f":"'Market Data'!B1795","v":20070111},{"$f":"'Market Data'!C1795","v":7468.5},{"$f":"'Market Data'!D1795","v":7569},{"$f":"'Market Data'!E1795","v":7439.5},{"$f":"'Market Data'!F1795","v":7561},null,1791,"Hidden","Long",null,1,{"$f":"$L1808-P1808","v":0},"",null,1,"Stay Long",4305,-17853.459999999992]
[null,{"$f":"'Market Data'!B1796","v":20070112},{"$f":"'Market Data'!C1796","v":7541},{"$f":"'Market Data'!D1796","v":7588},{"$f":"'Market Data'!E1796","v":7530},{"$f":"'Market Data'!F1796","v":7565.5},null,1792,"Hidden","Long",null,1,0,"",null,{"$f":"IF($N1808=\"Fill\",$L1808,$P1808)","v":1},"Stay Long",{"$f":"IF(OR($P1808&$L1808=\"01\",$P1808&$L1808=\"0-1\"),(($F1809-$C1809)*$R$3*$L1808)-(ABS($M1808)*$R$4),IF(OR($P1808&$L1808=\"10\",$P1808&$L1808=\"-10\"),(($C1809-$F1808)*$R$3*$P1808)-(ABS($M1808)*$R$4),IF(OR($P1808&$L1808=\"1-1\",$P1808&$L1808=\"-11\"),(($C1809-$F1808)*$R$3*$P1808)-(ABS($M1808)*$R$4)+(($F1809-$C1809)*$R$3*$P1809),IF(OR($P1808&$L1808=\"11\",$P1808&$L1808=\"-1-1\"),(($F1809-$F1808)*$R$3*$P1809),0))))","v":157.5},-17695.959999999992]
[null,{"$f":"'Market Data'!B1797","v":20070115},{"$f":"'Market Data'!C1797","v":7596.5},{"$f":"'Market Data'!D1797","v":7614},{"$f":"'Market Data'!E1797","v":7590.5},{"$f":"'Market Data'!F1797","v":7603},null,{"$f":"ROW()-ROW(H$17)","v":1793},"Hidden",{"$f":"$I$4","v":"Long"},null,1,0,{"$f":"IF(NOT($M1810=0),\"Fill\",\"\")","v":""},null,1,{"$f":"IF($P1809&$L1809=\"00\",\"Stay Flat\",IF($P1809&$L1809=\"01\",\"Go Long\",IF($P1809&$L1809=\"0-1\",\"Go Short\",IF($P1809&$L1809=\"-10\",\"Exit Short\",IF($P1809&$L1809=\"-1-1\",\"Stay Short\",IF($P1809&$L1809=\"-11\",\"Exit Short, Go Long\",IF($P1809&$L1809=\"10\",\"Exit Long\",IF($P1809&$L1809=\"1-1\",\"Exit Long, Go Short\",IF($P1809&$L1809=\"11\",\"Stay Long\",\"\")))))))))","v":"Stay Long"},1312.5,{"$f":"S1809+R1810","v":-16383.459999999992}]
[null,{"$f":"'Market Data'!B1798","v":20070116},{"$f":"'Market Data'!C1798","v":7601.5},{"$f":"'Market Data'!D1798","v":7612},{"$f":"'Market Data'!E1798","v":7570.5},{"$f":"'Market Data'!F1798","v":7579},null,1794,"Hidden","Long",null,{"$f":"IF($J1811=\"Short\",-1,IF($J1811=\"Long\",1,0))","v":1},0,"",null,1,"Stay Long",-840,-17223.459999999992]
[null,{"$f":"'Market Data'!B1799","v":20070117},{"$f":"'Market Data'!C1799","v":7582.5},{"$f":"'Market Data'!D1799","v":7599.5},{"$f":"'Market Data'!E1799","v":7537.5},{"$f":"'Market Data'!F1799","v":7561.5},null,1795,"Hidden","Long",null,1,0,"",null,1,"Stay Long",-612.5,-17835.959999999992]
[null,{"$f":"'Market Data'!B1800","v":20070118},{"$f":"'Market Data'!C1800","v":7580.5},{"$f":"'Market Data'!D1800","v":7602.5},{"$f":"'Market Data'!E1800","v":7523},{"$f":"'Market Data'!F1800","v":7554},null,1796,"Hidden","Long",null,1,0,"",null,1,"Stay Long",-262.5,-18098.459999999992]
[null,{"$f":"'Market Data'!B1801","v":20070119},{"$f":"'Market Data'!C1801","v":7533.5},{"$f":"'Market Data'!D1801","v":7617},{"$f":"'Market Data'!E1801","v":7513},{"$f":"'Market Data'!F1801","v":7610},null,1797,"Hidden","Long",null,1,0,"",null,1,"Stay Long",1960,-16138.459999999992]
[null,{"$f":"'Market Data'!B1802","v":20070122},{"$f":"'Market Data'!C1802","v":7622.5},{"$f":"'Market Data'!D1802","v":7628},{"$f":"'Market Data'!E1802","v":7530.5},{"$f":"'Market Data'!F1802","v":7552.5},null,1798,"Hidden","Long",null,1,0,"",null,1,"Stay Long",-2012.5,-18150.959999999992]
[null,{"$f":"'Market Data'!B1803","v":20070123},{"$f":"'Market Data'!C1803","v":7550},{"$f":"'Market Data'!D1803","v":7564.5},{"$f":"'Market Data'!E1803","v":7486.5},{"$f":"'Market Data'!F1803","v":7539},null,1799,"Hidden","Long",null,1,0,"",null,1,"Stay Long",-472.5,-18623.459999999992]
[null,{"$f":"'Market Data'!B1804","v":20070124},{"$f":"'Market Data'!C1804","v":7564.5},{"$f":"'Market Data'!D1804","v":7621.5},{"$f":"'Market Data'!E1804","v":7540.5},{"$f":"'Market Data'!F1804","v":7609.5},null,1800,"Hidden","Long",null,1,0,"",null,1,"Stay Long",2467.5,-16155.959999999992]
[null,{"$f":"'Market Data'!B1805","v":20070125},{"$f":"'Market Data'!C1805","v":7617.5},{"$f":"'Market Data'!D1805","v":7632},{"$f":"'Market Data'!E1805","v":7552},{"$f":"'Market Data'!F1805","v":7576.5},null,1801,"Hidden","Long",null,1,0,"",null,1,"Stay Long",-1155,-17310.959999999992]
[null,{"$f":"'Market Data'!B1806","v":20070126},{"$f":"'Market Data'!C1806","v":7532},{"$f":"'Market Data'!D1806","v":7589.5},{"$f":"'Market Data'!E1806","v":7517.5},{"$f":"'Market Data'!F1806","v":7557},null,1802,"Hidden","Long",null,1,0,"",null,1,"Stay Long",-682.5,-17993.459999999992]
[null,{"$f":"'Market Data'!B1807","v":20070129},{"$f":"'Market Data'!C1807","v":7562},{"$f":"'Market Data'!D1807","v":7598},{"$f":"'Market Data'!E1807","v":7539.5},{"$f":"'Market Data'!F1807","v":7583},null,1803,"Hidden","Long",null,1,0,"",null,1,"Stay Long",910,-17083.459999999992]
[null,{"$f":"'Market Data'!B1808","v":20070130},{"$f":"'Market Data'!C1808","v":7584.5},{"$f":"'Market Data'!D1808","v":7657},{"$f":"'Market Data'!E1808","v":7565.5},{"$f":"'Market Data'!F1808","v":7646.5},null,1804,"Hidden","Long",null,1,0,"",null,1,"Stay Long",2222.5,-14860.959999999992]
[null,{"$f":"'Market Data'!B1809","v":20070131},{"$f":"'Market Data'!C1809","v":7636.5},{"$f":"'Market Data'!D1809","v":7660},{"$f":"'Market Data'!E1809","v":7613.5},{"$f":"'Market Data'!F1809","v":7640},null,1805,"Hidden","Long",null,1,0,"",null,1,"Stay Long",-227.5,-15088.459999999992]
[null,{"$f":"'Market Data'!B1810","v":20070201},{"$f":"'Market Data'!C1810","v":7681.5},{"$f":"'Market Data'!D1810","v":7730.5},{"$f":"'Market Data'!E1810","v":7679.5},{"$f":"'Market Data'!F1810","v":7706},null,1806,"Hidden","Long",null,1,0,"",null,1,"Stay Long",2310,-12778.459999999992]
[null,{"$f":"'Market Data'!B1811","v":20070202},{"$f":"'Market Data'!C1811","v":7722.5},{"$f":"'Market Data'!D1811","v":7758},{"$f":"'Market Data'!E1811","v":7710},{"$f":"'Market Data'!F1811","v":7744.5},null,1807,"Hidden","Long",null,1,0,"",null,1,"Stay Long",1347.5,-11430.959999999992]
[null,{"$f":"'Market Data'!B1812","v":20070205},{"$f":"'Market Data'!C1812","v":7730.5},{"$f":"'Market Data'!D1812","v":7744},{"$f":"'Market Data'!E1812","v":7716},{"$f":"'Market Data'!F1812","v":7729.5},null,1808,"Hidden","Long",null,1,0,"",null,1,"Stay Long",-525,-11955.959999999992]
[null,{"$f":"'Market Data'!B1813","v":20070206},{"$f":"'Market Data'!C1813","v":7743.5},{"$f":"'Market Data'!D1813","v":7759},{"$f":"'Market Data'!E1813","v":7711.5},{"$f":"'Market Data'!F1813","v":7727.5},null,1809,"Hidden","Long",null,1,0,"",null,1,"Stay Long",-70,-12025.959999999992]
[null,{"$f":"'Market Data'!B1814","v":20070207},{"$f":"'Market Data'!C1814","v":7734.5},{"$f":"'Market Data'!D1814","v":7779.5},{"$f":"'Market Data'!E1814","v":7733},{"$f":"'Market Data'!F1814","v":7764},null,1810,"Hidden","Long",null,1,0,"",null,1,"Stay Long",1277.5,-10748.459999999992]
[null,{"$f":"'Market Data'!B1815","v":20070208},{"$f":"'Market Data'!C1815","v":7759.5},{"$f":"'Market Data'!D1815","v":7767.5},{"$f":"'Market Data'!E1815","v":7699},{"$f":"'Market Data'!F1815","v":7730},null,1811,"Hidden","Long",null,1,0,"",null,1,"Stay Long",-1190,-11938.459999999992]
[null,{"$f":"'Market Data'!B1816","v":20070209},{"$f":"'Market Data'!C1816","v":7764},{"$f":"'Market Data'!D1816","v":7776.5},{"$f":"'Market Data'!E1816","v":7741.5},{"$f":"'Market Data'!F1816","v":7762.5},null,1812,"Hidden","Long",null,1,0,"",null,1,"Stay Long",1137.5,-10800.959999999992]
[null,{"$f":"'Market Data'!B1817","v":20070212},{"$f":"'Market Data'!C1817","v":7714.5},{"$f":"'Market Data'!D1817","v":7735.5},{"$f":"'Market Data'!E1817","v":7690.5},{"$f":"'Market Data'!F1817","v":7710.5},null,1813,"Hidden","Long",null,1,0,"",null,1,"Stay Long",-1820,-12620.959999999992]
[null,{"$f":"'Market Data'!B1818","v":20070213},{"$f":"'Market Data'!C1818","v":7725.5},{"$f":"'Market Data'!D1818","v":7761},{"$f":"'Market Data'!E1818","v":7711.5},{"$f":"'Market Data'!F1818","v":7733.5},null,1814,"Hidden","Long",null,1,0,"",null,1,"Stay Long",805,-11815.959999999992]
[null,{"$f":"'Market Data'!B1819","v":20070214},{"$f":"'Market Data'!C1819","v":7768.5},{"$f":"'Market Data'!D1819","v":7812},{"$f":"'Market Data'!E1819","v":7752.5},{"$f":"'Market Data'!F1819","v":7808},null,1815,"Hidden","Long",null,1,0,"",null,1,"Stay Long",2607.5,-9208.4599999999919]
[null,{"$f":"'Market Data'!B1820","v":20070215},{"$f":"'Market Data'!C1820","v":7809.5},{"$f":"'Market Data'!D1820","v":7816},{"$f":"'Market Data'!E1820","v":7793.5},{"$f":"'Market Data'!F1820","v":7807},null,1816,"Hidden","Long",null,1,0,"",null,1,"Stay Long",-35,-9243.4599999999919]
[null,{"$f":"'Market Data'!B1821","v":20070216},{"$f":"'Market Data'!C1821","v":7795},{"$f":"'Market Data'!D1821","v":7824.5},{"$f":"'Market Data'!E1821","v":7784.5},{"$f":"'Market Data'!F1821","v":7799},null,1817,"Hidden","Long",null,1,0,"",null,1,"Stay Long",-280,-9523.4599999999919]
[null,{"$f":"'Market Data'!B1822","v":20070219},{"$f":"'Market Data'!C1822","v":7817},{"$f":"'Market Data'!D1822","v":7837.5},{"$f":"'Market Data'!E1822","v":7815.5},{"$f":"'Market Data'!F1822","v":7829},null,1818,"Hidden","Long",null,1,0,"",null,1,"Stay Long",1050,-8473.4599999999919]
[null,{"$f":"'Market Data'!B1823","v":20070220},{"$f":"'Market Data'!C1823","v":7833.5},{"$f":"'Market Data'!D1823","v":7845},{"$f":"'Market Data'!E1823","v":7778},{"$f":"'Market Data'!F1823","v":7824.5},null,1819,"Hidden","Long",null,1,0,"",null,1,"Stay Long",-157.5,-8630.9599999999919]
[null,{"$f":"'Market Data'!B1824","v":20070221},{"$f":"'Market Data'!C1824","v":7841.5},{"$f":"'Market Data'!D1824","v":7846.5},{"$f":"'Market Data'!E1824","v":7763.5},{"$f":"'Market Data'!F1824","v":7782},null,1820,"Hidden","Long",null,1,0,"",null,1,"Stay Long",-1487.5,-10118.459999999992]
[null,{"$f":"'Market Data'!B1825","v":20070222},{"$f":"'Market Data'!C1825","v":7824.5},{"$f":"'Market Data'!D1825","v":7852},{"$f":"'Market Data'!E1825","v":7812.5},{"$f":"'Market Data'!F1825","v":7820},null,1821,"Hidden","Long",null,1,0,"",null,1,"Stay Long",1330,-8788.4599999999919]
[null,{"$f":"'Market Data'!B1826","v":20070223},{"$f":"'Market Data'!C1826","v":7836.5},{"$f":"'Market Data'!D1826","v":7839.5},{"$f":"'Market Data'!E1826","v":7803},{"$f":"'Market Data'!F1826","v":7824.5},null,1822,"Hidden","Long",null,1,0,"",null,1,"Stay Long",157.5,-8630.9599999999919]
[null,{"$f":"'Market Data'!B1827","v":20070226},{"$f":"'Market Data'!C1827","v":7838.5},{"$f":"'Market Data'!D1827","v":7878},{"$f":"'Market Data'!E1827","v":7836.5},{"$f":"'Market Data'!F1827","v":7865},null,1823,"Hidden","Long",null,1,0,"",null,1,"Stay Long",1417.5,-7213.4599999999919]
[null,{"$f":"'Market Data'!B1828","v":20070227},{"$f":"'Market Data'!C1828","v":7847},{"$f":"'Market Data'!D1828","v":7847.5},{"$f":"'Market Data'!E1828","v":7620.5},{"$f":"'Market Data'!F1828","v":7663},null,1824,"Hidden","Long",null,1,0,"",null,1,"Stay Long",-7070,-14283.459999999992]
[null,{"$f":"'Market Data'!B1829","v":20070228},{"$f":"'Market Data'!C1829","v":7535.5},{"$f":"'Market Data'!D1829","v":7613.5},{"$f":"'Market Data'!E1829","v":7512.5},{"$f":"'Market Data'!F1829","v":7573.5},null,1825,"Hidden","Long",null,1,0,"",null,1,"Stay Long",-3132.5,-17415.959999999992]
[null,{"$f":"'Market Data'!B1830","v":20070301},{"$f":"'Market Data'!C1830","v":7513},{"$f":"'Market Data'!D1830","v":7592},{"$f":"'Market Data'!E1830","v":7378.5},{"$f":"'Market Data'!F1830","v":7472.5},null,1826,"Hidden","Long",null,1,0,"",null,1,"Stay Long",-3535,-20950.959999999992]
[null,{"$f":"'Market Data'!B1831","v":20070302},{"$f":"'Market Data'!C1831","v":7455.5},{"$f":"'Market Data'!D1831","v":7536},{"$f":"'Market Data'!E1831","v":7388},{"$f":"'Market Data'!F1831","v":7444.5},null,1827,"Hidden","Long",null,1,0,"",null,1,"Stay Long",-980,-21930.959999999992]
[null,{"$f":"'Market Data'!B1832","v":20070305},{"$f":"'Market Data'!C1832","v":7288.5},{"$f":"'Market Data'!D1832","v":7397.5},{"$f":"'Market Data'!E1832","v":7247},{"$f":"'Market Data'!F1832","v":7378.5},null,1828,"Hidden","Long",null,1,0,"",null,1,"Stay Long",-2310,-24240.959999999992]
[null,{"$f":"'Market Data'!B1833","v":20070306},{"$f":"'Market Data'!C1833","v":7370},{"$f":"'Market Data'!D1833","v":7447.5},{"$f":"'Market Data'!E1833","v":7370},{"$f":"'Market Data'!F1833","v":7424},null,1829,"Hidden","Long",null,1,0,"",null,1,"Stay Long",1592.5,-22648.459999999992]
[null,{"$f":"'Market Data'!B1834","v":20070307},{"$f":"'Market Data'!C1834","v":7446.5},{"$f":"'Market Data'!D1834","v":7477.5},{"$f":"'Market Data'!E1834","v":7415.5},{"$f":"'Market Data'!F1834","v":7453},null,1830,"Hidden","Long",null,1,0,"",null,1,"Stay Long",1015,-21633.459999999992]
[null,{"$f":"'Market Data'!B1835","v":20070308},{"$f":"'Market Data'!C1835","v":7483},{"$f":"'Market Data'!D1835","v":7551},{"$f":"'Market Data'!E1835","v":7469},{"$f":"'Market Data'!F1835","v":7531.5},null,1831,"Hidden","Long",null,1,0,"",null,1,"Stay Long",2747.5,-18885.959999999992]
[null,{"$f":"'Market Data'!B1836","v":20070309},{"$f":"'Market Data'!C1836","v":7527},{"$f":"'Market Data'!D1836","v":7573},{"$f":"'Market Data'!E1836","v":7493.5},{"$f":"'Market Data'!F1836","v":7539},null,1832,"Hidden","Long",null,1,0,"",null,1,"Stay Long",262.5,-18623.459999999992]
[null,{"$f":"'Market Data'!B1837","v":20070312},{"$f":"'Market Data'!C1837","v":7570.5},{"$f":"'Market Data'!D1837","v":7581.5},{"$f":"'Market Data'!E1837","v":7501.5},{"$f":"'Market Data'!F1837","v":7547.5},null,1833,"Hidden","Long",null,1,0,"",null,1,"Stay Long",297.5,-18325.959999999992]
[null,{"$f":"'Market Data'!B1838","v":20070313},{"$f":"'Market Data'!C1838","v":7543.5},{"$f":"'Market Data'!D1838","v":7552},{"$f":"'Market Data'!E1838","v":7391.5},{"$f":"'Market Data'!F1838","v":7456.5},null,1834,"Hidden","Long",null,1,0,"",null,1,"Stay Long",-3185,-21510.959999999992]
[null,{"$f":"'Market Data'!B1839","v":20070314},{"$f":"'Market Data'!C1839","v":7344.5},{"$f":"'Market Data'!D1839","v":7362},{"$f":"'Market Data'!E1839","v":7247.5},{"$f":"'Market Data'!F1839","v":7283},null,1835,"Hidden","Long",null,1,0,"",null,1,"Stay Long",-6072.5,-27583.459999999992]
[null,{"$f":"'Market Data'!B1840","v":20070315},{"$f":"'Market Data'!C1840","v":7385},{"$f":"'Market Data'!D1840","v":7421.5},{"$f":"'Market Data'!E1840","v":7330.5},{"$f":"'Market Data'!F1840","v":7396},null,1836,"Hidden","Long",null,1,0,"",null,1,"Stay Long",3955,-23628.459999999992]
[null,{"$f":"'Market Data'!B1841","v":20070316},{"$f":"'Market Data'!C1841","v":7366.5},{"$f":"'Market Data'!D1841","v":7439},{"$f":"'Market Data'!E1841","v":7350},{"$f":"'Market Data'!F1841","v":7398.5},null,1837,"Hidden","Long",null,1,0,"",null,1,"Stay Long",87.5,-23540.959999999992]
[null,{"$f":"'Market Data'!B1842","v":20070319},{"$f":"'Market Data'!C1842","v":7469.5},{"$f":"'Market Data'!D1842","v":7501},{"$f":"'Market Data'!E1842","v":7452},{"$f":"'Market Data'!F1842","v":7488},null,1838,"Hidden","Long",null,1,0,"",null,1,"Stay Long",3132.5,-20408.459999999992]
[null,{"$f":"'Market Data'!B1843","v":20070320},{"$f":"'Market Data'!C1843","v":7496},{"$f":"'Market Data'!D1843","v":7528.5},{"$f":"'Market Data'!E1843","v":7456.5},{"$f":"'Market Data'!F1843","v":7507.5},null,1839,"Hidden","Long",null,1,0,"",null,1,"Stay Long",682.5,-19725.959999999992]
[null,{"$f":"'Market Data'!B1844","v":20070321},{"$f":"'Market Data'!C1844","v":7514.5},{"$f":"'Market Data'!D1844","v":7563.5},{"$f":"'Market Data'!E1844","v":7508.5},{"$f":"'Market Data'!F1844","v":7562},null,1840,"Hidden","Long",null,1,0,"",null,1,"Stay Long",1907.5,-17818.459999999992]
[null,{"$f":"'Market Data'!B1845","v":20070322},{"$f":"'Market Data'!C1845","v":7659.5},{"$f":"'Market Data'!D1845","v":7693.5},{"$f":"'Market Data'!E1845","v":7630},{"$f":"'Market Data'!F1845","v":7666.5},null,1841,"Hidden","Long",null,1,0,"",null,1,"Stay Long",3657.5,-14160.959999999992]
[null,{"$f":"'Market Data'!B1846","v":20070323},{"$f":"'Market Data'!C1846","v":7665},{"$f":"'Market Data'!D1846","v":7724},{"$f":"'Market Data'!E1846","v":7650},{"$f":"'Market Data'!F1846","v":7718.5},null,1842,"Hidden","Long",null,1,0,"",null,1,"Stay Long",1820,-12340.959999999992]
[null,{"$f":"'Market Data'!B1847","v":20070326},{"$f":"'Market Data'!C1847","v":7719.5},{"$f":"'Market Data'!D1847","v":7724.5},{"$f":"'Market Data'!E1847","v":7622},{"$f":"'Market Data'!F1847","v":7670},null,1843,"Hidden","Long",null,1,0,"",null,1,"Stay Long",-1697.5,-14038.459999999992]
[null,{"$f":"'Market Data'!B1848","v":20070327},{"$f":"'Market Data'!C1848","v":7693.5},{"$f":"'Market Data'!D1848","v":7703.5},{"$f":"'Market Data'!E1848","v":7658.5},{"$f":"'Market Data'!F1848","v":7689.5},null,1844,"Hidden","Long",null,1,0,"",null,1,"Stay Long",682.5,-13355.959999999992]
[null,{"$f":"'Market Data'!B1849","v":20070328},{"$f":"'Market Data'!C1849","v":7655.5},{"$f":"'Market Data'!D1849","v":7682},{"$f":"'Market Data'!E1849","v":7608},{"$f":"'Market Data'!F1849","v":7672},null,1845,"Hidden","Long",null,1,0,"",null,1,"Stay Long",-612.5,-13968.459999999992]
[null,{"$f":"'Market Data'!B1850","v":20070329},{"$f":"'Market Data'!C1850","v":7676},{"$f":"'Market Data'!D1850","v":7722.5},{"$f":"'Market Data'!E1850","v":7665.5},{"$f":"'Market Data'!F1850","v":7688.5},null,1846,"Hidden","Long",null,1,0,"",null,1,"Stay Long",577.5,-13390.959999999992]
[null,{"$f":"'Market Data'!B1851","v":20070330},{"$f":"'Market Data'!C1851","v":7724},{"$f":"'Market Data'!D1851","v":7783},{"$f":"'Market Data'!E1851","v":7700.5},{"$f":"'Market Data'!F1851","v":7730.5},null,1847,"Hidden","Long",null,1,0,"",null,1,"Stay Long",1470,-11920.959999999992]
[null,{"$f":"'Market Data'!B1852","v":20070402},{"$f":"'Market Data'!C1852","v":7727.5},{"$f":"'Market Data'!D1852","v":7763},{"$f":"'Market Data'!E1852","v":7707},{"$f":"'Market Data'!F1852","v":7752.5},null,1848,"Hidden","Long",null,1,0,"",null,1,"Stay Long",770,-11150.959999999992]
[null,{"$f":"'Market Data'!B1853","v":20070403},{"$f":"'Market Data'!C1853","v":7789.5},{"$f":"'Market Data'!D1853","v":7873},{"$f":"'Market Data'!E1853","v":7789.5},{"$f":"'Market Data'!F1853","v":7864},null,1849,"Hidden","Long",null,1,0,"",null,1,"Stay Long",3902.5,-7248.4599999999919]
[null,{"$f":"'Market Data'!B1854","v":20070404},{"$f":"'Market Data'!C1854","v":7891.5},{"$f":"'Market Data'!D1854","v":7901.5},{"$f":"'Market Data'!E1854","v":7854},{"$f":"'Market Data'!F1854","v":7894},null,1850,"Hidden","Long",null,1,0,"",null,1,"Stay Long",1050,-6198.4599999999919]
[null,{"$f":"'Market Data'!B1855","v":20070405},{"$f":"'Market Data'!C1855","v":7889.5},{"$f":"'Market Data'!D1855","v":7931},{"$f":"'Market Data'!E1855","v":7879.5},{"$f":"'Market Data'!F1855","v":7928.5},null,1851,"Hidden","Long",null,1,0,"",null,1,"Stay Long",1207.5,-4990.9599999999919]
[null,{"$f":"'Market Data'!B1856","v":20070410},{"$f":"'Market Data'!C1856","v":7925.5},{"$f":"'Market Data'!D1856","v":7984.5},{"$f":"'Market Data'!E1856","v":7923},{"$f":"'Market Data'!F1856","v":7976},null,1852,"Hidden","Long",null,1,0,"",null,1,"Stay Long",1662.5,-3328.4599999999919]
[null,{"$f":"'Market Data'!B1857","v":20070411},{"$f":"'Market Data'!C1857","v":7976.5},{"$f":"'Market Data'!D1857","v":8013},{"$f":"'Market Data'!E1857","v":7952.5},{"$f":"'Market Data'!F1857","v":7969},null,1853,"Hidden","Long",null,1,0,"",null,1,"Stay Long",-245,-3573.4599999999919]
[null,{"$f":"'Market Data'!B1858","v":20070412},{"$f":"'Market Data'!C1858","v":7961.5},{"$f":"'Market Data'!D1858","v":7975},{"$f":"'Market Data'!E1858","v":7896.5},{"$f":"'Market Data'!F1858","v":7975},null,1854,"Hidden","Long",null,1,0,"",null,1,"Stay Long",210,-3363.4599999999919]
[null,{"$f":"'Market Data'!B1859","v":20070413},{"$f":"'Market Data'!C1859","v":7971},{"$f":"'Market Data'!D1859","v":8027},{"$f":"'Market Data'!E1859","v":7962},{"$f":"'Market Data'!F1859","v":8021.5},null,1855,"Hidden","Long",null,1,{"$f":"$L1872-P1872","v":0},"",null,1,"Stay Long",1627.5,-1735.9599999999919]
[null,{"$f":"'Market Data'!B1860","v":20070416},{"$f":"'Market Data'!C1860","v":8048.5},{"$f":"'Market Data'!D1860","v":8160.5},{"$f":"'Market Data'!E1860","v":8041.5},{"$f":"'Market Data'!F1860","v":8145.5},null,1856,"Hidden","Long",null,1,0,"",null,{"$f":"IF($N1872=\"Fill\",$L1872,$P1872)","v":1},"Stay Long",{"$f":"IF(OR($P1872&$L1872=\"01\",$P1872&$L1872=\"0-1\"),(($F1873-$C1873)*$R$3*$L1872)-(ABS($M1872)*$R$4),IF(OR($P1872&$L1872=\"10\",$P1872&$L1872=\"-10\"),(($C1873-$F1872)*$R$3*$P1872)-(ABS($M1872)*$R$4),IF(OR($P1872&$L1872=\"1-1\",$P1872&$L1872=\"-11\"),(($C1873-$F1872)*$R$3*$P1872)-(ABS($M1872)*$R$4)+(($F1873-$C1873)*$R$3*$P1873),IF(OR($P1872&$L1872=\"11\",$P1872&$L1872=\"-1-1\"),(($F1873-$F1872)*$R$3*$P1873),0))))","v":4340},2604.0400000000081]
[null,{"$f":"'Market Data'!B1861","v":20070417},{"$f":"'Market Data'!C1861","v":8132.5},{"$f":"'Market Data'!D1861","v":8177},{"$f":"'Market Data'!E1861","v":8100.5},{"$f":"'Market Data'!F1861","v":8150},null,{"$f":"ROW()-ROW(H$17)","v":1857},"Hidden",{"$f":"$I$4","v":"Long"},null,1,0,{"$f":"IF(NOT($M1874=0),\"Fill\",\"\")","v":""},null,1,{"$f":"IF($P1873&$L1873=\"00\",\"Stay Flat\",IF($P1873&$L1873=\"01\",\"Go Long\",IF($P1873&$L1873=\"0-1\",\"Go Short\",IF($P1873&$L1873=\"-10\",\"Exit Short\",IF($P1873&$L1873=\"-1-1\",\"Stay Short\",IF($P1873&$L1873=\"-11\",\"Exit Short, Go Long\",IF($P1873&$L1873=\"10\",\"Exit Long\",IF($P1873&$L1873=\"1-1\",\"Exit Long, Go Short\",IF($P1873&$L1873=\"11\",\"Stay Long\",\"\")))))))))","v":"Stay Long"},157.5,{"$f":"S1873+R1874","v":2761.5400000000081}]
[null,{"$f":"'Market Data'!B1862","v":20070418},{"$f":"'Market Data'!C1862","v":8139.5},{"$f":"'Market Data'!D1862","v":8147.5},{"$f":"'Market Data'!E1862","v":8051.5},{"$f":"'Market Data'!F1862","v":8082.5},null,1858,"Hidden","Long",null,{"$f":"IF($J1875=\"Short\",-1,IF($J1875=\"Long\",1,0))","v":1},0,"",null,1,"Stay Long",-2362.5,399.04000000000815]
[null,{"$f":"'Market Data'!B1863","v":20070419},{"$f":"'Market Data'!C1863","v":8049.5},{"$f":"'Market Data'!D1863","v":8081},{"$f":"'Market Data'!E1863","v":7960},{"$f":"'Market Data'!F1863","v":8077.5},null,1859,"Hidden","Long",null,1,0,"",null,1,"Stay Long",-175,224.04000000000815]
[null,{"$f":"'Market Data'!B1864","v":20070420},{"$f":"'Market Data'!C1864","v":8074.5},{"$f":"'Market Data'!D1864","v":8177},{"$f":"'Market Data'!E1864","v":8070.5},{"$f":"'Market Data'!F1864","v":8129},null,1860,"Hidden","Long",null,1,0,"",null,1,"Stay Long",1802.5,2026.5400000000081]
[null,{"$f":"'Market Data'!B1865","v":20070423},{"$f":"'Market Data'!C1865","v":8152},{"$f":"'Market Data'!D1865","v":8163.5},{"$f":"'Market Data'!E1865","v":8109},{"$f":"'Market Data'!F1865","v":8136},null,1861,"Hidden","Long",null,1,0,"",null,1,"Stay Long",245,2271.5400000000081]
[null,{"$f":"'Market Data'!B1866","v":20070424},{"$f":"'Market Data'!C1866","v":8130},{"$f":"'Market Data'!D1866","v":8147},{"$f":"'Market Data'!E1866","v":8026},{"$f":"'Market Data'!F1866","v":8089.5},null,1862,"Hidden","Long",null,1,0,"",null,1,"Stay Long",-1627.5,644.04000000000815]
[null,{"$f":"'Market Data'!B1867","v":20070425},{"$f":"'Market Data'!C1867","v":8080.5},{"$f":"'Market Data'!D1867","v":8171.5},{"$f":"'Market Data'!E1867","v":8070.5},{"$f":"'Market Data'!F1867","v":8151.5},null,1863,"Hidden","Long",null,1,0,"",null,1,"Stay Long",2170,2814.0400000000081]
[null,{"$f":"'Market Data'!B1868","v":20070426},{"$f":"'Market Data'!C1868","v":8198.5},{"$f":"'Market Data'!D1868","v":8221},{"$f":"'Market Data'!E1868","v":8163},{"$f":"'Market Data'!F1868","v":8193.5},null,1864,"Hidden","Long",null,1,0,"",null,1,"Stay Long",1470,4284.0400000000081]
[null,{"$f":"'Market Data'!B1869","v":20070427},{"$f":"'Market Data'!C1869","v":8194.5},{"$f":"'Market Data'!D1869","v":8210.5},{"$f":"'Market Data'!E1869","v":8137},{"$f":"'Market Data'!F1869","v":8199.5},null,1865,"Hidden","Long",null,1,0,"",null,1,"Stay Long",210,4494.0400000000081]
[null,{"$f":"'Market Data'!B1870","v":20070430},{"$f":"'Market Data'!C1870","v":8185},{"$f":"'Market Data'!D1870","v":8238.5},{"$f":"'Market Data'!E1870","v":8159.5},{"$f":"'Market Data'!F1870","v":8220.5},null,1866,"Hidden","Long",null,1,0,"",null,1,"Stay Long",735,5229.0400000000081]
[null,{"$f":"'Market Data'!B1871","v":20070502},{"$f":"'Market Data'!C1871","v":8210.5},{"$f":"'Market Data'!D1871","v":8267},{"$f":"'Market Data'!E1871","v":8210.5},{"$f":"'Market Data'!F1871","v":8264},null,1867,"Hidden","Long",null,1,0,"",null,1,"Stay Long",1522.5,6751.5400000000081]
[null,{"$f":"'Market Data'!B1872","v":20070503},{"$f":"'Market Data'!C1872","v":8262.5},{"$f":"'Market Data'!D1872","v":8285},{"$f":"'Market Data'!E1872","v":8221},{"$f":"'Market Data'!F1872","v":8265},null,1868,"Hidden","Long",null,1,0,"",null,1,"Stay Long",35,6786.5400000000081]
[null,{"$f":"'Market Data'!B1873","v":20070504},{"$f":"'Market Data'!C1873","v":8279},{"$f":"'Market Data'!D1873","v":8323},{"$f":"'Market Data'!E1873","v":8261},{"$f":"'Market Data'!F1873","v":8312},null,1869,"Hidden","Long",null,1,0,"",null,1,"Stay Long",1645,8431.5400000000081]
[null,{"$f":"'Market Data'!B1874","v":20070507},{"$f":"'Market Data'!C1874","v":8337.5},{"$f":"'Market Data'!D1874","v":8341.5},{"$f":"'Market Data'!E1874","v":8303},{"$f":"'Market Data'!F1874","v":8320},null,1870,"Hidden","Long",null,1,0,"",null,1,"Stay Long",280,8711.5400000000081]
[null,{"$f":"'Market Data'!B1875","v":20070508},{"$f":"'Market Data'!C1875","v":8304},{"$f":"'Market Data'!D1875","v":8315},{"$f":"'Market Data'!E1875","v":8208},{"$f":"'Market Data'!F1875","v":8257.5},null,1871,"Hidden","Long",null,1,0,"",null,1,"Stay Long",-2187.5,6524.0400000000081]
[null,{"$f":"'Market Data'!B1876","v":20070509},{"$f":"'Market Data'!C1876","v":8281},{"$f":"'Market Data'!D1876","v":8285.5},{"$f":"'Market Data'!E1876","v":8221.5},{"$f":"'Market Data'!F1876","v":8276.5},null,1872,"Hidden","Long",null,1,0,"",null,1,"Stay Long",665,7189.0400000000081]
[null,{"$f":"'Market Data'!B1877","v":20070510},{"$f":"'Market Data'!C1877","v":8293.5},{"$f":"'Market Data'!D1877","v":8294},{"$f":"'Market Data'!E1877","v":8151.5},{"$f":"'Market Data'!F1877","v":8165.5},null,1873,"Hidden","Long",null,1,0,"",null,1,"Stay Long",-3885,3304.0400000000081]
[null,{"$f":"'Market Data'!B1878","v":20070511},{"$f":"'Market Data'!C1878","v":8156},{"$f":"'Market Data'!D1878","v":8280},{"$f":"'Market Data'!E1878","v":8096.5},{"$f":"'Market Data'!F1878","v":8271},null,1874,"Hidden","Long",null,1,0,"",null,1,"Stay Long",3692.5,6996.5400000000081]
[null,{"$f":"'Market Data'!B1879","v":20070514},{"$f":"'Market Data'!C1879","v":8297.5},{"$f":"'Market Data'!D1879","v":8320.5},{"$f":"'Market Data'!E1879","v":8234.5},{"$f":"'Market Data'!F1879","v":8260.5},null,1875,"Hidden","Long",null,1,0,"",null,1,"Stay Long",-367.5,6629.0400000000081]
[null,{"$f":"'Market Data'!B1880","v":20070515},{"$f":"'Market Data'!C1880","v":8213.5},{"$f":"'Market Data'!D1880","v":8312.5},{"$f":"'Market Data'!E1880","v":8206},{"$f":"'Market Data'!F1880","v":8292.5},null,1876,"Hidden","Long",null,1,0,"",null,1,"Stay Long",1120,7749.0400000000081]
[null,{"$f":"'Market Data'!B1881","v":20070516},{"$f":"'Market Data'!C1881","v":8262},{"$f":"'Market Data'!D1881","v":8311},{"$f":"'Market Data'!E1881","v":8247},{"$f":"'Market Data'!F1881","v":8278.5},null,1877,"Hidden","Long",null,1,0,"",null,1,"Stay Long",-490,7259.0400000000081]
[null,{"$f":"'Market Data'!B1882","v":20070517},{"$f":"'Market Data'!C1882","v":8311.5},{"$f":"'Market Data'!D1882","v":8322},{"$f":"'Market Data'!E1882","v":8268.5},{"$f":"'Market Data'!F1882","v":8279.5},null,1878,"Hidden","Long",null,1,0,"",null,1,"Stay Long",35,7294.0400000000081]
[null,{"$f":"'Market Data'!B1883","v":20070518},{"$f":"'Market Data'!C1883","v":8269.5},{"$f":"'Market Data'!D1883","v":8403.5},{"$f":"'Market Data'!E1883","v":8265.5},{"$f":"'Market Data'!F1883","v":8400},null,1879,"Hidden","Long",null,1,0,"",null,1,"Stay Long",4217.5,11511.540000000008]
[null,{"$f":"'Market Data'!B1884","v":20070521},{"$f":"'Market Data'!C1884","v":8406},{"$f":"'Market Data'!D1884","v":8428},{"$f":"'Market Data'!E1884","v":8382},{"$f":"'Market Data'!F1884","v":8412.5},null,1880,"Hidden","Long",null,1,0,"",null,1,"Stay Long",437.5,11949.040000000008]
[null,{"$f":"'Market Data'!B1885","v":20070522},{"$f":"'Market Data'!C1885","v":8399},{"$f":"'Market Data'!D1885","v":8460.5},{"$f":"'Market Data'!E1885","v":8390},{"$f":"'Market Data'!F1885","v":8447.5},null,1881,"Hidden","Long",null,1,0,"",null,1,"Stay Long",1225,13174.040000000008]
[null,{"$f":"'Market Data'!B1886","v":20070523},{"$f":"'Market Data'!C1886","v":8436},{"$f":"'Market Data'!D1886","v":8530},{"$f":"'Market Data'!E1886","v":8436},{"$f":"'Market Data'!F1886","v":8529.5},null,1882,"Hidden","Long",null,1,0,"",null,1,"Stay Long",2870,16044.040000000008]
[null,{"$f":"'Market Data'!B1887","v":20070524},{"$f":"'Market Data'!C1887","v":8491},{"$f":"'Market Data'!D1887","v":8557},{"$f":"'Market Data'!E1887","v":8451.5},{"$f":"'Market Data'!F1887","v":8475.5},null,1883,"Hidden","Long",null,1,0,"",null,1,"Stay Long",-1890,14154.040000000008]
[null,{"$f":"'Market Data'!B1888","v":20070525},{"$f":"'Market Data'!C1888","v":8457.5},{"$f":"'Market Data'!D1888","v":8527.5},{"$f":"'Market Data'!E1888","v":8439},{"$f":"'Market Data'!F1888","v":8519.5},null,1884,"Hidden","Long",null,1,0,"",null,1,"Stay Long",1540,15694.040000000008]
[null,{"$f":"'Market Data'!B1889","v":20070529},{"$f":"'Market Data'!C1889","v":8543.5},{"$f":"'Market Data'!D1889","v":8567.5},{"$f":"'Market Data'!E1889","v":8513.5},{"$f":"'Market Data'!F1889","v":8549},null,1885,"Hidden","Long",null,1,0,"",null,1,"Stay Long",1032.5,16726.540000000008]
[null,{"$f":"'Market Data'!B1890","v":20070530},{"$f":"'Market Data'!C1890","v":8518.5},{"$f":"'Market Data'!D1890","v":8567},{"$f":"'Market Data'!E1890","v":8453},{"$f":"'Market Data'!F1890","v":8554},null,1886,"Hidden","Long",null,1,0,"",null,1,"Stay Long",175,16901.540000000008]
[null,{"$f":"'Market Data'!B1891","v":20070531},{"$f":"'Market Data'!C1891","v":8610},{"$f":"'Market Data'!D1891","v":8672},{"$f":"'Market Data'!E1891","v":8606.5},{"$f":"'Market Data'!F1891","v":8663},null,1887,"Hidden","Long",null,1,0,"",null,1,"Stay Long",3815,20716.540000000008]
[null,{"$f":"'Market Data'!B1892","v":20070601},{"$f":"'Market Data'!C1892","v":8669},{"$f":"'Market Data'!D1892","v":8778.5},{"$f":"'Market Data'!E1892","v":8662.5},{"$f":"'Market Data'!F1892","v":8737},null,1888,"Hidden","Long",null,1,0,"",null,1,"Stay Long",2590,23306.540000000008]
[null,{"$f":"'Market Data'!B1893","v":20070604},{"$f":"'Market Data'!C1893","v":8738.5},{"$f":"'Market Data'!D1893","v":8784.5},{"$f":"'Market Data'!E1893","v":8709},{"$f":"'Market Data'!F1893","v":8753.5},null,1889,"Hidden","Long",null,1,0,"",null,1,"Stay Long",577.5,23884.040000000008]
[null,{"$f":"'Market Data'!B1894","v":20070605},{"$f":"'Market Data'!C1894","v":8746},{"$f":"'Market Data'!D1894","v":8776.5},{"$f":"'Market Data'!E1894","v":8626.5},{"$f":"'Market Data'!F1894","v":8650},null,1890,"Hidden","Long",null,1,0,"",null,1,"Stay Long",-3622.5,20261.540000000008]
[null,{"$f":"'Market Data'!B1895","v":20070606},{"$f":"'Market Data'!C1895","v":8695.5},{"$f":"'Market Data'!D1895","v":8701.5},{"$f":"'Market Data'!E1895","v":8475},{"$f":"'Market Data'!F1895","v":8484},null,1891,"Hidden","Long",null,1,0,"",null,1,"Stay Long",-5810,14451.540000000008]
[null,{"$f":"'Market Data'!B1896","v":20070607},{"$f":"'Market Data'!C1896","v":8508.5},{"$f":"'Market Data'!D1896","v":8554},{"$f":"'Market Data'!E1896","v":8349},{"$f":"'Market Data'!F1896","v":8372},null,1892,"Hidden","Long",null,1,0,"",null,1,"Stay Long",-3920,10531.540000000008]
[null,{"$f":"'Market Data'!B1897","v":20070608},{"$f":"'Market Data'!C1897","v":8341.5},{"$f":"'Market Data'!D1897","v":8413},{"$f":"'Market Data'!E1897","v":8265.5},{"$f":"'Market Data'!F1897","v":8364.5},null,1893,"Hidden","Long",null,1,0,"",null,1,"Stay Long",-262.5,10269.040000000008]
[null,{"$f":"'Market Data'!B1898","v":20070611},{"$f":"'Market Data'!C1898","v":8431},{"$f":"'Market Data'!D1898","v":8511.5},{"$f":"'Market Data'!E1898","v":8395.5},{"$f":"'Market Data'!F1898","v":8505},null,1894,"Hidden","Long",null,1,0,"",null,1,"Stay Long",4917.5,15186.540000000008]
[null,{"$f":"'Market Data'!B1899","v":20070612},{"$f":"'Market Data'!C1899","v":8453.5},{"$f":"'Market Data'!D1899","v":8508},{"$f":"'Market Data'!E1899","v":8392.5},{"$f":"'Market Data'!F1899","v":8453},null,1895,"Hidden","Long",null,1,0,"",null,1,"Stay Long",-1820,13366.540000000008]
[null,{"$f":"'Market Data'!B1900","v":20070613},{"$f":"'Market Data'!C1900","v":8412.5},{"$f":"'Market Data'!D1900","v":8468},{"$f":"'Market Data'!E1900","v":8360},{"$f":"'Market Data'!F1900","v":8437},null,1896,"Hidden","Long",null,1,0,"",null,1,"Stay Long",-560,12806.540000000008]
[null,{"$f":"'Market Data'!B1901","v":20070614},{"$f":"'Market Data'!C1901","v":8510},{"$f":"'Market Data'!D1901","v":8628.5},{"$f":"'Market Data'!E1901","v":8510},{"$f":"'Market Data'!F1901","v":8622},null,1897,"Hidden","Long",null,1,0,"",null,1,"Stay Long",6475,19281.540000000008]
[null,{"$f":"'Market Data'!B1902","v":20070615},{"$f":"'Market Data'!C1902","v":8620.5},{"$f":"'Market Data'!D1902","v":8801},{"$f":"'Market Data'!E1902","v":8618},{"$f":"'Market Data'!F1902","v":8783},null,1898,"Hidden","Long",null,1,0,"",null,1,"Stay Long",5635,24916.540000000008]
[null,{"$f":"'Market Data'!B1903","v":20070618},{"$f":"'Market Data'!C1903","v":8792.5},{"$f":"'Market Data'!D1903","v":8860},{"$f":"'Market Data'!E1903","v":8777.5},{"$f":"'Market Data'!F1903","v":8802.5},null,1899,"Hidden","Long",null,1,0,"",null,1,"Stay Long",682.5,25599.040000000008]
[null,{"$f":"'Market Data'!B1904","v":20070619},{"$f":"'Market Data'!C1904","v":8804},{"$f":"'Market Data'!D1904","v":8841.5},{"$f":"'Market Data'!E1904","v":8776.5},{"$f":"'Market Data'!F1904","v":8826},null,1900,"Hidden","Long",null,1,0,"",null,1,"Stay Long",822.5,26421.540000000008]
[null,{"$f":"'Market Data'!B1905","v":20070620},{"$f":"'Market Data'!C1905","v":8832.5},{"$f":"'Market Data'!D1905","v":8897},{"$f":"'Market Data'!E1905","v":8811.5},{"$f":"'Market Data'!F1905","v":8850.5},null,1901,"Hidden","Long",null,1,0,"",null,1,"Stay Long",857.5,27279.040000000008]
[null,{"$f":"'Market Data'!B1906","v":20070621},{"$f":"'Market Data'!C1906","v":8794.5},{"$f":"'Market Data'!D1906","v":8821},{"$f":"'Market Data'!E1906","v":8665.5},{"$f":"'Market Data'!F1906","v":8727.5},null,1902,"Hidden","Long",null,1,0,"",null,1,"Stay Long",-4305,22974.040000000008]
[null,{"$f":"'Market Data'!B1907","v":20070622},{"$f":"'Market Data'!C1907","v":8767},{"$f":"'Market Data'!D1907","v":8775},{"$f":"'Market Data'!E1907","v":8644},{"$f":"'Market Data'!F1907","v":8656.5},null,1903,"Hidden","Long",null,1,0,"",null,1,"Stay Long",-2485,20489.040000000008]
[null,{"$f":"'Market Data'!B1908","v":20070625},{"$f":"'Market Data'!C1908","v":8673},{"$f":"'Market Data'!D1908","v":8728},{"$f":"'Market Data'!E1908","v":8586.5},{"$f":"'Market Data'!F1908","v":8705.5},null,1904,"Hidden","Long",null,1,0,"",null,1,"Stay Long",1715,22204.040000000008]
[null,{"$f":"'Market Data'!B1909","v":20070626},{"$f":"'Market Data'!C1909","v":8630},{"$f":"'Market Data'!D1909","v":8661},{"$f":"'Market Data'!E1909","v":8574},{"$f":"'Market Data'!F1909","v":8631.5},null,1905,"Hidden","Long",null,1,0,"",null,1,"Stay Long",-2590,19614.040000000008]
[null,{"$f":"'Market Data'!B1910","v":20070627},{"$f":"'Market Data'!C1910","v":8560},{"$f":"'Market Data'!D1910","v":8579},{"$f":"'Market Data'!E1910","v":8505.5},{"$f":"'Market Data'!F1910","v":8557},null,1906,"Hidden","Long",null,1,0,"",null,1,"Stay Long",-2607.5,17006.540000000008]
[null,{"$f":"'Market Data'!B1911","v":20070628},{"$f":"'Market Data'!C1911","v":8649.5},{"$f":"'Market Data'!D1911","v":8712},{"$f":"'Market Data'!E1911","v":8622},{"$f":"'Market Data'!F1911","v":8696.5},null,1907,"Hidden","Long",null,1,0,"",null,1,"Stay Long",4882.5,21889.040000000008]
[null,{"$f":"'Market Data'!B1912","v":20070629},{"$f":"'Market Data'!C1912","v":8707},{"$f":"'Market Data'!D1912","v":8766.5},{"$f":"'Market Data'!E1912","v":8656.5},{"$f":"'Market Data'!F1912","v":8712.5},null,1908,"Hidden","Long",null,1,0,"",null,1,"Stay Long",560,22449.040000000008]
[null,{"$f":"'Market Data'!B1913","v":20070702},{"$f":"'Market Data'!C1913","v":8718},{"$f":"'Market Data'!D1913","v":8735},{"$f":"'Market Data'!E1913","v":8665},{"$f":"'Market Data'!F1913","v":8689},null,1909,"Hidden","Long",null,1,0,"",null,1,"Stay Long",-822.5,21626.540000000008]
[null,{"$f":"'Market Data'!B1914","v":20070703},{"$f":"'Market Data'!C1914","v":8741.5},{"$f":"'Market Data'!D1914","v":8818.5},{"$f":"'Market Data'!E1914","v":8741.5},{"$f":"'Market Data'!F1914","v":8804},null,1910,"Hidden","Long",null,1,0,"",null,1,"Stay Long",4025,25651.540000000008]
[null,{"$f":"'Market Data'!B1915","v":20070704},{"$f":"'Market Data'!C1915","v":8791},{"$f":"'Market Data'!D1915","v":8840.5},{"$f":"'Market Data'!E1915","v":8790},{"$f":"'Market Data'!F1915","v":8827},null,1911,"Hidden","Long",null,1,0,"",null,1,"Stay Long",805,26456.540000000008]
[null,{"$f":"'Market Data'!B1916","v":20070705},{"$f":"'Market Data'!C1916","v":8836},{"$f":"'Market Data'!D1916","v":8868.5},{"$f":"'Market Data'!E1916","v":8693.5},{"$f":"'Market Data'!F1916","v":8705},null,1912,"Hidden","Long",null,1,0,"",null,1,"Stay Long",-4270,22186.540000000008]
[null,{"$f":"'Market Data'!B1917","v":20070706},{"$f":"'Market Data'!C1917","v":8722},{"$f":"'Market Data'!D1917","v":8798.5},{"$f":"'Market Data'!E1917","v":8692},{"$f":"'Market Data'!F1917","v":8773},null,1913,"Hidden","Long",null,1,0,"",null,1,"Stay Long",2380,24566.540000000008]
[null,{"$f":"'Market Data'!B1918","v":20070709},{"$f":"'Market Data'!C1918","v":8830},{"$f":"'Market Data'!D1918","v":8866},{"$f":"'Market Data'!E1918","v":8804.5},{"$f":"'Market Data'!F1918","v":8837.5},null,1914,"Hidden","Long",null,1,0,"",null,1,"Stay Long",2257.5,26824.040000000008]
[null,{"$f":"'Market Data'!B1919","v":20070710},{"$f":"'Market Data'!C1919","v":8820},{"$f":"'Market Data'!D1919","v":8855},{"$f":"'Market Data'!E1919","v":8678},{"$f":"'Market Data'!F1919","v":8714.5},null,1915,"Hidden","Long",null,1,0,"",null,1,"Stay Long",-4305,22519.040000000008]
[null,{"$f":"'Market Data'!B1920","v":20070711},{"$f":"'Market Data'!C1920","v":8604},{"$f":"'Market Data'!D1920","v":8656.5},{"$f":"'Market Data'!E1920","v":8543},{"$f":"'Market Data'!F1920","v":8637},null,1916,"Hidden","Long",null,1,0,"",null,1,"Stay Long",-2712.5,19806.540000000008]
[null,{"$f":"'Market Data'!B1921","v":20070712},{"$f":"'Market Data'!C1921","v":8680},{"$f":"'Market Data'!D1921","v":8806.5},{"$f":"'Market Data'!E1921","v":8621.5},{"$f":"'Market Data'!F1921","v":8799},null,1917,"Hidden","Long",null,1,0,"",null,1,"Stay Long",5670,25476.540000000008]
[null,{"$f":"'Market Data'!B1922","v":20070713},{"$f":"'Market Data'!C1922","v":8867.5},{"$f":"'Market Data'!D1922","v":8895},{"$f":"'Market Data'!E1922","v":8803.5},{"$f":"'Market Data'!F1922","v":8830},null,1918,"Hidden","Long",null,1,0,"",null,1,"Stay Long",1085,26561.540000000008]
[null,{"$f":"'Market Data'!B1923","v":20070716},{"$f":"'Market Data'!C1923","v":8824.5},{"$f":"'Market Data'!D1923","v":8871.5},{"$f":"'Market Data'!E1923","v":8813},{"$f":"'Market Data'!F1923","v":8842.5},null,1919,"Hidden","Long",null,1,{"$f":"$L1936-P1936","v":0},"",null,1,"Stay Long",437.5,26999.040000000008]
[null,{"$f":"'Market Data'!B1924","v":20070717},{"$f":"'Market Data'!C1924","v":8826},{"$f":"'Market Data'!D1924","v":8837.5},{"$f":"'Market Data'!E1924","v":8732.5},{"$f":"'Market Data'!F1924","v":8763.5},null,1920,"Hidden","Long",null,1,0,"",null,{"$f":"IF($N1936=\"Fill\",$L1936,$P1936)","v":1},"Stay Long",{"$f":"IF(OR($P1936&$L1936=\"01\",$P1936&$L1936=\"0-1\"),(($F1937-$C1937)*$R$3*$L1936)-(ABS($M1936)*$R$4),IF(OR($P1936&$L1936=\"10\",$P1936&$L1936=\"-10\"),(($C1937-$F1936)*$R$3*$P1936)-(ABS($M1936)*$R$4),IF(OR($P1936&$L1936=\"1-1\",$P1936&$L1936=\"-11\"),(($C1937-$F1936)*$R$3*$P1936)-(ABS($M1936)*$R$4)+(($F1937-$C1937)*$R$3*$P1937),IF(OR($P1936&$L1936=\"11\",$P1936&$L1936=\"-1-1\"),(($F1937-$F1936)*$R$3*$P1937),0))))","v":-2765},24234.040000000008]
[null,{"$f":"'Market Data'!B1925","v":20070718},{"$f":"'Market Data'!C1925","v":8678},{"$f":"'Market Data'!D1925","v":8697.5},{"$f":"'Market Data'!E1925","v":8585},{"$f":"'Market Data'!F1925","v":8615.5},null,{"$f":"ROW()-ROW(H$17)","v":1921},"Hidden",{"$f":"$I$4","v":"Long"},null,1,0,{"$f":"IF(NOT($M1938=0),\"Fill\",\"\")","v":""},null,1,{"$f":"IF($P1937&$L1937=\"00\",\"Stay Flat\",IF($P1937&$L1937=\"01\",\"Go Long\",IF($P1937&$L1937=\"0-1\",\"Go Short\",IF($P1937&$L1937=\"-10\",\"Exit Short\",IF($P1937&$L1937=\"-1-1\",\"Stay Short\",IF($P1937&$L1937=\"-11\",\"Exit Short, Go Long\",IF($P1937&$L1937=\"10\",\"Exit Long\",IF($P1937&$L1937=\"1-1\",\"Exit Long, Go Short\",IF($P1937&$L1937=\"11\",\"Stay Long\",\"\")))))))))","v":"Stay Long"},-5180,{"$f":"S1937+R1938","v":19054.040000000008}]
[null,{"$f":"'Market Data'!B1926","v":20070719},{"$f":"'Market Data'!C1926","v":8697},{"$f":"'Market Data'!D1926","v":8744},{"$f":"'Market Data'!E1926","v":8673},{"$f":"'Market Data'!F1926","v":8726.5},null,1922,"Hidden","Long",null,{"$f":"IF($J1939=\"Short\",-1,IF($J1939=\"Long\",1,0))","v":1},0,"",null,1,"Stay Long",3885,22939.040000000008]
[null,{"$f":"'Market Data'!B1927","v":20070720},{"$f":"'Market Data'!C1927","v":8698},{"$f":"'Market Data'!D1927","v":8739.5},{"$f":"'Market Data'!E1927","v":8557},{"$f":"'Market Data'!F1927","v":8565.5},null,1923,"Hidden","Long",null,1,0,"",null,1,"Stay Long",-5635,17304.040000000008]
[null,{"$f":"'Market Data'!B1928","v":20070723},{"$f":"'Market Data'!C1928","v":8623},{"$f":"'Market Data'!D1928","v":8679.5},{"$f":"'Market Data'!E1928","v":8565.5},{"$f":"'Market Data'!F1928","v":8665.5},null,1924,"Hidden","Long",null,1,0,"",null,1,"Stay Long",3500,20804.040000000008]
[null,{"$f":"'Market Data'!B1929","v":20070724},{"$f":"'Market Data'!C1929","v":8646},{"$f":"'Market Data'!D1929","v":8666},{"$f":"'Market Data'!E1929","v":8534},{"$f":"'Market Data'!F1929","v":8567},null,1925,"Hidden","Long",null,1,0,"",null,1,"Stay Long",-3447.5,17356.540000000008]
[null,{"$f":"'Market Data'!B1930","v":20070725},{"$f":"'Market Data'!C1930","v":8472},{"$f":"'Market Data'!D1930","v":8517},{"$f":"'Market Data'!E1930","v":8390},{"$f":"'Market Data'!F1930","v":8424},null,1926,"Hidden","Long",null,1,0,"",null,1,"Stay Long",-5005,12351.540000000008]
[null,{"$f":"'Market Data'!B1931","v":20070726},{"$f":"'Market Data'!C1931","v":8451},{"$f":"'Market Data'!D1931","v":8477},{"$f":"'Market Data'!E1931","v":8176},{"$f":"'Market Data'!F1931","v":8209},null,1927,"Hidden","Long",null,1,0,"",null,1,"Stay Long",-7525,4826.5400000000081]
[null,{"$f":"'Market Data'!B1932","v":20070727},{"$f":"'Market Data'!C1932","v":8178},{"$f":"'Market Data'!D1932","v":8259.5},{"$f":"'Market Data'!E1932","v":8096.5},{"$f":"'Market Data'!F1932","v":8162},null,1928,"Hidden","Long",null,1,0,"",null,1,"Stay Long",-1645,3181.5400000000081]
[null,{"$f":"'Market Data'!B1933","v":20070730},{"$f":"'Market Data'!C1933","v":8178.5},{"$f":"'Market Data'!D1933","v":8238},{"$f":"'Market Data'!E1933","v":8101},{"$f":"'Market Data'!F1933","v":8226},null,1929,"Hidden","Long",null,1,0,"",null,1,"Stay Long",2240,5421.5400000000081]
[null,{"$f":"'Market Data'!B1934","v":20070731},{"$f":"'Market Data'!C1934","v":8246},{"$f":"'Market Data'!D1934","v":8358},{"$f":"'Market Data'!E1934","v":8243},{"$f":"'Market Data'!F1934","v":8318},null,1930,"Hidden","Long",null,1,0,"",null,1,"Stay Long",3220,8641.5400000000081]
[null,{"$f":"'Market Data'!B1935","v":20070801},{"$f":"'Market Data'!C1935","v":8105.5},{"$f":"'Market Data'!D1935","v":8273},{"$f":"'Market Data'!E1935","v":8093},{"$f":"'Market Data'!F1935","v":8234},null,1931,"Hidden","Long",null,1,0,"",null,1,"Stay Long",-2940,5701.5400000000081]
[null,{"$f":"'Market Data'!B1936","v":20070802},{"$f":"'Market Data'!C1936","v":8255.5},{"$f":"'Market Data'!D1936","v":8290.5},{"$f":"'Market Data'!E1936","v":8218.5},{"$f":"'Market Data'!F1936","v":8251},null,1932,"Hidden","Long",null,1,0,"",null,1,"Stay Long",595,6296.5400000000081]
[null,{"$f":"'Market Data'!B1937","v":20070803},{"$f":"'Market Data'!C1937","v":8290},{"$f":"'Market Data'!D1937","v":8290},{"$f":"'Market Data'!E1937","v":8139},{"$f":"'Market Data'!F1937","v":8150.5},null,1933,"Hidden","Long",null,1,0,"",null,1,"Stay Long",-3517.5,2779.0400000000081]
[null,{"$f":"'Market Data'!B1938","v":20070806},{"$f":"'Market Data'!C1938","v":8130},{"$f":"'Market Data'!D1938","v":8218},{"$f":"'Market Data'!E1938","v":8084},{"$f":"'Market Data'!F1938","v":8205.5},null,1934,"Hidden","Long",null,1,0,"",null,1,"Stay Long",1925,4704.0400000000081]
[null,{"$f":"'Market Data'!B1939","v":20070807},{"$f":"'Market Data'!C1939","v":8230.5},{"$f":"'Market Data'!D1939","v":8291.5},{"$f":"'Market Data'!E1939","v":8181},{"$f":"'Market Data'!F1939","v":8273.5},null,1935,"Hidden","Long",null,1,0,"",null,1,"Stay Long",2380,7084.0400000000081]
[null,{"$f":"'Market Data'!B1940","v":20070808},{"$f":"'Market Data'!C1940","v":8298.5},{"$f":"'Market Data'!D1940","v":8331.5},{"$f":"'Market Data'!E1940","v":8251.5},{"$f":"'Market Data'!F1940","v":8302.5},null,1936,"Hidden","Long",null,1,0,"",null,1,"Stay Long",1015,8099.0400000000081]
[null,{"$f":"'Market Data'!B1941","v":20070809},{"$f":"'Market Data'!C1941","v":8318},{"$f":"'Market Data'!D1941","v":8318},{"$f":"'Market Data'!E1941","v":8143},{"$f":"'Market Data'!F1941","v":8160},null,1937,"Hidden","Long",null,1,0,"",null,1,"Stay Long",-4987.5,3111.5400000000081]
[null,{"$f":"'Market Data'!B1942","v":20070810},{"$f":"'Market Data'!C1942","v":8066},{"$f":"'Market Data'!D1942","v":8158.5},{"$f":"'Market Data'!E1942","v":8012.5},{"$f":"'Market Data'!F1942","v":8119},null,1938,"Hidden","Long",null,1,0,"",null,1,"Stay Long",-1435,1676.5400000000081]
[null,{"$f":"'Market Data'!B1943","v":20070813},{"$f":"'Market Data'!C1943","v":8177},{"$f":"'Market Data'!D1943","v":8194},{"$f":"'Market Data'!E1943","v":8103.5},{"$f":"'Market Data'!F1943","v":8171},null,1939,"Hidden","Long",null,1,0,"",null,1,"Stay Long",1820,3496.5400000000081]
[null,{"$f":"'Market Data'!B1944","v":20070814},{"$f":"'Market Data'!C1944","v":8120},{"$f":"'Market Data'!D1944","v":8206},{"$f":"'Market Data'!E1944","v":8095},{"$f":"'Market Data'!F1944","v":8170.5},null,1940,"Hidden","Long",null,1,0,"",null,1,"Stay Long",-17.5,3479.0400000000081]
[null,{"$f":"'Market Data'!B1945","v":20070815},{"$f":"'Market Data'!C1945","v":8077},{"$f":"'Market Data'!D1945","v":8187.5},{"$f":"'Market Data'!E1945","v":8057},{"$f":"'Market Data'!F1945","v":8152},null,1941,"Hidden","Long",null,1,0,"",null,1,"Stay Long",-647.5,2831.5400000000081]
[null,{"$f":"'Market Data'!B1946","v":20070816},{"$f":"'Market Data'!C1946","v":7995},{"$f":"'Market Data'!D1946","v":8061.5},{"$f":"'Market Data'!E1946","v":7900.5},{"$f":"'Market Data'!F1946","v":7906.5},null,1942,"Hidden","Long",null,1,0,"",null,1,"Stay Long",-8592.5,-5760.9599999999919]
[null,{"$f":"'Market Data'!B1947","v":20070817},{"$f":"'Market Data'!C1947","v":7975},{"$f":"'Market Data'!D1947","v":8206.5},{"$f":"'Market Data'!E1947","v":7903},{"$f":"'Market Data'!F1947","v":8091},null,1943,"Hidden","Long",null,1,0,"",null,1,"Stay Long",6457.5,696.54000000000815]
[null,{"$f":"'Market Data'!B1948","v":20070820},{"$f":"'Market Data'!C1948","v":8133},{"$f":"'Market Data'!D1948","v":8159.5},{"$f":"'Market Data'!E1948","v":8091},{"$f":"'Market Data'!F1948","v":8110},null,1944,"Hidden","Long",null,1,0,"",null,1,"Stay Long",665,1361.5400000000081]
[null,{"$f":"'Market Data'!B1949","v":20070821},{"$f":"'Market Data'!C1949","v":8158},{"$f":"'Market Data'!D1949","v":8180},{"$f":"'Market Data'!E1949","v":8055},{"$f":"'Market Data'!F1949","v":8119.5},null,1945,"Hidden","Long",null,1,0,"",null,1,"Stay Long",332.5,1694.0400000000081]
[null,{"$f":"'Market Data'!B1950","v":20070822},{"$f":"'Market Data'!C1950","v":8123.5},{"$f":"'Market Data'!D1950","v":8229.5},{"$f":"'Market Data'!E1950","v":8120},{"$f":"'Market Data'!F1950","v":8177.5},null,1946,"Hidden","Long",null,1,0,"",null,1,"Stay Long",2030,3724.0400000000081]
[null,{"$f":"'Market Data'!B1951","v":20070823},{"$f":"'Market Data'!C1951","v":8292},{"$f":"'Market Data'!D1951","v":8303},{"$f":"'Market Data'!E1951","v":8169},{"$f":"'Market Data'!F1951","v":8178},null,1947,"Hidden","Long",null,1,0,"",null,1,"Stay Long",17.5,3741.5400000000081]
[null,{"$f":"'Market Data'!B1952","v":20070824},{"$f":"'Market Data'!C1952","v":8195.5},{"$f":"'Market Data'!D1952","v":8240},{"$f":"'Market Data'!E1952","v":8163.5},{"$f":"'Market Data'!F1952","v":8230.5},null,1948,"Hidden","Long",null,1,0,"",null,1,"Stay Long",1837.5,5579.0400000000081]
[null,{"$f":"'Market Data'!B1953","v":20070827},{"$f":"'Market Data'!C1953","v":8248.5},{"$f":"'Market Data'!D1953","v":8252},{"$f":"'Market Data'!E1953","v":8172},{"$f":"'Market Data'!F1953","v":8184},null,1949,"Hidden","Long",null,1,0,"",null,1,"Stay Long",-1627.5,3951.5400000000081]
[null,{"$f":"'Market Data'!B1954","v":20070828},{"$f":"'Market Data'!C1954","v":8160},{"$f":"'Market Data'!D1954","v":8180},{"$f":"'Market Data'!E1954","v":8115.5},{"$f":"'Market Data'!F1954","v":8145.5},null,1950,"Hidden","Long",null,1,0,"",null,1,"Stay Long",-1347.5,2604.0400000000081]
[null,{"$f":"'Market Data'!B1955","v":20070829},{"$f":"'Market Data'!C1955","v":8070},{"$f":"'Market Data'!D1955","v":8162.5},{"$f":"'Market Data'!E1955","v":8053.5},{"$f":"'Market Data'!F1955","v":8137},null,1951,"Hidden","Long",null,1,0,"",null,1,"Stay Long",-297.5,2306.5400000000081]
[null,{"$f":"'Market Data'!B1956","v":20070830},{"$f":"'Market Data'!C1956","v":8192.5},{"$f":"'Market Data'!D1956","v":8240},{"$f":"'Market Data'!E1956","v":8115.5},{"$f":"'Market Data'!F1956","v":8224},null,1952,"Hidden","Long",null,1,0,"",null,1,"Stay Long",3045,5351.5400000000081]
[null,{"$f":"'Market Data'!B1957","v":20070831},{"$f":"'Market Data'!C1957","v":8279},{"$f":"'Market Data'!D1957","v":8386.5},{"$f":"'Market Data'!E1957","v":8235.5},{"$f":"'Market Data'!F1957","v":8380.5},null,1953,"Hidden","Long",null,1,0,"",null,1,"Stay Long",5477.5,10829.040000000008]
[null,{"$f":"'Market Data'!B1958","v":20070903},{"$f":"'Market Data'!C1958","v":8359.5},{"$f":"'Market Data'!D1958","v":8377},{"$f":"'Market Data'!E1958","v":8327.5},{"$f":"'Market Data'!F1958","v":8344.5},null,1954,"Hidden","Long",null,1,0,"",null,1,"Stay Long",-1260,9569.0400000000081]
[null,{"$f":"'Market Data'!B1959","v":20070904},{"$f":"'Market Data'!C1959","v":8331.5},{"$f":"'Market Data'!D1959","v":8426},{"$f":"'Market Data'!E1959","v":8293},{"$f":"'Market Data'!F1959","v":8411},null,1955,"Hidden","Long",null,1,0,"",null,1,"Stay Long",2327.5,11896.540000000008]
[null,{"$f":"'Market Data'!B1960","v":20070905},{"$f":"'Market Data'!C1960","v":8377.5},{"$f":"'Market Data'!D1960","v":8414.5},{"$f":"'Market Data'!E1960","v":8273.5},{"$f":"'Market Data'!F1960","v":8313},null,1956,"Hidden","Long",null,1,0,"",null,1,"Stay Long",-3430,8466.5400000000081]
[null,{"$f":"'Market Data'!B1961","v":20070906},{"$f":"'Market Data'!C1961","v":8325},{"$f":"'Market Data'!D1961","v":8347},{"$f":"'Market Data'!E1961","v":8201},{"$f":"'Market Data'!F1961","v":8335},null,1957,"Hidden","Long",null,1,0,"",null,1,"Stay Long",770,9236.5400000000081]
[null,{"$f":"'Market Data'!B1962","v":20070907},{"$f":"'Market Data'!C1962","v":8286},{"$f":"'Market Data'!D1962","v":8321.5},{"$f":"'Market Data'!E1962","v":8111},{"$f":"'Market Data'!F1962","v":8154},null,1958,"Hidden","Long",null,1,0,"",null,1,"Stay Long",-6335,2901.5400000000081]
[null,{"$f":"'Market Data'!B1963","v":20070910},{"$f":"'Market Data'!C1963","v":8109.5},{"$f":"'Market Data'!D1963","v":8158.5},{"$f":"'Market Data'!E1963","v":8056},{"$f":"'Market Data'!F1963","v":8078},null,1959,"Hidden","Long",null,1,0,"",null,1,"Stay Long",-2660,241.54000000000815]
[null,{"$f":"'Market Data'!B1964","v":20070911},{"$f":"'Market Data'!C1964","v":8140},{"$f":"'Market Data'!D1964","v":8171.5},{"$f":"'Market Data'!E1964","v":8105},{"$f":"'Market Data'!F1964","v":8154},null,1960,"Hidden","Long",null,1,0,"",null,1,"Stay Long",2660,2901.5400000000081]
[null,{"$f":"'Market Data'!B1965","v":20070912},{"$f":"'Market Data'!C1965","v":8141},{"$f":"'Market Data'!D1965","v":8168.5},{"$f":"'Market Data'!E1965","v":8111.5},{"$f":"'Market Data'!F1965","v":8149},null,1961,"Hidden","Long",null,1,0,"",null,1,"Stay Long",-175,2726.5400000000081]
[null,{"$f":"'Market Data'!B1966","v":20070913},{"$f":"'Market Data'!C1966","v":8141},{"$f":"'Market Data'!D1966","v":8232.5},{"$f":"'Market Data'!E1966","v":8116.5},{"$f":"'Market Data'!F1966","v":8217.5},null,1962,"Hidden","Long",null,1,0,"",null,1,"Stay Long",2397.5,5124.0400000000081]
[null,{"$f":"'Market Data'!B1967","v":20070914},{"$f":"'Market Data'!C1967","v":8195.5},{"$f":"'Market Data'!D1967","v":8208},{"$f":"'Market Data'!E1967","v":8130},{"$f":"'Market Data'!F1967","v":8182.5},null,1963,"Hidden","Long",null,1,0,"",null,1,"Stay Long",-1225,3899.0400000000081]
[null,{"$f":"'Market Data'!B1968","v":20070917},{"$f":"'Market Data'!C1968","v":8176.5},{"$f":"'Market Data'!D1968","v":8217},{"$f":"'Market Data'!E1968","v":8118.5},{"$f":"'Market Data'!F1968","v":8170.5},null,1964,"Hidden","Long",null,1,0,"",null,1,"Stay Long",-420,3479.0400000000081]
[null,{"$f":"'Market Data'!B1969","v":20070918},{"$f":"'Market Data'!C1969","v":8145},{"$f":"'Market Data'!D1969","v":8273.5},{"$f":"'Market Data'!E1969","v":8125.5},{"$f":"'Market Data'!F1969","v":8257.5},null,1965,"Hidden","Long",null,1,0,"",null,1,"Stay Long",3045,6524.0400000000081]
[null,{"$f":"'Market Data'!B1970","v":20070919},{"$f":"'Market Data'!C1970","v":8390},{"$f":"'Market Data'!D1970","v":8456},{"$f":"'Market Data'!E1970","v":8381},{"$f":"'Market Data'!F1970","v":8414.5},null,1966,"Hidden","Long",null,1,0,"",null,1,"Stay Long",5495,12019.040000000008]
[null,{"$f":"'Market Data'!B1971","v":20070920},{"$f":"'Market Data'!C1971","v":8402},{"$f":"'Market Data'!D1971","v":8433},{"$f":"'Market Data'!E1971","v":8377},{"$f":"'Market Data'!F1971","v":8411.5},null,1967,"Hidden","Long",null,1,0,"",null,1,"Stay Long",-105,11914.040000000008]
[null,{"$f":"'Market Data'!B1972","v":20070921},{"$f":"'Market Data'!C1972","v":8389.5},{"$f":"'Market Data'!D1972","v":8489},{"$f":"'Market Data'!E1972","v":8386.5},{"$f":"'Market Data'!F1972","v":8475.5},null,1968,"Hidden","Long",null,1,0,"",null,1,"Stay Long",2240,14154.040000000008]
[null,{"$f":"'Market Data'!B1973","v":20070924},{"$f":"'Market Data'!C1973","v":8468.5},{"$f":"'Market Data'!D1973","v":8476},{"$f":"'Market Data'!E1973","v":8438.5},{"$f":"'Market Data'!F1973","v":8459},null,1969,"Hidden","Long",null,1,0,"",null,1,"Stay Long",-577.5,13576.540000000008]
[null,{"$f":"'Market Data'!B1974","v":20070925},{"$f":"'Market Data'!C1974","v":8429},{"$f":"'Market Data'!D1974","v":8466.5},{"$f":"'Market Data'!E1974","v":8395},{"$f":"'Market Data'!F1974","v":8448.5},null,1970,"Hidden","Long",null,1,0,"",null,1,"Stay Long",-367.5,13209.040000000008]
[null,{"$f":"'Market Data'!B1975","v":20070926},{"$f":"'Market Data'!C1975","v":8483},{"$f":"'Market Data'!D1975","v":8499.5},{"$f":"'Market Data'!E1975","v":8464},{"$f":"'Market Data'!F1975","v":8475.5},null,1971,"Hidden","Long",null,1,0,"",null,1,"Stay Long",945,14154.040000000008]
[null,{"$f":"'Market Data'!B1976","v":20070927},{"$f":"'Market Data'!C1976","v":8524},{"$f":"'Market Data'!D1976","v":8558},{"$f":"'Market Data'!E1976","v":8510.5},{"$f":"'Market Data'!F1976","v":8532.5},null,1972,"Hidden","Long",null,1,0,"",null,1,"Stay Long",1995,16149.040000000008]
[null,{"$f":"'Market Data'!B1977","v":20070928},{"$f":"'Market Data'!C1977","v":8548.5},{"$f":"'Market Data'!D1977","v":8557.5},{"$f":"'Market Data'!E1977","v":8429},{"$f":"'Market Data'!F1977","v":8539},null,1973,"Hidden","Long",null,1,0,"",null,1,"Stay Long",227.5,16376.540000000008]
[null,{"$f":"'Market Data'!B1978","v":20071001},{"$f":"'Market Data'!C1978","v":8521.5},{"$f":"'Market Data'!D1978","v":8619.5},{"$f":"'Market Data'!E1978","v":8506},{"$f":"'Market Data'!F1978","v":8613},null,1974,"Hidden","Long",null,1,0,"",null,1,"Stay Long",2590,18966.540000000008]
[null,{"$f":"'Market Data'!B1979","v":20071002},{"$f":"'Market Data'!C1979","v":8619},{"$f":"'Market Data'!D1979","v":8643},{"$f":"'Market Data'!E1979","v":8595.5},{"$f":"'Market Data'!F1979","v":8614.5},null,1975,"Hidden","Long",null,1,0,"",null,1,"Stay Long",52.5,19019.040000000008]
[null,{"$f":"'Market Data'!B1980","v":20071003},{"$f":"'Market Data'!C1980","v":8636},{"$f":"'Market Data'!D1980","v":8641},{"$f":"'Market Data'!E1980","v":8598},{"$f":"'Market Data'!F1980","v":8626.5},null,1976,"Hidden","Long",null,1,0,"",null,1,"Stay Long",420,19439.040000000008]
[null,{"$f":"'Market Data'!B1981","v":20071004},{"$f":"'Market Data'!C1981","v":8622},{"$f":"'Market Data'!D1981","v":8633.5},{"$f":"'Market Data'!E1981","v":8578},{"$f":"'Market Data'!F1981","v":8615},null,1977,"Hidden","Long",null,1,0,"",null,1,"Stay Long",-402.5,19036.540000000008]
[null,{"$f":"'Market Data'!B1982","v":20071005},{"$f":"'Market Data'!C1982","v":8600},{"$f":"'Market Data'!D1982","v":8680},{"$f":"'Market Data'!E1982","v":8600},{"$f":"'Market Data'!F1982","v":8666},null,1978,"Hidden","Long",null,1,0,"",null,1,"Stay Long",1785,20821.540000000008]
[null,{"$f":"'Market Data'!B1983","v":20071008},{"$f":"'Market Data'!C1983","v":8658},{"$f":"'Market Data'!D1983","v":8675},{"$f":"'Market Data'!E1983","v":8615.5},{"$f":"'Market Data'!F1983","v":8636.5},null,1979,"Hidden","Long",null,1,0,"",null,1,"Stay Long",-1032.5,19789.040000000008]
[null,{"$f":"'Market Data'!B1984","v":20071009},{"$f":"'Market Data'!C1984","v":8658},{"$f":"'Market Data'!D1984","v":8678},{"$f":"'Market Data'!E1984","v":8617.5},{"$f":"'Market Data'!F1984","v":8641},null,1980,"Hidden","Long",null,1,0,"",null,1,"Stay Long",157.5,19946.540000000008]
[null,{"$f":"'Market Data'!B1985","v":20071010},{"$f":"'Market Data'!C1985","v":8673},{"$f":"'Market Data'!D1985","v":8676.5},{"$f":"'Market Data'!E1985","v":8617},{"$f":"'Market Data'!F1985","v":8635},null,1981,"Hidden","Long",null,1,0,"",null,1,"Stay Long",-210,19736.540000000008]
[null,{"$f":"'Market Data'!B1986","v":20071011},{"$f":"'Market Data'!C1986","v":8674},{"$f":"'Market Data'!D1986","v":8724.5},{"$f":"'Market Data'!E1986","v":8642},{"$f":"'Market Data'!F1986","v":8701.5},null,1982,"Hidden","Long",null,1,0,"",null,1,"Stay Long",2327.5,22064.040000000008]
[null,{"$f":"'Market Data'!B1987","v":20071012},{"$f":"'Market Data'!C1987","v":8636},{"$f":"'Market Data'!D1987","v":8714},{"$f":"'Market Data'!E1987","v":8626.5},{"$f":"'Market Data'!F1987","v":8689},null,1983,"Hidden","Long",null,1,{"$f":"$L2000-P2000","v":0},"",null,1,"Stay Long",-437.5,21626.540000000008]
[null,{"$f":"'Market Data'!B1988","v":20071015},{"$f":"'Market Data'!C1988","v":8685},{"$f":"'Market Data'!D1988","v":8696.5},{"$f":"'Market Data'!E1988","v":8606},{"$f":"'Market Data'!F1988","v":8627},null,1984,"Hidden","Long",null,1,0,"",null,{"$f":"IF($N2000=\"Fill\",$L2000,$P2000)","v":1},"Stay Long",{"$f":"IF(OR($P2000&$L2000=\"01\",$P2000&$L2000=\"0-1\"),(($F2001-$C2001)*$R$3*$L2000)-(ABS($M2000)*$R$4),IF(OR($P2000&$L2000=\"10\",$P2000&$L2000=\"-10\"),(($C2001-$F2000)*$R$3*$P2000)-(ABS($M2000)*$R$4),IF(OR($P2000&$L2000=\"1-1\",$P2000&$L2000=\"-11\"),(($C2001-$F2000)*$R$3*$P2000)-(ABS($M2000)*$R$4)+(($F2001-$C2001)*$R$3*$P2001),IF(OR($P2000&$L2000=\"11\",$P2000&$L2000=\"-1-1\"),(($F2001-$F2000)*$R$3*$P2001),0))))","v":-2170},19456.540000000008]
[null,{"$f":"'Market Data'!B1989","v":20071016},{"$f":"'Market Data'!C1989","v":8629},{"$f":"'Market Data'!D1989","v":8632},{"$f":"'Market Data'!E1989","v":8581.5},{"$f":"'Market Data'!F1989","v":8609.5},null,{"$f":"ROW()-ROW(H$17)","v":1985},"Hidden",{"$f":"$I$4","v":"Long"},null,1,0,{"$f":"IF(NOT($M2002=0),\"Fill\",\"\")","v":""},null,1,{"$f":"IF($P2001&$L2001=\"00\",\"Stay Flat\",IF($P2001&$L2001=\"01\",\"Go Long\",IF($P2001&$L2001=\"0-1\",\"Go Short\",IF($P2001&$L2001=\"-10\",\"Exit Short\",IF($P2001&$L2001=\"-1-1\",\"Stay Short\",IF($P2001&$L2001=\"-11\",\"Exit Short, Go Long\",IF($P2001&$L2001=\"10\",\"Exit Long\",IF($P2001&$L2001=\"1-1\",\"Exit Long, Go Short\",IF($P2001&$L2001=\"11\",\"Stay Long\",\"\")))))))))","v":"Stay Long"},-612.5,{"$f":"S2001+R2002","v":18844.040000000008}]
[null,{"$f":"'Market Data'!B1990","v":20071017},{"$f":"'Market Data'!C1990","v":8601},{"$f":"'Market Data'!D1990","v":8673},{"$f":"'Market Data'!E1990","v":8596},{"$f":"'Market Data'!F1990","v":8623.5},null,1986,"Hidden","Long",null,{"$f":"IF($J2003=\"Short\",-1,IF($J2003=\"Long\",1,0))","v":1},0,"",null,1,"Stay Long",490,19334.040000000008]
[null,{"$f":"'Market Data'!B1991","v":20071018},{"$f":"'Market Data'!C1991","v":8663.5},{"$f":"'Market Data'!D1991","v":8670.5},{"$f":"'Market Data'!E1991","v":8544},{"$f":"'Market Data'!F1991","v":8580.5},null,1987,"Hidden","Long",null,1,0,"",null,1,"Stay Long",-1505,17829.040000000008]
[null,{"$f":"'Market Data'!B1992","v":20071019},{"$f":"'Market Data'!C1992","v":8551},{"$f":"'Market Data'!D1992","v":8596},{"$f":"'Market Data'!E1992","v":8516.5},{"$f":"'Market Data'!F1992","v":8540},null,1988,"Hidden","Long",null,1,0,"",null,1,"Stay Long",-1417.5,16411.540000000008]
[null,{"$f":"'Market Data'!B1993","v":20071022},{"$f":"'Market Data'!C1993","v":8414.5},{"$f":"'Market Data'!D1993","v":8483.5},{"$f":"'Market Data'!E1993","v":8400.5},{"$f":"'Market Data'!F1993","v":8440},null,1989,"Hidden","Long",null,1,0,"",null,1,"Stay Long",-3500,12911.540000000008]
[null,{"$f":"'Market Data'!B1994","v":20071023},{"$f":"'Market Data'!C1994","v":8498},{"$f":"'Market Data'!D1994","v":8525.5},{"$f":"'Market Data'!E1994","v":8470},{"$f":"'Market Data'!F1994","v":8491},null,1990,"Hidden","Long",null,1,0,"",null,1,"Stay Long",1785,14696.540000000008]
[null,{"$f":"'Market Data'!B1995","v":20071024},{"$f":"'Market Data'!C1995","v":8492},{"$f":"'Market Data'!D1995","v":8513.5},{"$f":"'Market Data'!E1995","v":8454.5},{"$f":"'Market Data'!F1995","v":8496},null,1991,"Hidden","Long",null,1,0,"",null,1,"Stay Long",175,14871.540000000008]
[null,{"$f":"'Market Data'!B1996","v":20071025},{"$f":"'Market Data'!C1996","v":8529},{"$f":"'Market Data'!D1996","v":8613.5},{"$f":"'Market Data'!E1996","v":8515.5},{"$f":"'Market Data'!F1996","v":8551},null,1992,"Hidden","Long",null,1,0,"",null,1,"Stay Long",1925,16796.540000000008]
[null,{"$f":"'Market Data'!B1997","v":20071026},{"$f":"'Market Data'!C1997","v":8600.5},{"$f":"'Market Data'!D1997","v":8615.5},{"$f":"'Market Data'!E1997","v":8564},{"$f":"'Market Data'!F1997","v":8591},null,1993,"Hidden","Long",null,1,0,"",null,1,"Stay Long",1400,18196.540000000008]
[null,{"$f":"'Market Data'!B1998","v":20071029},{"$f":"'Market Data'!C1998","v":8661},{"$f":"'Market Data'!D1998","v":8666},{"$f":"'Market Data'!E1998","v":8627},{"$f":"'Market Data'!F1998","v":8653.5},null,1994,"Hidden","Long",null,1,0,"",null,1,"Stay Long",2187.5,20384.040000000008]
[null,{"$f":"'Market Data'!B1999","v":20071030},{"$f":"'Market Data'!C1999","v":8637},{"$f":"'Market Data'!D1999","v":8643},{"$f":"'Market Data'!E1999","v":8610.5},{"$f":"'Market Data'!F1999","v":8631.5},null,1995,"Hidden","Long",null,1,0,"",null,1,"Stay Long",-770,19614.040000000008]
[null,{"$f":"'Market Data'!B2000","v":20071031},{"$f":"'Market Data'!C2000","v":8613},{"$f":"'Market Data'!D2000","v":8670.5},{"$f":"'Market Data'!E2000","v":8606.5},{"$f":"'Market Data'!F2000","v":8656},null,1996,"Hidden","Long",null,1,0,"",null,1,"Stay Long",857.5,20471.540000000008]
[null,{"$f":"'Market Data'!B2001","v":20071101},{"$f":"'Market Data'!C2001","v":8661},{"$f":"'Market Data'!D2001","v":8672.5},{"$f":"'Market Data'!E2001","v":8491},{"$f":"'Market Data'!F2001","v":8497.5},null,1997,"Hidden","Long",null,1,0,"",null,1,"Stay Long",-5547.5,14924.040000000008]
[null,{"$f":"'Market Data'!B2002","v":20071102},{"$f":"'Market Data'!C2002","v":8462.5},{"$f":"'Market Data'!D2002","v":8507.5},{"$f":"'Market Data'!E2002","v":8426.5},{"$f":"'Market Data'!F2002","v":8492.5},null,1998,"Hidden","Long",null,1,0,"",null,1,"Stay Long",-175,14749.040000000008]
[null,{"$f":"'Market Data'!B2003","v":20071105},{"$f":"'Market Data'!C2003","v":8454},{"$f":"'Market Data'!D2003","v":8465.5},{"$f":"'Market Data'!E2003","v":8407.5},{"$f":"'Market Data'!F2003","v":8438.5},null,1999,"Hidden","Long",null,1,0,"",null,1,"Stay Long",-1890,12859.040000000008]
[null,{"$f":"'Market Data'!B2004","v":20071106},{"$f":"'Market Data'!C2004","v":8483},{"$f":"'Market Data'!D2004","v":8495.5},{"$f":"'Market Data'!E2004","v":8458.5},{"$f":"'Market Data'!F2004","v":8474},null,2000,"Hidden","Long",null,1,0,"",null,1,"Stay Long",1242.5,14101.540000000008]
[null,{"$f":"'Market Data'!B2005","v":20071107},{"$f":"'Market Data'!C2005","v":8461.5},{"$f":"'Market Data'!D2005","v":8486},{"$f":"'Market Data'!E2005","v":8371},{"$f":"'Market Data'!F2005","v":8418.5},null,2001,"Hidden","Long",null,1,0,"",null,1,"Stay Long",-1942.5,12159.040000000008]
[null,{"$f":"'Market Data'!B2006","v":20071108},{"$f":"'Market Data'!C2006","v":8346},{"$f":"'Market Data'!D2006","v":8477.5},{"$f":"'Market Data'!E2006","v":8336},{"$f":"'Market Data'!F2006","v":8439.5},null,2002,"Hidden","Long",null,1,0,"",null,1,"Stay Long",735,12894.040000000008]
[null,{"$f":"'Market Data'!B2007","v":20071109},{"$f":"'Market Data'!C2007","v":8497},{"$f":"'Market Data'!D2007","v":8551.5},{"$f":"'Market Data'!E2007","v":8423},{"$f":"'Market Data'!F2007","v":8466.5},null,2003,"Hidden","Long",null,1,0,"",null,1,"Stay Long",945,13839.040000000008]
[null,{"$f":"'Market Data'!B2008","v":20071112},{"$f":"'Market Data'!C2008","v":8413},{"$f":"'Market Data'!D2008","v":8461.5},{"$f":"'Market Data'!E2008","v":8395},{"$f":"'Market Data'!F2008","v":8441},null,2004,"Hidden","Long",null,1,0,"",null,1,"Stay Long",-892.5,12946.540000000008]
[null,{"$f":"'Market Data'!B2009","v":20071113},{"$f":"'Market Data'!C2009","v":8385.5},{"$f":"'Market Data'!D2009","v":8422},{"$f":"'Market Data'!E2009","v":8384},{"$f":"'Market Data'!F2009","v":8399.5},null,2005,"Hidden","Long",null,1,0,"",null,1,"Stay Long",-1452.5,11494.040000000008]
[null,{"$f":"'Market Data'!B2010","v":20071114},{"$f":"'Market Data'!C2010","v":8488},{"$f":"'Market Data'!D2010","v":8507.5},{"$f":"'Market Data'!E2010","v":8392},{"$f":"'Market Data'!F2010","v":8417},null,2006,"Hidden","Long",null,1,0,"",null,1,"Stay Long",612.5,12106.540000000008]
[null,{"$f":"'Market Data'!B2011","v":20071115},{"$f":"'Market Data'!C2011","v":8400},{"$f":"'Market Data'!D2011","v":8431.5},{"$f":"'Market Data'!E2011","v":8245},{"$f":"'Market Data'!F2011","v":8255},null,2007,"Hidden","Long",null,1,0,"",null,1,"Stay Long",-5670,6436.5400000000081]
[null,{"$f":"'Market Data'!B2012","v":20071116},{"$f":"'Market Data'!C2012","v":8241.5},{"$f":"'Market Data'!D2012","v":8283.5},{"$f":"'Market Data'!E2012","v":8187.5},{"$f":"'Market Data'!F2012","v":8252},null,2008,"Hidden","Long",null,1,0,"",null,1,"Stay Long",-105,6331.5400000000081]
[null,{"$f":"'Market Data'!B2013","v":20071119},{"$f":"'Market Data'!C2013","v":8245.5},{"$f":"'Market Data'!D2013","v":8265},{"$f":"'Market Data'!E2013","v":8124},{"$f":"'Market Data'!F2013","v":8141.5},null,2009,"Hidden","Long",null,1,0,"",null,1,"Stay Long",-3867.5,2464.0400000000081]
[null,{"$f":"'Market Data'!B2014","v":20071120},{"$f":"'Market Data'!C2014","v":8180},{"$f":"'Market Data'!D2014","v":8261.5},{"$f":"'Market Data'!E2014","v":8150.5},{"$f":"'Market Data'!F2014","v":8213.5},null,2010,"Hidden","Long",null,1,0,"",null,1,"Stay Long",2520,4984.0400000000081]
[null,{"$f":"'Market Data'!B2015","v":20071121},{"$f":"'Market Data'!C2015","v":8162.5},{"$f":"'Market Data'!D2015","v":8188.5},{"$f":"'Market Data'!E2015","v":8095},{"$f":"'Market Data'!F2015","v":8185},null,2011,"Hidden","Long",null,1,0,"",null,1,"Stay Long",-997.5,3986.5400000000081]
[null,{"$f":"'Market Data'!B2016","v":20071122},{"$f":"'Market Data'!C2016","v":8145},{"$f":"'Market Data'!D2016","v":8205},{"$f":"'Market Data'!E2016","v":8107.5},{"$f":"'Market Data'!F2016","v":8183},null,2012,"Hidden","Long",null,1,0,"",null,1,"Stay Long",-70,3916.5400000000081]
[null,{"$f":"'Market Data'!B2017","v":20071123},{"$f":"'Market Data'!C2017","v":8178},{"$f":"'Market Data'!D2017","v":8250},{"$f":"'Market Data'!E2017","v":8165},{"$f":"'Market Data'!F2017","v":8238},null,2013,"Hidden","Long",null,1,0,"",null,1,"Stay Long",1925,5841.5400000000081]
[null,{"$f":"'Market Data'!B2018","v":20071126},{"$f":"'Market Data'!C2018","v":8287.5},{"$f":"'Market Data'!D2018","v":8301},{"$f":"'Market Data'!E2018","v":8177.5},{"$f":"'Market Data'!F2018","v":8203},null,2014,"Hidden","Long",null,1,0,"",null,1,"Stay Long",-1225,4616.5400000000081]
[null,{"$f":"'Market Data'!B2019","v":20071127},{"$f":"'Market Data'!C2019","v":8128},{"$f":"'Market Data'!D2019","v":8190.5},{"$f":"'Market Data'!E2019","v":8061},{"$f":"'Market Data'!F2019","v":8174.5},null,2015,"Hidden","Long",null,1,0,"",null,1,"Stay Long",-997.5,3619.0400000000081]
[null,{"$f":"'Market Data'!B2020","v":20071128},{"$f":"'Market Data'!C2020","v":8169},{"$f":"'Market Data'!D2020","v":8377},{"$f":"'Market Data'!E2020","v":8154.5},{"$f":"'Market Data'!F2020","v":8365.5},null,2016,"Hidden","Long",null,1,0,"",null,1,"Stay Long",6685,10304.040000000008]
[null,{"$f":"'Market Data'!B2021","v":20071129},{"$f":"'Market Data'!C2021","v":8392.5},{"$f":"'Market Data'!D2021","v":8412.5},{"$f":"'Market Data'!E2021","v":8345},{"$f":"'Market Data'!F2021","v":8385.5},null,2017,"Hidden","Long",null,1,0,"",null,1,"Stay Long",700,11004.040000000008]
[null,{"$f":"'Market Data'!B2022","v":20071130},{"$f":"'Market Data'!C2022","v":8408},{"$f":"'Market Data'!D2022","v":8512.5},{"$f":"'Market Data'!E2022","v":8395.5},{"$f":"'Market Data'!F2022","v":8490.5},null,2018,"Hidden","Long",null,1,0,"",null,1,"Stay Long",3675,14679.040000000008]
[null,{"$f":"'Market Data'!B2023","v":20071203},{"$f":"'Market Data'!C2023","v":8460},{"$f":"'Market Data'!D2023","v":8506},{"$f":"'Market Data'!E2023","v":8439},{"$f":"'Market Data'!F2023","v":8462},null,2019,"Hidden","Long",null,1,0,"",null,1,"Stay Long",-997.5,13681.540000000008]
[null,{"$f":"'Market Data'!B2024","v":20071204},{"$f":"'Market Data'!C2024","v":8438.5},{"$f":"'Market Data'!D2024","v":8466},{"$f":"'Market Data'!E2024","v":8400},{"$f":"'Market Data'!F2024","v":8433},null,2020,"Hidden","Long",null,1,0,"",null,1,"Stay Long",-1015,12666.540000000008]
[null,{"$f":"'Market Data'!B2025","v":20071205},{"$f":"'Market Data'!C2025","v":8458},{"$f":"'Market Data'!D2025","v":8564.5},{"$f":"'Market Data'!E2025","v":8453.5},{"$f":"'Market Data'!F2025","v":8554},null,2021,"Hidden","Long",null,1,0,"",null,1,"Stay Long",4235,16901.540000000008]
[null,{"$f":"'Market Data'!B2026","v":20071206},{"$f":"'Market Data'!C2026","v":8583.5},{"$f":"'Market Data'!D2026","v":8622},{"$f":"'Market Data'!E2026","v":8519.5},{"$f":"'Market Data'!F2026","v":8558},null,2022,"Hidden","Long",null,1,0,"",null,1,"Stay Long",140,17041.540000000008]
[null,{"$f":"'Market Data'!B2027","v":20071207},{"$f":"'Market Data'!C2027","v":8598.5},{"$f":"'Market Data'!D2027","v":8620},{"$f":"'Market Data'!E2027","v":8565},{"$f":"'Market Data'!F2027","v":8606},null,2023,"Hidden","Long",null,1,0,"",null,1,"Stay Long",1680,18721.540000000008]
[null,{"$f":"'Market Data'!B2028","v":20071210},{"$f":"'Market Data'!C2028","v":8579.5},{"$f":"'Market Data'!D2028","v":8665.5},{"$f":"'Market Data'!E2028","v":8555.5},{"$f":"'Market Data'!F2028","v":8643},null,2024,"Hidden","Long",null,1,0,"",null,1,"Stay Long",1295,20016.540000000008]
[null,{"$f":"'Market Data'!B2029","v":20071211},{"$f":"'Market Data'!C2029","v":8657.5},{"$f":"'Market Data'!D2029","v":8678.5},{"$f":"'Market Data'!E2029","v":8591},{"$f":"'Market Data'!F2029","v":8636.5},null,2025,"Hidden","Long",null,1,0,"",null,1,"Stay Long",-227.5,19789.040000000008]
[null,{"$f":"'Market Data'!B2030","v":20071212},{"$f":"'Market Data'!C2030","v":8544.5},{"$f":"'Market Data'!D2030","v":8729},{"$f":"'Market Data'!E2030","v":8531.5},{"$f":"'Market Data'!F2030","v":8666},null,2026,"Hidden","Long",null,1,0,"",null,1,"Stay Long",1032.5,20821.540000000008]
[null,{"$f":"'Market Data'!B2031","v":20071213},{"$f":"'Market Data'!C2031","v":8627.5},{"$f":"'Market Data'!D2031","v":8641},{"$f":"'Market Data'!E2031","v":8522},{"$f":"'Market Data'!F2031","v":8534},null,2027,"Hidden","Long",null,1,0,"",null,1,"Stay Long",-4620,16201.540000000008]
[null,{"$f":"'Market Data'!B2032","v":20071214},{"$f":"'Market Data'!C2032","v":8570.5},{"$f":"'Market Data'!D2032","v":8590.5},{"$f":"'Market Data'!E2032","v":8476.5},{"$f":"'Market Data'!F2032","v":8538},null,2028,"Hidden","Long",null,1,0,"",null,1,"Stay Long",140,16341.540000000008]
[null,{"$f":"'Market Data'!B2033","v":20071217},{"$f":"'Market Data'!C2033","v":8465},{"$f":"'Market Data'!D2033","v":8475},{"$f":"'Market Data'!E2033","v":8399},{"$f":"'Market Data'!F2033","v":8422},null,2029,"Hidden","Long",null,1,0,"",null,1,"Stay Long",-4060,12281.540000000008]
[null,{"$f":"'Market Data'!B2034","v":20071218},{"$f":"'Market Data'!C2034","v":8399.5},{"$f":"'Market Data'!D2034","v":8548},{"$f":"'Market Data'!E2034","v":8380},{"$f":"'Market Data'!F2034","v":8411},null,2030,"Hidden","Long",null,1,0,"",null,1,"Stay Long",-385,11896.540000000008]
[null,{"$f":"'Market Data'!B2035","v":20071219},{"$f":"'Market Data'!C2035","v":8455.5},{"$f":"'Market Data'!D2035","v":8477.5},{"$f":"'Market Data'!E2035","v":8374.5},{"$f":"'Market Data'!F2035","v":8436.5},null,2031,"Hidden","Long",null,1,0,"",null,1,"Stay Long",892.5,12789.040000000008]
[null,{"$f":"'Market Data'!B2036","v":20071220},{"$f":"'Market Data'!C2036","v":8433.5},{"$f":"'Market Data'!D2036","v":8514.5},{"$f":"'Market Data'!E2036","v":8431},{"$f":"'Market Data'!F2036","v":8469.5},null,2032,"Hidden","Long",null,1,0,"",null,1,"Stay Long",1155,13944.040000000008]
[null,{"$f":"'Market Data'!B2037","v":20071221},{"$f":"'Market Data'!C2037","v":8526},{"$f":"'Market Data'!D2037","v":8619.5},{"$f":"'Market Data'!E2037","v":8521.5},{"$f":"'Market Data'!F2037","v":8593.5},null,2033,"Hidden","Long",null,1,0,"",null,1,"Stay Long",4340,18284.040000000008]
[null,{"$f":"'Market Data'!B2038","v":20071227},{"$f":"'Market Data'!C2038","v":8666},{"$f":"'Market Data'!D2038","v":8759.5},{"$f":"'Market Data'!E2038","v":8563.5},{"$f":"'Market Data'!F2038","v":8585.5},null,2034,"Hidden","Long",null,1,0,"",null,1,"Stay Long",-280,18004.040000000008]
[null,{"$f":"'Market Data'!B2039","v":20071228},{"$f":"'Market Data'!C2039","v":8601.5},{"$f":"'Market Data'!D2039","v":8656.5},{"$f":"'Market Data'!E2039","v":8579.5},{"$f":"'Market Data'!F2039","v":8647},null,2035,"Hidden","Long",null,1,0,"",null,1,"Stay Long",2152.5,20156.540000000008]
[null,{"$f":"'Market Data'!B2040","v":20080102},{"$f":"'Market Data'!C2040","v":8612},{"$f":"'Market Data'!D2040","v":8687},{"$f":"'Market Data'!E2040","v":8479},{"$f":"'Market Data'!F2040","v":8514.5},null,2036,"Hidden","Long",null,1,0,"",null,1,"Stay Long",-4637.5,15519.040000000008]
[null,{"$f":"'Market Data'!B2041","v":20080103},{"$f":"'Market Data'!C2041","v":8542},{"$f":"'Market Data'!D2041","v":8551.5},{"$f":"'Market Data'!E2041","v":8436.5},{"$f":"'Market Data'!F2041","v":8498},null,2037,"Hidden","Long",null,1,0,"",null,1,"Stay Long",-577.5,14941.540000000008]
[null,{"$f":"'Market Data'!B2042","v":20080104},{"$f":"'Market Data'!C2042","v":8490.5},{"$f":"'Market Data'!D2042","v":8494.5},{"$f":"'Market Data'!E2042","v":8352.5},{"$f":"'Market Data'!F2042","v":8385.5},null,2038,"Hidden","Long",null,1,0,"",null,1,"Stay Long",-3937.5,11004.040000000008]
[null,{"$f":"'Market Data'!B2043","v":20080107},{"$f":"'Market Data'!C2043","v":8346.5},{"$f":"'Market Data'!D2043","v":8439.5},{"$f":"'Market Data'!E2043","v":8341.5},{"$f":"'Market Data'!F2043","v":8414},null,2039,"Hidden","Long",null,1,0,"",null,1,"Stay Long",997.5,12001.540000000008]
[null,{"$f":"'Market Data'!B2044","v":20080108},{"$f":"'Market Data'!C2044","v":8399},{"$f":"'Market Data'!D2044","v":8502.5},{"$f":"'Market Data'!E2044","v":8395.5},{"$f":"'Market Data'!F2044","v":8430.5},null,2040,"Hidden","Long",null,1,0,"",null,1,"Stay Long",577.5,12579.040000000008]
[null,{"$f":"'Market Data'!B2045","v":20080109},{"$f":"'Market Data'!C2045","v":8375},{"$f":"'Market Data'!D2045","v":8413},{"$f":"'Market Data'!E2045","v":8336.5},{"$f":"'Market Data'!F2045","v":8361},null,2041,"Hidden","Long",null,1,0,"",null,1,"Stay Long",-2432.5,10146.540000000008]
[null,{"$f":"'Market Data'!B2046","v":20080110},{"$f":"'Market Data'!C2046","v":8371.5},{"$f":"'Market Data'!D2046","v":8406},{"$f":"'Market Data'!E2046","v":8270.5},{"$f":"'Market Data'!F2046","v":8338.5},null,2042,"Hidden","Long",null,1,0,"",null,1,"Stay Long",-787.5,9359.0400000000081]
[null,{"$f":"'Market Data'!B2047","v":20080111},{"$f":"'Market Data'!C2047","v":8276.5},{"$f":"'Market Data'!D2047","v":8319},{"$f":"'Market Data'!E2047","v":8249},{"$f":"'Market Data'!F2047","v":8292},null,2043,"Hidden","Long",null,1,0,"",null,1,"Stay Long",-1627.5,7731.5400000000081]
[null,{"$f":"'Market Data'!B2048","v":20080114},{"$f":"'Market Data'!C2048","v":8274.5},{"$f":"'Market Data'!D2048","v":8333},{"$f":"'Market Data'!E2048","v":8252.5},{"$f":"'Market Data'!F2048","v":8308},null,2044,"Hidden","Long",null,1,0,"",null,1,"Stay Long",560,8291.5400000000081]
[null,{"$f":"'Market Data'!B2049","v":20080115},{"$f":"'Market Data'!C2049","v":8266.5},{"$f":"'Market Data'!D2049","v":8292.5},{"$f":"'Market Data'!E2049","v":8124},{"$f":"'Market Data'!F2049","v":8148.5},null,2045,"Hidden","Long",null,1,0,"",null,1,"Stay Long",-5582.5,2709.0400000000081]
[null,{"$f":"'Market Data'!B2050","v":20080116},{"$f":"'Market Data'!C2050","v":8075},{"$f":"'Market Data'!D2050","v":8124.5},{"$f":"'Market Data'!E2050","v":8017.5},{"$f":"'Market Data'!F2050","v":8051.5},null,2046,"Hidden","Long",null,1,0,"",null,1,"Stay Long",-3395,-685.95999999999185]
[null,{"$f":"'Market Data'!B2051","v":20080117},{"$f":"'Market Data'!C2051","v":8066.5},{"$f":"'Market Data'!D2051","v":8114.5},{"$f":"'Market Data'!E2051","v":7944},{"$f":"'Market Data'!F2051","v":7949},null,2047,"Hidden","Long",null,1,{"$f":"$L2064-P2064","v":0},"",null,1,"Stay Long",-3587.5,-4273.4599999999919]
[null,{"$f":"'Market Data'!B2052","v":20080118},{"$f":"'Market Data'!C2052","v":7971.5},{"$f":"'Market Data'!D2052","v":8068},{"$f":"'Market Data'!E2052","v":7849},{"$f":"'Market Data'!F2052","v":7893},null,2048,"Hidden","Long",null,1,0,"",null,{"$f":"IF($N2064=\"Fill\",$L2064,$P2064)","v":1},"Stay Long",{"$f":"IF(OR($P2064&$L2064=\"01\",$P2064&$L2064=\"0-1\"),(($F2065-$C2065)*$R$3*$L2064)-(ABS($M2064)*$R$4),IF(OR($P2064&$L2064=\"10\",$P2064&$L2064=\"-10\"),(($C2065-$F2064)*$R$3*$P2064)-(ABS($M2064)*$R$4),IF(OR($P2064&$L2064=\"1-1\",$P2064&$L2064=\"-11\"),(($C2065-$F2064)*$R$3*$P2064)-(ABS($M2064)*$R$4)+(($F2065-$C2065)*$R$3*$P2065),IF(OR($P2064&$L2064=\"11\",$P2064&$L2064=\"-1-1\"),(($F2065-$F2064)*$R$3*$P2065),0))))","v":-1960},-6233.4599999999919]
[null,{"$f":"'Market Data'!B2053","v":20080121},{"$f":"'Market Data'!C2053","v":7826.5},{"$f":"'Market Data'!D2053","v":7841},{"$f":"'Market Data'!E2053","v":7319},{"$f":"'Market Data'!F2053","v":7368.5},null,{"$f":"ROW()-ROW(H$17)","v":2049},"Hidden",{"$f":"$I$4","v":"Long"},null,1,0,{"$f":"IF(NOT($M2066=0),\"Fill\",\"\")","v":""},null,1,{"$f":"IF($P2065&$L2065=\"00\",\"Stay Flat\",IF($P2065&$L2065=\"01\",\"Go Long\",IF($P2065&$L2065=\"0-1\",\"Go Short\",IF($P2065&$L2065=\"-10\",\"Exit Short\",IF($P2065&$L2065=\"-1-1\",\"Stay Short\",IF($P2065&$L2065=\"-11\",\"Exit Short, Go Long\",IF($P2065&$L2065=\"10\",\"Exit Long\",IF($P2065&$L2065=\"1-1\",\"Exit Long, Go Short\",IF($P2065&$L2065=\"11\",\"Stay Long\",\"\")))))))))","v":"Stay Long"},-18357.5,{"$f":"S2065+R2066","v":-24590.959999999992}]
[null,{"$f":"'Market Data'!B2054","v":20080122},{"$f":"'Market Data'!C2054","v":7227},{"$f":"'Market Data'!D2054","v":7440},{"$f":"'Market Data'!E2054","v":6955},{"$f":"'Market Data'!F2054","v":7358.5},null,2050,"Hidden","Long",null,{"$f":"IF($J2067=\"Short\",-1,IF($J2067=\"Long\",1,0))","v":1},0,"",null,1,"Stay Long",-350,-24940.959999999992]
[null,{"$f":"'Market Data'!B2055","v":20080123},{"$f":"'Market Data'!C2055","v":7317.5},{"$f":"'Market Data'!D2055","v":7440.5},{"$f":"'Market Data'!E2055","v":6888.5},{"$f":"'Market Data'!F2055","v":6906},null,2051,"Hidden","Long",null,1,0,"",null,1,"Stay Long",-15837.5,-40778.459999999992]
[null,{"$f":"'Market Data'!B2056","v":20080124},{"$f":"'Market Data'!C2056","v":7258},{"$f":"'Market Data'!D2056","v":7406.5},{"$f":"'Market Data'!E2056","v":7220},{"$f":"'Market Data'!F2056","v":7346.5},null,2052,"Hidden","Long",null,1,0,"",null,1,"Stay Long",15417.5,-25360.959999999992]
[null,{"$f":"'Market Data'!B2057","v":20080125},{"$f":"'Market Data'!C2057","v":7461.5},{"$f":"'Market Data'!D2057","v":7554},{"$f":"'Market Data'!E2057","v":7331.5},{"$f":"'Market Data'!F2057","v":7347.5},null,2053,"Hidden","Long",null,1,0,"",null,1,"Stay Long",35,-25325.959999999992]
[null,{"$f":"'Market Data'!B2058","v":20080128},{"$f":"'Market Data'!C2058","v":7121.5},{"$f":"'Market Data'!D2058","v":7385},{"$f":"'Market Data'!E2058","v":7114.5},{"$f":"'Market Data'!F2058","v":7380},null,2054,"Hidden","Long",null,1,0,"",null,1,"Stay Long",1137.5,-24188.459999999992]
[null,{"$f":"'Market Data'!B2059","v":20080129},{"$f":"'Market Data'!C2059","v":7423.5},{"$f":"'Market Data'!D2059","v":7479},{"$f":"'Market Data'!E2059","v":7363.5},{"$f":"'Market Data'!F2059","v":7418},null,2055,"Hidden","Long",null,1,0,"",null,1,"Stay Long",1330,-22858.459999999992]
[null,{"$f":"'Market Data'!B2060","v":20080130},{"$f":"'Market Data'!C2060","v":7407.5},{"$f":"'Market Data'!D2060","v":7469},{"$f":"'Market Data'!E2060","v":7368},{"$f":"'Market Data'!F2060","v":7402.5},null,2056,"Hidden","Long",null,1,0,"",null,1,"Stay Long",-542.5,-23400.959999999992]
[null,{"$f":"'Market Data'!B2061","v":20080131},{"$f":"'Market Data'!C2061","v":7361.5},{"$f":"'Market Data'!D2061","v":7458.5},{"$f":"'Market Data'!E2061","v":7234},{"$f":"'Market Data'!F2061","v":7409.5},null,2057,"Hidden","Long",null,1,0,"",null,1,"Stay Long",245,-23155.959999999992]
[null,{"$f":"'Market Data'!B2062","v":20080201},{"$f":"'Market Data'!C2062","v":7465.5},{"$f":"'Market Data'!D2062","v":7582},{"$f":"'Market Data'!E2062","v":7447.5},{"$f":"'Market Data'!F2062","v":7492},null,2058,"Hidden","Long",null,1,0,"",null,1,"Stay Long",2887.5,-20268.459999999992]
[null,{"$f":"'Market Data'!B2063","v":20080204},{"$f":"'Market Data'!C2063","v":7568},{"$f":"'Market Data'!D2063","v":7602.5},{"$f":"'Market Data'!E2063","v":7516},{"$f":"'Market Data'!F2063","v":7530},null,2059,"Hidden","Long",null,1,0,"",null,1,"Stay Long",1330,-18938.459999999992]
[null,{"$f":"'Market Data'!B2064","v":20080205},{"$f":"'Market Data'!C2064","v":7529},{"$f":"'Market Data'!D2064","v":7537.5},{"$f":"'Market Data'!E2064","v":7284},{"$f":"'Market Data'!F2064","v":7311.5},null,2060,"Hidden","Long",null,1,0,"",null,1,"Stay Long",-7647.5,-26585.959999999992]
[null,{"$f":"'Market Data'!B2065","v":20080206},{"$f":"'Market Data'!C2065","v":7234.5},{"$f":"'Market Data'!D2065","v":7403.5},{"$f":"'Market Data'!E2065","v":7217.5},{"$f":"'Market Data'!F2065","v":7369.5},null,2061,"Hidden","Long",null,1,0,"",null,1,"Stay Long",2030,-24555.959999999992]
[null,{"$f":"'Market Data'!B2066","v":20080207},{"$f":"'Market Data'!C2066","v":7310.5},{"$f":"'Market Data'!D2066","v":7378},{"$f":"'Market Data'!E2066","v":7192.5},{"$f":"'Market Data'!F2066","v":7332},null,2062,"Hidden","Long",null,1,0,"",null,1,"Stay Long",-1312.5,-25868.459999999992]
[null,{"$f":"'Market Data'!B2067","v":20080208},{"$f":"'Market Data'!C2067","v":7336.5},{"$f":"'Market Data'!D2067","v":7394.5},{"$f":"'Market Data'!E2067","v":7242.5},{"$f":"'Market Data'!F2067","v":7285},null,2063,"Hidden","Long",null,1,0,"",null,1,"Stay Long",-1645,-27513.459999999992]
[null,{"$f":"'Market Data'!B2068","v":20080211},{"$f":"'Market Data'!C2068","v":7265},{"$f":"'Market Data'!D2068","v":7351},{"$f":"'Market Data'!E2068","v":7224.5},{"$f":"'Market Data'!F2068","v":7317},null,2064,"Hidden","Long",null,1,0,"",null,1,"Stay Long",1120,-26393.459999999992]
[null,{"$f":"'Market Data'!B2069","v":20080212},{"$f":"'Market Data'!C2069","v":7319.5},{"$f":"'Market Data'!D2069","v":7519},{"$f":"'Market Data'!E2069","v":7283},{"$f":"'Market Data'!F2069","v":7472},null,2065,"Hidden","Long",null,1,0,"",null,1,"Stay Long",5425,-20968.459999999992]
[null,{"$f":"'Market Data'!B2070","v":20080213},{"$f":"'Market Data'!C2070","v":7435},{"$f":"'Market Data'!D2070","v":7545.5},{"$f":"'Market Data'!E2070","v":7404.5},{"$f":"'Market Data'!F2070","v":7530},null,2066,"Hidden","Long",null,1,0,"",null,1,"Stay Long",2030,-18938.459999999992]
[null,{"$f":"'Market Data'!B2071","v":20080214},{"$f":"'Market Data'!C2071","v":7585},{"$f":"'Market Data'!D2071","v":7596.5},{"$f":"'Market Data'!E2071","v":7468.5},{"$f":"'Market Data'!F2071","v":7481},null,2067,"Hidden","Long",null,1,0,"",null,1,"Stay Long",-1715,-20653.459999999992]
[null,{"$f":"'Market Data'!B2072","v":20080215},{"$f":"'Market Data'!C2072","v":7480.5},{"$f":"'Market Data'!D2072","v":7548},{"$f":"'Market Data'!E2072","v":7328},{"$f":"'Market Data'!F2072","v":7383.5},null,2068,"Hidden","Long",null,1,0,"",null,1,"Stay Long",-3412.5,-24065.959999999992]
[null,{"$f":"'Market Data'!B2073","v":20080218},{"$f":"'Market Data'!C2073","v":7435.5},{"$f":"'Market Data'!D2073","v":7532},{"$f":"'Market Data'!E2073","v":7405.5},{"$f":"'Market Data'!F2073","v":7514.5},null,2069,"Hidden","Long",null,1,0,"",null,1,"Stay Long",4585,-19480.959999999992]
[null,{"$f":"'Market Data'!B2074","v":20080219},{"$f":"'Market Data'!C2074","v":7484.5},{"$f":"'Market Data'!D2074","v":7614.5},{"$f":"'Market Data'!E2074","v":7421},{"$f":"'Market Data'!F2074","v":7539},null,2070,"Hidden","Long",null,1,0,"",null,1,"Stay Long",857.5,-18623.459999999992]
[null,{"$f":"'Market Data'!B2075","v":20080220},{"$f":"'Market Data'!C2075","v":7466.5},{"$f":"'Market Data'!D2075","v":7497.5},{"$f":"'Market Data'!E2075","v":7379.5},{"$f":"'Market Data'!F2075","v":7470},null,2071,"Hidden","Long",null,1,0,"",null,1,"Stay Long",-2415,-21038.459999999992]
[null,{"$f":"'Market Data'!B2076","v":20080221},{"$f":"'Market Data'!C2076","v":7524},{"$f":"'Market Data'!D2076","v":7549},{"$f":"'Market Data'!E2076","v":7403.5},{"$f":"'Market Data'!F2076","v":7419},null,2072,"Hidden","Long",null,1,0,"",null,1,"Stay Long",-1785,-22823.459999999992]
[null,{"$f":"'Market Data'!B2077","v":20080222},{"$f":"'Market Data'!C2077","v":7395.5},{"$f":"'Market Data'!D2077","v":7411},{"$f":"'Market Data'!E2077","v":7288},{"$f":"'Market Data'!F2077","v":7306.5},null,2073,"Hidden","Long",null,1,0,"",null,1,"Stay Long",-3937.5,-26760.959999999992]
[null,{"$f":"'Market Data'!B2078","v":20080225},{"$f":"'Market Data'!C2078","v":7412.5},{"$f":"'Market Data'!D2078","v":7451.5},{"$f":"'Market Data'!E2078","v":7352},{"$f":"'Market Data'!F2078","v":7393},null,2074,"Hidden","Long",null,1,0,"",null,1,"Stay Long",3027.5,-23733.459999999992]
[null,{"$f":"'Market Data'!B2079","v":20080226},{"$f":"'Market Data'!C2079","v":7450.5},{"$f":"'Market Data'!D2079","v":7555},{"$f":"'Market Data'!E2079","v":7430.5},{"$f":"'Market Data'!F2079","v":7539},null,2075,"Hidden","Long",null,1,0,"",null,1,"Stay Long",5110,-18623.459999999992]
[null,{"$f":"'Market Data'!B2080","v":20080227},{"$f":"'Market Data'!C2080","v":7519.5},{"$f":"'Market Data'!D2080","v":7545},{"$f":"'Market Data'!E2080","v":7404.5},{"$f":"'Market Data'!F2080","v":7511},null,2076,"Hidden","Long",null,1,0,"",null,1,"Stay Long",-980,-19603.459999999992]
[null,{"$f":"'Market Data'!B2081","v":20080228},{"$f":"'Market Data'!C2081","v":7479},{"$f":"'Market Data'!D2081","v":7521},{"$f":"'Market Data'!E2081","v":7372.5},{"$f":"'Market Data'!F2081","v":7392.5},null,2077,"Hidden","Long",null,1,0,"",null,1,"Stay Long",-4147.5,-23750.959999999992]
[null,{"$f":"'Market Data'!B2082","v":20080229},{"$f":"'Market Data'!C2082","v":7372.5},{"$f":"'Market Data'!D2082","v":7389.5},{"$f":"'Market Data'!E2082","v":7219.5},{"$f":"'Market Data'!F2082","v":7268.5},null,2078,"Hidden","Long",null,1,0,"",null,1,"Stay Long",-4340,-28090.959999999992]
[null,{"$f":"'Market Data'!B2083","v":20080303},{"$f":"'Market Data'!C2083","v":7134.5},{"$f":"'Market Data'!D2083","v":7246},{"$f":"'Market Data'!E2083","v":7122.5},{"$f":"'Market Data'!F2083","v":7225},null,2079,"Hidden","Long",null,1,0,"",null,1,"Stay Long",-1522.5,-29613.459999999992]
[null,{"$f":"'Market Data'!B2084","v":20080304},{"$f":"'Market Data'!C2084","v":7199},{"$f":"'Market Data'!D2084","v":7241.5},{"$f":"'Market Data'!E2084","v":7036.5},{"$f":"'Market Data'!F2084","v":7055.5},null,2080,"Hidden","Long",null,1,0,"",null,1,"Stay Long",-5932.5,-35545.959999999992]
[null,{"$f":"'Market Data'!B2085","v":20080305},{"$f":"'Market Data'!C2085","v":7112.5},{"$f":"'Market Data'!D2085","v":7220},{"$f":"'Market Data'!E2085","v":7100.5},{"$f":"'Market Data'!F2085","v":7189.5},null,2081,"Hidden","Long",null,1,0,"",null,1,"Stay Long",4690,-30855.959999999992]
[null,{"$f":"'Market Data'!B2086","v":20080306},{"$f":"'Market Data'!C2086","v":7206.5},{"$f":"'Market Data'!D2086","v":7209.5},{"$f":"'Market Data'!E2086","v":7087.5},{"$f":"'Market Data'!F2086","v":7101.5},null,2082,"Hidden","Long",null,1,0,"",null,1,"Stay Long",-3080,-33935.959999999992]
[null,{"$f":"'Market Data'!B2087","v":20080307},{"$f":"'Market Data'!C2087","v":7046.5},{"$f":"'Market Data'!D2087","v":7082.5},{"$f":"'Market Data'!E2087","v":6966.5},{"$f":"'Market Data'!F2087","v":7020.5},null,2083,"Hidden","Long",null,1,0,"",null,1,"Stay Long",-2835,-36770.959999999992]
[null,{"$f":"'Market Data'!B2088","v":20080310},{"$f":"'Market Data'!C2088","v":6961},{"$f":"'Market Data'!D2088","v":7055.5},{"$f":"'Market Data'!E2088","v":6930.5},{"$f":"'Market Data'!F2088","v":6954.5},null,2084,"Hidden","Long",null,1,0,"",null,1,"Stay Long",-2310,-39080.959999999992]
[null,{"$f":"'Market Data'!B2089","v":20080311},{"$f":"'Market Data'!C2089","v":6973.5},{"$f":"'Market Data'!D2089","v":7122.5},{"$f":"'Market Data'!E2089","v":6947},{"$f":"'Market Data'!F2089","v":7061.5},null,2085,"Hidden","Long",null,1,0,"",null,1,"Stay Long",3745,-35335.959999999992]
[null,{"$f":"'Market Data'!B2090","v":20080312},{"$f":"'Market Data'!C2090","v":7115.5},{"$f":"'Market Data'!D2090","v":7182},{"$f":"'Market Data'!E2090","v":7083},{"$f":"'Market Data'!F2090","v":7092.5},null,2086,"Hidden","Long",null,1,0,"",null,1,"Stay Long",1085,-34250.959999999992]
[null,{"$f":"'Market Data'!B2091","v":20080313},{"$f":"'Market Data'!C2091","v":7018.5},{"$f":"'Market Data'!D2091","v":7076},{"$f":"'Market Data'!E2091","v":6910},{"$f":"'Market Data'!F2091","v":7067},null,2087,"Hidden","Long",null,1,0,"",null,1,"Stay Long",-892.5,-35143.459999999992]
[null,{"$f":"'Market Data'!B2092","v":20080314},{"$f":"'Market Data'!C2092","v":7009.5},{"$f":"'Market Data'!D2092","v":7136.5},{"$f":"'Market Data'!E2092","v":6888},{"$f":"'Market Data'!F2092","v":6910},null,2088,"Hidden","Long",null,1,0,"",null,1,"Stay Long",-5495,-40638.459999999992]
[null,{"$f":"'Market Data'!B2093","v":20080317},{"$f":"'Market Data'!C2093","v":6782},{"$f":"'Market Data'!D2093","v":6824},{"$f":"'Market Data'!E2093","v":6680.5},{"$f":"'Market Data'!F2093","v":6725},null,2089,"Hidden","Long",null,1,0,"",null,1,"Stay Long",-6475,-47113.459999999992]
[null,{"$f":"'Market Data'!B2094","v":20080318},{"$f":"'Market Data'!C2094","v":6778.5},{"$f":"'Market Data'!D2094","v":6930},{"$f":"'Market Data'!E2094","v":6776.5},{"$f":"'Market Data'!F2094","v":6923},null,2090,"Hidden","Long",null,1,0,"",null,1,"Stay Long",6930,-40183.459999999992]
[null,{"$f":"'Market Data'!B2095","v":20080319},{"$f":"'Market Data'!C2095","v":7004},{"$f":"'Market Data'!D2095","v":7004},{"$f":"'Market Data'!E2095","v":6818.5},{"$f":"'Market Data'!F2095","v":6834.5},null,2091,"Hidden","Long",null,1,0,"",null,1,"Stay Long",-3097.5,-43280.959999999992]
[null,{"$f":"'Market Data'!B2096","v":20080320},{"$f":"'Market Data'!C2096","v":6817},{"$f":"'Market Data'!D2096","v":6886},{"$f":"'Market Data'!E2096","v":6778.5},{"$f":"'Market Data'!F2096","v":6860.5},null,2092,"Hidden","Long",null,1,0,"",null,1,"Stay Long",910,-42370.959999999992]
[null,{"$f":"'Market Data'!B2097","v":20080325},{"$f":"'Market Data'!C2097","v":7039},{"$f":"'Market Data'!D2097","v":7073},{"$f":"'Market Data'!E2097","v":6990},{"$f":"'Market Data'!F2097","v":7067.5},null,2093,"Hidden","Long",null,1,0,"",null,1,"Stay Long",7245,-35125.959999999992]
[null,{"$f":"'Market Data'!B2098","v":20080326},{"$f":"'Market Data'!C2098","v":7032.5},{"$f":"'Market Data'!D2098","v":7049.5},{"$f":"'Market Data'!E2098","v":6975.5},{"$f":"'Market Data'!F2098","v":6985},null,2094,"Hidden","Long",null,1,0,"",null,1,"Stay Long",-2887.5,-38013.459999999992]
[null,{"$f":"'Market Data'!B2099","v":20080327},{"$f":"'Market Data'!C2099","v":6977},{"$f":"'Market Data'!D2099","v":7120},{"$f":"'Market Data'!E2099","v":6974},{"$f":"'Market Data'!F2099","v":7054.5},null,2095,"Hidden","Long",null,1,0,"",null,1,"Stay Long",2432.5,-35580.959999999992]
[null,{"$f":"'Market Data'!B2100","v":20080328},{"$f":"'Market Data'!C2100","v":7092.5},{"$f":"'Market Data'!D2100","v":7124},{"$f":"'Market Data'!E2100","v":7042},{"$f":"'Market Data'!F2100","v":7048},null,2096,"Hidden","Long",null,1,0,"",null,1,"Stay Long",-227.5,-35808.459999999992]
[null,{"$f":"'Market Data'!B2101","v":20080331},{"$f":"'Market Data'!C2101","v":7023},{"$f":"'Market Data'!D2101","v":7066},{"$f":"'Market Data'!E2101","v":6932},{"$f":"'Market Data'!F2101","v":7064.5},null,2097,"Hidden","Long",null,1,0,"",null,1,"Stay Long",577.5,-35230.959999999992]
[null,{"$f":"'Market Data'!B2102","v":20080401},{"$f":"'Market Data'!C2102","v":7037},{"$f":"'Market Data'!D2102","v":7251.5},{"$f":"'Market Data'!E2102","v":6992.5},{"$f":"'Market Data'!F2102","v":7248.5},null,2098,"Hidden","Long",null,1,0,"",null,1,"Stay Long",6440,-28790.959999999992]
[null,{"$f":"'Market Data'!B2103","v":20080402},{"$f":"'Market Data'!C2103","v":7290},{"$f":"'Market Data'!D2103","v":7314.5},{"$f":"'Market Data'!E2103","v":7231.5},{"$f":"'Market Data'!F2103","v":7285.5},null,2099,"Hidden","Long",null,1,0,"",null,1,"Stay Long",1295,-27495.959999999992]
[null,{"$f":"'Market Data'!B2104","v":20080403},{"$f":"'Market Data'!C2104","v":7298.5},{"$f":"'Market Data'!D2104","v":7306.5},{"$f":"'Market Data'!E2104","v":7199},{"$f":"'Market Data'!F2104","v":7263.5},null,2100,"Hidden","Long",null,1,0,"",null,1,"Stay Long",-770,-28265.959999999992]
[null,{"$f":"'Market Data'!B2105","v":20080404},{"$f":"'Market Data'!C2105","v":7275},{"$f":"'Market Data'!D2105","v":7315},{"$f":"'Market Data'!E2105","v":7192.5},{"$f":"'Market Data'!F2105","v":7283},null,2101,"Hidden","Long",null,1,0,"",null,1,"Stay Long",682.5,-27583.459999999992]
[null,{"$f":"'Market Data'!B2106","v":20080407},{"$f":"'Market Data'!C2106","v":7290},{"$f":"'Market Data'!D2106","v":7346.5},{"$f":"'Market Data'!E2106","v":7287.5},{"$f":"'Market Data'!F2106","v":7342},null,2102,"Hidden","Long",null,1,0,"",null,1,"Stay Long",2065,-25518.459999999992]
[null,{"$f":"'Market Data'!B2107","v":20080408},{"$f":"'Market Data'!C2107","v":7273},{"$f":"'Market Data'!D2107","v":7287},{"$f":"'Market Data'!E2107","v":7223.5},{"$f":"'Market Data'!F2107","v":7259.5},null,2103,"Hidden","Long",null,1,0,"",null,1,"Stay Long",-2887.5,-28405.959999999992]
[null,{"$f":"'Market Data'!B2108","v":20080409},{"$f":"'Market Data'!C2108","v":7245.5},{"$f":"'Market Data'!D2108","v":7288},{"$f":"'Market Data'!E2108","v":7194.5},{"$f":"'Market Data'!F2108","v":7195},null,2104,"Hidden","Long",null,1,0,"",null,1,"Stay Long",-2257.5,-30663.459999999992]
[null,{"$f":"'Market Data'!B2109","v":20080410},{"$f":"'Market Data'!C2109","v":7201.5},{"$f":"'Market Data'!D2109","v":7223},{"$f":"'Market Data'!E2109","v":7103.5},{"$f":"'Market Data'!F2109","v":7204.5},null,2105,"Hidden","Long",null,1,0,"",null,1,"Stay Long",332.5,-30330.959999999992]
[null,{"$f":"'Market Data'!B2110","v":20080411},{"$f":"'Market Data'!C2110","v":7255},{"$f":"'Market Data'!D2110","v":7267},{"$f":"'Market Data'!E2110","v":7066},{"$f":"'Market Data'!F2110","v":7091},null,2106,"Hidden","Long",null,1,0,"",null,1,"Stay Long",-3972.5,-34303.459999999992]
[null,{"$f":"'Market Data'!B2111","v":20080414},{"$f":"'Market Data'!C2111","v":7052.5},{"$f":"'Market Data'!D2111","v":7085},{"$f":"'Market Data'!E2111","v":7009.5},{"$f":"'Market Data'!F2111","v":7083.5},null,2107,"Hidden","Long",null,1,0,"",null,1,"Stay Long",-262.5,-34565.959999999992]
[null,{"$f":"'Market Data'!B2112","v":20080415},{"$f":"'Market Data'!C2112","v":7088},{"$f":"'Market Data'!D2112","v":7122},{"$f":"'Market Data'!E2112","v":7016.5},{"$f":"'Market Data'!F2112","v":7088.5},null,2108,"Hidden","Long",null,1,0,"",null,1,"Stay Long",175,-34390.959999999992]
[null,{"$f":"'Market Data'!B2113","v":20080416},{"$f":"'Market Data'!C2113","v":7139},{"$f":"'Market Data'!D2113","v":7206.5},{"$f":"'Market Data'!E2113","v":7092},{"$f":"'Market Data'!F2113","v":7198},null,2109,"Hidden","Long",null,1,0,"",null,1,"Stay Long",3832.5,-30558.459999999992]
[null,{"$f":"'Market Data'!B2114","v":20080417},{"$f":"'Market Data'!C2114","v":7230.5},{"$f":"'Market Data'!D2114","v":7236.5},{"$f":"'Market Data'!E2114","v":7156},{"$f":"'Market Data'!F2114","v":7188.5},null,2110,"Hidden","Long",null,1,0,"",null,1,"Stay Long",-332.5,-30890.959999999992]
[null,{"$f":"'Market Data'!B2115","v":20080418},{"$f":"'Market Data'!C2115","v":7222},{"$f":"'Market Data'!D2115","v":7354.5},{"$f":"'Market Data'!E2115","v":7202},{"$f":"'Market Data'!F2115","v":7331.5},null,2111,"Hidden","Long",null,1,{"$f":"$L2128-P2128","v":0},"",null,1,"Stay Long",5005,-25885.959999999992]
[null,{"$f":"'Market Data'!B2116","v":20080421},{"$f":"'Market Data'!C2116","v":7328},{"$f":"'Market Data'!D2116","v":7340.5},{"$f":"'Market Data'!E2116","v":7239},{"$f":"'Market Data'!F2116","v":7287},null,2112,"Hidden","Long",null,1,0,"",null,{"$f":"IF($N2128=\"Fill\",$L2128,$P2128)","v":1},"Stay Long",{"$f":"IF(OR($P2128&$L2128=\"01\",$P2128&$L2128=\"0-1\"),(($F2129-$C2129)*$R$3*$L2128)-(ABS($M2128)*$R$4),IF(OR($P2128&$L2128=\"10\",$P2128&$L2128=\"-10\"),(($C2129-$F2128)*$R$3*$P2128)-(ABS($M2128)*$R$4),IF(OR($P2128&$L2128=\"1-1\",$P2128&$L2128=\"-11\"),(($C2129-$F2128)*$R$3*$P2128)-(ABS($M2128)*$R$4)+(($F2129-$C2129)*$R$3*$P2129),IF(OR($P2128&$L2128=\"11\",$P2128&$L2128=\"-1-1\"),(($F2129-$F2128)*$R$3*$P2129),0))))","v":-1557.5},-27443.459999999992]
[null,{"$f":"'Market Data'!B2117","v":20080422},{"$f":"'Market Data'!C2117","v":7279.5},{"$f":"'Market Data'!D2117","v":7308.5},{"$f":"'Market Data'!E2117","v":7163},{"$f":"'Market Data'!F2117","v":7165.5},null,{"$f":"ROW()-ROW(H$17)","v":2113},"Hidden",{"$f":"$I$4","v":"Long"},null,1,0,{"$f":"IF(NOT($M2130=0),\"Fill\",\"\")","v":""},null,1,{"$f":"IF($P2129&$L2129=\"00\",\"Stay Flat\",IF($P2129&$L2129=\"01\",\"Go Long\",IF($P2129&$L2129=\"0-1\",\"Go Short\",IF($P2129&$L2129=\"-10\",\"Exit Short\",IF($P2129&$L2129=\"-1-1\",\"Stay Short\",IF($P2129&$L2129=\"-11\",\"Exit Short, Go Long\",IF($P2129&$L2129=\"10\",\"Exit Long\",IF($P2129&$L2129=\"1-1\",\"Exit Long, Go Short\",IF($P2129&$L2129=\"11\",\"Stay Long\",\"\")))))))))","v":"Stay Long"},-4252.5,{"$f":"S2129+R2130","v":-31695.959999999992}]
[null,{"$f":"'Market Data'!B2118","v":20080423},{"$f":"'Market Data'!C2118","v":7207},{"$f":"'Market Data'!D2118","v":7307},{"$f":"'Market Data'!E2118","v":7143.5},{"$f":"'Market Data'!F2118","v":7250},null,2114,"Hidden","Long",null,{"$f":"IF($J2131=\"Short\",-1,IF($J2131=\"Long\",1,0))","v":1},0,"",null,1,"Stay Long",2957.5,-28738.459999999992]
[null,{"$f":"'Market Data'!B2119","v":20080424},{"$f":"'Market Data'!C2119","v":7252.5},{"$f":"'Market Data'!D2119","v":7344},{"$f":"'Market Data'!E2119","v":7200.5},{"$f":"'Market Data'!F2119","v":7327},null,2115,"Hidden","Long",null,1,0,"",null,1,"Stay Long",2695,-26043.459999999992]
[null,{"$f":"'Market Data'!B2120","v":20080425},{"$f":"'Market Data'!C2120","v":7346},{"$f":"'Market Data'!D2120","v":7432.5},{"$f":"'Market Data'!E2120","v":7331},{"$f":"'Market Data'!F2120","v":7391},null,2116,"Hidden","Long",null,1,0,"",null,1,"Stay Long",2240,-23803.459999999992]
[null,{"$f":"'Market Data'!B2121","v":20080428},{"$f":"'Market Data'!C2121","v":7410.5},{"$f":"'Market Data'!D2121","v":7452},{"$f":"'Market Data'!E2121","v":7392},{"$f":"'Market Data'!F2121","v":7405.5},null,2117,"Hidden","Long",null,1,0,"",null,1,"Stay Long",507.5,-23295.959999999992]
[null,{"$f":"'Market Data'!B2122","v":20080429},{"$f":"'Market Data'!C2122","v":7418},{"$f":"'Market Data'!D2122","v":7418},{"$f":"'Market Data'!E2122","v":7339.5},{"$f":"'Market Data'!F2122","v":7370},null,2118,"Hidden","Long",null,1,0,"",null,1,"Stay Long",-1242.5,-24538.459999999992]
[null,{"$f":"'Market Data'!B2123","v":20080430},{"$f":"'Market Data'!C2123","v":7376},{"$f":"'Market Data'!D2123","v":7442.5},{"$f":"'Market Data'!E2123","v":7332},{"$f":"'Market Data'!F2123","v":7430.5},null,2119,"Hidden","Long",null,1,0,"",null,1,"Stay Long",2117.5,-22420.959999999992]
[null,{"$f":"'Market Data'!B2124","v":20080502},{"$f":"'Market Data'!C2124","v":7483},{"$f":"'Market Data'!D2124","v":7572.5},{"$f":"'Market Data'!E2124","v":7479.5},{"$f":"'Market Data'!F2124","v":7511},null,2120,"Hidden","Long",null,1,0,"",null,1,"Stay Long",2817.5,-19603.459999999992]
[null,{"$f":"'Market Data'!B2125","v":20080505},{"$f":"'Market Data'!C2125","v":7495},{"$f":"'Market Data'!D2125","v":7551},{"$f":"'Market Data'!E2125","v":7489},{"$f":"'Market Data'!F2125","v":7529},null,2121,"Hidden","Long",null,1,0,"",null,1,"Stay Long",630,-18973.459999999992]
[null,{"$f":"'Market Data'!B2126","v":20080506},{"$f":"'Market Data'!C2126","v":7535},{"$f":"'Market Data'!D2126","v":7538.5},{"$f":"'Market Data'!E2126","v":7444.5},{"$f":"'Market Data'!F2126","v":7528},null,2122,"Hidden","Long",null,1,0,"",null,1,"Stay Long",-35,-19008.459999999992]
[null,{"$f":"'Market Data'!B2127","v":20080507},{"$f":"'Market Data'!C2127","v":7526},{"$f":"'Market Data'!D2127","v":7585},{"$f":"'Market Data'!E2127","v":7512},{"$f":"'Market Data'!F2127","v":7545.5},null,2123,"Hidden","Long",null,1,0,"",null,1,"Stay Long",612.5,-18395.959999999992]
[null,{"$f":"'Market Data'!B2128","v":20080508},{"$f":"'Market Data'!C2128","v":7498.5},{"$f":"'Market Data'!D2128","v":7551.5},{"$f":"'Market Data'!E2128","v":7483.5},{"$f":"'Market Data'!F2128","v":7537.5},null,2124,"Hidden","Long",null,1,0,"",null,1,"Stay Long",-280,-18675.959999999992]
[null,{"$f":"'Market Data'!B2129","v":20080509},{"$f":"'Market Data'!C2129","v":7497},{"$f":"'Market Data'!D2129","v":7505},{"$f":"'Market Data'!E2129","v":7433},{"$f":"'Market Data'!F2129","v":7470},null,2125,"Hidden","Long",null,1,0,"",null,1,"Stay Long",-2362.5,-21038.459999999992]
[null,{"$f":"'Market Data'!B2130","v":20080512},{"$f":"'Market Data'!C2130","v":7497},{"$f":"'Market Data'!D2130","v":7539},{"$f":"'Market Data'!E2130","v":7479},{"$f":"'Market Data'!F2130","v":7522},null,2126,"Hidden","Long",null,1,0,"",null,1,"Stay Long",1820,-19218.459999999992]
[null,{"$f":"'Market Data'!B2131","v":20080513},{"$f":"'Market Data'!C2131","v":7549},{"$f":"'Market Data'!D2131","v":7554.5},{"$f":"'Market Data'!E2131","v":7474.5},{"$f":"'Market Data'!F2131","v":7533.5},null,2127,"Hidden","Long",null,1,0,"",null,1,"Stay Long",402.5,-18815.959999999992]
[null,{"$f":"'Market Data'!B2132","v":20080514},{"$f":"'Market Data'!C2132","v":7544},{"$f":"'Market Data'!D2132","v":7573.5},{"$f":"'Market Data'!E2132","v":7469.5},{"$f":"'Market Data'!F2132","v":7556},null,2128,"Hidden","Long",null,1,0,"",null,1,"Stay Long",787.5,-18028.459999999992]
[null,{"$f":"'Market Data'!B2133","v":20080515},{"$f":"'Market Data'!C2133","v":7532},{"$f":"'Market Data'!D2133","v":7591},{"$f":"'Market Data'!E2133","v":7502},{"$f":"'Market Data'!F2133","v":7571.5},null,2129,"Hidden","Long",null,1,0,"",null,1,"Stay Long",542.5,-17485.959999999992]
[null,{"$f":"'Market Data'!B2134","v":20080516},{"$f":"'Market Data'!C2134","v":7577},{"$f":"'Market Data'!D2134","v":7679},{"$f":"'Market Data'!E2134","v":7575},{"$f":"'Market Data'!F2134","v":7634},null,2130,"Hidden","Long",null,1,0,"",null,1,"Stay Long",2187.5,-15298.459999999992]
[null,{"$f":"'Market Data'!B2135","v":20080519},{"$f":"'Market Data'!C2135","v":7660},{"$f":"'Market Data'!D2135","v":7707},{"$f":"'Market Data'!E2135","v":7630.5},{"$f":"'Market Data'!F2135","v":7695},null,2131,"Hidden","Long",null,1,0,"",null,1,"Stay Long",2135,-13163.459999999992]
[null,{"$f":"'Market Data'!B2136","v":20080520},{"$f":"'Market Data'!C2136","v":7665},{"$f":"'Market Data'!D2136","v":7665},{"$f":"'Market Data'!E2136","v":7571.5},{"$f":"'Market Data'!F2136","v":7577.5},null,2132,"Hidden","Long",null,1,0,"",null,1,"Stay Long",-4112.5,-17275.959999999992]
[null,{"$f":"'Market Data'!B2137","v":20080521},{"$f":"'Market Data'!C2137","v":7587},{"$f":"'Market Data'!D2137","v":7616},{"$f":"'Market Data'!E2137","v":7476},{"$f":"'Market Data'!F2137","v":7512},null,2133,"Hidden","Long",null,1,0,"",null,1,"Stay Long",-2292.5,-19568.459999999992]
[null,{"$f":"'Market Data'!B2138","v":20080522},{"$f":"'Market Data'!C2138","v":7469},{"$f":"'Market Data'!D2138","v":7553.5},{"$f":"'Market Data'!E2138","v":7440},{"$f":"'Market Data'!F2138","v":7529},null,2134,"Hidden","Long",null,1,0,"",null,1,"Stay Long",595,-18973.459999999992]
[null,{"$f":"'Market Data'!B2139","v":20080523},{"$f":"'Market Data'!C2139","v":7532},{"$f":"'Market Data'!D2139","v":7538},{"$f":"'Market Data'!E2139","v":7391.5},{"$f":"'Market Data'!F2139","v":7393.5},null,2135,"Hidden","Long",null,1,0,"",null,1,"Stay Long",-4742.5,-23715.959999999992]
[null,{"$f":"'Market Data'!B2140","v":20080526},{"$f":"'Market Data'!C2140","v":7406},{"$f":"'Market Data'!D2140","v":7425},{"$f":"'Market Data'!E2140","v":7374},{"$f":"'Market Data'!F2140","v":7415},null,2136,"Hidden","Long",null,1,0,"",null,1,"Stay Long",752.5,-22963.459999999992]
[null,{"$f":"'Market Data'!B2141","v":20080527},{"$f":"'Market Data'!C2141","v":7423.5},{"$f":"'Market Data'!D2141","v":7465.5},{"$f":"'Market Data'!E2141","v":7363.5},{"$f":"'Market Data'!F2141","v":7420},null,2137,"Hidden","Long",null,1,0,"",null,1,"Stay Long",175,-22788.459999999992]
[null,{"$f":"'Market Data'!B2142","v":20080528},{"$f":"'Market Data'!C2142","v":7432},{"$f":"'Market Data'!D2142","v":7542},{"$f":"'Market Data'!E2142","v":7410},{"$f":"'Market Data'!F2142","v":7492},null,2138,"Hidden","Long",null,1,0,"",null,1,"Stay Long",2520,-20268.459999999992]
[null,{"$f":"'Market Data'!B2143","v":20080529},{"$f":"'Market Data'!C2143","v":7521},{"$f":"'Market Data'!D2143","v":7558.5},{"$f":"'Market Data'!E2143","v":7458},{"$f":"'Market Data'!F2143","v":7554},null,2139,"Hidden","Long",null,1,0,"",null,1,"Stay Long",2170,-18098.459999999992]
[null,{"$f":"'Market Data'!B2144","v":20080530},{"$f":"'Market Data'!C2144","v":7534},{"$f":"'Market Data'!D2144","v":7579},{"$f":"'Market Data'!E2144","v":7524},{"$f":"'Market Data'!F2144","v":7546},null,2140,"Hidden","Long",null,1,0,"",null,1,"Stay Long",-280,-18378.459999999992]
[null,{"$f":"'Market Data'!B2145","v":20080602},{"$f":"'Market Data'!C2145","v":7556.5},{"$f":"'Market Data'!D2145","v":7563},{"$f":"'Market Data'!E2145","v":7407},{"$f":"'Market Data'!F2145","v":7409.5},null,2141,"Hidden","Long",null,1,0,"",null,1,"Stay Long",-4777.5,-23155.959999999992]
[null,{"$f":"'Market Data'!B2146","v":20080603},{"$f":"'Market Data'!C2146","v":7419},{"$f":"'Market Data'!D2146","v":7477.5},{"$f":"'Market Data'!E2146","v":7413.5},{"$f":"'Market Data'!F2146","v":7459},null,2142,"Hidden","Long",null,1,0,"",null,1,"Stay Long",1732.5,-21423.459999999992]
[null,{"$f":"'Market Data'!B2147","v":20080604},{"$f":"'Market Data'!C2147","v":7436},{"$f":"'Market Data'!D2147","v":7443},{"$f":"'Market Data'!E2147","v":7347},{"$f":"'Market Data'!F2147","v":7399},null,2143,"Hidden","Long",null,1,0,"",null,1,"Stay Long",-2100,-23523.459999999992]
[null,{"$f":"'Market Data'!B2148","v":20080605},{"$f":"'Market Data'!C2148","v":7417},{"$f":"'Market Data'!D2148","v":7458.5},{"$f":"'Market Data'!E2148","v":7350.5},{"$f":"'Market Data'!F2148","v":7402},null,2144,"Hidden","Long",null,1,0,"",null,1,"Stay Long",105,-23418.459999999992]
[null,{"$f":"'Market Data'!B2149","v":20080606},{"$f":"'Market Data'!C2149","v":7441.5},{"$f":"'Market Data'!D2149","v":7451},{"$f":"'Market Data'!E2149","v":7242},{"$f":"'Market Data'!F2149","v":7255},null,2145,"Hidden","Long",null,1,0,"",null,1,"Stay Long",-5145,-28563.459999999992]
[null,{"$f":"'Market Data'!B2150","v":20080609},{"$f":"'Market Data'!C2150","v":7214.5},{"$f":"'Market Data'!D2150","v":7288},{"$f":"'Market Data'!E2150","v":7209.5},{"$f":"'Market Data'!F2150","v":7263},null,2146,"Hidden","Long",null,1,0,"",null,1,"Stay Long",280,-28283.459999999992]
[null,{"$f":"'Market Data'!B2151","v":20080610},{"$f":"'Market Data'!C2151","v":7227},{"$f":"'Market Data'!D2151","v":7246},{"$f":"'Market Data'!E2151","v":7162},{"$f":"'Market Data'!F2151","v":7234},null,2147,"Hidden","Long",null,1,0,"",null,1,"Stay Long",-1015,-29298.459999999992]
[null,{"$f":"'Market Data'!B2152","v":20080611},{"$f":"'Market Data'!C2152","v":7236.5},{"$f":"'Market Data'!D2152","v":7259.5},{"$f":"'Market Data'!E2152","v":7077},{"$f":"'Market Data'!F2152","v":7096.5},null,2148,"Hidden","Long",null,1,0,"",null,1,"Stay Long",-4812.5,-34110.959999999992]
[null,{"$f":"'Market Data'!B2153","v":20080612},{"$f":"'Market Data'!C2153","v":7088.5},{"$f":"'Market Data'!D2153","v":7177.5},{"$f":"'Market Data'!E2153","v":7086},{"$f":"'Market Data'!F2153","v":7150},null,2149,"Hidden","Long",null,1,0,"",null,1,"Stay Long",1872.5,-32238.459999999992]
[null,{"$f":"'Market Data'!B2154","v":20080613},{"$f":"'Market Data'!C2154","v":7147},{"$f":"'Market Data'!D2154","v":7223},{"$f":"'Market Data'!E2154","v":7090.5},{"$f":"'Market Data'!F2154","v":7190},null,2150,"Hidden","Long",null,1,0,"",null,1,"Stay Long",1400,-30838.459999999992]
[null,{"$f":"'Market Data'!B2155","v":20080616},{"$f":"'Market Data'!C2155","v":7228.5},{"$f":"'Market Data'!D2155","v":7254},{"$f":"'Market Data'!E2155","v":7112.5},{"$f":"'Market Data'!F2155","v":7182},null,2151,"Hidden","Long",null,1,0,"",null,1,"Stay Long",-280,-31118.459999999992]
[null,{"$f":"'Market Data'!B2156","v":20080617},{"$f":"'Market Data'!C2156","v":7180.5},{"$f":"'Market Data'!D2156","v":7297.5},{"$f":"'Market Data'!E2156","v":7180.5},{"$f":"'Market Data'!F2156","v":7228},null,2152,"Hidden","Long",null,1,0,"",null,1,"Stay Long",1610,-29508.459999999992]
[null,{"$f":"'Market Data'!B2157","v":20080618},{"$f":"'Market Data'!C2157","v":7235},{"$f":"'Market Data'!D2157","v":7239},{"$f":"'Market Data'!E2157","v":7145},{"$f":"'Market Data'!F2157","v":7170.5},null,2153,"Hidden","Long",null,1,0,"",null,1,"Stay Long",-2012.5,-31520.959999999992]
[null,{"$f":"'Market Data'!B2158","v":20080619},{"$f":"'Market Data'!C2158","v":7137.5},{"$f":"'Market Data'!D2158","v":7202.5},{"$f":"'Market Data'!E2158","v":7099},{"$f":"'Market Data'!F2158","v":7178.5},null,2154,"Hidden","Long",null,1,0,"",null,1,"Stay Long",280,-31240.959999999992]
[null,{"$f":"'Market Data'!B2159","v":20080620},{"$f":"'Market Data'!C2159","v":7176.5},{"$f":"'Market Data'!D2159","v":7203.5},{"$f":"'Market Data'!E2159","v":6980.5},{"$f":"'Market Data'!F2159","v":6996.5},null,2155,"Hidden","Long",null,1,0,"",null,1,"Stay Long",-6370,-37610.959999999992]
[null,{"$f":"'Market Data'!B2160","v":20080623},{"$f":"'Market Data'!C2160","v":7014.5},{"$f":"'Market Data'!D2160","v":7063},{"$f":"'Market Data'!E2160","v":7005.5},{"$f":"'Market Data'!F2160","v":7028.5},null,2156,"Hidden","Long",null,1,0,"",null,1,"Stay Long",1120,-36490.959999999992]
[null,{"$f":"'Market Data'!B2161","v":20080624},{"$f":"'Market Data'!C2161","v":7030},{"$f":"'Market Data'!D2161","v":7051.5},{"$f":"'Market Data'!E2161","v":6873},{"$f":"'Market Data'!F2161","v":6982.5},null,2157,"Hidden","Long",null,1,0,"",null,1,"Stay Long",-1610,-38100.959999999992]
[null,{"$f":"'Market Data'!B2162","v":20080625},{"$f":"'Market Data'!C2162","v":6966.5},{"$f":"'Market Data'!D2162","v":7063.5},{"$f":"'Market Data'!E2162","v":6964.5},{"$f":"'Market Data'!F2162","v":7043.5},null,2158,"Hidden","Long",null,1,0,"",null,1,"Stay Long",2135,-35965.959999999992]
[null,{"$f":"'Market Data'!B2163","v":20080626},{"$f":"'Market Data'!C2163","v":7002.5},{"$f":"'Market Data'!D2163","v":7010.5},{"$f":"'Market Data'!E2163","v":6846.5},{"$f":"'Market Data'!F2163","v":6865.5},null,2159,"Hidden","Long",null,1,0,"",null,1,"Stay Long",-6230,-42195.959999999992]
[null,{"$f":"'Market Data'!B2164","v":20080627},{"$f":"'Market Data'!C2164","v":6871.5},{"$f":"'Market Data'!D2164","v":6894.5},{"$f":"'Market Data'!E2164","v":6773},{"$f":"'Market Data'!F2164","v":6841},null,2160,"Hidden","Long",null,1,0,"",null,1,"Stay Long",-857.5,-43053.459999999992]
[null,{"$f":"'Market Data'!B2165","v":20080630},{"$f":"'Market Data'!C2165","v":6837},{"$f":"'Market Data'!D2165","v":6873.5},{"$f":"'Market Data'!E2165","v":6733},{"$f":"'Market Data'!F2165","v":6839},null,2161,"Hidden","Long",null,1,0,"",null,1,"Stay Long",-70,-43123.459999999992]
[null,{"$f":"'Market Data'!B2166","v":20080701},{"$f":"'Market Data'!C2166","v":6820},{"$f":"'Market Data'!D2166","v":6830.5},{"$f":"'Market Data'!E2166","v":6649.5},{"$f":"'Market Data'!F2166","v":6675.5},null,2162,"Hidden","Long",null,1,0,"",null,1,"Stay Long",-5722.5,-48845.959999999992]
[null,{"$f":"'Market Data'!B2167","v":20080702},{"$f":"'Market Data'!C2167","v":6728.5},{"$f":"'Market Data'!D2167","v":6822.5},{"$f":"'Market Data'!E2167","v":6709},{"$f":"'Market Data'!F2167","v":6726},null,2163,"Hidden","Long",null,1,0,"",null,1,"Stay Long",1767.5,-47078.459999999992]
[null,{"$f":"'Market Data'!B2168","v":20080703},{"$f":"'Market Data'!C2168","v":6699.5},{"$f":"'Market Data'!D2168","v":6816},{"$f":"'Market Data'!E2168","v":6621.5},{"$f":"'Market Data'!F2168","v":6768.5},null,2164,"Hidden","Long",null,1,0,"",null,1,"Stay Long",1487.5,-45590.959999999992]
[null,{"$f":"'Market Data'!B2169","v":20080704},{"$f":"'Market Data'!C2169","v":6775},{"$f":"'Market Data'!D2169","v":6805.5},{"$f":"'Market Data'!E2169","v":6676},{"$f":"'Market Data'!F2169","v":6689},null,2165,"Hidden","Long",null,1,0,"",null,1,"Stay Long",-2782.5,-48373.459999999992]
[null,{"$f":"'Market Data'!B2170","v":20080707},{"$f":"'Market Data'!C2170","v":6712.5},{"$f":"'Market Data'!D2170","v":6841.5},{"$f":"'Market Data'!E2170","v":6704.5},{"$f":"'Market Data'!F2170","v":6722},null,2166,"Hidden","Long",null,1,0,"",null,1,"Stay Long",1155,-47218.459999999992]
[null,{"$f":"'Market Data'!B2171","v":20080708},{"$f":"'Market Data'!C2171","v":6683},{"$f":"'Market Data'!D2171","v":6754},{"$f":"'Market Data'!E2171","v":6643.5},{"$f":"'Market Data'!F2171","v":6729},null,2167,"Hidden","Long",null,1,0,"",null,1,"Stay Long",245,-46973.459999999992]
[null,{"$f":"'Market Data'!B2172","v":20080709},{"$f":"'Market Data'!C2172","v":6793.5},{"$f":"'Market Data'!D2172","v":6817.5},{"$f":"'Market Data'!E2172","v":6760},{"$f":"'Market Data'!F2172","v":6783.5},null,2168,"Hidden","Long",null,1,0,"",null,1,"Stay Long",1907.5,-45065.959999999992]
[null,{"$f":"'Market Data'!B2173","v":20080710},{"$f":"'Market Data'!C2173","v":6709.5},{"$f":"'Market Data'!D2173","v":6807},{"$f":"'Market Data'!E2173","v":6669.5},{"$f":"'Market Data'!F2173","v":6722.5},null,2169,"Hidden","Long",null,1,0,"",null,1,"Stay Long",-2135,-47200.959999999992]
[null,{"$f":"'Market Data'!B2174","v":20080711},{"$f":"'Market Data'!C2174","v":6762.5},{"$f":"'Market Data'!D2174","v":6768.5},{"$f":"'Market Data'!E2174","v":6546},{"$f":"'Market Data'!F2174","v":6554.5},null,2170,"Hidden","Long",null,1,0,"",null,1,"Stay Long",-5880,-53080.959999999992]
[null,{"$f":"'Market Data'!B2175","v":20080714},{"$f":"'Market Data'!C2175","v":6643.5},{"$f":"'Market Data'!D2175","v":6670.5},{"$f":"'Market Data'!E2175","v":6562},{"$f":"'Market Data'!F2175","v":6575.5},null,2171,"Hidden","Long",null,1,0,"",null,1,"Stay Long",735,-52345.959999999992]
[null,{"$f":"'Market Data'!B2176","v":20080715},{"$f":"'Market Data'!C2176","v":6537},{"$f":"'Market Data'!D2176","v":6553},{"$f":"'Market Data'!E2176","v":6418.5},{"$f":"'Market Data'!F2176","v":6551.5},null,2172,"Hidden","Long",null,1,0,"",null,1,"Stay Long",-840,-53185.959999999992]
[null,{"$f":"'Market Data'!B2177","v":20080716},{"$f":"'Market Data'!C2177","v":6529.5},{"$f":"'Market Data'!D2177","v":6595},{"$f":"'Market Data'!E2177","v":6406},{"$f":"'Market Data'!F2177","v":6591.5},null,2173,"Hidden","Long",null,1,0,"",null,1,"Stay Long",1400,-51785.959999999992]
[null,{"$f":"'Market Data'!B2178","v":20080717},{"$f":"'Market Data'!C2178","v":6623},{"$f":"'Market Data'!D2178","v":6730},{"$f":"'Market Data'!E2178","v":6613},{"$f":"'Market Data'!F2178","v":6689.5},null,2174,"Hidden","Long",null,1,0,"",null,1,"Stay Long",3430,-48355.959999999992]
[null,{"$f":"'Market Data'!B2179","v":20080718},{"$f":"'Market Data'!C2179","v":6672.5},{"$f":"'Market Data'!D2179","v":6803},{"$f":"'Market Data'!E2179","v":6645},{"$f":"'Market Data'!F2179","v":6774.5},null,2175,"Hidden","Long",null,1,{"$f":"$L2192-P2192","v":0},"",null,1,"Stay Long",2975,-45380.959999999992]
[null,{"$f":"'Market Data'!B2180","v":20080721},{"$f":"'Market Data'!C2180","v":6799.5},{"$f":"'Market Data'!D2180","v":6898.5},{"$f":"'Market Data'!E2180","v":6753},{"$f":"'Market Data'!F2180","v":6818.5},null,2176,"Hidden","Long",null,1,0,"",null,{"$f":"IF($N2192=\"Fill\",$L2192,$P2192)","v":1},"Stay Long",{"$f":"IF(OR($P2192&$L2192=\"01\",$P2192&$L2192=\"0-1\"),(($F2193-$C2193)*$R$3*$L2192)-(ABS($M2192)*$R$4),IF(OR($P2192&$L2192=\"10\",$P2192&$L2192=\"-10\"),(($C2193-$F2192)*$R$3*$P2192)-(ABS($M2192)*$R$4),IF(OR($P2192&$L2192=\"1-1\",$P2192&$L2192=\"-11\"),(($C2193-$F2192)*$R$3*$P2192)-(ABS($M2192)*$R$4)+(($F2193-$C2193)*$R$3*$P2193),IF(OR($P2192&$L2192=\"11\",$P2192&$L2192=\"-1-1\"),(($F2193-$F2192)*$R$3*$P2193),0))))","v":1540},-43840.959999999992]
[null,{"$f":"'Market Data'!B2181","v":20080722},{"$f":"'Market Data'!C2181","v":6804.5},{"$f":"'Market Data'!D2181","v":6864},{"$f":"'Market Data'!E2181","v":6730},{"$f":"'Market Data'!F2181","v":6842},null,{"$f":"ROW()-ROW(H$17)","v":2177},"Hidden",{"$f":"$I$4","v":"Long"},null,1,0,{"$f":"IF(NOT($M2194=0),\"Fill\",\"\")","v":""},null,1,{"$f":"IF($P2193&$L2193=\"00\",\"Stay Flat\",IF($P2193&$L2193=\"01\",\"Go Long\",IF($P2193&$L2193=\"0-1\",\"Go Short\",IF($P2193&$L2193=\"-10\",\"Exit Short\",IF($P2193&$L2193=\"-1-1\",\"Stay Short\",IF($P2193&$L2193=\"-11\",\"Exit Short, Go Long\",IF($P2193&$L2193=\"10\",\"Exit Long\",IF($P2193&$L2193=\"1-1\",\"Exit Long, Go Short\",IF($P2193&$L2193=\"11\",\"Stay Long\",\"\")))))))))","v":"Stay Long"},822.5,{"$f":"S2193+R2194","v":-43018.459999999992}]
[null,{"$f":"'Market Data'!B2182","v":20080723},{"$f":"'Market Data'!C2182","v":6895},{"$f":"'Market Data'!D2182","v":6973.5},{"$f":"'Market Data'!E2182","v":6893},{"$f":"'Market Data'!F2182","v":6926},null,2178,"Hidden","Long",null,{"$f":"IF($J2195=\"Short\",-1,IF($J2195=\"Long\",1,0))","v":1},0,"",null,1,"Stay Long",2940,-40078.459999999992]
[null,{"$f":"'Market Data'!B2183","v":20080724},{"$f":"'Market Data'!C2183","v":6959.5},{"$f":"'Market Data'!D2183","v":6981},{"$f":"'Market Data'!E2183","v":6817},{"$f":"'Market Data'!F2183","v":6830.5},null,2179,"Hidden","Long",null,1,0,"",null,1,"Stay Long",-3342.5,-43420.959999999992]
[null,{"$f":"'Market Data'!B2184","v":20080725},{"$f":"'Market Data'!C2184","v":6814.5},{"$f":"'Market Data'!D2184","v":6891},{"$f":"'Market Data'!E2184","v":6740},{"$f":"'Market Data'!F2184","v":6841.5},null,2180,"Hidden","Long",null,1,0,"",null,1,"Stay Long",385,-43035.959999999992]
[null,{"$f":"'Market Data'!B2185","v":20080728},{"$f":"'Market Data'!C2185","v":6826.5},{"$f":"'Market Data'!D2185","v":6837.5},{"$f":"'Market Data'!E2185","v":6706},{"$f":"'Market Data'!F2185","v":6712.5},null,2181,"Hidden","Long",null,1,0,"",null,1,"Stay Long",-4515,-47550.959999999992]
[null,{"$f":"'Market Data'!B2186","v":20080729},{"$f":"'Market Data'!C2186","v":6712.5},{"$f":"'Market Data'!D2186","v":6832},{"$f":"'Market Data'!E2186","v":6667.5},{"$f":"'Market Data'!F2186","v":6818},null,2182,"Hidden","Long",null,1,0,"",null,1,"Stay Long",3692.5,-43858.459999999992]
[null,{"$f":"'Market Data'!B2187","v":20080730},{"$f":"'Market Data'!C2187","v":6856},{"$f":"'Market Data'!D2187","v":6911},{"$f":"'Market Data'!E2187","v":6826.5},{"$f":"'Market Data'!F2187","v":6837},null,2183,"Hidden","Long",null,1,0,"",null,1,"Stay Long",665,-43193.459999999992]
[null,{"$f":"'Market Data'!B2188","v":20080731},{"$f":"'Market Data'!C2188","v":6887},{"$f":"'Market Data'!D2188","v":6946},{"$f":"'Market Data'!E2188","v":6828.5},{"$f":"'Market Data'!F2188","v":6870.5},null,2184,"Hidden","Long",null,1,0,"",null,1,"Stay Long",1172.5,-42020.959999999992]
[null,{"$f":"'Market Data'!B2189","v":20080801},{"$f":"'Market Data'!C2189","v":6844.5},{"$f":"'Market Data'!D2189","v":6893},{"$f":"'Market Data'!E2189","v":6766.5},{"$f":"'Market Data'!F2189","v":6773},null,2185,"Hidden","Long",null,1,0,"",null,1,"Stay Long",-3412.5,-45433.459999999992]
[null,{"$f":"'Market Data'!B2190","v":20080804},{"$f":"'Market Data'!C2190","v":6784.5},{"$f":"'Market Data'!D2190","v":6802},{"$f":"'Market Data'!E2190","v":6721},{"$f":"'Market Data'!F2190","v":6759},null,2186,"Hidden","Long",null,1,0,"",null,1,"Stay Long",-490,-45923.459999999992]
[null,{"$f":"'Market Data'!B2191","v":20080805},{"$f":"'Market Data'!C2191","v":6758.5},{"$f":"'Market Data'!D2191","v":6933},{"$f":"'Market Data'!E2191","v":6741},{"$f":"'Market Data'!F2191","v":6923.5},null,2187,"Hidden","Long",null,1,0,"",null,1,"Stay Long",5757.5,-40165.959999999992]
[null,{"$f":"'Market Data'!B2192","v":20080806},{"$f":"'Market Data'!C2192","v":6975},{"$f":"'Market Data'!D2192","v":6984.5},{"$f":"'Market Data'!E2192","v":6896},{"$f":"'Market Data'!F2192","v":6966.5},null,2188,"Hidden","Long",null,1,0,"",null,1,"Stay Long",1505,-38660.959999999992]
[null,{"$f":"'Market Data'!B2193","v":20080807},{"$f":"'Market Data'!C2193","v":6949},{"$f":"'Market Data'!D2193","v":7020.5},{"$f":"'Market Data'!E2193","v":6921.5},{"$f":"'Market Data'!F2193","v":6956},null,2189,"Hidden","Long",null,1,0,"",null,1,"Stay Long",-367.5,-39028.459999999992]
[null,{"$f":"'Market Data'!B2194","v":20080808},{"$f":"'Market Data'!C2194","v":6931},{"$f":"'Market Data'!D2194","v":6985.5},{"$f":"'Market Data'!E2194","v":6836.5},{"$f":"'Market Data'!F2194","v":6966.5},null,2190,"Hidden","Long",null,1,0,"",null,1,"Stay Long",367.5,-38660.959999999992]
[null,{"$f":"'Market Data'!B2195","v":20080811},{"$f":"'Market Data'!C2195","v":6990},{"$f":"'Market Data'!D2195","v":7024},{"$f":"'Market Data'!E2195","v":6954.5},{"$f":"'Market Data'!F2195","v":7011.5},null,2191,"Hidden","Long",null,1,0,"",null,1,"Stay Long",1575,-37085.959999999992]
[null,{"$f":"'Market Data'!B2196","v":20080812},{"$f":"'Market Data'!C2196","v":6982},{"$f":"'Market Data'!D2196","v":7022},{"$f":"'Market Data'!E2196","v":6938.5},{"$f":"'Market Data'!F2196","v":6989},null,2192,"Hidden","Long",null,1,0,"",null,1,"Stay Long",-787.5,-37873.459999999992]
[null,{"$f":"'Market Data'!B2197","v":20080813},{"$f":"'Market Data'!C2197","v":6952.5},{"$f":"'Market Data'!D2197","v":6954.5},{"$f":"'Market Data'!E2197","v":6800.5},{"$f":"'Market Data'!F2197","v":6817.5},null,2193,"Hidden","Long",null,1,0,"",null,1,"Stay Long",-6002.5,-43875.959999999992]
[null,{"$f":"'Market Data'!B2198","v":20080814},{"$f":"'Market Data'!C2198","v":6842},{"$f":"'Market Data'!D2198","v":6874.5},{"$f":"'Market Data'!E2198","v":6759.5},{"$f":"'Market Data'!F2198","v":6862},null,2194,"Hidden","Long",null,1,0,"",null,1,"Stay Long",1557.5,-42318.459999999992]
[null,{"$f":"'Market Data'!B2199","v":20080815},{"$f":"'Market Data'!C2199","v":6854.5},{"$f":"'Market Data'!D2199","v":6908},{"$f":"'Market Data'!E2199","v":6781.5},{"$f":"'Market Data'!F2199","v":6826.5},null,2195,"Hidden","Long",null,1,0,"",null,1,"Stay Long",-1242.5,-43560.959999999992]
[null,{"$f":"'Market Data'!B2200","v":20080818},{"$f":"'Market Data'!C2200","v":6828.5},{"$f":"'Market Data'!D2200","v":6878.5},{"$f":"'Market Data'!E2200","v":6762.5},{"$f":"'Market Data'!F2200","v":6771.5},null,2196,"Hidden","Long",null,1,0,"",null,1,"Stay Long",-1925,-45485.959999999992]
[null,{"$f":"'Market Data'!B2201","v":20080819},{"$f":"'Market Data'!C2201","v":6764.5},{"$f":"'Market Data'!D2201","v":6769.5},{"$f":"'Market Data'!E2201","v":6640},{"$f":"'Market Data'!F2201","v":6666.5},null,2197,"Hidden","Long",null,1,0,"",null,1,"Stay Long",-3675,-49160.959999999992]
[null,{"$f":"'Market Data'!B2202","v":20080820},{"$f":"'Market Data'!C2202","v":6684.5},{"$f":"'Market Data'!D2202","v":6726.5},{"$f":"'Market Data'!E2202","v":6648.5},{"$f":"'Market Data'!F2202","v":6678.5},null,2198,"Hidden","Long",null,1,0,"",null,1,"Stay Long",420,-48740.959999999992]
[null,{"$f":"'Market Data'!B2203","v":20080821},{"$f":"'Market Data'!C2203","v":6664},{"$f":"'Market Data'!D2203","v":6681.5},{"$f":"'Market Data'!E2203","v":6602},{"$f":"'Market Data'!F2203","v":6634},null,2199,"Hidden","Long",null,1,0,"",null,1,"Stay Long",-1557.5,-50298.459999999992]
[null,{"$f":"'Market Data'!B2204","v":20080822},{"$f":"'Market Data'!C2204","v":6629.5},{"$f":"'Market Data'!D2204","v":6742},{"$f":"'Market Data'!E2204","v":6612.5},{"$f":"'Market Data'!F2204","v":6712},null,2200,"Hidden","Long",null,1,0,"",null,1,"Stay Long",2730,-47568.459999999992]
[null,{"$f":"'Market Data'!B2205","v":20080825},{"$f":"'Market Data'!C2205","v":6718.5},{"$f":"'Market Data'!D2205","v":6746.5},{"$f":"'Market Data'!E2205","v":6645.5},{"$f":"'Market Data'!F2205","v":6653},null,2201,"Hidden","Long",null,1,0,"",null,1,"Stay Long",-2065,-49633.459999999992]
[null,{"$f":"'Market Data'!B2206","v":20080826},{"$f":"'Market Data'!C2206","v":6667},{"$f":"'Market Data'!D2206","v":6755.5},{"$f":"'Market Data'!E2206","v":6620},{"$f":"'Market Data'!F2206","v":6723.5},null,2202,"Hidden","Long",null,1,0,"",null,1,"Stay Long",2467.5,-47165.959999999992]
[null,{"$f":"'Market Data'!B2207","v":20080827},{"$f":"'Market Data'!C2207","v":6722.5},{"$f":"'Market Data'!D2207","v":6737},{"$f":"'Market Data'!E2207","v":6631.5},{"$f":"'Market Data'!F2207","v":6732},null,2203,"Hidden","Long",null,1,0,"",null,1,"Stay Long",297.5,-46868.459999999992]
[null,{"$f":"'Market Data'!B2208","v":20080828},{"$f":"'Market Data'!C2208","v":6694.5},{"$f":"'Market Data'!D2208","v":6838},{"$f":"'Market Data'!E2208","v":6641},{"$f":"'Market Data'!F2208","v":6805.5},null,2204,"Hidden","Long",null,1,0,"",null,1,"Stay Long",2572.5,-44295.959999999992]
[null,{"$f":"'Market Data'!B2209","v":20080829},{"$f":"'Market Data'!C2209","v":6807},{"$f":"'Market Data'!D2209","v":6835},{"$f":"'Market Data'!E2209","v":6776},{"$f":"'Market Data'!F2209","v":6798},null,2205,"Hidden","Long",null,1,0,"",null,1,"Stay Long",-262.5,-44558.459999999992]
[null,{"$f":"'Market Data'!B2210","v":20080901},{"$f":"'Market Data'!C2210","v":6761.5},{"$f":"'Market Data'!D2210","v":6827},{"$f":"'Market Data'!E2210","v":6713},{"$f":"'Market Data'!F2210","v":6797.5},null,2206,"Hidden","Long",null,1,0,"",null,1,"Stay Long",-17.5,-44575.959999999992]
[null,{"$f":"'Market Data'!B2211","v":20080902},{"$f":"'Market Data'!C2211","v":6767},{"$f":"'Market Data'!D2211","v":6930.5},{"$f":"'Market Data'!E2211","v":6752},{"$f":"'Market Data'!F2211","v":6858},null,2207,"Hidden","Long",null,1,0,"",null,1,"Stay Long",2117.5,-42458.459999999992]
[null,{"$f":"'Market Data'!B2212","v":20080903},{"$f":"'Market Data'!C2212","v":6832},{"$f":"'Market Data'!D2212","v":6895},{"$f":"'Market Data'!E2212","v":6812.5},{"$f":"'Market Data'!F2212","v":6834.5},null,2208,"Hidden","Long",null,1,0,"",null,1,"Stay Long",-822.5,-43280.959999999992]
[null,{"$f":"'Market Data'!B2213","v":20080904},{"$f":"'Market Data'!C2213","v":6834.5},{"$f":"'Market Data'!D2213","v":6853},{"$f":"'Market Data'!E2213","v":6622.5},{"$f":"'Market Data'!F2213","v":6633},null,2209,"Hidden","Long",null,1,0,"",null,1,"Stay Long",-7052.5,-50333.459999999992]
[null,{"$f":"'Market Data'!B2214","v":20080905},{"$f":"'Market Data'!C2214","v":6585.5},{"$f":"'Market Data'!D2214","v":6623},{"$f":"'Market Data'!E2214","v":6462.5},{"$f":"'Market Data'!F2214","v":6538.5},null,2210,"Hidden","Long",null,1,0,"",null,1,"Stay Long",-3307.5,-53640.959999999992]
[null,{"$f":"'Market Data'!B2215","v":20080908},{"$f":"'Market Data'!C2215","v":6654.5},{"$f":"'Market Data'!D2215","v":6727.5},{"$f":"'Market Data'!E2215","v":6590},{"$f":"'Market Data'!F2215","v":6638.5},null,2211,"Hidden","Long",null,1,0,"",null,1,"Stay Long",3500,-50140.959999999992]
[null,{"$f":"'Market Data'!B2216","v":20080909},{"$f":"'Market Data'!C2216","v":6620},{"$f":"'Market Data'!D2216","v":6696.5},{"$f":"'Market Data'!E2216","v":6565.5},{"$f":"'Market Data'!F2216","v":6582},null,2212,"Hidden","Long",null,1,0,"",null,1,"Stay Long",-1977.5,-52118.459999999992]
[null,{"$f":"'Market Data'!B2217","v":20080910},{"$f":"'Market Data'!C2217","v":6567.5},{"$f":"'Market Data'!D2217","v":6628},{"$f":"'Market Data'!E2217","v":6526.5},{"$f":"'Market Data'!F2217","v":6581},null,2213,"Hidden","Long",null,1,0,"",null,1,"Stay Long",-35,-52153.459999999992]
[null,{"$f":"'Market Data'!B2218","v":20080911},{"$f":"'Market Data'!C2218","v":6544},{"$f":"'Market Data'!D2218","v":6572.5},{"$f":"'Market Data'!E2218","v":6447},{"$f":"'Market Data'!F2218","v":6543},null,2214,"Hidden","Long",null,1,0,"",null,1,"Stay Long",-1330,-53483.459999999992]
[null,{"$f":"'Market Data'!B2219","v":20080912},{"$f":"'Market Data'!C2219","v":6596.5},{"$f":"'Market Data'!D2219","v":6622},{"$f":"'Market Data'!E2219","v":6524},{"$f":"'Market Data'!F2219","v":6566.5},null,2215,"Hidden","Long",null,1,0,"",null,1,"Stay Long",822.5,-52660.959999999992]
[null,{"$f":"'Market Data'!B2220","v":20080915},{"$f":"'Market Data'!C2220","v":6364.5},{"$f":"'Market Data'!D2220","v":6448.5},{"$f":"'Market Data'!E2220","v":6305},{"$f":"'Market Data'!F2220","v":6417.5},null,2216,"Hidden","Long",null,1,0,"",null,1,"Stay Long",-5215,-57875.959999999992]
[null,{"$f":"'Market Data'!B2221","v":20080916},{"$f":"'Market Data'!C2221","v":6300.5},{"$f":"'Market Data'!D2221","v":6390},{"$f":"'Market Data'!E2221","v":6224.5},{"$f":"'Market Data'!F2221","v":6346.5},null,2217,"Hidden","Long",null,1,0,"",null,1,"Stay Long",-2485,-60360.959999999992]
[null,{"$f":"'Market Data'!B2222","v":20080917},{"$f":"'Market Data'!C2222","v":6372},{"$f":"'Market Data'!D2222","v":6411.5},{"$f":"'Market Data'!E2222","v":6168},{"$f":"'Market Data'!F2222","v":6208},null,2218,"Hidden","Long",null,1,0,"",null,1,"Stay Long",-4847.5,-65208.459999999992]
[null,{"$f":"'Market Data'!B2223","v":20080918},{"$f":"'Market Data'!C2223","v":6218},{"$f":"'Market Data'!D2223","v":6330.5},{"$f":"'Market Data'!E2223","v":6145},{"$f":"'Market Data'!F2223","v":6145},null,2219,"Hidden","Long",null,1,0,"",null,1,"Stay Long",-2205,-67413.459999999992]
[null,{"$f":"'Market Data'!B2224","v":20080919},{"$f":"'Market Data'!C2224","v":6451.5},{"$f":"'Market Data'!D2224","v":6585.5},{"$f":"'Market Data'!E2224","v":6425},{"$f":"'Market Data'!F2224","v":6572},null,2220,"Hidden","Long",null,1,0,"",null,1,"Stay Long",14945,-52468.459999999992]
[null,{"$f":"'Market Data'!B2225","v":20080922},{"$f":"'Market Data'!C2225","v":6552.5},{"$f":"'Market Data'!D2225","v":6589},{"$f":"'Market Data'!E2225","v":6419.5},{"$f":"'Market Data'!F2225","v":6459.5},null,2221,"Hidden","Long",null,1,0,"",null,1,"Stay Long",-3937.5,-56405.959999999992]
[null,{"$f":"'Market Data'!B2226","v":20080923},{"$f":"'Market Data'!C2226","v":6430},{"$f":"'Market Data'!D2226","v":6487},{"$f":"'Market Data'!E2226","v":6388.5},{"$f":"'Market Data'!F2226","v":6394.5},null,2222,"Hidden","Long",null,1,0,"",null,1,"Stay Long",-2275,-58680.959999999992]
[null,{"$f":"'Market Data'!B2227","v":20080924},{"$f":"'Market Data'!C2227","v":6428},{"$f":"'Market Data'!D2227","v":6468},{"$f":"'Market Data'!E2227","v":6372.5},{"$f":"'Market Data'!F2227","v":6403.5},null,2223,"Hidden","Long",null,1,0,"",null,1,"Stay Long",315,-58365.959999999992]
[null,{"$f":"'Market Data'!B2228","v":20080925},{"$f":"'Market Data'!C2228","v":6416},{"$f":"'Market Data'!D2228","v":6556},{"$f":"'Market Data'!E2228","v":6404},{"$f":"'Market Data'!F2228","v":6548},null,2224,"Hidden","Long",null,1,0,"",null,1,"Stay Long",5057.5,-53308.459999999992]
[null,{"$f":"'Market Data'!B2229","v":20080926},{"$f":"'Market Data'!C2229","v":6463},{"$f":"'Market Data'!D2229","v":6480.5},{"$f":"'Market Data'!E2229","v":6364},{"$f":"'Market Data'!F2229","v":6441},null,2225,"Hidden","Long",null,1,0,"",null,1,"Stay Long",-3745,-57053.459999999992]
[null,{"$f":"'Market Data'!B2230","v":20080929},{"$f":"'Market Data'!C2230","v":6383},{"$f":"'Market Data'!D2230","v":6399.5},{"$f":"'Market Data'!E2230","v":6163},{"$f":"'Market Data'!F2230","v":6193},null,2226,"Hidden","Long",null,1,0,"",null,1,"Stay Long",-8680,-65733.459999999992]
[null,{"$f":"'Market Data'!B2231","v":20080930},{"$f":"'Market Data'!C2231","v":5984.5},{"$f":"'Market Data'!D2231","v":6247},{"$f":"'Market Data'!E2231","v":5969.5},{"$f":"'Market Data'!F2231","v":6239.5},null,2227,"Hidden","Long",null,1,0,"",null,1,"Stay Long",1627.5,-64105.959999999992]
[null,{"$f":"'Market Data'!B2232","v":20081001},{"$f":"'Market Data'!C2232","v":6240},{"$f":"'Market Data'!D2232","v":6252.5},{"$f":"'Market Data'!E2232","v":6113.5},{"$f":"'Market Data'!F2232","v":6220.5},null,2228,"Hidden","Long",null,1,0,"",null,1,"Stay Long",-665,-64770.959999999992]
[null,{"$f":"'Market Data'!B2233","v":20081002},{"$f":"'Market Data'!C2233","v":6146.5},{"$f":"'Market Data'!D2233","v":6243.5},{"$f":"'Market Data'!E2233","v":5992},{"$f":"'Market Data'!F2233","v":6024.5},null,2229,"Hidden","Long",null,1,0,"",null,1,"Stay Long",-6860,-71630.959999999992]
[null,{"$f":"'Market Data'!B2234","v":20081003},{"$f":"'Market Data'!C2234","v":6053},{"$f":"'Market Data'!D2234","v":6196},{"$f":"'Market Data'!E2234","v":5970.5},{"$f":"'Market Data'!F2234","v":6182},null,2230,"Hidden","Long",null,1,0,"",null,1,"Stay Long",5512.5,-66118.459999999992]
[null,{"$f":"'Market Data'!B2235","v":20081006},{"$f":"'Market Data'!C2235","v":5915},{"$f":"'Market Data'!D2235","v":5929.5},{"$f":"'Market Data'!E2235","v":5661.5},{"$f":"'Market Data'!F2235","v":5712.5},null,2231,"Hidden","Long",null,1,0,"",null,1,"Stay Long",-16432.5,-82550.959999999992]
[null,{"$f":"'Market Data'!B2236","v":20081007},{"$f":"'Market Data'!C2236","v":5819},{"$f":"'Market Data'!D2236","v":5862.5},{"$f":"'Market Data'!E2236","v":5623},{"$f":"'Market Data'!F2236","v":5643},null,2232,"Hidden","Long",null,1,0,"",null,1,"Stay Long",-2432.5,-84983.459999999992]
[null,{"$f":"'Market Data'!B2237","v":20081008},{"$f":"'Market Data'!C2237","v":5483},{"$f":"'Market Data'!D2237","v":5693},{"$f":"'Market Data'!E2237","v":5220},{"$f":"'Market Data'!F2237","v":5332},null,2233,"Hidden","Long",null,1,0,"",null,1,"Stay Long",-10885,-95868.459999999992]
[null,{"$f":"'Market Data'!B2238","v":20081009},{"$f":"'Market Data'!C2238","v":5365},{"$f":"'Market Data'!D2238","v":5507},{"$f":"'Market Data'!E2238","v":5163},{"$f":"'Market Data'!F2238","v":5221.5},null,2234,"Hidden","Long",null,1,0,"",null,1,"Stay Long",-3867.5,-99735.959999999992]
[null,{"$f":"'Market Data'!B2239","v":20081010},{"$f":"'Market Data'!C2239","v":4917},{"$f":"'Market Data'!D2239","v":5008},{"$f":"'Market Data'!E2239","v":4641},{"$f":"'Market Data'!F2239","v":4894},null,2235,"Hidden","Long",null,1,0,"",null,1,"Stay Long",-11462.5,-111198.45999999999]
[null,{"$f":"'Market Data'!B2240","v":20081013},{"$f":"'Market Data'!C2240","v":5130.5},{"$f":"'Market Data'!D2240","v":5468},{"$f":"'Market Data'!E2240","v":5082},{"$f":"'Market Data'!F2240","v":5461},null,2236,"Hidden","Long",null,1,0,"",null,1,"Stay Long",19845,-91353.459999999992]
[null,{"$f":"'Market Data'!B2241","v":20081014},{"$f":"'Market Data'!C2241","v":5675},{"$f":"'Market Data'!D2241","v":5727.5},{"$f":"'Market Data'!E2241","v":5438.5},{"$f":"'Market Data'!F2241","v":5554.5},null,2237,"Hidden","Long",null,1,0,"",null,1,"Stay Long",3272.5,-88080.959999999992]
[null,{"$f":"'Market Data'!B2242","v":20081015},{"$f":"'Market Data'!C2242","v":5534.5},{"$f":"'Market Data'!D2242","v":5548},{"$f":"'Market Data'!E2242","v":5126.5},{"$f":"'Market Data'!F2242","v":5192},null,2238,"Hidden","Long",null,1,0,"",null,1,"Stay Long",-12687.5,-100768.45999999999]
[null,{"$f":"'Market Data'!B2243","v":20081016},{"$f":"'Market Data'!C2243","v":4863},{"$f":"'Market Data'!D2243","v":5234},{"$f":"'Market Data'!E2243","v":4854.5},{"$f":"'Market Data'!F2243","v":5010},null,2239,"Hidden","Long",null,1,{"$f":"$L2256-P2256","v":0},"",null,1,"Stay Long",-6370,-107138.45999999999]
[null,{"$f":"'Market Data'!B2244","v":20081017},{"$f":"'Market Data'!C2244","v":5228},{"$f":"'Market Data'!D2244","v":5237},{"$f":"'Market Data'!E2244","v":4918},{"$f":"'Market Data'!F2244","v":5236.5},null,2240,"Hidden","Long",null,1,0,"",null,{"$f":"IF($N2256=\"Fill\",$L2256,$P2256)","v":1},"Stay Long",{"$f":"IF(OR($P2256&$L2256=\"01\",$P2256&$L2256=\"0-1\"),(($F2257-$C2257)*$R$3*$L2256)-(ABS($M2256)*$R$4),IF(OR($P2256&$L2256=\"10\",$P2256&$L2256=\"-10\"),(($C2257-$F2256)*$R$3*$P2256)-(ABS($M2256)*$R$4),IF(OR($P2256&$L2256=\"1-1\",$P2256&$L2256=\"-11\"),(($C2257-$F2256)*$R$3*$P2256)-(ABS($M2256)*$R$4)+(($F2257-$C2257)*$R$3*$P2257),IF(OR($P2256&$L2256=\"11\",$P2256&$L2256=\"-1-1\"),(($F2257-$F2256)*$R$3*$P2257),0))))","v":7927.5},-99210.959999999992]
[null,{"$f":"'Market Data'!B2245","v":20081020},{"$f":"'Market Data'!C2245","v":5223},{"$f":"'Market Data'!D2245","v":5287},{"$f":"'Market Data'!E2245","v":5091},{"$f":"'Market Data'!F2245","v":5206.5},null,{"$f":"ROW()-ROW(H$17)","v":2241},"Hidden",{"$f":"$I$4","v":"Long"},null,1,0,{"$f":"IF(NOT($M2258=0),\"Fill\",\"\")","v":""},null,1,{"$f":"IF($P2257&$L2257=\"00\",\"Stay Flat\",IF($P2257&$L2257=\"01\",\"Go Long\",IF($P2257&$L2257=\"0-1\",\"Go Short\",IF($P2257&$L2257=\"-10\",\"Exit Short\",IF($P2257&$L2257=\"-1-1\",\"Stay Short\",IF($P2257&$L2257=\"-11\",\"Exit Short, Go Long\",IF($P2257&$L2257=\"10\",\"Exit Long\",IF($P2257&$L2257=\"1-1\",\"Exit Long, Go Short\",IF($P2257&$L2257=\"11\",\"Stay Long\",\"\")))))))))","v":"Stay Long"},-1050,{"$f":"S2257+R2258","v":-100260.95999999999}]
[null,{"$f":"'Market Data'!B2246","v":20081021},{"$f":"'Market Data'!C2246","v":5260},{"$f":"'Market Data'!D2246","v":5265.5},{"$f":"'Market Data'!E2246","v":5007.5},{"$f":"'Market Data'!F2246","v":5021.5},null,2242,"Hidden","Long",null,{"$f":"IF($J2259=\"Short\",-1,IF($J2259=\"Long\",1,0))","v":1},0,"",null,1,"Stay Long",-6475,-106735.95999999999]
[null,{"$f":"'Market Data'!B2247","v":20081022},{"$f":"'Market Data'!C2247","v":5008},{"$f":"'Market Data'!D2247","v":5043},{"$f":"'Market Data'!E2247","v":4872},{"$f":"'Market Data'!F2247","v":4899},null,2243,"Hidden","Long",null,1,0,"",null,1,"Stay Long",-4287.5,-111023.45999999999]
[null,{"$f":"'Market Data'!B2248","v":20081023},{"$f":"'Market Data'!C2248","v":4871.5},{"$f":"'Market Data'!D2248","v":4920.5},{"$f":"'Market Data'!E2248","v":4689.5},{"$f":"'Market Data'!F2248","v":4736},null,2244,"Hidden","Long",null,1,0,"",null,1,"Stay Long",-5705,-116728.45999999999]
[null,{"$f":"'Market Data'!B2249","v":20081024},{"$f":"'Market Data'!C2249","v":4608},{"$f":"'Market Data'!D2249","v":4706},{"$f":"'Market Data'!E2249","v":4340.5},{"$f":"'Market Data'!F2249","v":4610},null,2245,"Hidden","Long",null,1,0,"",null,1,"Stay Long",-4410,-121138.45999999999]
[null,{"$f":"'Market Data'!B2250","v":20081027},{"$f":"'Market Data'!C2250","v":4505.5},{"$f":"'Market Data'!D2250","v":4811.5},{"$f":"'Market Data'!E2250","v":4388},{"$f":"'Market Data'!F2250","v":4671.5},null,2246,"Hidden","Long",null,1,0,"",null,1,"Stay Long",2152.5,-118985.95999999999]
[null,{"$f":"'Market Data'!B2251","v":20081028},{"$f":"'Market Data'!C2251","v":4768},{"$f":"'Market Data'!D2251","v":5099},{"$f":"'Market Data'!E2251","v":4723},{"$f":"'Market Data'!F2251","v":5051.5},null,2247,"Hidden","Long",null,1,0,"",null,1,"Stay Long",13300,-105685.95999999999]
[null,{"$f":"'Market Data'!B2252","v":20081029},{"$f":"'Market Data'!C2252","v":5163},{"$f":"'Market Data'!D2252","v":5203},{"$f":"'Market Data'!E2252","v":4959.5},{"$f":"'Market Data'!F2252","v":5145.5},null,2248,"Hidden","Long",null,1,0,"",null,1,"Stay Long",3290,-102395.95999999999]
[null,{"$f":"'Market Data'!B2253","v":20081030},{"$f":"'Market Data'!C2253","v":5225.5},{"$f":"'Market Data'!D2253","v":5356.5},{"$f":"'Market Data'!E2253","v":5138},{"$f":"'Market Data'!F2253","v":5206.5},null,2249,"Hidden","Long",null,1,0,"",null,1,"Stay Long",2135,-100260.95999999999]
[null,{"$f":"'Market Data'!B2254","v":20081031},{"$f":"'Market Data'!C2254","v":5195},{"$f":"'Market Data'!D2254","v":5414.5},{"$f":"'Market Data'!E2254","v":5096.5},{"$f":"'Market Data'!F2254","v":5400},null,2250,"Hidden","Long",null,1,0,"",null,1,"Stay Long",6772.5,-93488.459999999992]
[null,{"$f":"'Market Data'!B2255","v":20081103},{"$f":"'Market Data'!C2255","v":5403},{"$f":"'Market Data'!D2255","v":5427},{"$f":"'Market Data'!E2255","v":5295.5},{"$f":"'Market Data'!F2255","v":5364.5},null,2251,"Hidden","Long",null,1,0,"",null,1,"Stay Long",-1242.5,-94730.959999999992]
[null,{"$f":"'Market Data'!B2256","v":20081104},{"$f":"'Market Data'!C2256","v":5361},{"$f":"'Market Data'!D2256","v":5643.5},{"$f":"'Market Data'!E2256","v":5321.5},{"$f":"'Market Data'!F2256","v":5611},null,2252,"Hidden","Long",null,1,0,"",null,1,"Stay Long",8627.5,-86103.459999999992]
[null,{"$f":"'Market Data'!B2257","v":20081105},{"$f":"'Market Data'!C2257","v":5648},{"$f":"'Market Data'!D2257","v":5652},{"$f":"'Market Data'!E2257","v":5374},{"$f":"'Market Data'!F2257","v":5393.5},null,2253,"Hidden","Long",null,1,0,"",null,1,"Stay Long",-7612.5,-93715.959999999992]
[null,{"$f":"'Market Data'!B2258","v":20081106},{"$f":"'Market Data'!C2258","v":5345},{"$f":"'Market Data'!D2258","v":5402},{"$f":"'Market Data'!E2258","v":5051},{"$f":"'Market Data'!F2258","v":5084.5},null,2254,"Hidden","Long",null,1,0,"",null,1,"Stay Long",-10815,-104530.95999999999]
[null,{"$f":"'Market Data'!B2259","v":20081107},{"$f":"'Market Data'!C2259","v":5112},{"$f":"'Market Data'!D2259","v":5345},{"$f":"'Market Data'!E2259","v":5071.5},{"$f":"'Market Data'!F2259","v":5288.5},null,2255,"Hidden","Long",null,1,0,"",null,1,"Stay Long",7140,-97390.959999999992]
[null,{"$f":"'Market Data'!B2260","v":20081110},{"$f":"'Market Data'!C2260","v":5397},{"$f":"'Market Data'!D2260","v":5457},{"$f":"'Market Data'!E2260","v":5219.5},{"$f":"'Market Data'!F2260","v":5228.5},null,2256,"Hidden","Long",null,1,0,"",null,1,"Stay Long",-2100,-99490.959999999992]
[null,{"$f":"'Market Data'!B2261","v":20081111},{"$f":"'Market Data'!C2261","v":5259.5},{"$f":"'Market Data'!D2261","v":5281},{"$f":"'Market Data'!E2261","v":5041},{"$f":"'Market Data'!F2261","v":5085.5},null,2257,"Hidden","Long",null,1,0,"",null,1,"Stay Long",-5005,-104495.95999999999]
[null,{"$f":"'Market Data'!B2262","v":20081112},{"$f":"'Market Data'!C2262","v":5188},{"$f":"'Market Data'!D2262","v":5202},{"$f":"'Market Data'!E2262","v":4870},{"$f":"'Market Data'!F2262","v":4970},null,2258,"Hidden","Long",null,1,0,"",null,1,"Stay Long",-4042.5,-108538.45999999999]
[null,{"$f":"'Market Data'!B2263","v":20081113},{"$f":"'Market Data'!C2263","v":4928},{"$f":"'Market Data'!D2263","v":5037.5},{"$f":"'Market Data'!E2263","v":4820.5},{"$f":"'Market Data'!F2263","v":4823},null,2259,"Hidden","Long",null,1,0,"",null,1,"Stay Long",-5145,-113683.45999999999]
[null,{"$f":"'Market Data'!B2264","v":20081114},{"$f":"'Market Data'!C2264","v":5149},{"$f":"'Market Data'!D2264","v":5198},{"$f":"'Market Data'!E2264","v":4966.5},{"$f":"'Market Data'!F2264","v":5038},null,2260,"Hidden","Long",null,1,0,"",null,1,"Stay Long",7525,-106158.45999999999]
[null,{"$f":"'Market Data'!B2265","v":20081117},{"$f":"'Market Data'!C2265","v":5000.5},{"$f":"'Market Data'!D2265","v":5055},{"$f":"'Market Data'!E2265","v":4833},{"$f":"'Market Data'!F2265","v":4967},null,2261,"Hidden","Long",null,1,0,"",null,1,"Stay Long",-2485,-108643.45999999999]
[null,{"$f":"'Market Data'!B2266","v":20081118},{"$f":"'Market Data'!C2266","v":4862},{"$f":"'Market Data'!D2266","v":4942.5},{"$f":"'Market Data'!E2266","v":4764},{"$f":"'Market Data'!F2266","v":4876},null,2262,"Hidden","Long",null,1,0,"",null,1,"Stay Long",-3185,-111828.45999999999]
[null,{"$f":"'Market Data'!B2267","v":20081119},{"$f":"'Market Data'!C2267","v":4932.5},{"$f":"'Market Data'!D2267","v":4946},{"$f":"'Market Data'!E2267","v":4650},{"$f":"'Market Data'!F2267","v":4686},null,2263,"Hidden","Long",null,1,0,"",null,1,"Stay Long",-6650,-118478.45999999999]
[null,{"$f":"'Market Data'!B2268","v":20081120},{"$f":"'Market Data'!C2268","v":4548},{"$f":"'Market Data'!D2268","v":4653.5},{"$f":"'Market Data'!E2268","v":4428.5},{"$f":"'Market Data'!F2268","v":4603},null,2264,"Hidden","Long",null,1,0,"",null,1,"Stay Long",-2905,-121383.45999999999]
[null,{"$f":"'Market Data'!B2269","v":20081121},{"$f":"'Market Data'!C2269","v":4497},{"$f":"'Market Data'!D2269","v":4615.5},{"$f":"'Market Data'!E2269","v":4350},{"$f":"'Market Data'!F2269","v":4435.5},null,2265,"Hidden","Long",null,1,0,"",null,1,"Stay Long",-5862.5,-127245.95999999999]
[null,{"$f":"'Market Data'!B2270","v":20081124},{"$f":"'Market Data'!C2270","v":4570},{"$f":"'Market Data'!D2270","v":4897.5},{"$f":"'Market Data'!E2270","v":4472.5},{"$f":"'Market Data'!F2270","v":4859.5},null,2266,"Hidden","Long",null,1,0,"",null,1,"Stay Long",14840,-112405.95999999999]
[null,{"$f":"'Market Data'!B2271","v":20081125},{"$f":"'Market Data'!C2271","v":4887},{"$f":"'Market Data'!D2271","v":5016},{"$f":"'Market Data'!E2271","v":4774},{"$f":"'Market Data'!F2271","v":4809.5},null,2267,"Hidden","Long",null,1,0,"",null,1,"Stay Long",-1750,-114155.95999999999]
[null,{"$f":"'Market Data'!B2272","v":20081126},{"$f":"'Market Data'!C2272","v":4842},{"$f":"'Market Data'!D2272","v":4934},{"$f":"'Market Data'!E2272","v":4735.5},{"$f":"'Market Data'!F2272","v":4897.5},null,2268,"Hidden","Long",null,1,0,"",null,1,"Stay Long",3080,-111075.95999999999]
[null,{"$f":"'Market Data'!B2273","v":20081127},{"$f":"'Market Data'!C2273","v":4941},{"$f":"'Market Data'!D2273","v":5001},{"$f":"'Market Data'!E2273","v":4903},{"$f":"'Market Data'!F2273","v":4973.5},null,2269,"Hidden","Long",null,1,0,"",null,1,"Stay Long",2660,-108415.95999999999]
[null,{"$f":"'Market Data'!B2274","v":20081128},{"$f":"'Market Data'!C2274","v":4978},{"$f":"'Market Data'!D2274","v":5023},{"$f":"'Market Data'!E2274","v":4880.5},{"$f":"'Market Data'!F2274","v":4990.5},null,2270,"Hidden","Long",null,1,0,"",null,1,"Stay Long",595,-107820.95999999999]
[null,{"$f":"'Market Data'!B2275","v":20081201},{"$f":"'Market Data'!C2275","v":4956},{"$f":"'Market Data'!D2275","v":4984.5},{"$f":"'Market Data'!E2275","v":4680.5},{"$f":"'Market Data'!F2275","v":4685.5},null,2271,"Hidden","Long",null,1,0,"",null,1,"Stay Long",-10675,-118495.95999999999]
[null,{"$f":"'Market Data'!B2276","v":20081202},{"$f":"'Market Data'!C2276","v":4656},{"$f":"'Market Data'!D2276","v":4890},{"$f":"'Market Data'!E2276","v":4616},{"$f":"'Market Data'!F2276","v":4864},null,2272,"Hidden","Long",null,1,0,"",null,1,"Stay Long",6247.5,-112248.45999999999]
[null,{"$f":"'Market Data'!B2277","v":20081203},{"$f":"'Market Data'!C2277","v":4826},{"$f":"'Market Data'!D2277","v":4932},{"$f":"'Market Data'!E2277","v":4689.5},{"$f":"'Market Data'!F2277","v":4889.5},null,2273,"Hidden","Long",null,1,0,"",null,1,"Stay Long",892.5,-111355.95999999999]
[null,{"$f":"'Market Data'!B2278","v":20081204},{"$f":"'Market Data'!C2278","v":4869.5},{"$f":"'Market Data'!D2278","v":5048},{"$f":"'Market Data'!E2278","v":4802},{"$f":"'Market Data'!F2278","v":4852},null,2274,"Hidden","Long",null,1,0,"",null,1,"Stay Long",-1312.5,-112668.45999999999]
[null,{"$f":"'Market Data'!B2279","v":20081205},{"$f":"'Market Data'!C2279","v":4808},{"$f":"'Market Data'!D2279","v":4843},{"$f":"'Market Data'!E2279","v":4633.5},{"$f":"'Market Data'!F2279","v":4704},null,2275,"Hidden","Long",null,1,0,"",null,1,"Stay Long",-5180,-117848.45999999999]
[null,{"$f":"'Market Data'!B2280","v":20081208},{"$f":"'Market Data'!C2280","v":4939},{"$f":"'Market Data'!D2280","v":5087.5},{"$f":"'Market Data'!E2280","v":4918.5},{"$f":"'Market Data'!F2280","v":5006.5},null,2276,"Hidden","Long",null,1,0,"",null,1,"Stay Long",10587.5,-107260.95999999999]
[null,{"$f":"'Market Data'!B2281","v":20081209},{"$f":"'Market Data'!C2281","v":4995},{"$f":"'Market Data'!D2281","v":5163.5},{"$f":"'Market Data'!E2281","v":4934},{"$f":"'Market Data'!F2281","v":5073},null,2277,"Hidden","Long",null,1,0,"",null,1,"Stay Long",2327.5,-104933.45999999999]
[null,{"$f":"'Market Data'!B2282","v":20081210},{"$f":"'Market Data'!C2282","v":5099.5},{"$f":"'Market Data'!D2282","v":5156},{"$f":"'Market Data'!E2282","v":5053.5},{"$f":"'Market Data'!F2282","v":5119},null,2278,"Hidden","Long",null,1,0,"",null,1,"Stay Long",1610,-103323.45999999999]
[null,{"$f":"'Market Data'!B2283","v":20081211},{"$f":"'Market Data'!C2283","v":5101},{"$f":"'Market Data'!D2283","v":5135},{"$f":"'Market Data'!E2283","v":5023},{"$f":"'Market Data'!F2283","v":5100.5},null,2279,"Hidden","Long",null,1,0,"",null,1,"Stay Long",-647.5,-103970.95999999999]
[null,{"$f":"'Market Data'!B2284","v":20081212},{"$f":"'Market Data'!C2284","v":4889},{"$f":"'Market Data'!D2284","v":5048},{"$f":"'Market Data'!E2284","v":4831},{"$f":"'Market Data'!F2284","v":5041},null,2280,"Hidden","Long",null,1,0,"",null,1,"Stay Long",-2082.5,-106053.45999999999]
[null,{"$f":"'Market Data'!B2285","v":20081215},{"$f":"'Market Data'!C2285","v":5082},{"$f":"'Market Data'!D2285","v":5107},{"$f":"'Market Data'!E2285","v":4936.5},{"$f":"'Market Data'!F2285","v":4981},null,2281,"Hidden","Long",null,1,0,"",null,1,"Stay Long",-2100,-108153.45999999999]
[null,{"$f":"'Market Data'!B2286","v":20081216},{"$f":"'Market Data'!C2286","v":4987.5},{"$f":"'Market Data'!D2286","v":5074.5},{"$f":"'Market Data'!E2286","v":4960.5},{"$f":"'Market Data'!F2286","v":5040},null,2282,"Hidden","Long",null,1,0,"",null,1,"Stay Long",2065,-106088.45999999999]
[null,{"$f":"'Market Data'!B2287","v":20081217},{"$f":"'Market Data'!C2287","v":5127},{"$f":"'Market Data'!D2287","v":5127},{"$f":"'Market Data'!E2287","v":4956},{"$f":"'Market Data'!F2287","v":5068},null,2283,"Hidden","Long",null,1,0,"",null,1,"Stay Long",980,-105108.45999999999]
[null,{"$f":"'Market Data'!B2288","v":20081218},{"$f":"'Market Data'!C2288","v":5050.5},{"$f":"'Market Data'!D2288","v":5103.5},{"$f":"'Market Data'!E2288","v":5027},{"$f":"'Market Data'!F2288","v":5086},null,2284,"Hidden","Long",null,1,0,"",null,1,"Stay Long",630,-104478.45999999999]
[null,{"$f":"'Market Data'!B2289","v":20081219},{"$f":"'Market Data'!C2289","v":5020},{"$f":"'Market Data'!D2289","v":5103.5},{"$f":"'Market Data'!E2289","v":4959},{"$f":"'Market Data'!F2289","v":4995},null,2285,"Hidden","Long",null,1,0,"",null,1,"Stay Long",-3185,-107663.45999999999]
[null,{"$f":"'Market Data'!B2290","v":20081222},{"$f":"'Market Data'!C2290","v":5001},{"$f":"'Market Data'!D2290","v":5014.5},{"$f":"'Market Data'!E2290","v":4885},{"$f":"'Market Data'!F2290","v":4946.5},null,2286,"Hidden","Long",null,1,0,"",null,1,"Stay Long",-1697.5,-109360.95999999999]
[null,{"$f":"'Market Data'!B2291","v":20081223},{"$f":"'Market Data'!C2291","v":4931},{"$f":"'Market Data'!D2291","v":5033.5},{"$f":"'Market Data'!E2291","v":4915},{"$f":"'Market Data'!F2291","v":4939},null,2287,"Hidden","Long",null,1,0,"",null,1,"Stay Long",-262.5,-109623.45999999999]
[null,{"$f":"'Market Data'!B2292","v":20081229},{"$f":"'Market Data'!C2292","v":4961},{"$f":"'Market Data'!D2292","v":5045},{"$f":"'Market Data'!E2292","v":4950},{"$f":"'Market Data'!F2292","v":5007},null,2288,"Hidden","Long",null,1,0,"",null,1,"Stay Long",2380,-107243.45999999999]
[null,{"$f":"'Market Data'!B2293","v":20081230},{"$f":"'Market Data'!C2293","v":5051},{"$f":"'Market Data'!D2293","v":5125.5},{"$f":"'Market Data'!E2293","v":5049},{"$f":"'Market Data'!F2293","v":5125.5},null,2289,"Hidden","Long",null,1,0,"",null,1,"Stay Long",4147.5,-103095.95999999999]
[null,{"$f":"'Market Data'!B2294","v":20090102},{"$f":"'Market Data'!C2294","v":5176},{"$f":"'Market Data'!D2294","v":5307},{"$f":"'Market Data'!E2294","v":5154},{"$f":"'Market Data'!F2294","v":5294},null,2290,"Hidden","Long",null,1,0,"",null,1,"Stay Long",5897.5,-97198.459999999992]
[null,{"$f":"'Market Data'!B2295","v":20090105},{"$f":"'Market Data'!C2295","v":5323},{"$f":"'Market Data'!D2295","v":5348},{"$f":"'Market Data'!E2295","v":5257.5},{"$f":"'Market Data'!F2295","v":5304.5},null,2291,"Hidden","Long",null,1,0,"",null,1,"Stay Long",367.5,-96830.959999999992]
[null,{"$f":"'Market Data'!B2296","v":20090106},{"$f":"'Market Data'!C2296","v":5313},{"$f":"'Market Data'!D2296","v":5429.5},{"$f":"'Market Data'!E2296","v":5269.5},{"$f":"'Market Data'!F2296","v":5350},null,2292,"Hidden","Long",null,1,0,"",null,1,"Stay Long",1592.5,-95238.459999999992]
[null,{"$f":"'Market Data'!B2297","v":20090107},{"$f":"'Market Data'!C2297","v":5316},{"$f":"'Market Data'!D2297","v":5325.5},{"$f":"'Market Data'!E2297","v":5224.5},{"$f":"'Market Data'!F2297","v":5243},null,2293,"Hidden","Long",null,1,0,"",null,1,"Stay Long",-3745,-98983.459999999992]
[null,{"$f":"'Market Data'!B2298","v":20090108},{"$f":"'Market Data'!C2298","v":5206},{"$f":"'Market Data'!D2298","v":5226.5},{"$f":"'Market Data'!E2298","v":5128.5},{"$f":"'Market Data'!F2298","v":5201.5},null,2294,"Hidden","Long",null,1,0,"",null,1,"Stay Long",-1452.5,-100435.95999999999]
[null,{"$f":"'Market Data'!B2299","v":20090109},{"$f":"'Market Data'!C2299","v":5209},{"$f":"'Market Data'!D2299","v":5244.5},{"$f":"'Market Data'!E2299","v":5049.5},{"$f":"'Market Data'!F2299","v":5087},null,2295,"Hidden","Long",null,1,0,"",null,1,"Stay Long",-4007.5,-104443.45999999999]
[null,{"$f":"'Market Data'!B2300","v":20090112},{"$f":"'Market Data'!C2300","v":5056},{"$f":"'Market Data'!D2300","v":5100},{"$f":"'Market Data'!E2300","v":5001},{"$f":"'Market Data'!F2300","v":5010},null,2296,"Hidden","Long",null,1,0,"",null,1,"Stay Long",-2695,-107138.45999999999]
[null,{"$f":"'Market Data'!B2301","v":20090113},{"$f":"'Market Data'!C2301","v":4989},{"$f":"'Market Data'!D2301","v":4989},{"$f":"'Market Data'!E2301","v":4902},{"$f":"'Market Data'!F2301","v":4939.5},null,2297,"Hidden","Long",null,1,0,"",null,1,"Stay Long",-2467.5,-109605.95999999999]
[null,{"$f":"'Market Data'!B2302","v":20090114},{"$f":"'Market Data'!C2302","v":4982},{"$f":"'Market Data'!D2302","v":4986},{"$f":"'Market Data'!E2302","v":4683.5},{"$f":"'Market Data'!F2302","v":4727.5},null,2298,"Hidden","Long",null,1,0,"",null,1,"Stay Long",-7420,-117025.95999999999]
[null,{"$f":"'Market Data'!B2303","v":20090115},{"$f":"'Market Data'!C2303","v":4676},{"$f":"'Market Data'!D2303","v":4758},{"$f":"'Market Data'!E2303","v":4595},{"$f":"'Market Data'!F2303","v":4618.5},null,2299,"Hidden","Long",null,1,0,"",null,1,"Stay Long",-3815,-120840.95999999999]
[null,{"$f":"'Market Data'!B2304","v":20090116},{"$f":"'Market Data'!C2304","v":4718},{"$f":"'Market Data'!D2304","v":4779},{"$f":"'Market Data'!E2304","v":4602},{"$f":"'Market Data'!F2304","v":4635},null,2300,"Hidden","Long",null,1,0,"",null,1,"Stay Long",577.5,-120263.45999999999]
[null,{"$f":"'Market Data'!B2305","v":20090119},{"$f":"'Market Data'!C2305","v":4720.5},{"$f":"'Market Data'!D2305","v":4757},{"$f":"'Market Data'!E2305","v":4550},{"$f":"'Market Data'!F2305","v":4605},null,2301,"Hidden","Long",null,1,0,"",null,1,"Stay Long",-1050,-121313.45999999999]
[null,{"$f":"'Market Data'!B2306","v":20090120},{"$f":"'Market Data'!C2306","v":4621},{"$f":"'Market Data'!D2306","v":4684.5},{"$f":"'Market Data'!E2306","v":4519},{"$f":"'Market Data'!F2306","v":4542},null,2302,"Hidden","Long",null,1,0,"",null,1,"Stay Long",-2205,-123518.45999999999]
[null,{"$f":"'Market Data'!B2307","v":20090121},{"$f":"'Market Data'!C2307","v":4524.5},{"$f":"'Market Data'!D2307","v":4616},{"$f":"'Market Data'!E2307","v":4439.5},{"$f":"'Market Data'!F2307","v":4583},null,2303,"Hidden","Long",null,1,{"$f":"$L2320-P2320","v":0},"",null,1,"Stay Long",1435,-122083.45999999999]
[null,{"$f":"'Market Data'!B2308","v":20090122},{"$f":"'Market Data'!C2308","v":4641},{"$f":"'Market Data'!D2308","v":4668.5},{"$f":"'Market Data'!E2308","v":4485.5},{"$f":"'Market Data'!F2308","v":4518},null,2304,"Hidden","Long",null,1,0,"",null,{"$f":"IF($N2320=\"Fill\",$L2320,$P2320)","v":1},"Stay Long",{"$f":"IF(OR($P2320&$L2320=\"01\",$P2320&$L2320=\"0-1\"),(($F2321-$C2321)*$R$3*$L2320)-(ABS($M2320)*$R$4),IF(OR($P2320&$L2320=\"10\",$P2320&$L2320=\"-10\"),(($C2321-$F2320)*$R$3*$P2320)-(ABS($M2320)*$R$4),IF(OR($P2320&$L2320=\"1-1\",$P2320&$L2320=\"-11\"),(($C2321-$F2320)*$R$3*$P2320)-(ABS($M2320)*$R$4)+(($F2321-$C2321)*$R$3*$P2321),IF(OR($P2320&$L2320=\"11\",$P2320&$L2320=\"-1-1\"),(($F2321-$F2320)*$R$3*$P2321),0))))","v":-2275},-124358.45999999999]
[null,{"$f":"'Market Data'!B2309","v":20090123},{"$f":"'Market Data'!C2309","v":4526},{"$f":"'Market Data'!D2309","v":4527.5},{"$f":"'Market Data'!E2309","v":4366},{"$f":"'Market Data'!F2309","v":4476},null,{"$f":"ROW()-ROW(H$17)","v":2305},"Hidden",{"$f":"$I$4","v":"Long"},null,1,0,{"$f":"IF(NOT($M2322=0),\"Fill\",\"\")","v":""},null,1,{"$f":"IF($P2321&$L2321=\"00\",\"Stay Flat\",IF($P2321&$L2321=\"01\",\"Go Long\",IF($P2321&$L2321=\"0-1\",\"Go Short\",IF($P2321&$L2321=\"-10\",\"Exit Short\",IF($P2321&$L2321=\"-1-1\",\"Stay Short\",IF($P2321&$L2321=\"-11\",\"Exit Short, Go Long\",IF($P2321&$L2321=\"10\",\"Exit Long\",IF($P2321&$L2321=\"1-1\",\"Exit Long, Go Short\",IF($P2321&$L2321=\"11\",\"Stay Long\",\"\")))))))))","v":"Stay Long"},-1470,{"$f":"S2321+R2322","v":-125828.45999999999}]
[null,{"$f":"'Market Data'!B2310","v":20090126},{"$f":"'Market Data'!C2310","v":4435.5},{"$f":"'Market Data'!D2310","v":4674},{"$f":"'Market Data'!E2310","v":4432.5},{"$f":"'Market Data'!F2310","v":4617},null,2306,"Hidden","Long",null,{"$f":"IF($J2323=\"Short\",-1,IF($J2323=\"Long\",1,0))","v":1},0,"",null,1,"Stay Long",4935,-120893.45999999999]
[null,{"$f":"'Market Data'!B2311","v":20090127},{"$f":"'Market Data'!C2311","v":4620.5},{"$f":"'Market Data'!D2311","v":4664},{"$f":"'Market Data'!E2311","v":4562.5},{"$f":"'Market Data'!F2311","v":4637},null,2307,"Hidden","Long",null,1,0,"",null,1,"Stay Long",700,-120193.45999999999]
[null,{"$f":"'Market Data'!B2312","v":20090128},{"$f":"'Market Data'!C2312","v":4673.5},{"$f":"'Market Data'!D2312","v":4833.5},{"$f":"'Market Data'!E2312","v":4671},{"$f":"'Market Data'!F2312","v":4811},null,2308,"Hidden","Long",null,1,0,"",null,1,"Stay Long",6090,-114103.45999999999]
[null,{"$f":"'Market Data'!B2313","v":20090129},{"$f":"'Market Data'!C2313","v":4821},{"$f":"'Market Data'!D2313","v":4827.5},{"$f":"'Market Data'!E2313","v":4682.5},{"$f":"'Market Data'!F2313","v":4685},null,2309,"Hidden","Long",null,1,0,"",null,1,"Stay Long",-4410,-118513.45999999999]
[null,{"$f":"'Market Data'!B2314","v":20090130},{"$f":"'Market Data'!C2314","v":4716.5},{"$f":"'Market Data'!D2314","v":4752},{"$f":"'Market Data'!E2314","v":4608},{"$f":"'Market Data'!F2314","v":4667.5},null,2310,"Hidden","Long",null,1,0,"",null,1,"Stay Long",-612.5,-119125.95999999999]
[null,{"$f":"'Market Data'!B2315","v":20090202},{"$f":"'Market Data'!C2315","v":4605.5},{"$f":"'Market Data'!D2315","v":4606},{"$f":"'Market Data'!E2315","v":4493.5},{"$f":"'Market Data'!F2315","v":4595.5},null,2311,"Hidden","Long",null,1,0,"",null,1,"Stay Long",-2520,-121645.95999999999]
[null,{"$f":"'Market Data'!B2316","v":20090203},{"$f":"'Market Data'!C2316","v":4567},{"$f":"'Market Data'!D2316","v":4685.5},{"$f":"'Market Data'!E2316","v":4517.5},{"$f":"'Market Data'!F2316","v":4654},null,2312,"Hidden","Long",null,1,0,"",null,1,"Stay Long",2047.5,-119598.45999999999]
[null,{"$f":"'Market Data'!B2317","v":20090204},{"$f":"'Market Data'!C2317","v":4692.5},{"$f":"'Market Data'!D2317","v":4845},{"$f":"'Market Data'!E2317","v":4670},{"$f":"'Market Data'!F2317","v":4770},null,2313,"Hidden","Long",null,1,0,"",null,1,"Stay Long",4060,-115538.45999999999]
[null,{"$f":"'Market Data'!B2318","v":20090205},{"$f":"'Market Data'!C2318","v":4716},{"$f":"'Market Data'!D2318","v":4863},{"$f":"'Market Data'!E2318","v":4682.5},{"$f":"'Market Data'!F2318","v":4845},null,2314,"Hidden","Long",null,1,0,"",null,1,"Stay Long",2625,-112913.45999999999]
[null,{"$f":"'Market Data'!B2319","v":20090206},{"$f":"'Market Data'!C2319","v":4813.5},{"$f":"'Market Data'!D2319","v":4953},{"$f":"'Market Data'!E2319","v":4801},{"$f":"'Market Data'!F2319","v":4948},null,2315,"Hidden","Long",null,1,0,"",null,1,"Stay Long",3605,-109308.45999999999]
[null,{"$f":"'Market Data'!B2320","v":20090209},{"$f":"'Market Data'!C2320","v":4910.5},{"$f":"'Market Data'!D2320","v":4985},{"$f":"'Market Data'!E2320","v":4892},{"$f":"'Market Data'!F2320","v":4970},null,2316,"Hidden","Long",null,1,0,"",null,1,"Stay Long",770,-108538.45999999999]
[null,{"$f":"'Market Data'!B2321","v":20090210},{"$f":"'Market Data'!C2321","v":4917},{"$f":"'Market Data'!D2321","v":4944.5},{"$f":"'Market Data'!E2321","v":4765.5},{"$f":"'Market Data'!F2321","v":4785},null,2317,"Hidden","Long",null,1,0,"",null,1,"Stay Long",-6475,-115013.45999999999]
[null,{"$f":"'Market Data'!B2322","v":20090211},{"$f":"'Market Data'!C2322","v":4781},{"$f":"'Market Data'!D2322","v":4839},{"$f":"'Market Data'!E2322","v":4760},{"$f":"'Market Data'!F2322","v":4812},null,2318,"Hidden","Long",null,1,0,"",null,1,"Stay Long",945,-114068.45999999999]
[null,{"$f":"'Market Data'!B2323","v":20090212},{"$f":"'Market Data'!C2323","v":4798},{"$f":"'Market Data'!D2323","v":4817},{"$f":"'Market Data'!E2323","v":4665},{"$f":"'Market Data'!F2323","v":4709.5},null,2319,"Hidden","Long",null,1,0,"",null,1,"Stay Long",-3587.5,-117655.95999999999]
[null,{"$f":"'Market Data'!B2324","v":20090213},{"$f":"'Market Data'!C2324","v":4768},{"$f":"'Market Data'!D2324","v":4804.5},{"$f":"'Market Data'!E2324","v":4681.5},{"$f":"'Market Data'!F2324","v":4688.5},null,2320,"Hidden","Long",null,1,0,"",null,1,"Stay Long",-735,-118390.95999999999]
[null,{"$f":"'Market Data'!B2325","v":20090216},{"$f":"'Market Data'!C2325","v":4662},{"$f":"'Market Data'!D2325","v":4718},{"$f":"'Market Data'!E2325","v":4644},{"$f":"'Market Data'!F2325","v":4654.5},null,2321,"Hidden","Long",null,1,0,"",null,1,"Stay Long",-1190,-119580.95999999999]
[null,{"$f":"'Market Data'!B2326","v":20090217},{"$f":"'Market Data'!C2326","v":4630.5},{"$f":"'Market Data'!D2326","v":4636.5},{"$f":"'Market Data'!E2326","v":4489.5},{"$f":"'Market Data'!F2326","v":4513},null,2322,"Hidden","Long",null,1,0,"",null,1,"Stay Long",-4952.5,-124533.45999999999]
[null,{"$f":"'Market Data'!B2327","v":20090218},{"$f":"'Market Data'!C2327","v":4513},{"$f":"'Market Data'!D2327","v":4546.5},{"$f":"'Market Data'!E2327","v":4416.5},{"$f":"'Market Data'!F2327","v":4510},null,2323,"Hidden","Long",null,1,0,"",null,1,"Stay Long",-105,-124638.45999999999]
[null,{"$f":"'Market Data'!B2328","v":20090219},{"$f":"'Market Data'!C2328","v":4491},{"$f":"'Market Data'!D2328","v":4570},{"$f":"'Market Data'!E2328","v":4457.5},{"$f":"'Market Data'!F2328","v":4479.5},null,2324,"Hidden","Long",null,1,0,"",null,1,"Stay Long",-1067.5,-125705.95999999999]
[null,{"$f":"'Market Data'!B2329","v":20090220},{"$f":"'Market Data'!C2329","v":4413.5},{"$f":"'Market Data'!D2329","v":4434},{"$f":"'Market Data'!E2329","v":4279},{"$f":"'Market Data'!F2329","v":4300},null,2325,"Hidden","Long",null,1,0,"",null,1,"Stay Long",-6282.5,-131988.46]
[null,{"$f":"'Market Data'!B2330","v":20090223},{"$f":"'Market Data'!C2330","v":4345},{"$f":"'Market Data'!D2330","v":4407.5},{"$f":"'Market Data'!E2330","v":4176},{"$f":"'Market Data'!F2330","v":4177},null,2326,"Hidden","Long",null,1,0,"",null,1,"Stay Long",-4305,-136293.46]
[null,{"$f":"'Market Data'!B2331","v":20090224},{"$f":"'Market Data'!C2331","v":4194},{"$f":"'Market Data'!D2331","v":4226.5},{"$f":"'Market Data'!E2331","v":4108.5},{"$f":"'Market Data'!F2331","v":4192.5},null,2327,"Hidden","Long",null,1,0,"",null,1,"Stay Long",542.5,-135750.96]
[null,{"$f":"'Market Data'!B2332","v":20090225},{"$f":"'Market Data'!C2332","v":4220},{"$f":"'Market Data'!D2332","v":4271},{"$f":"'Market Data'!E2332","v":4081.5},{"$f":"'Market Data'!F2332","v":4122},null,2328,"Hidden","Long",null,1,0,"",null,1,"Stay Long",-2467.5,-138218.46]
[null,{"$f":"'Market Data'!B2333","v":20090226},{"$f":"'Market Data'!C2333","v":4161.5},{"$f":"'Market Data'!D2333","v":4283.5},{"$f":"'Market Data'!E2333","v":4142},{"$f":"'Market Data'!F2333","v":4206.5},null,2329,"Hidden","Long",null,1,0,"",null,1,"Stay Long",2957.5,-135260.96]
[null,{"$f":"'Market Data'!B2334","v":20090227},{"$f":"'Market Data'!C2334","v":4164.5},{"$f":"'Market Data'!D2334","v":4195.5},{"$f":"'Market Data'!E2334","v":4052.5},{"$f":"'Market Data'!F2334","v":4163.5},null,2330,"Hidden","Long",null,1,0,"",null,1,"Stay Long",-1505,-136765.96]
[null,{"$f":"'Market Data'!B2335","v":20090302},{"$f":"'Market Data'!C2335","v":4064.5},{"$f":"'Market Data'!D2335","v":4077.5},{"$f":"'Market Data'!E2335","v":3970.5},{"$f":"'Market Data'!F2335","v":3978},null,2331,"Hidden","Long",null,1,0,"",null,1,"Stay Long",-6492.5,-143258.46]
[null,{"$f":"'Market Data'!B2336","v":20090303},{"$f":"'Market Data'!C2336","v":4025},{"$f":"'Market Data'!D2336","v":4050},{"$f":"'Market Data'!E2336","v":3960},{"$f":"'Market Data'!F2336","v":3997.5},null,2332,"Hidden","Long",null,1,0,"",null,1,"Stay Long",682.5,-142575.96]
[null,{"$f":"'Market Data'!B2337","v":20090304},{"$f":"'Market Data'!C2337","v":4021},{"$f":"'Market Data'!D2337","v":4194},{"$f":"'Market Data'!E2337","v":4016},{"$f":"'Market Data'!F2337","v":4163.5},null,2333,"Hidden","Long",null,1,0,"",null,1,"Stay Long",5810,-136765.96]
[null,{"$f":"'Market Data'!B2338","v":20090305},{"$f":"'Market Data'!C2338","v":4124},{"$f":"'Market Data'!D2338","v":4154.5},{"$f":"'Market Data'!E2338","v":3959.5},{"$f":"'Market Data'!F2338","v":3982},null,2334,"Hidden","Long",null,1,0,"",null,1,"Stay Long",-6352.5,-143118.46]
[null,{"$f":"'Market Data'!B2339","v":20090306},{"$f":"'Market Data'!C2339","v":4004.5},{"$f":"'Market Data'!D2339","v":4063},{"$f":"'Market Data'!E2339","v":3927},{"$f":"'Market Data'!F2339","v":3945},null,2335,"Hidden","Long",null,1,0,"",null,1,"Stay Long",-1295,-144413.46]
[null,{"$f":"'Market Data'!B2340","v":20090309},{"$f":"'Market Data'!C2340","v":3965},{"$f":"'Market Data'!D2340","v":4000},{"$f":"'Market Data'!E2340","v":3879.5},{"$f":"'Market Data'!F2340","v":3957},null,2336,"Hidden","Long",null,1,0,"",null,1,"Stay Long",420,-143993.46]
[null,{"$f":"'Market Data'!B2341","v":20090310},{"$f":"'Market Data'!C2341","v":3972.5},{"$f":"'Market Data'!D2341","v":4199},{"$f":"'Market Data'!E2341","v":3958},{"$f":"'Market Data'!F2341","v":4161},null,2337,"Hidden","Long",null,1,0,"",null,1,"Stay Long",7140,-136853.46]
[null,{"$f":"'Market Data'!B2342","v":20090311},{"$f":"'Market Data'!C2342","v":4156.5},{"$f":"'Market Data'!D2342","v":4286},{"$f":"'Market Data'!E2342","v":4119},{"$f":"'Market Data'!F2342","v":4203.5},null,2338,"Hidden","Long",null,1,0,"",null,1,"Stay Long",1487.5,-135365.96]
[null,{"$f":"'Market Data'!B2343","v":20090312},{"$f":"'Market Data'!C2343","v":4165.5},{"$f":"'Market Data'!D2343","v":4273.5},{"$f":"'Market Data'!E2343","v":4092},{"$f":"'Market Data'!F2343","v":4264},null,2339,"Hidden","Long",null,1,0,"",null,1,"Stay Long",2117.5,-133248.46]
[null,{"$f":"'Market Data'!B2344","v":20090313},{"$f":"'Market Data'!C2344","v":4299.5},{"$f":"'Market Data'!D2344","v":4345},{"$f":"'Market Data'!E2344","v":4227.5},{"$f":"'Market Data'!F2344","v":4274.5},null,2340,"Hidden","Long",null,1,0,"",null,1,"Stay Long",367.5,-132880.95999999999]
[null,{"$f":"'Market Data'!B2345","v":20090316},{"$f":"'Market Data'!C2345","v":4296},{"$f":"'Market Data'!D2345","v":4364},{"$f":"'Market Data'!E2345","v":4273.5},{"$f":"'Market Data'!F2345","v":4342},null,2341,"Hidden","Long",null,1,0,"",null,1,"Stay Long",2362.5,-130518.45999999999]
[null,{"$f":"'Market Data'!B2346","v":20090317},{"$f":"'Market Data'!C2346","v":4329.5},{"$f":"'Market Data'!D2346","v":4338},{"$f":"'Market Data'!E2346","v":4238},{"$f":"'Market Data'!F2346","v":4288.5},null,2342,"Hidden","Long",null,1,0,"",null,1,"Stay Long",-1872.5,-132390.96]
[null,{"$f":"'Market Data'!B2347","v":20090318},{"$f":"'Market Data'!C2347","v":4340},{"$f":"'Market Data'!D2347","v":4359},{"$f":"'Market Data'!E2347","v":4238},{"$f":"'Market Data'!F2347","v":4293},null,2343,"Hidden","Long",null,1,0,"",null,1,"Stay Long",157.5,-132233.46]
[null,{"$f":"'Market Data'!B2348","v":20090319},{"$f":"'Market Data'!C2348","v":4331.5},{"$f":"'Market Data'!D2348","v":4428},{"$f":"'Market Data'!E2348","v":4294},{"$f":"'Market Data'!F2348","v":4340},null,2344,"Hidden","Long",null,1,0,"",null,1,"Stay Long",1645,-130588.45999999999]
[null,{"$f":"'Market Data'!B2349","v":20090320},{"$f":"'Market Data'!C2349","v":4302.5},{"$f":"'Market Data'!D2349","v":4380},{"$f":"'Market Data'!E2349","v":4287.5},{"$f":"'Market Data'!F2349","v":4302},null,2345,"Hidden","Long",null,1,0,"",null,1,"Stay Long",-1330,-131918.46]
[null,{"$f":"'Market Data'!B2350","v":20090323},{"$f":"'Market Data'!C2350","v":4402.5},{"$f":"'Market Data'!D2350","v":4480.5},{"$f":"'Market Data'!E2350","v":4392},{"$f":"'Market Data'!F2350","v":4455.5},null,2346,"Hidden","Long",null,1,0,"",null,1,"Stay Long",5372.5,-126545.95999999999]
[null,{"$f":"'Market Data'!B2351","v":20090324},{"$f":"'Market Data'!C2351","v":4523.5},{"$f":"'Market Data'!D2351","v":4545.5},{"$f":"'Market Data'!E2351","v":4445.5},{"$f":"'Market Data'!F2351","v":4498},null,2347,"Hidden","Long",null,1,0,"",null,1,"Stay Long",1487.5,-125058.45999999999]
[null,{"$f":"'Market Data'!B2352","v":20090325},{"$f":"'Market Data'!C2352","v":4475.5},{"$f":"'Market Data'!D2352","v":4561.5},{"$f":"'Market Data'!E2352","v":4435},{"$f":"'Market Data'!F2352","v":4486},null,2348,"Hidden","Long",null,1,0,"",null,1,"Stay Long",-420,-125478.45999999999]
[null,{"$f":"'Market Data'!B2353","v":20090326},{"$f":"'Market Data'!C2353","v":4537.5},{"$f":"'Market Data'!D2353","v":4593},{"$f":"'Market Data'!E2353","v":4510},{"$f":"'Market Data'!F2353","v":4573.5},null,2349,"Hidden","Long",null,1,0,"",null,1,"Stay Long",3062.5,-122415.95999999999]
[null,{"$f":"'Market Data'!B2354","v":20090327},{"$f":"'Market Data'!C2354","v":4551.5},{"$f":"'Market Data'!D2354","v":4567.5},{"$f":"'Market Data'!E2354","v":4450},{"$f":"'Market Data'!F2354","v":4477.5},null,2350,"Hidden","Long",null,1,0,"",null,1,"Stay Long",-3360,-125775.95999999999]
[null,{"$f":"'Market Data'!B2355","v":20090330},{"$f":"'Market Data'!C2355","v":4452.5},{"$f":"'Market Data'!D2355","v":4452.5},{"$f":"'Market Data'!E2355","v":4264.5},{"$f":"'Market Data'!F2355","v":4283.5},null,2351,"Hidden","Long",null,1,0,"",null,1,"Stay Long",-6790,-132565.96]
[null,{"$f":"'Market Data'!B2356","v":20090331},{"$f":"'Market Data'!C2356","v":4284},{"$f":"'Market Data'!D2356","v":4389},{"$f":"'Market Data'!E2356","v":4284},{"$f":"'Market Data'!F2356","v":4379.5},null,2352,"Hidden","Long",null,1,0,"",null,1,"Stay Long",3360,-129205.95999999999]
[null,{"$f":"'Market Data'!B2357","v":20090401},{"$f":"'Market Data'!C2357","v":4341.5},{"$f":"'Market Data'!D2357","v":4460.5},{"$f":"'Market Data'!E2357","v":4288.5},{"$f":"'Market Data'!F2357","v":4428},null,2353,"Hidden","Long",null,1,0,"",null,1,"Stay Long",1697.5,-127508.45999999999]
[null,{"$f":"'Market Data'!B2358","v":20090402},{"$f":"'Market Data'!C2358","v":4519.5},{"$f":"'Market Data'!D2358","v":4696},{"$f":"'Market Data'!E2358","v":4507.5},{"$f":"'Market Data'!F2358","v":4673.5},null,2354,"Hidden","Long",null,1,0,"",null,1,"Stay Long",8592.5,-118915.95999999999]
[null,{"$f":"'Market Data'!B2359","v":20090403},{"$f":"'Market Data'!C2359","v":4659},{"$f":"'Market Data'!D2359","v":4752.5},{"$f":"'Market Data'!E2359","v":4626},{"$f":"'Market Data'!F2359","v":4701},null,2355,"Hidden","Long",null,1,0,"",null,1,"Stay Long",962.5,-117953.45999999999]
[null,{"$f":"'Market Data'!B2360","v":20090406},{"$f":"'Market Data'!C2360","v":4741},{"$f":"'Market Data'!D2360","v":4754},{"$f":"'Market Data'!E2360","v":4596.5},{"$f":"'Market Data'!F2360","v":4630.5},null,2356,"Hidden","Long",null,1,0,"",null,1,"Stay Long",-2467.5,-120420.95999999999]
[null,{"$f":"'Market Data'!B2361","v":20090407},{"$f":"'Market Data'!C2361","v":4674.5},{"$f":"'Market Data'!D2361","v":4680.5},{"$f":"'Market Data'!E2361","v":4567},{"$f":"'Market Data'!F2361","v":4603},null,2357,"Hidden","Long",null,1,0,"",null,1,"Stay Long",-962.5,-121383.45999999999]
[null,{"$f":"'Market Data'!B2362","v":20090408},{"$f":"'Market Data'!C2362","v":4542.5},{"$f":"'Market Data'!D2362","v":4682},{"$f":"'Market Data'!E2362","v":4514.5},{"$f":"'Market Data'!F2362","v":4676},null,2358,"Hidden","Long",null,1,0,"",null,1,"Stay Long",2555,-118828.45999999999]
[null,{"$f":"'Market Data'!B2363","v":20090409},{"$f":"'Market Data'!C2363","v":4699.5},{"$f":"'Market Data'!D2363","v":4802.5},{"$f":"'Market Data'!E2363","v":4668.5},{"$f":"'Market Data'!F2363","v":4783},null,2359,"Hidden","Long",null,1,0,"",null,1,"Stay Long",3745,-115083.45999999999]
[null,{"$f":"'Market Data'!B2364","v":20090414},{"$f":"'Market Data'!C2364","v":4768.5},{"$f":"'Market Data'!D2364","v":4875.5},{"$f":"'Market Data'!E2364","v":4753.5},{"$f":"'Market Data'!F2364","v":4813.5},null,2360,"Hidden","Long",null,1,0,"",null,1,"Stay Long",1067.5,-114015.95999999999]
[null,{"$f":"'Market Data'!B2365","v":20090415},{"$f":"'Market Data'!C2365","v":4790.5},{"$f":"'Market Data'!D2365","v":4868.5},{"$f":"'Market Data'!E2365","v":4777.5},{"$f":"'Market Data'!F2365","v":4867},null,2361,"Hidden","Long",null,1,0,"",null,1,"Stay Long",1872.5,-112143.45999999999]
[null,{"$f":"'Market Data'!B2366","v":20090416},{"$f":"'Market Data'!C2366","v":4863.5},{"$f":"'Market Data'!D2366","v":4935},{"$f":"'Market Data'!E2366","v":4821},{"$f":"'Market Data'!F2366","v":4904},null,2362,"Hidden","Long",null,1,0,"",null,1,"Stay Long",1295,-110848.45999999999]
[null,{"$f":"'Market Data'!B2367","v":20090417},{"$f":"'Market Data'!C2367","v":4902.5},{"$f":"'Market Data'!D2367","v":4979.5},{"$f":"'Market Data'!E2367","v":4880.5},{"$f":"'Market Data'!F2367","v":4964},null,2363,"Hidden","Long",null,1,0,"",null,1,"Stay Long",2100,-108748.45999999999]
[null,{"$f":"'Market Data'!B2368","v":20090420},{"$f":"'Market Data'!C2368","v":4949.5},{"$f":"'Market Data'!D2368","v":4956.5},{"$f":"'Market Data'!E2368","v":4759.5},{"$f":"'Market Data'!F2368","v":4787},null,2364,"Hidden","Long",null,1,0,"",null,1,"Stay Long",-6195,-114943.45999999999]
[null,{"$f":"'Market Data'!B2369","v":20090421},{"$f":"'Market Data'!C2369","v":4795.5},{"$f":"'Market Data'!D2369","v":4834.5},{"$f":"'Market Data'!E2369","v":4681.5},{"$f":"'Market Data'!F2369","v":4823},null,2365,"Hidden","Long",null,1,0,"",null,1,"Stay Long",1260,-113683.45999999999]
[null,{"$f":"'Market Data'!B2370","v":20090422},{"$f":"'Market Data'!C2370","v":4809.5},{"$f":"'Market Data'!D2370","v":4903},{"$f":"'Market Data'!E2370","v":4746.5},{"$f":"'Market Data'!F2370","v":4869},null,2366,"Hidden","Long",null,1,0,"",null,1,"Stay Long",1610,-112073.45999999999]
[null,{"$f":"'Market Data'!B2371","v":20090423},{"$f":"'Market Data'!C2371","v":4851.5},{"$f":"'Market Data'!D2371","v":4899},{"$f":"'Market Data'!E2371","v":4811},{"$f":"'Market Data'!F2371","v":4839},null,2367,"Hidden","Long",null,1,{"$f":"$L2384-P2384","v":0},"",null,1,"Stay Long",-1050,-113123.45999999999]
[null,{"$f":"'Market Data'!B2372","v":20090424},{"$f":"'Market Data'!C2372","v":4850.5},{"$f":"'Market Data'!D2372","v":4971},{"$f":"'Market Data'!E2372","v":4838.5},{"$f":"'Market Data'!F2372","v":4962.5},null,2368,"Hidden","Long",null,1,0,"",null,{"$f":"IF($N2384=\"Fill\",$L2384,$P2384)","v":1},"Stay Long",{"$f":"IF(OR($P2384&$L2384=\"01\",$P2384&$L2384=\"0-1\"),(($F2385-$C2385)*$R$3*$L2384)-(ABS($M2384)*$R$4),IF(OR($P2384&$L2384=\"10\",$P2384&$L2384=\"-10\"),(($C2385-$F2384)*$R$3*$P2384)-(ABS($M2384)*$R$4),IF(OR($P2384&$L2384=\"1-1\",$P2384&$L2384=\"-11\"),(($C2385-$F2384)*$R$3*$P2384)-(ABS($M2384)*$R$4)+(($F2385-$C2385)*$R$3*$P2385),IF(OR($P2384&$L2384=\"11\",$P2384&$L2384=\"-1-1\"),(($F2385-$F2384)*$R$3*$P2385),0))))","v":4322.5},-108800.95999999999]
[null,{"$f":"'Market Data'!B2373","v":20090427},{"$f":"'Market Data'!C2373","v":4920},{"$f":"'Market Data'!D2373","v":5006},{"$f":"'Market Data'!E2373","v":4861},{"$f":"'Market Data'!F2373","v":4979.5},null,{"$f":"ROW()-ROW(H$17)","v":2369},"Hidden",{"$f":"$I$4","v":"Long"},null,1,0,{"$f":"IF(NOT($M2386=0),\"Fill\",\"\")","v":""},null,1,{"$f":"IF($P2385&$L2385=\"00\",\"Stay Flat\",IF($P2385&$L2385=\"01\",\"Go Long\",IF($P2385&$L2385=\"0-1\",\"Go Short\",IF($P2385&$L2385=\"-10\",\"Exit Short\",IF($P2385&$L2385=\"-1-1\",\"Stay Short\",IF($P2385&$L2385=\"-11\",\"Exit Short, Go Long\",IF($P2385&$L2385=\"10\",\"Exit Long\",IF($P2385&$L2385=\"1-1\",\"Exit Long, Go Short\",IF($P2385&$L2385=\"11\",\"Stay Long\",\"\")))))))))","v":"Stay Long"},595,{"$f":"S2385+R2386","v":-108205.95999999999}]
[null,{"$f":"'Market Data'!B2374","v":20090428},{"$f":"'Market Data'!C2374","v":4924.5},{"$f":"'Market Data'!D2374","v":4937.5},{"$f":"'Market Data'!E2374","v":4838},{"$f":"'Market Data'!F2374","v":4910.5},null,2370,"Hidden","Long",null,{"$f":"IF($J2387=\"Short\",-1,IF($J2387=\"Long\",1,0))","v":1},0,"",null,1,"Stay Long",-2415,-110620.95999999999]
[null,{"$f":"'Market Data'!B2375","v":20090429},{"$f":"'Market Data'!C2375","v":4922.5},{"$f":"'Market Data'!D2375","v":5015.5},{"$f":"'Market Data'!E2375","v":4910.5},{"$f":"'Market Data'!F2375","v":4990},null,2371,"Hidden","Long",null,1,0,"",null,1,"Stay Long",2782.5,-107838.45999999999]
[null,{"$f":"'Market Data'!B2376","v":20090430},{"$f":"'Market Data'!C2376","v":5005},{"$f":"'Market Data'!D2376","v":5130},{"$f":"'Market Data'!E2376","v":4996},{"$f":"'Market Data'!F2376","v":5035.5},null,2372,"Hidden","Long",null,1,0,"",null,1,"Stay Long",1592.5,-106245.95999999999]
[null,{"$f":"'Market Data'!B2377","v":20090504},{"$f":"'Market Data'!C2377","v":5103.5},{"$f":"'Market Data'!D2377","v":5198.5},{"$f":"'Market Data'!E2377","v":5092.5},{"$f":"'Market Data'!F2377","v":5172.5},null,2373,"Hidden","Long",null,1,0,"",null,1,"Stay Long",4795,-101450.95999999999]
[null,{"$f":"'Market Data'!B2378","v":20090505},{"$f":"'Market Data'!C2378","v":5188.5},{"$f":"'Market Data'!D2378","v":5218.5},{"$f":"'Market Data'!E2378","v":5132.5},{"$f":"'Market Data'!F2378","v":5146},null,2374,"Hidden","Long",null,1,0,"",null,1,"Stay Long",-927.5,-102378.45999999999]
[null,{"$f":"'Market Data'!B2379","v":20090506},{"$f":"'Market Data'!C2379","v":5129.5},{"$f":"'Market Data'!D2379","v":5235.5},{"$f":"'Market Data'!E2379","v":5113.5},{"$f":"'Market Data'!F2379","v":5186},null,2375,"Hidden","Long",null,1,0,"",null,1,"Stay Long",1400,-100978.45999999999]
[null,{"$f":"'Market Data'!B2380","v":20090507},{"$f":"'Market Data'!C2380","v":5211},{"$f":"'Market Data'!D2380","v":5267.5},{"$f":"'Market Data'!E2380","v":5077},{"$f":"'Market Data'!F2380","v":5113.5},null,2376,"Hidden","Long",null,1,0,"",null,1,"Stay Long",-2537.5,-103515.95999999999]
[null,{"$f":"'Market Data'!B2381","v":20090508},{"$f":"'Market Data'!C2381","v":5155.5},{"$f":"'Market Data'!D2381","v":5254},{"$f":"'Market Data'!E2381","v":5134.5},{"$f":"'Market Data'!F2381","v":5234},null,2377,"Hidden","Long",null,1,0,"",null,1,"Stay Long",4217.5,-99298.459999999992]
[null,{"$f":"'Market Data'!B2382","v":20090511},{"$f":"'Market Data'!C2382","v":5205.5},{"$f":"'Market Data'!D2382","v":5219.5},{"$f":"'Market Data'!E2382","v":5117.5},{"$f":"'Market Data'!F2382","v":5146},null,2378,"Hidden","Long",null,1,0,"",null,1,"Stay Long",-3080,-102378.45999999999]
[null,{"$f":"'Market Data'!B2383","v":20090512},{"$f":"'Market Data'!C2383","v":5122.5},{"$f":"'Market Data'!D2383","v":5215.5},{"$f":"'Market Data'!E2383","v":5104},{"$f":"'Market Data'!F2383","v":5117.5},null,2379,"Hidden","Long",null,1,0,"",null,1,"Stay Long",-997.5,-103375.95999999999]
[null,{"$f":"'Market Data'!B2384","v":20090513},{"$f":"'Market Data'!C2384","v":5192},{"$f":"'Market Data'!D2384","v":5196},{"$f":"'Market Data'!E2384","v":4994},{"$f":"'Market Data'!F2384","v":4999},null,2380,"Hidden","Long",null,1,0,"",null,1,"Stay Long",-4147.5,-107523.45999999999]
[null,{"$f":"'Market Data'!B2385","v":20090514},{"$f":"'Market Data'!C2385","v":5010.5},{"$f":"'Market Data'!D2385","v":5054},{"$f":"'Market Data'!E2385","v":4939},{"$f":"'Market Data'!F2385","v":5047.5},null,2381,"Hidden","Long",null,1,0,"",null,1,"Stay Long",1697.5,-105825.95999999999]
[null,{"$f":"'Market Data'!B2386","v":20090515},{"$f":"'Market Data'!C2386","v":5033.5},{"$f":"'Market Data'!D2386","v":5059.5},{"$f":"'Market Data'!E2386","v":4967.5},{"$f":"'Market Data'!F2386","v":4992},null,2382,"Hidden","Long",null,1,0,"",null,1,"Stay Long",-1942.5,-107768.45999999999]
[null,{"$f":"'Market Data'!B2387","v":20090518},{"$f":"'Market Data'!C2387","v":4957.5},{"$f":"'Market Data'!D2387","v":5149.5},{"$f":"'Market Data'!E2387","v":4941.5},{"$f":"'Market Data'!F2387","v":5146.5},null,2383,"Hidden","Long",null,1,0,"",null,1,"Stay Long",5407.5,-102360.95999999999]
[null,{"$f":"'Market Data'!B2388","v":20090519},{"$f":"'Market Data'!C2388","v":5175},{"$f":"'Market Data'!D2388","v":5297},{"$f":"'Market Data'!E2388","v":5169.5},{"$f":"'Market Data'!F2388","v":5235.5},null,2384,"Hidden","Long",null,1,0,"",null,1,"Stay Long",3115,-99245.959999999992]
[null,{"$f":"'Market Data'!B2389","v":20090520},{"$f":"'Market Data'!C2389","v":5236},{"$f":"'Market Data'!D2389","v":5346},{"$f":"'Market Data'!E2389","v":5221.5},{"$f":"'Market Data'!F2389","v":5289.5},null,2385,"Hidden","Long",null,1,0,"",null,1,"Stay Long",1890,-97355.959999999992]
[null,{"$f":"'Market Data'!B2390","v":20090521},{"$f":"'Market Data'!C2390","v":5257.5},{"$f":"'Market Data'!D2390","v":5274},{"$f":"'Market Data'!E2390","v":5160.5},{"$f":"'Market Data'!F2390","v":5194},null,2386,"Hidden","Long",null,1,0,"",null,1,"Stay Long",-3342.5,-100698.45999999999]
[null,{"$f":"'Market Data'!B2391","v":20090522},{"$f":"'Market Data'!C2391","v":5194},{"$f":"'Market Data'!D2391","v":5249.5},{"$f":"'Market Data'!E2391","v":5152.5},{"$f":"'Market Data'!F2391","v":5197},null,2387,"Hidden","Long",null,1,0,"",null,1,"Stay Long",105,-100593.45999999999]
[null,{"$f":"'Market Data'!B2392","v":20090525},{"$f":"'Market Data'!C2392","v":5197},{"$f":"'Market Data'!D2392","v":5225.5},{"$f":"'Market Data'!E2392","v":5111.5},{"$f":"'Market Data'!F2392","v":5200.5},null,2388,"Hidden","Long",null,1,0,"",null,1,"Stay Long",122.5,-100470.95999999999]
[null,{"$f":"'Market Data'!B2393","v":20090526},{"$f":"'Market Data'!C2393","v":5172.5},{"$f":"'Market Data'!D2393","v":5286.5},{"$f":"'Market Data'!E2393","v":5086.5},{"$f":"'Market Data'!F2393","v":5281},null,2389,"Hidden","Long",null,1,0,"",null,1,"Stay Long",2817.5,-97653.459999999992]
[null,{"$f":"'Market Data'!B2394","v":20090527},{"$f":"'Market Data'!C2394","v":5270},{"$f":"'Market Data'!D2394","v":5320},{"$f":"'Market Data'!E2394","v":5246},{"$f":"'Market Data'!F2394","v":5270.5},null,2390,"Hidden","Long",null,1,0,"",null,1,"Stay Long",-367.5,-98020.959999999992]
[null,{"$f":"'Market Data'!B2395","v":20090528},{"$f":"'Market Data'!C2395","v":5242.5},{"$f":"'Market Data'!D2395","v":5273.5},{"$f":"'Market Data'!E2395","v":5166.5},{"$f":"'Market Data'!F2395","v":5206.5},null,2391,"Hidden","Long",null,1,0,"",null,1,"Stay Long",-2240,-100260.95999999999]
[null,{"$f":"'Market Data'!B2396","v":20090529},{"$f":"'Market Data'!C2396","v":5257.5},{"$f":"'Market Data'!D2396","v":5294.5},{"$f":"'Market Data'!E2396","v":5200.5},{"$f":"'Market Data'!F2396","v":5221.5},null,2392,"Hidden","Long",null,1,0,"",null,1,"Stay Long",525,-99735.959999999992]
[null,{"$f":"'Market Data'!B2397","v":20090601},{"$f":"'Market Data'!C2397","v":5297},{"$f":"'Market Data'!D2397","v":5440.5},{"$f":"'Market Data'!E2397","v":5290.5},{"$f":"'Market Data'!F2397","v":5415},null,2393,"Hidden","Long",null,1,0,"",null,1,"Stay Long",6772.5,-92963.459999999992]
[null,{"$f":"'Market Data'!B2398","v":20090602},{"$f":"'Market Data'!C2398","v":5392.5},{"$f":"'Market Data'!D2398","v":5462},{"$f":"'Market Data'!E2398","v":5383.5},{"$f":"'Market Data'!F2398","v":5425.5},null,2394,"Hidden","Long",null,1,0,"",null,1,"Stay Long",367.5,-92595.959999999992]
[null,{"$f":"'Market Data'!B2399","v":20090603},{"$f":"'Market Data'!C2399","v":5430.5},{"$f":"'Market Data'!D2399","v":5453.5},{"$f":"'Market Data'!E2399","v":5321.5},{"$f":"'Market Data'!F2399","v":5324},null,2395,"Hidden","Long",null,1,0,"",null,1,"Stay Long",-3552.5,-96148.459999999992]
[null,{"$f":"'Market Data'!B2400","v":20090604},{"$f":"'Market Data'!C2400","v":5337.5},{"$f":"'Market Data'!D2400","v":5406},{"$f":"'Market Data'!E2400","v":5327.5},{"$f":"'Market Data'!F2400","v":5355.5},null,2396,"Hidden","Long",null,1,0,"",null,1,"Stay Long",1102.5,-95045.959999999992]
[null,{"$f":"'Market Data'!B2401","v":20090605},{"$f":"'Market Data'!C2401","v":5378.5},{"$f":"'Market Data'!D2401","v":5447.5},{"$f":"'Market Data'!E2401","v":5329},{"$f":"'Market Data'!F2401","v":5365.5},null,2397,"Hidden","Long",null,1,0,"",null,1,"Stay Long",350,-94695.959999999992]
[null,{"$f":"'Market Data'!B2402","v":20090608},{"$f":"'Market Data'!C2402","v":5335.5},{"$f":"'Market Data'!D2402","v":5343},{"$f":"'Market Data'!E2402","v":5249},{"$f":"'Market Data'!F2402","v":5287},null,2398,"Hidden","Long",null,1,0,"",null,1,"Stay Long",-2747.5,-97443.459999999992]
[null,{"$f":"'Market Data'!B2403","v":20090609},{"$f":"'Market Data'!C2403","v":5317.5},{"$f":"'Market Data'!D2403","v":5350},{"$f":"'Market Data'!E2403","v":5261.5},{"$f":"'Market Data'!F2403","v":5298.5},null,2399,"Hidden","Long",null,1,0,"",null,1,"Stay Long",402.5,-97040.959999999992]
[null,{"$f":"'Market Data'!B2404","v":20090610},{"$f":"'Market Data'!C2404","v":5324},{"$f":"'Market Data'!D2404","v":5418.5},{"$f":"'Market Data'!E2404","v":5315.5},{"$f":"'Market Data'!F2404","v":5334},null,2400,"Hidden","Long",null,1,0,"",null,1,"Stay Long",1242.5,-95798.459999999992]
[null,{"$f":"'Market Data'!B2405","v":20090611},{"$f":"'Market Data'!C2405","v":5344},{"$f":"'Market Data'!D2405","v":5405},{"$f":"'Market Data'!E2405","v":5321},{"$f":"'Market Data'!F2405","v":5392},null,2401,"Hidden","Long",null,1,0,"",null,1,"Stay Long",2030,-93768.459999999992]
[null,{"$f":"'Market Data'!B2406","v":20090612},{"$f":"'Market Data'!C2406","v":5375},{"$f":"'Market Data'!D2406","v":5390},{"$f":"'Market Data'!E2406","v":5326.5},{"$f":"'Market Data'!F2406","v":5349.5},null,2402,"Hidden","Long",null,1,0,"",null,1,"Stay Long",-1487.5,-95255.959999999992]
[null,{"$f":"'Market Data'!B2407","v":20090615},{"$f":"'Market Data'!C2407","v":5342.5},{"$f":"'Market Data'!D2407","v":5342.5},{"$f":"'Market Data'!E2407","v":5163.5},{"$f":"'Market Data'!F2407","v":5176.5},null,2403,"Hidden","Long",null,1,0,"",null,1,"Stay Long",-6055,-101310.95999999999]
[null,{"$f":"'Market Data'!B2408","v":20090616},{"$f":"'Market Data'!C2408","v":5172.5},{"$f":"'Market Data'!D2408","v":5217},{"$f":"'Market Data'!E2408","v":5138.5},{"$f":"'Market Data'!F2408","v":5142.5},null,2404,"Hidden","Long",null,1,0,"",null,1,"Stay Long",-1190,-102500.95999999999]
[null,{"$f":"'Market Data'!B2409","v":20090617},{"$f":"'Market Data'!C2409","v":5151.5},{"$f":"'Market Data'!D2409","v":5170},{"$f":"'Market Data'!E2409","v":5042.5},{"$f":"'Market Data'!F2409","v":5093},null,2405,"Hidden","Long",null,1,0,"",null,1,"Stay Long",-1732.5,-104233.45999999999]
[null,{"$f":"'Market Data'!B2410","v":20090618},{"$f":"'Market Data'!C2410","v":5097},{"$f":"'Market Data'!D2410","v":5140},{"$f":"'Market Data'!E2410","v":5051},{"$f":"'Market Data'!F2410","v":5127.5},null,2406,"Hidden","Long",null,1,0,"",null,1,"Stay Long",1207.5,-103025.95999999999]
[null,{"$f":"'Market Data'!B2411","v":20090619},{"$f":"'Market Data'!C2411","v":5118},{"$f":"'Market Data'!D2411","v":5161},{"$f":"'Market Data'!E2411","v":5097},{"$f":"'Market Data'!F2411","v":5108.5},null,2407,"Hidden","Long",null,1,0,"",null,1,"Stay Long",-665,-103690.95999999999]
[null,{"$f":"'Market Data'!B2412","v":20090622},{"$f":"'Market Data'!C2412","v":5127},{"$f":"'Market Data'!D2412","v":5144},{"$f":"'Market Data'!E2412","v":4963},{"$f":"'Market Data'!F2412","v":4975},null,2408,"Hidden","Long",null,1,0,"",null,1,"Stay Long",-4672.5,-108363.45999999999]
[null,{"$f":"'Market Data'!B2413","v":20090623},{"$f":"'Market Data'!C2413","v":4961},{"$f":"'Market Data'!D2413","v":5034},{"$f":"'Market Data'!E2413","v":4950},{"$f":"'Market Data'!F2413","v":5003.5},null,2409,"Hidden","Long",null,1,0,"",null,1,"Stay Long",997.5,-107365.95999999999]
[null,{"$f":"'Market Data'!B2414","v":20090624},{"$f":"'Market Data'!C2414","v":5001},{"$f":"'Market Data'!D2414","v":5121},{"$f":"'Market Data'!E2414","v":4977},{"$f":"'Market Data'!F2414","v":5099.5},null,2410,"Hidden","Long",null,1,0,"",null,1,"Stay Long",3360,-104005.95999999999]
[null,{"$f":"'Market Data'!B2415","v":20090625},{"$f":"'Market Data'!C2415","v":5113},{"$f":"'Market Data'!D2415","v":5122},{"$f":"'Market Data'!E2415","v":4998},{"$f":"'Market Data'!F2415","v":5098},null,2411,"Hidden","Long",null,1,0,"",null,1,"Stay Long",-52.5,-104058.45999999999]
[null,{"$f":"'Market Data'!B2416","v":20090626},{"$f":"'Market Data'!C2416","v":5098},{"$f":"'Market Data'!D2416","v":5146.5},{"$f":"'Market Data'!E2416","v":5030.5},{"$f":"'Market Data'!F2416","v":5067},null,2412,"Hidden","Long",null,1,0,"",null,1,"Stay Long",-1085,-105143.45999999999]
[null,{"$f":"'Market Data'!B2417","v":20090629},{"$f":"'Market Data'!C2417","v":5025},{"$f":"'Market Data'!D2417","v":5182.5},{"$f":"'Market Data'!E2417","v":5018},{"$f":"'Market Data'!F2417","v":5156},null,2413,"Hidden","Long",null,1,0,"",null,1,"Stay Long",3115,-102028.45999999999]
[null,{"$f":"'Market Data'!B2418","v":20090630},{"$f":"'Market Data'!C2418","v":5161.5},{"$f":"'Market Data'!D2418","v":5185},{"$f":"'Market Data'!E2418","v":5067.5},{"$f":"'Market Data'!F2418","v":5092.5},null,2414,"Hidden","Long",null,1,0,"",null,1,"Stay Long",-2222.5,-104250.95999999999]
[null,{"$f":"'Market Data'!B2419","v":20090701},{"$f":"'Market Data'!C2419","v":5096.5},{"$f":"'Market Data'!D2419","v":5208.5},{"$f":"'Market Data'!E2419","v":5084},{"$f":"'Market Data'!F2419","v":5180},null,2415,"Hidden","Long",null,1,0,"",null,1,"Stay Long",3062.5,-101188.45999999999]
[null,{"$f":"'Market Data'!B2420","v":20090702},{"$f":"'Market Data'!C2420","v":5139},{"$f":"'Market Data'!D2420","v":5158.5},{"$f":"'Market Data'!E2420","v":4982},{"$f":"'Market Data'!F2420","v":4999.5},null,2416,"Hidden","Long",null,1,0,"",null,1,"Stay Long",-6317.5,-107505.95999999999]
[null,{"$f":"'Market Data'!B2421","v":20090703},{"$f":"'Market Data'!C2421","v":5011.5},{"$f":"'Market Data'!D2421","v":5028.5},{"$f":"'Market Data'!E2421","v":4962.5},{"$f":"'Market Data'!F2421","v":4984.5},null,2417,"Hidden","Long",null,1,0,"",null,1,"Stay Long",-525,-108030.95999999999]
[null,{"$f":"'Market Data'!B2422","v":20090706},{"$f":"'Market Data'!C2422","v":4945.5},{"$f":"'Market Data'!D2422","v":4970.5},{"$f":"'Market Data'!E2422","v":4886.5},{"$f":"'Market Data'!F2422","v":4937.5},null,2418,"Hidden","Long",null,1,0,"",null,1,"Stay Long",-1645,-109675.95999999999]
[null,{"$f":"'Market Data'!B2423","v":20090707},{"$f":"'Market Data'!C2423","v":4946.5},{"$f":"'Market Data'!D2423","v":4982.5},{"$f":"'Market Data'!E2423","v":4861.5},{"$f":"'Market Data'!F2423","v":4873},null,2419,"Hidden","Long",null,1,0,"",null,1,"Stay Long",-2257.5,-111933.45999999999]
[null,{"$f":"'Market Data'!B2424","v":20090708},{"$f":"'Market Data'!C2424","v":4852},{"$f":"'Market Data'!D2424","v":4910},{"$f":"'Market Data'!E2424","v":4830.5},{"$f":"'Market Data'!F2424","v":4837},null,2420,"Hidden","Long",null,1,0,"",null,1,"Stay Long",-1260,-113193.45999999999]
[null,{"$f":"'Market Data'!B2425","v":20090709},{"$f":"'Market Data'!C2425","v":4867.5},{"$f":"'Market Data'!D2425","v":4948.5},{"$f":"'Market Data'!E2425","v":4865.5},{"$f":"'Market Data'!F2425","v":4918.5},null,2421,"Hidden","Long",null,1,0,"",null,1,"Stay Long",2852.5,-110340.95999999999]
[null,{"$f":"'Market Data'!B2426","v":20090710},{"$f":"'Market Data'!C2426","v":4879},{"$f":"'Market Data'!D2426","v":4923.5},{"$f":"'Market Data'!E2426","v":4845},{"$f":"'Market Data'!F2426","v":4865},null,2422,"Hidden","Long",null,1,0,"",null,1,"Stay Long",-1872.5,-112213.45999999999]
[null,{"$f":"'Market Data'!B2427","v":20090713},{"$f":"'Market Data'!C2427","v":4831},{"$f":"'Market Data'!D2427","v":5024},{"$f":"'Market Data'!E2427","v":4798},{"$f":"'Market Data'!F2427","v":5008},null,2423,"Hidden","Long",null,1,0,"",null,1,"Stay Long",5005,-107208.45999999999]
[null,{"$f":"'Market Data'!B2428","v":20090714},{"$f":"'Market Data'!C2428","v":5014.5},{"$f":"'Market Data'!D2428","v":5081.5},{"$f":"'Market Data'!E2428","v":4981.5},{"$f":"'Market Data'!F2428","v":5055.5},null,2424,"Hidden","Long",null,1,0,"",null,1,"Stay Long",1662.5,-105545.95999999999]
[null,{"$f":"'Market Data'!B2429","v":20090715},{"$f":"'Market Data'!C2429","v":5106},{"$f":"'Market Data'!D2429","v":5210},{"$f":"'Market Data'!E2429","v":5089.5},{"$f":"'Market Data'!F2429","v":5193.5},null,2425,"Hidden","Long",null,1,0,"",null,1,"Stay Long",4830,-100715.95999999999]
[null,{"$f":"'Market Data'!B2430","v":20090716},{"$f":"'Market Data'!C2430","v":5198},{"$f":"'Market Data'!D2430","v":5279},{"$f":"'Market Data'!E2430","v":5180.5},{"$f":"'Market Data'!F2430","v":5248.5},null,2426,"Hidden","Long",null,1,0,"",null,1,"Stay Long",1925,-98790.959999999992]
[null,{"$f":"'Market Data'!B2431","v":20090717},{"$f":"'Market Data'!C2431","v":5286.5},{"$f":"'Market Data'!D2431","v":5300.5},{"$f":"'Market Data'!E2431","v":5237},{"$f":"'Market Data'!F2431","v":5269},null,2427,"Hidden","Long",null,1,0,"",null,1,"Stay Long",717.5,-98073.459999999992]
[null,{"$f":"'Market Data'!B2432","v":20090720},{"$f":"'Market Data'!C2432","v":5314},{"$f":"'Market Data'!D2432","v":5340},{"$f":"'Market Data'!E2432","v":5284},{"$f":"'Market Data'!F2432","v":5318},null,2428,"Hidden","Long",null,1,0,"",null,1,"Stay Long",1715,-96358.459999999992]
[null,{"$f":"'Market Data'!B2433","v":20090721},{"$f":"'Market Data'!C2433","v":5342},{"$f":"'Market Data'!D2433","v":5420},{"$f":"'Market Data'!E2433","v":5306.5},{"$f":"'Market Data'!F2433","v":5352.5},null,2429,"Hidden","Long",null,1,0,"",null,1,"Stay Long",1207.5,-95150.959999999992]
[null,{"$f":"'Market Data'!B2434","v":20090722},{"$f":"'Market Data'!C2434","v":5394},{"$f":"'Market Data'!D2434","v":5419},{"$f":"'Market Data'!E2434","v":5327.5},{"$f":"'Market Data'!F2434","v":5409},null,2430,"Hidden","Long",null,1,0,"",null,1,"Stay Long",1977.5,-93173.459999999992]
[null,{"$f":"'Market Data'!B2435","v":20090723},{"$f":"'Market Data'!C2435","v":5414},{"$f":"'Market Data'!D2435","v":5543},{"$f":"'Market Data'!E2435","v":5379},{"$f":"'Market Data'!F2435","v":5541},null,2431,"Hidden","Long",null,1,{"$f":"$L2448-P2448","v":0},"",null,1,"Stay Long",4620,-88553.459999999992]
[null,{"$f":"'Market Data'!B2436","v":20090724},{"$f":"'Market Data'!C2436","v":5506},{"$f":"'Market Data'!D2436","v":5584},{"$f":"'Market Data'!E2436","v":5479},{"$f":"'Market Data'!F2436","v":5511.5},null,2432,"Hidden","Long",null,1,0,"",null,{"$f":"IF($N2448=\"Fill\",$L2448,$P2448)","v":1},"Stay Long",{"$f":"IF(OR($P2448&$L2448=\"01\",$P2448&$L2448=\"0-1\"),(($F2449-$C2449)*$R$3*$L2448)-(ABS($M2448)*$R$4),IF(OR($P2448&$L2448=\"10\",$P2448&$L2448=\"-10\"),(($C2449-$F2448)*$R$3*$P2448)-(ABS($M2448)*$R$4),IF(OR($P2448&$L2448=\"1-1\",$P2448&$L2448=\"-11\"),(($C2449-$F2448)*$R$3*$P2448)-(ABS($M2448)*$R$4)+(($F2449-$C2449)*$R$3*$P2449),IF(OR($P2448&$L2448=\"11\",$P2448&$L2448=\"-1-1\"),(($F2449-$F2448)*$R$3*$P2449),0))))","v":-1032.5},-89585.959999999992]
[null,{"$f":"'Market Data'!B2437","v":20090727},{"$f":"'Market Data'!C2437","v":5582},{"$f":"'Market Data'!D2437","v":5602.5},{"$f":"'Market Data'!E2437","v":5494.5},{"$f":"'Market Data'!F2437","v":5527},null,{"$f":"ROW()-ROW(H$17)","v":2433},"Hidden",{"$f":"$I$4","v":"Long"},null,1,0,{"$f":"IF(NOT($M2450=0),\"Fill\",\"\")","v":""},null,1,{"$f":"IF($P2449&$L2449=\"00\",\"Stay Flat\",IF($P2449&$L2449=\"01\",\"Go Long\",IF($P2449&$L2449=\"0-1\",\"Go Short\",IF($P2449&$L2449=\"-10\",\"Exit Short\",IF($P2449&$L2449=\"-1-1\",\"Stay Short\",IF($P2449&$L2449=\"-11\",\"Exit Short, Go Long\",IF($P2449&$L2449=\"10\",\"Exit Long\",IF($P2449&$L2449=\"1-1\",\"Exit Long, Go Short\",IF($P2449&$L2449=\"11\",\"Stay Long\",\"\")))))))))","v":"Stay Long"},542.5,{"$f":"S2449+R2450","v":-89043.459999999992}]
[null,{"$f":"'Market Data'!B2438","v":20090728},{"$f":"'Market Data'!C2438","v":5562.5},{"$f":"'Market Data'!D2438","v":5583},{"$f":"'Market Data'!E2438","v":5442.5},{"$f":"'Market Data'!F2438","v":5466},null,2434,"Hidden","Long",null,{"$f":"IF($J2451=\"Short\",-1,IF($J2451=\"Long\",1,0))","v":1},0,"",null,1,"Stay Long",-2135,-91178.459999999992]
[null,{"$f":"'Market Data'!B2439","v":20090729},{"$f":"'Market Data'!C2439","v":5496},{"$f":"'Market Data'!D2439","v":5590},{"$f":"'Market Data'!E2439","v":5424.5},{"$f":"'Market Data'!F2439","v":5565.5},null,2435,"Hidden","Long",null,1,0,"",null,1,"Stay Long",3482.5,-87695.959999999992]
[null,{"$f":"'Market Data'!B2440","v":20090730},{"$f":"'Market Data'!C2440","v":5585},{"$f":"'Market Data'!D2440","v":5678},{"$f":"'Market Data'!E2440","v":5532.5},{"$f":"'Market Data'!F2440","v":5634.5},null,2436,"Hidden","Long",null,1,0,"",null,1,"Stay Long",2415,-85280.959999999992]
[null,{"$f":"'Market Data'!B2441","v":20090731},{"$f":"'Market Data'!C2441","v":5627},{"$f":"'Market Data'!D2441","v":5666.5},{"$f":"'Market Data'!E2441","v":5582.5},{"$f":"'Market Data'!F2441","v":5608.5},null,2437,"Hidden","Long",null,1,0,"",null,1,"Stay Long",-910,-86190.959999999992]
[null,{"$f":"'Market Data'!B2442","v":20090803},{"$f":"'Market Data'!C2442","v":5639},{"$f":"'Market Data'!D2442","v":5743.5},{"$f":"'Market Data'!E2442","v":5585},{"$f":"'Market Data'!F2442","v":5711.5},null,2438,"Hidden","Long",null,1,0,"",null,1,"Stay Long",3605,-82585.959999999992]
[null,{"$f":"'Market Data'!B2443","v":20090804},{"$f":"'Market Data'!C2443","v":5690},{"$f":"'Market Data'!D2443","v":5713.5},{"$f":"'Market Data'!E2443","v":5638.5},{"$f":"'Market Data'!F2443","v":5711.5},null,2439,"Hidden","Long",null,1,0,"",null,1,"Stay Long",0,-82585.959999999992]
[null,{"$f":"'Market Data'!B2444","v":20090805},{"$f":"'Market Data'!C2444","v":5705},{"$f":"'Market Data'!D2444","v":5733},{"$f":"'Market Data'!E2444","v":5611},{"$f":"'Market Data'!F2444","v":5632.5},null,2440,"Hidden","Long",null,1,0,"",null,1,"Stay Long",-2765,-85350.959999999992]
[null,{"$f":"'Market Data'!B2445","v":20090806},{"$f":"'Market Data'!C2445","v":5677},{"$f":"'Market Data'!D2445","v":5704},{"$f":"'Market Data'!E2445","v":5619},{"$f":"'Market Data'!F2445","v":5635},null,2441,"Hidden","Long",null,1,0,"",null,1,"Stay Long",87.5,-85263.459999999992]
[null,{"$f":"'Market Data'!B2446","v":20090807},{"$f":"'Market Data'!C2446","v":5641},{"$f":"'Market Data'!D2446","v":5760.5},{"$f":"'Market Data'!E2446","v":5592.5},{"$f":"'Market Data'!F2446","v":5740},null,2442,"Hidden","Long",null,1,0,"",null,1,"Stay Long",3675,-81588.459999999992]
[null,{"$f":"'Market Data'!B2447","v":20090810},{"$f":"'Market Data'!C2447","v":5707},{"$f":"'Market Data'!D2447","v":5723},{"$f":"'Market Data'!E2447","v":5668.5},{"$f":"'Market Data'!F2447","v":5684},null,2443,"Hidden","Long",null,1,0,"",null,1,"Stay Long",-1960,-83548.459999999992]
[null,{"$f":"'Market Data'!B2448","v":20090811},{"$f":"'Market Data'!C2448","v":5712},{"$f":"'Market Data'!D2448","v":5734},{"$f":"'Market Data'!E2448","v":5549.5},{"$f":"'Market Data'!F2448","v":5570},null,2444,"Hidden","Long",null,1,0,"",null,1,"Stay Long",-3990,-87538.459999999992]
[null,{"$f":"'Market Data'!B2449","v":20090812},{"$f":"'Market Data'!C2449","v":5591.5},{"$f":"'Market Data'!D2449","v":5649},{"$f":"'Market Data'!E2449","v":5531.5},{"$f":"'Market Data'!F2449","v":5633},null,2445,"Hidden","Long",null,1,0,"",null,1,"Stay Long",2205,-85333.459999999992]
[null,{"$f":"'Market Data'!B2450","v":20090813},{"$f":"'Market Data'!C2450","v":5638},{"$f":"'Market Data'!D2450","v":5734},{"$f":"'Market Data'!E2450","v":5629},{"$f":"'Market Data'!F2450","v":5683},null,2446,"Hidden","Long",null,1,0,"",null,1,"Stay Long",1750,-83583.459999999992]
[null,{"$f":"'Market Data'!B2451","v":20090814},{"$f":"'Market Data'!C2451","v":5677},{"$f":"'Market Data'!D2451","v":5724.5},{"$f":"'Market Data'!E2451","v":5569},{"$f":"'Market Data'!F2451","v":5604},null,2447,"Hidden","Long",null,1,0,"",null,1,"Stay Long",-2765,-86348.459999999992]
[null,{"$f":"'Market Data'!B2452","v":20090817},{"$f":"'Market Data'!C2452","v":5586},{"$f":"'Market Data'!D2452","v":5586},{"$f":"'Market Data'!E2452","v":5454},{"$f":"'Market Data'!F2452","v":5486},null,2448,"Hidden","Long",null,1,0,"",null,1,"Stay Long",-4130,-90478.459999999992]
[null,{"$f":"'Market Data'!B2453","v":20090818},{"$f":"'Market Data'!C2453","v":5512},{"$f":"'Market Data'!D2453","v":5536},{"$f":"'Market Data'!E2453","v":5475},{"$f":"'Market Data'!F2453","v":5528},null,2449,"Hidden","Long",null,1,0,"",null,1,"Stay Long",1470,-89008.459999999992]
[null,{"$f":"'Market Data'!B2454","v":20090819},{"$f":"'Market Data'!C2454","v":5497},{"$f":"'Market Data'!D2454","v":5556.5},{"$f":"'Market Data'!E2454","v":5437},{"$f":"'Market Data'!F2454","v":5551},null,2450,"Hidden","Long",null,1,0,"",null,1,"Stay Long",805,-88203.459999999992]
[null,{"$f":"'Market Data'!B2455","v":20090820},{"$f":"'Market Data'!C2455","v":5565},{"$f":"'Market Data'!D2455","v":5604.5},{"$f":"'Market Data'!E2455","v":5543},{"$f":"'Market Data'!F2455","v":5590},null,2451,"Hidden","Long",null,1,0,"",null,1,"Stay Long",1365,-86838.459999999992]
[null,{"$f":"'Market Data'!B2456","v":20090821},{"$f":"'Market Data'!C2456","v":5566},{"$f":"'Market Data'!D2456","v":5758.5},{"$f":"'Market Data'!E2456","v":5559},{"$f":"'Market Data'!F2456","v":5739},null,2452,"Hidden","Long",null,1,0,"",null,1,"Stay Long",5215,-81623.459999999992]
[null,{"$f":"'Market Data'!B2457","v":20090824},{"$f":"'Market Data'!C2457","v":5770},{"$f":"'Market Data'!D2457","v":5811},{"$f":"'Market Data'!E2457","v":5748},{"$f":"'Market Data'!F2457","v":5778},null,2453,"Hidden","Long",null,1,0,"",null,1,"Stay Long",1365,-80258.459999999992]
[null,{"$f":"'Market Data'!B2458","v":20090825},{"$f":"'Market Data'!C2458","v":5746},{"$f":"'Market Data'!D2458","v":5855.5},{"$f":"'Market Data'!E2458","v":5737.5},{"$f":"'Market Data'!F2458","v":5827.5},null,2454,"Hidden","Long",null,1,0,"",null,1,"Stay Long",1732.5,-78525.959999999992]
[null,{"$f":"'Market Data'!B2459","v":20090826},{"$f":"'Market Data'!C2459","v":5827},{"$f":"'Market Data'!D2459","v":5851},{"$f":"'Market Data'!E2459","v":5778},{"$f":"'Market Data'!F2459","v":5806},null,2455,"Hidden","Long",null,1,0,"",null,1,"Stay Long",-752.5,-79278.459999999992]
[null,{"$f":"'Market Data'!B2460","v":20090827},{"$f":"'Market Data'!C2460","v":5791},{"$f":"'Market Data'!D2460","v":5820.5},{"$f":"'Market Data'!E2460","v":5709},{"$f":"'Market Data'!F2460","v":5780.5},null,2456,"Hidden","Long",null,1,0,"",null,1,"Stay Long",-892.5,-80170.959999999992]
[null,{"$f":"'Market Data'!B2461","v":20090828},{"$f":"'Market Data'!C2461","v":5783.5},{"$f":"'Market Data'!D2461","v":5853},{"$f":"'Market Data'!E2461","v":5770},{"$f":"'Market Data'!F2461","v":5777.5},null,2457,"Hidden","Long",null,1,0,"",null,1,"Stay Long",-105,-80275.959999999992]
[null,{"$f":"'Market Data'!B2462","v":20090831},{"$f":"'Market Data'!C2462","v":5757},{"$f":"'Market Data'!D2462","v":5774},{"$f":"'Market Data'!E2462","v":5714.5},{"$f":"'Market Data'!F2462","v":5742.5},null,2458,"Hidden","Long",null,1,0,"",null,1,"Stay Long",-1225,-81500.959999999992]
[null,{"$f":"'Market Data'!B2463","v":20090901},{"$f":"'Market Data'!C2463","v":5781},{"$f":"'Market Data'!D2463","v":5791},{"$f":"'Market Data'!E2463","v":5582},{"$f":"'Market Data'!F2463","v":5593},null,2459,"Hidden","Long",null,1,0,"",null,1,"Stay Long",-5232.5,-86733.459999999992]
[null,{"$f":"'Market Data'!B2464","v":20090902},{"$f":"'Market Data'!C2464","v":5606},{"$f":"'Market Data'!D2464","v":5617.5},{"$f":"'Market Data'!E2464","v":5540.5},{"$f":"'Market Data'!F2464","v":5588.5},null,2460,"Hidden","Long",null,1,0,"",null,1,"Stay Long",-157.5,-86890.959999999992]
[null,{"$f":"'Market Data'!B2465","v":20090903},{"$f":"'Market Data'!C2465","v":5586},{"$f":"'Market Data'!D2465","v":5644},{"$f":"'Market Data'!E2465","v":5554},{"$f":"'Market Data'!F2465","v":5585.5},null,2461,"Hidden","Long",null,1,0,"",null,1,"Stay Long",-105,-86995.959999999992]
[null,{"$f":"'Market Data'!B2466","v":20090904},{"$f":"'Market Data'!C2466","v":5600},{"$f":"'Market Data'!D2466","v":5708},{"$f":"'Market Data'!E2466","v":5598},{"$f":"'Market Data'!F2466","v":5698.5},null,2462,"Hidden","Long",null,1,0,"",null,1,"Stay Long",3955,-83040.959999999992]
[null,{"$f":"'Market Data'!B2467","v":20090907},{"$f":"'Market Data'!C2467","v":5692},{"$f":"'Market Data'!D2467","v":5755},{"$f":"'Market Data'!E2467","v":5692},{"$f":"'Market Data'!F2467","v":5732},null,2463,"Hidden","Long",null,1,0,"",null,1,"Stay Long",1172.5,-81868.459999999992]
[null,{"$f":"'Market Data'!B2468","v":20090908},{"$f":"'Market Data'!C2468","v":5750},{"$f":"'Market Data'!D2468","v":5781},{"$f":"'Market Data'!E2468","v":5731.5},{"$f":"'Market Data'!F2468","v":5754.5},null,2464,"Hidden","Long",null,1,0,"",null,1,"Stay Long",787.5,-81080.959999999992]
[null,{"$f":"'Market Data'!B2469","v":20090909},{"$f":"'Market Data'!C2469","v":5739},{"$f":"'Market Data'!D2469","v":5863},{"$f":"'Market Data'!E2469","v":5726.5},{"$f":"'Market Data'!F2469","v":5855},null,2465,"Hidden","Long",null,1,0,"",null,1,"Stay Long",3517.5,-77563.459999999992]
[null,{"$f":"'Market Data'!B2470","v":20090910},{"$f":"'Market Data'!C2470","v":5869.5},{"$f":"'Market Data'!D2470","v":5906},{"$f":"'Market Data'!E2470","v":5823},{"$f":"'Market Data'!F2470","v":5881},null,2466,"Hidden","Long",null,1,0,"",null,1,"Stay Long",910,-76653.459999999992]
[null,{"$f":"'Market Data'!B2471","v":20090911},{"$f":"'Market Data'!C2471","v":5887},{"$f":"'Market Data'!D2471","v":5930.5},{"$f":"'Market Data'!E2471","v":5875.5},{"$f":"'Market Data'!F2471","v":5887.5},null,2467,"Hidden","Long",null,1,0,"",null,1,"Stay Long",227.5,-76425.959999999992]
[null,{"$f":"'Market Data'!B2472","v":20090914},{"$f":"'Market Data'!C2472","v":5847},{"$f":"'Market Data'!D2472","v":5901.5},{"$f":"'Market Data'!E2472","v":5809},{"$f":"'Market Data'!F2472","v":5892},null,2468,"Hidden","Long",null,1,0,"",null,1,"Stay Long",157.5,-76268.459999999992]
[null,{"$f":"'Market Data'!B2473","v":20090915},{"$f":"'Market Data'!C2473","v":5902.5},{"$f":"'Market Data'!D2473","v":5927},{"$f":"'Market Data'!E2473","v":5860},{"$f":"'Market Data'!F2473","v":5913.5},null,2469,"Hidden","Long",null,1,0,"",null,1,"Stay Long",752.5,-75515.959999999992]
[null,{"$f":"'Market Data'!B2474","v":20090916},{"$f":"'Market Data'!C2474","v":5927},{"$f":"'Market Data'!D2474","v":5998},{"$f":"'Market Data'!E2474","v":5918.5},{"$f":"'Market Data'!F2474","v":5988.5},null,2470,"Hidden","Long",null,1,0,"",null,1,"Stay Long",2625,-72890.959999999992]
[null,{"$f":"'Market Data'!B2475","v":20090917},{"$f":"'Market Data'!C2475","v":6018.5},{"$f":"'Market Data'!D2475","v":6026.5},{"$f":"'Market Data'!E2475","v":5974},{"$f":"'Market Data'!F2475","v":5978},null,2471,"Hidden","Long",null,1,0,"",null,1,"Stay Long",-367.5,-73258.459999999992]
[null,{"$f":"'Market Data'!B2476","v":20090918},{"$f":"'Market Data'!C2476","v":5995},{"$f":"'Market Data'!D2476","v":6040.5},{"$f":"'Market Data'!E2476","v":5979.5},{"$f":"'Market Data'!F2476","v":6000},null,2472,"Hidden","Long",null,1,0,"",null,1,"Stay Long",770,-72488.459999999992]
[null,{"$f":"'Market Data'!B2477","v":20090921},{"$f":"'Market Data'!C2477","v":5986},{"$f":"'Market Data'!D2477","v":5989.5},{"$f":"'Market Data'!E2477","v":5893.5},{"$f":"'Market Data'!F2477","v":5945},null,2473,"Hidden","Long",null,1,0,"",null,1,"Stay Long",-1925,-74413.459999999992]
[null,{"$f":"'Market Data'!B2478","v":20090922},{"$f":"'Market Data'!C2478","v":5980.5},{"$f":"'Market Data'!D2478","v":6030.5},{"$f":"'Market Data'!E2478","v":5968.5},{"$f":"'Market Data'!F2478","v":5992.5},null,2474,"Hidden","Long",null,1,0,"",null,1,"Stay Long",1662.5,-72750.959999999992]
[null,{"$f":"'Market Data'!B2479","v":20090923},{"$f":"'Market Data'!C2479","v":5988.5},{"$f":"'Market Data'!D2479","v":6033},{"$f":"'Market Data'!E2479","v":5948},{"$f":"'Market Data'!F2479","v":5997.5},null,2475,"Hidden","Long",null,1,0,"",null,1,"Stay Long",175,-72575.959999999992]
[null,{"$f":"'Market Data'!B2480","v":20090924},{"$f":"'Market Data'!C2480","v":5955.5},{"$f":"'Market Data'!D2480","v":6020.5},{"$f":"'Market Data'!E2480","v":5862},{"$f":"'Market Data'!F2480","v":5875},null,2476,"Hidden","Long",null,1,0,"",null,1,"Stay Long",-4287.5,-76863.459999999992]
[null,{"$f":"'Market Data'!B2481","v":20090925},{"$f":"'Market Data'!C2481","v":5899},{"$f":"'Market Data'!D2481","v":5907},{"$f":"'Market Data'!E2481","v":5836.5},{"$f":"'Market Data'!F2481","v":5846.5},null,2477,"Hidden","Long",null,1,0,"",null,1,"Stay Long",-997.5,-77860.959999999992]
[null,{"$f":"'Market Data'!B2482","v":20090928},{"$f":"'Market Data'!C2482","v":5842.5},{"$f":"'Market Data'!D2482","v":6020},{"$f":"'Market Data'!E2482","v":5830.5},{"$f":"'Market Data'!F2482","v":6010.5},null,2478,"Hidden","Long",null,1,0,"",null,1,"Stay Long",5740,-72120.959999999992]
[null,{"$f":"'Market Data'!B2483","v":20090929},{"$f":"'Market Data'!C2483","v":6010.5},{"$f":"'Market Data'!D2483","v":6035.5},{"$f":"'Market Data'!E2483","v":5967},{"$f":"'Market Data'!F2483","v":5995},null,2479,"Hidden","Long",null,1,0,"",null,1,"Stay Long",-542.5,-72663.459999999992]
[null,{"$f":"'Market Data'!B2484","v":20090930},{"$f":"'Market Data'!C2484","v":5996},{"$f":"'Market Data'!D2484","v":6023},{"$f":"'Market Data'!E2484","v":5895.5},{"$f":"'Market Data'!F2484","v":5981.5},null,2480,"Hidden","Long",null,1,0,"",null,1,"Stay Long",-472.5,-73135.959999999992]
[null,{"$f":"'Market Data'!B2485","v":20091001},{"$f":"'Market Data'!C2485","v":5955.5},{"$f":"'Market Data'!D2485","v":6005.5},{"$f":"'Market Data'!E2485","v":5828.5},{"$f":"'Market Data'!F2485","v":5844},null,2481,"Hidden","Long",null,1,0,"",null,1,"Stay Long",-4812.5,-77948.459999999992]
[null,{"$f":"'Market Data'!B2486","v":20091002},{"$f":"'Market Data'!C2486","v":5798.5},{"$f":"'Market Data'!D2486","v":5814.5},{"$f":"'Market Data'!E2486","v":5720},{"$f":"'Market Data'!F2486","v":5748.5},null,2482,"Hidden","Long",null,1,0,"",null,1,"Stay Long",-3342.5,-81290.959999999992]
[null,{"$f":"'Market Data'!B2487","v":20091005},{"$f":"'Market Data'!C2487","v":5747},{"$f":"'Market Data'!D2487","v":5818.5},{"$f":"'Market Data'!E2487","v":5718.5},{"$f":"'Market Data'!F2487","v":5811.5},null,2483,"Hidden","Long",null,1,0,"",null,1,"Stay Long",2205,-79085.959999999992]
[null,{"$f":"'Market Data'!B2488","v":20091006},{"$f":"'Market Data'!C2488","v":5796.5},{"$f":"'Market Data'!D2488","v":5941.5},{"$f":"'Market Data'!E2488","v":5795.5},{"$f":"'Market Data'!F2488","v":5922},null,2484,"Hidden","Long",null,1,0,"",null,1,"Stay Long",3867.5,-75218.459999999992]
[null,{"$f":"'Market Data'!B2489","v":20091007},{"$f":"'Market Data'!C2489","v":5916.5},{"$f":"'Market Data'!D2489","v":5971.5},{"$f":"'Market Data'!E2489","v":5904.5},{"$f":"'Market Data'!F2489","v":5923.5},null,2485,"Hidden","Long",null,1,0,"",null,1,"Stay Long",52.5,-75165.959999999992]
[null,{"$f":"'Market Data'!B2490","v":20091008},{"$f":"'Market Data'!C2490","v":5997.5},{"$f":"'Market Data'!D2490","v":6010},{"$f":"'Market Data'!E2490","v":5944.5},{"$f":"'Market Data'!F2490","v":5998},null,2486,"Hidden","Long",null,1,0,"",null,1,"Stay Long",2607.5,-72558.459999999992]
[null,{"$f":"'Market Data'!B2491","v":20091009},{"$f":"'Market Data'!C2491","v":5990.5},{"$f":"'Market Data'!D2491","v":6027.5},{"$f":"'Market Data'!E2491","v":5952.5},{"$f":"'Market Data'!F2491","v":5987},null,2487,"Hidden","Long",null,1,0,"",null,1,"Stay Long",-385,-72943.459999999992]
[null,{"$f":"'Market Data'!B2492","v":20091012},{"$f":"'Market Data'!C2492","v":6009.5},{"$f":"'Market Data'!D2492","v":6095},{"$f":"'Market Data'!E2492","v":6009.5},{"$f":"'Market Data'!F2492","v":6061.5},null,2488,"Hidden","Long",null,1,0,"",null,1,"Stay Long",2607.5,-70335.959999999992]
[null,{"$f":"'Market Data'!B2493","v":20091013},{"$f":"'Market Data'!C2493","v":6049.5},{"$f":"'Market Data'!D2493","v":6068.5},{"$f":"'Market Data'!E2493","v":5974},{"$f":"'Market Data'!F2493","v":6010.5},null,2489,"Hidden","Long",null,1,0,"",null,1,"Stay Long",-1785,-72120.959999999992]
[null,{"$f":"'Market Data'!B2494","v":20091014},{"$f":"'Market Data'!C2494","v":6061.5},{"$f":"'Market Data'!D2494","v":6143.5},{"$f":"'Market Data'!E2494","v":6059.5},{"$f":"'Market Data'!F2494","v":6126},null,2490,"Hidden","Long",null,1,0,"",null,1,"Stay Long",4042.5,-68078.459999999992]
[null,{"$f":"'Market Data'!B2495","v":20091015},{"$f":"'Market Data'!C2495","v":6138.5},{"$f":"'Market Data'!D2495","v":6149.5},{"$f":"'Market Data'!E2495","v":6085.5},{"$f":"'Market Data'!F2495","v":6118},null,2491,"Hidden","Long",null,1,0,"",null,1,"Stay Long",-280,-68358.459999999992]
[null,{"$f":"'Market Data'!B2496","v":20091016},{"$f":"'Market Data'!C2496","v":6141.5},{"$f":"'Market Data'!D2496","v":6166.5},{"$f":"'Market Data'!E2496","v":6009},{"$f":"'Market Data'!F2496","v":6033.5},null,2492,"Hidden","Long",null,1,0,"",null,1,"Stay Long",-2957.5,-71315.959999999992]
[null,{"$f":"'Market Data'!B2497","v":20091019},{"$f":"'Market Data'!C2497","v":6046},{"$f":"'Market Data'!D2497","v":6137.5},{"$f":"'Market Data'!E2497","v":6038.5},{"$f":"'Market Data'!F2497","v":6120.5},null,2493,"Hidden","Long",null,1,0,"",null,1,"Stay Long",3045,-68270.959999999992]
[null,{"$f":"'Market Data'!B2498","v":20091020},{"$f":"'Market Data'!C2498","v":6134},{"$f":"'Market Data'!D2498","v":6170.5},{"$f":"'Market Data'!E2498","v":6062},{"$f":"'Market Data'!F2498","v":6072.5},null,2494,"Hidden","Long",null,1,0,"",null,1,"Stay Long",-1680,-69950.959999999992]
[null,{"$f":"'Market Data'!B2499","v":20091021},{"$f":"'Market Data'!C2499","v":6104.5},{"$f":"'Market Data'!D2499","v":6139},{"$f":"'Market Data'!E2499","v":6016},{"$f":"'Market Data'!F2499","v":6114.5},null,2495,"Hidden","Long",null,1,{"$f":"$L2512-P2512","v":0},"",null,1,"Stay Long",1470,-68480.959999999992]
[null,{"$f":"'Market Data'!B2500","v":20091022},{"$f":"'Market Data'!C2500","v":6049},{"$f":"'Market Data'!D2500","v":6059.5},{"$f":"'Market Data'!E2500","v":5990.5},{"$f":"'Market Data'!F2500","v":6052},null,2496,"Hidden","Long",null,1,0,"",null,{"$f":"IF($N2512=\"Fill\",$L2512,$P2512)","v":1},"Stay Long",{"$f":"IF(OR($P2512&$L2512=\"01\",$P2512&$L2512=\"0-1\"),(($F2513-$C2513)*$R$3*$L2512)-(ABS($M2512)*$R$4),IF(OR($P2512&$L2512=\"10\",$P2512&$L2512=\"-10\"),(($C2513-$F2512)*$R$3*$P2512)-(ABS($M2512)*$R$4),IF(OR($P2512&$L2512=\"1-1\",$P2512&$L2512=\"-11\"),(($C2513-$F2512)*$R$3*$P2512)-(ABS($M2512)*$R$4)+(($F2513-$C2513)*$R$3*$P2513),IF(OR($P2512&$L2512=\"11\",$P2512&$L2512=\"-1-1\"),(($F2513-$F2512)*$R$3*$P2513),0))))","v":-2187.5},-70668.459999999992]
[null,{"$f":"'Market Data'!B2501","v":20091023},{"$f":"'Market Data'!C2501","v":6108.5},{"$f":"'Market Data'!D2501","v":6128.5},{"$f":"'Market Data'!E2501","v":6009.5},{"$f":"'Market Data'!F2501","v":6036.5},null,{"$f":"ROW()-ROW(H$17)","v":2497},"Hidden",{"$f":"$I$4","v":"Long"},null,1,0,{"$f":"IF(NOT($M2514=0),\"Fill\",\"\")","v":""},null,1,{"$f":"IF($P2513&$L2513=\"00\",\"Stay Flat\",IF($P2513&$L2513=\"01\",\"Go Long\",IF($P2513&$L2513=\"0-1\",\"Go Short\",IF($P2513&$L2513=\"-10\",\"Exit Short\",IF($P2513&$L2513=\"-1-1\",\"Stay Short\",IF($P2513&$L2513=\"-11\",\"Exit Short, Go Long\",IF($P2513&$L2513=\"10\",\"Exit Long\",IF($P2513&$L2513=\"1-1\",\"Exit Long, Go Short\",IF($P2513&$L2513=\"11\",\"Stay Long\",\"\")))))))))","v":"Stay Long"},-542.5,{"$f":"S2513+R2514","v":-71210.959999999992}]
[null,{"$f":"'Market Data'!B2502","v":20091026},{"$f":"'Market Data'!C2502","v":6051.5},{"$f":"'Market Data'!D2502","v":6080.5},{"$f":"'Market Data'!E2502","v":5902},{"$f":"'Market Data'!F2502","v":5927},null,2498,"Hidden","Long",null,{"$f":"IF($J2515=\"Short\",-1,IF($J2515=\"Long\",1,0))","v":1},0,"",null,1,"Stay Long",-3832.5,-75043.459999999992]
[null,{"$f":"'Market Data'!B2503","v":20091027},{"$f":"'Market Data'!C2503","v":5932.5},{"$f":"'Market Data'!D2503","v":5953.5},{"$f":"'Market Data'!E2503","v":5877},{"$f":"'Market Data'!F2503","v":5898.5},null,2499,"Hidden","Long",null,1,0,"",null,1,"Stay Long",-997.5,-76040.959999999992]
[null,{"$f":"'Market Data'!B2504","v":20091028},{"$f":"'Market Data'!C2504","v":5897.5},{"$f":"'Market Data'!D2504","v":5908.5},{"$f":"'Market Data'!E2504","v":5751},{"$f":"'Market Data'!F2504","v":5774},null,2500,"Hidden","Long",null,1,0,"",null,1,"Stay Long",-4357.5,-80398.459999999992]
[null,{"$f":"'Market Data'!B2505","v":20091029},{"$f":"'Market Data'!C2505","v":5742.5},{"$f":"'Market Data'!D2505","v":5884.5},{"$f":"'Market Data'!E2505","v":5739.5},{"$f":"'Market Data'!F2505","v":5878},null,2501,"Hidden","Long",null,1,0,"",null,1,"Stay Long",3640,-76758.459999999992]
[null,{"$f":"'Market Data'!B2506","v":20091030},{"$f":"'Market Data'!C2506","v":5876},{"$f":"'Market Data'!D2506","v":5880},{"$f":"'Market Data'!E2506","v":5659},{"$f":"'Market Data'!F2506","v":5675.5},null,2502,"Hidden","Long",null,1,0,"",null,1,"Stay Long",-7087.5,-83845.959999999992]
[null,{"$f":"'Market Data'!B2507","v":20091102},{"$f":"'Market Data'!C2507","v":5689.5},{"$f":"'Market Data'!D2507","v":5752.5},{"$f":"'Market Data'!E2507","v":5616.5},{"$f":"'Market Data'!F2507","v":5616.5},null,2503,"Hidden","Long",null,1,0,"",null,1,"Stay Long",-2065,-85910.959999999992]
[null,{"$f":"'Market Data'!B2508","v":20091103},{"$f":"'Market Data'!C2508","v":5664},{"$f":"'Market Data'!D2508","v":5674.5},{"$f":"'Market Data'!E2508","v":5592.5},{"$f":"'Market Data'!F2508","v":5647},null,2504,"Hidden","Long",null,1,0,"",null,1,"Stay Long",1067.5,-84843.459999999992]
[null,{"$f":"'Market Data'!B2509","v":20091104},{"$f":"'Market Data'!C2509","v":5661.5},{"$f":"'Market Data'!D2509","v":5751},{"$f":"'Market Data'!E2509","v":5659},{"$f":"'Market Data'!F2509","v":5711.5},null,2505,"Hidden","Long",null,1,0,"",null,1,"Stay Long",2257.5,-82585.959999999992]
[null,{"$f":"'Market Data'!B2510","v":20091105},{"$f":"'Market Data'!C2510","v":5659.5},{"$f":"'Market Data'!D2510","v":5793},{"$f":"'Market Data'!E2510","v":5634.5},{"$f":"'Market Data'!F2510","v":5759},null,2506,"Hidden","Long",null,1,0,"",null,1,"Stay Long",1662.5,-80923.459999999992]
[null,{"$f":"'Market Data'!B2511","v":20091106},{"$f":"'Market Data'!C2511","v":5756.5},{"$f":"'Market Data'!D2511","v":5809.5},{"$f":"'Market Data'!E2511","v":5687.5},{"$f":"'Market Data'!F2511","v":5774},null,2507,"Hidden","Long",null,1,0,"",null,1,"Stay Long",525,-80398.459999999992]
[null,{"$f":"'Market Data'!B2512","v":20091109},{"$f":"'Market Data'!C2512","v":5805},{"$f":"'Market Data'!D2512","v":5919.5},{"$f":"'Market Data'!E2512","v":5805},{"$f":"'Market Data'!F2512","v":5916},null,2508,"Hidden","Long",null,1,0,"",null,1,"Stay Long",4970,-75428.459999999992]
[null,{"$f":"'Market Data'!B2513","v":20091110},{"$f":"'Market Data'!C2513","v":5911.5},{"$f":"'Market Data'!D2513","v":5930.5},{"$f":"'Market Data'!E2513","v":5873.5},{"$f":"'Market Data'!F2513","v":5885.5},null,2509,"Hidden","Long",null,1,0,"",null,1,"Stay Long",-1067.5,-76495.959999999992]
[null,{"$f":"'Market Data'!B2514","v":20091111},{"$f":"'Market Data'!C2514","v":5933.5},{"$f":"'Market Data'!D2514","v":5985},{"$f":"'Market Data'!E2514","v":5922.5},{"$f":"'Market Data'!F2514","v":5950},null,2510,"Hidden","Long",null,1,0,"",null,1,"Stay Long",2257.5,-74238.459999999992]
[null,{"$f":"'Market Data'!B2515","v":20091112},{"$f":"'Market Data'!C2515","v":5931},{"$f":"'Market Data'!D2515","v":6007},{"$f":"'Market Data'!E2515","v":5912},{"$f":"'Market Data'!F2515","v":5948},null,2511,"Hidden","Long",null,1,0,"",null,1,"Stay Long",-70,-74308.459999999992]
[null,{"$f":"'Market Data'!B2516","v":20091113},{"$f":"'Market Data'!C2516","v":5948},{"$f":"'Market Data'!D2516","v":5981},{"$f":"'Market Data'!E2516","v":5893},{"$f":"'Market Data'!F2516","v":5973.5},null,2512,"Hidden","Long",null,1,0,"",null,1,"Stay Long",892.5,-73415.959999999992]
[null,{"$f":"'Market Data'!B2517","v":20091116},{"$f":"'Market Data'!C2517","v":6011.5},{"$f":"'Market Data'!D2517","v":6093},{"$f":"'Market Data'!E2517","v":6008},{"$f":"'Market Data'!F2517","v":6078.5},null,2513,"Hidden","Long",null,1,0,"",null,1,"Stay Long",3675,-69740.959999999992]
[null,{"$f":"'Market Data'!B2518","v":20091117},{"$f":"'Market Data'!C2518","v":6063.5},{"$f":"'Market Data'!D2518","v":6084},{"$f":"'Market Data'!E2518","v":6039.5},{"$f":"'Market Data'!F2518","v":6073},null,2514,"Hidden","Long",null,1,0,"",null,1,"Stay Long",-192.5,-69933.459999999992]
[null,{"$f":"'Market Data'!B2519","v":20091118},{"$f":"'Market Data'!C2519","v":6086},{"$f":"'Market Data'!D2519","v":6124},{"$f":"'Market Data'!E2519","v":6048.5},{"$f":"'Market Data'!F2519","v":6066},null,2515,"Hidden","Long",null,1,0,"",null,1,"Stay Long",-245,-70178.459999999992]
[null,{"$f":"'Market Data'!B2520","v":20091119},{"$f":"'Market Data'!C2520","v":6076.5},{"$f":"'Market Data'!D2520","v":6076.5},{"$f":"'Market Data'!E2520","v":5966.5},{"$f":"'Market Data'!F2520","v":5991},null,2516,"Hidden","Long",null,1,0,"",null,1,"Stay Long",-2625,-72803.459999999992]
[null,{"$f":"'Market Data'!B2521","v":20091120},{"$f":"'Market Data'!C2521","v":6012.5},{"$f":"'Market Data'!D2521","v":6026.5},{"$f":"'Market Data'!E2521","v":5914},{"$f":"'Market Data'!F2521","v":5950},null,2517,"Hidden","Long",null,1,0,"",null,1,"Stay Long",-1435,-74238.459999999992]
[null,{"$f":"'Market Data'!B2522","v":20091123},{"$f":"'Market Data'!C2522","v":5987.5},{"$f":"'Market Data'!D2522","v":6103.5},{"$f":"'Market Data'!E2522","v":5987.5},{"$f":"'Market Data'!F2522","v":6065.5},null,2518,"Hidden","Long",null,1,0,"",null,1,"Stay Long",4042.5,-70195.959999999992]
[null,{"$f":"'Market Data'!B2523","v":20091124},{"$f":"'Market Data'!C2523","v":6035.5},{"$f":"'Market Data'!D2523","v":6095.5},{"$f":"'Market Data'!E2523","v":6024},{"$f":"'Market Data'!F2523","v":6049},null,2519,"Hidden","Long",null,1,0,"",null,1,"Stay Long",-577.5,-70773.459999999992]
[null,{"$f":"'Market Data'!B2524","v":20091125},{"$f":"'Market Data'!C2524","v":6106.5},{"$f":"'Market Data'!D2524","v":6112.5},{"$f":"'Market Data'!E2524","v":6031},{"$f":"'Market Data'!F2524","v":6072.5},null,2520,"Hidden","Long",null,1,0,"",null,1,"Stay Long",822.5,-69950.959999999992]
[null,{"$f":"'Market Data'!B2525","v":20091126},{"$f":"'Market Data'!C2525","v":6051.5},{"$f":"'Market Data'!D2525","v":6055},{"$f":"'Market Data'!E2525","v":5872.5},{"$f":"'Market Data'!F2525","v":5899},null,2521,"Hidden","Long",null,1,0,"",null,1,"Stay Long",-6072.5,-76023.459999999992]
[null,{"$f":"'Market Data'!B2526","v":20091127},{"$f":"'Market Data'!C2526","v":5837.5},{"$f":"'Market Data'!D2526","v":5999},{"$f":"'Market Data'!E2526","v":5786},{"$f":"'Market Data'!F2526","v":5949.5},null,2522,"Hidden","Long",null,1,0,"",null,1,"Stay Long",1767.5,-74255.959999999992]
[null,{"$f":"'Market Data'!B2527","v":20091130},{"$f":"'Market Data'!C2527","v":5970.5},{"$f":"'Market Data'!D2527","v":6000},{"$f":"'Market Data'!E2527","v":5884.5},{"$f":"'Market Data'!F2527","v":5899.5},null,2523,"Hidden","Long",null,1,0,"",null,1,"Stay Long",-1750,-76005.959999999992]
[null,{"$f":"'Market Data'!B2528","v":20091201},{"$f":"'Market Data'!C2528","v":5951.5},{"$f":"'Market Data'!D2528","v":6063},{"$f":"'Market Data'!E2528","v":5949.5},{"$f":"'Market Data'!F2528","v":6051.5},null,2524,"Hidden","Long",null,1,0,"",null,1,"Stay Long",5320,-70685.959999999992]
[null,{"$f":"'Market Data'!B2529","v":20091202},{"$f":"'Market Data'!C2529","v":6051.5},{"$f":"'Market Data'!D2529","v":6092.5},{"$f":"'Market Data'!E2529","v":6030},{"$f":"'Market Data'!F2529","v":6053},null,2525,"Hidden","Long",null,1,0,"",null,1,"Stay Long",52.5,-70633.459999999992]
[null,{"$f":"'Market Data'!B2530","v":20091203},{"$f":"'Market Data'!C2530","v":6106.5},{"$f":"'Market Data'!D2530","v":6133},{"$f":"'Market Data'!E2530","v":6033.5},{"$f":"'Market Data'!F2530","v":6054.5},null,2526,"Hidden","Long",null,1,0,"",null,1,"Stay Long",52.5,-70580.959999999992]
[null,{"$f":"'Market Data'!B2531","v":20091204},{"$f":"'Market Data'!C2531","v":6020.5},{"$f":"'Market Data'!D2531","v":6138.5},{"$f":"'Market Data'!E2531","v":6001},{"$f":"'Market Data'!F2531","v":6075.5},null,2527,"Hidden","Long",null,1,0,"",null,1,"Stay Long",735,-69845.959999999992]
[null,{"$f":"'Market Data'!B2532","v":20091207},{"$f":"'Market Data'!C2532","v":6072.5},{"$f":"'Market Data'!D2532","v":6091},{"$f":"'Market Data'!E2532","v":6020.5},{"$f":"'Market Data'!F2532","v":6072.5},null,2528,"Hidden","Long",null,1,0,"",null,1,"Stay Long",-105,-69950.959999999992]
[null,{"$f":"'Market Data'!B2533","v":20091208},{"$f":"'Market Data'!C2533","v":6071.5},{"$f":"'Market Data'!D2533","v":6088.5},{"$f":"'Market Data'!E2533","v":5934.5},{"$f":"'Market Data'!F2533","v":5955.5},null,2529,"Hidden","Long",null,1,0,"",null,1,"Stay Long",-4095,-74045.959999999992]
[null,{"$f":"'Market Data'!B2534","v":20091209},{"$f":"'Market Data'!C2534","v":5946.5},{"$f":"'Market Data'!D2534","v":5996},{"$f":"'Market Data'!E2534","v":5881},{"$f":"'Market Data'!F2534","v":5920},null,2530,"Hidden","Long",null,1,0,"",null,1,"Stay Long",-1242.5,-75288.459999999992]
[null,{"$f":"'Market Data'!B2535","v":20091210},{"$f":"'Market Data'!C2535","v":5924.5},{"$f":"'Market Data'!D2535","v":6020},{"$f":"'Market Data'!E2535","v":5913.5},{"$f":"'Market Data'!F2535","v":5984.5},null,2531,"Hidden","Long",null,1,0,"",null,1,"Stay Long",2257.5,-73030.959999999992]
[null,{"$f":"'Market Data'!B2536","v":20091211},{"$f":"'Market Data'!C2536","v":5996.5},{"$f":"'Market Data'!D2536","v":6075},{"$f":"'Market Data'!E2536","v":5994.5},{"$f":"'Market Data'!F2536","v":6041},null,2532,"Hidden","Long",null,1,0,"",null,1,"Stay Long",1977.5,-71053.459999999992]
[null,{"$f":"'Market Data'!B2537","v":20091214},{"$f":"'Market Data'!C2537","v":6100.5},{"$f":"'Market Data'!D2537","v":6117.5},{"$f":"'Market Data'!E2537","v":6055},{"$f":"'Market Data'!F2537","v":6083},null,2533,"Hidden","Long",null,1,0,"",null,1,"Stay Long",1470,-69583.459999999992]
[null,{"$f":"'Market Data'!B2538","v":20091215},{"$f":"'Market Data'!C2538","v":6104.5},{"$f":"'Market Data'!D2538","v":6107},{"$f":"'Market Data'!E2538","v":6028},{"$f":"'Market Data'!F2538","v":6088},null,2534,"Hidden","Long",null,1,0,"",null,1,"Stay Long",175,-69408.459999999992]
[null,{"$f":"'Market Data'!B2539","v":20091216},{"$f":"'Market Data'!C2539","v":6089},{"$f":"'Market Data'!D2539","v":6183.5},{"$f":"'Market Data'!E2539","v":6080.5},{"$f":"'Market Data'!F2539","v":6174.5},null,2535,"Hidden","Long",null,1,0,"",null,1,"Stay Long",3027.5,-66380.959999999992]
[null,{"$f":"'Market Data'!B2540","v":20091217},{"$f":"'Market Data'!C2540","v":6138.5},{"$f":"'Market Data'!D2540","v":6168.5},{"$f":"'Market Data'!E2540","v":6099},{"$f":"'Market Data'!F2540","v":6106},null,2536,"Hidden","Long",null,1,0,"",null,1,"Stay Long",-2397.5,-68778.459999999992]
[null,{"$f":"'Market Data'!B2541","v":20091218},{"$f":"'Market Data'!C2541","v":6129.5},{"$f":"'Market Data'!D2541","v":6177.5},{"$f":"'Market Data'!E2541","v":6092.5},{"$f":"'Market Data'!F2541","v":6114.5},null,2537,"Hidden","Long",null,1,0,"",null,1,"Stay Long",297.5,-68480.959999999992]
[null,{"$f":"'Market Data'!B2542","v":20091221},{"$f":"'Market Data'!C2542","v":6134.5},{"$f":"'Market Data'!D2542","v":6216.5},{"$f":"'Market Data'!E2542","v":6121},{"$f":"'Market Data'!F2542","v":6206.5},null,2538,"Hidden","Long",null,1,0,"",null,1,"Stay Long",3220,-65260.959999999992]
[null,{"$f":"'Market Data'!B2543","v":20091222},{"$f":"'Market Data'!C2543","v":6210},{"$f":"'Market Data'!D2543","v":6258.5},{"$f":"'Market Data'!E2543","v":6203},{"$f":"'Market Data'!F2543","v":6237},null,2539,"Hidden","Long",null,1,0,"",null,1,"Stay Long",1067.5,-64193.459999999992]
[null,{"$f":"'Market Data'!B2544","v":20091223},{"$f":"'Market Data'!C2544","v":6263.5},{"$f":"'Market Data'!D2544","v":6267},{"$f":"'Market Data'!E2544","v":6210.5},{"$f":"'Market Data'!F2544","v":6236.5},null,2540,"Hidden","Long",null,1,0,"",null,1,"Stay Long",-17.5,-64210.959999999992]
[null,{"$f":"'Market Data'!B2545","v":20091228},{"$f":"'Market Data'!C2545","v":6303.5},{"$f":"'Market Data'!D2545","v":6304.5},{"$f":"'Market Data'!E2545","v":6256},{"$f":"'Market Data'!F2545","v":6282.5},null,2541,"Hidden","Long",null,1,0,"",null,1,"Stay Long",1610,-62600.959999999992]
[null,{"$f":"'Market Data'!B2546","v":20091229},{"$f":"'Market Data'!C2546","v":6305.5},{"$f":"'Market Data'!D2546","v":6308.5},{"$f":"'Market Data'!E2546","v":6275.5},{"$f":"'Market Data'!F2546","v":6290.5},null,2542,"Hidden","Long",null,1,0,"",null,1,"Stay Long",280,-62320.959999999992]
[null,{"$f":"'Market Data'!B2547","v":20091230},{"$f":"'Market Data'!C2547","v":6282.5},{"$f":"'Market Data'!D2547","v":6286},{"$f":"'Market Data'!E2547","v":6225},{"$f":"'Market Data'!F2547","v":6228},null,2543,"Hidden","Long",null,1,0,"",null,1,"Stay Long",-2187.5,-64508.459999999992]
[null,{"$f":"'Market Data'!B2548","v":20100104},{"$f":"'Market Data'!C2548","v":6271.5},{"$f":"'Market Data'!D2548","v":6331.5},{"$f":"'Market Data'!E2548","v":6249},{"$f":"'Market Data'!F2548","v":6323.5},null,2544,"Hidden","Long",null,1,0,"",null,1,"Stay Long",3342.5,-61165.959999999992]
[null,{"$f":"'Market Data'!B2549","v":20100105},{"$f":"'Market Data'!C2549","v":6300.5},{"$f":"'Market Data'!D2549","v":6333},{"$f":"'Market Data'!E2549","v":6285.5},{"$f":"'Market Data'!F2549","v":6307},null,2545,"Hidden","Long",null,1,0,"",null,1,"Stay Long",-577.5,-61743.459999999992]
[null,{"$f":"'Market Data'!B2550","v":20100106},{"$f":"'Market Data'!C2550","v":6303.5},{"$f":"'Market Data'!D2550","v":6322},{"$f":"'Market Data'!E2550","v":6272.5},{"$f":"'Market Data'!F2550","v":6306.5},null,2546,"Hidden","Long",null,1,0,"",null,1,"Stay Long",-17.5,-61760.959999999992]
[null,{"$f":"'Market Data'!B2551","v":20100107},{"$f":"'Market Data'!C2551","v":6296},{"$f":"'Market Data'!D2551","v":6313},{"$f":"'Market Data'!E2551","v":6234.5},{"$f":"'Market Data'!F2551","v":6301.5},null,2547,"Hidden","Long",null,1,0,"",null,1,"Stay Long",-175,-61935.959999999992]
[null,{"$f":"'Market Data'!B2552","v":20100108},{"$f":"'Market Data'!C2552","v":6328.5},{"$f":"'Market Data'!D2552","v":6331.5},{"$f":"'Market Data'!E2552","v":6244},{"$f":"'Market Data'!F2552","v":6307.5},null,2548,"Hidden","Long",null,1,0,"",null,1,"Stay Long",210,-61725.959999999992]
[null,{"$f":"'Market Data'!B2553","v":20100111},{"$f":"'Market Data'!C2553","v":6353.5},{"$f":"'Market Data'!D2553","v":6369},{"$f":"'Market Data'!E2553","v":6304.5},{"$f":"'Market Data'!F2553","v":6315},null,2549,"Hidden","Long",null,1,0,"",null,1,"Stay Long",262.5,-61463.459999999992]
[null,{"$f":"'Market Data'!B2554","v":20100112},{"$f":"'Market Data'!C2554","v":6324.5},{"$f":"'Market Data'!D2554","v":6330},{"$f":"'Market Data'!E2554","v":6191},{"$f":"'Market Data'!F2554","v":6195.5},null,2550,"Hidden","Long",null,1,0,"",null,1,"Stay Long",-4182.5,-65645.959999999992]
[null,{"$f":"'Market Data'!B2555","v":20100113},{"$f":"'Market Data'!C2555","v":6214},{"$f":"'Market Data'!D2555","v":6273.5},{"$f":"'Market Data'!E2555","v":6199.5},{"$f":"'Market Data'!F2555","v":6266},null,2551,"Hidden","Long",null,1,0,"",null,1,"Stay Long",2467.5,-63178.459999999992]
[null,{"$f":"'Market Data'!B2556","v":20100114},{"$f":"'Market Data'!C2556","v":6280},{"$f":"'Market Data'!D2556","v":6285},{"$f":"'Market Data'!E2556","v":6223.5},{"$f":"'Market Data'!F2556","v":6266},null,2552,"Hidden","Long",null,1,0,"",null,1,"Stay Long",0,-63178.459999999992]
[null,{"$f":"'Market Data'!B2557","v":20100115},{"$f":"'Market Data'!C2557","v":6264},{"$f":"'Market Data'!D2557","v":6301.5},{"$f":"'Market Data'!E2557","v":6132.5},{"$f":"'Market Data'!F2557","v":6140.5},null,2553,"Hidden","Long",null,1,0,"",null,1,"Stay Long",-4392.5,-67570.959999999992]
[null,{"$f":"'Market Data'!B2558","v":20100118},{"$f":"'Market Data'!C2558","v":6178.5},{"$f":"'Market Data'!D2558","v":6196.5},{"$f":"'Market Data'!E2558","v":6151},{"$f":"'Market Data'!F2558","v":6189.5},null,2554,"Hidden","Long",null,1,0,"",null,1,"Stay Long",1715,-65855.959999999992]
[null,{"$f":"'Market Data'!B2559","v":20100119},{"$f":"'Market Data'!C2559","v":6173.5},{"$f":"'Market Data'!D2559","v":6266.5},{"$f":"'Market Data'!E2559","v":6120.5},{"$f":"'Market Data'!F2559","v":6261},null,2555,"Hidden","Long",null,1,0,"",null,1,"Stay Long",2502.5,-63353.459999999992]
[null,{"$f":"'Market Data'!B2560","v":20100120},{"$f":"'Market Data'!C2560","v":6234.5},{"$f":"'Market Data'!D2560","v":6246},{"$f":"'Market Data'!E2560","v":6103},{"$f":"'Market Data'!F2560","v":6129.5},null,2556,"Hidden","Long",null,1,0,"",null,1,"Stay Long",-4602.5,-67955.959999999992]
[null,{"$f":"'Market Data'!B2561","v":20100121},{"$f":"'Market Data'!C2561","v":6174.5},{"$f":"'Market Data'!D2561","v":6182.5},{"$f":"'Market Data'!E2561","v":5958},{"$f":"'Market Data'!F2561","v":5986},null,2557,"Hidden","Long",null,1,0,"",null,1,"Stay Long",-5022.5,-72978.459999999992]
[null,{"$f":"'Market Data'!B2562","v":20100122},{"$f":"'Market Data'!C2562","v":5994.5},{"$f":"'Market Data'!D2562","v":6013},{"$f":"'Market Data'!E2562","v":5909.5},{"$f":"'Market Data'!F2562","v":5929.5},null,2558,"Hidden","Long",null,1,0,"",null,1,"Stay Long",-1977.5,-74955.959999999992]
[null,{"$f":"'Market Data'!B2563","v":20100125},{"$f":"'Market Data'!C2563","v":5886.5},{"$f":"'Market Data'!D2563","v":5965.5},{"$f":"'Market Data'!E2563","v":5881},{"$f":"'Market Data'!F2563","v":5912.5},null,2559,"Hidden","Long",null,1,{"$f":"$L2576-P2576","v":0},"",null,1,"Stay Long",-595,-75550.959999999992]
[null,{"$f":"'Market Data'!B2564","v":20100126},{"$f":"'Market Data'!C2564","v":5825.5},{"$f":"'Market Data'!D2564","v":5957.5},{"$f":"'Market Data'!E2564","v":5818},{"$f":"'Market Data'!F2564","v":5955.5},null,2560,"Hidden","Long",null,1,0,"",null,{"$f":"IF($N2576=\"Fill\",$L2576,$P2576)","v":1},"Stay Long",{"$f":"IF(OR($P2576&$L2576=\"01\",$P2576&$L2576=\"0-1\"),(($F2577-$C2577)*$R$3*$L2576)-(ABS($M2576)*$R$4),IF(OR($P2576&$L2576=\"10\",$P2576&$L2576=\"-10\"),(($C2577-$F2576)*$R$3*$P2576)-(ABS($M2576)*$R$4),IF(OR($P2576&$L2576=\"1-1\",$P2576&$L2576=\"-11\"),(($C2577-$F2576)*$R$3*$P2576)-(ABS($M2576)*$R$4)+(($F2577-$C2577)*$R$3*$P2577),IF(OR($P2576&$L2576=\"11\",$P2576&$L2576=\"-1-1\"),(($F2577-$F2576)*$R$3*$P2577),0))))","v":1505},-74045.959999999992]
[null,{"$f":"'Market Data'!B2565","v":20100127},{"$f":"'Market Data'!C2565","v":5887},{"$f":"'Market Data'!D2565","v":5943.5},{"$f":"'Market Data'!E2565","v":5859},{"$f":"'Market Data'!F2565","v":5905.5},null,{"$f":"ROW()-ROW(H$17)","v":2561},"Hidden",{"$f":"$I$4","v":"Long"},null,1,0,{"$f":"IF(NOT($M2578=0),\"Fill\",\"\")","v":""},null,1,{"$f":"IF($P2577&$L2577=\"00\",\"Stay Flat\",IF($P2577&$L2577=\"01\",\"Go Long\",IF($P2577&$L2577=\"0-1\",\"Go Short\",IF($P2577&$L2577=\"-10\",\"Exit Short\",IF($P2577&$L2577=\"-1-1\",\"Stay Short\",IF($P2577&$L2577=\"-11\",\"Exit Short, Go Long\",IF($P2577&$L2577=\"10\",\"Exit Long\",IF($P2577&$L2577=\"1-1\",\"Exit Long, Go Short\",IF($P2577&$L2577=\"11\",\"Stay Long\",\"\")))))))))","v":"Stay Long"},-1750,{"$f":"S2577+R2578","v":-75795.959999999992}]
[null,{"$f":"'Market Data'!B2566","v":20100128},{"$f":"'Market Data'!C2566","v":5976.5},{"$f":"'Market Data'!D2566","v":5997.5},{"$f":"'Market Data'!E2566","v":5804.5},{"$f":"'Market Data'!F2566","v":5837.5},null,2562,"Hidden","Long",null,{"$f":"IF($J2579=\"Short\",-1,IF($J2579=\"Long\",1,0))","v":1},0,"",null,1,"Stay Long",-2380,-78175.959999999992]
[null,{"$f":"'Market Data'!B2567","v":20100129},{"$f":"'Market Data'!C2567","v":5828.5},{"$f":"'Market Data'!D2567","v":5928.5},{"$f":"'Market Data'!E2567","v":5825},{"$f":"'Market Data'!F2567","v":5882.5},null,2563,"Hidden","Long",null,1,0,"",null,1,"Stay Long",1575,-76600.959999999992]
[null,{"$f":"'Market Data'!B2568","v":20100201},{"$f":"'Market Data'!C2568","v":5833.5},{"$f":"'Market Data'!D2568","v":5945.5},{"$f":"'Market Data'!E2568","v":5833.5},{"$f":"'Market Data'!F2568","v":5914.5},null,2564,"Hidden","Long",null,1,0,"",null,1,"Stay Long",1120,-75480.959999999992]
[null,{"$f":"'Market Data'!B2569","v":20100202},{"$f":"'Market Data'!C2569","v":5910.5},{"$f":"'Market Data'!D2569","v":5993},{"$f":"'Market Data'!E2569","v":5894},{"$f":"'Market Data'!F2569","v":5985.5},null,2565,"Hidden","Long",null,1,0,"",null,1,"Stay Long",2485,-72995.959999999992]
[null,{"$f":"'Market Data'!B2570","v":20100203},{"$f":"'Market Data'!C2570","v":6008},{"$f":"'Market Data'!D2570","v":6008.5},{"$f":"'Market Data'!E2570","v":5925},{"$f":"'Market Data'!F2570","v":5948},null,2566,"Hidden","Long",null,1,0,"",null,1,"Stay Long",-1312.5,-74308.459999999992]
[null,{"$f":"'Market Data'!B2571","v":20100204},{"$f":"'Market Data'!C2571","v":5963.5},{"$f":"'Market Data'!D2571","v":5966.5},{"$f":"'Market Data'!E2571","v":5782},{"$f":"'Market Data'!F2571","v":5807},null,2567,"Hidden","Long",null,1,0,"",null,1,"Stay Long",-4935,-79243.459999999992]
[null,{"$f":"'Market Data'!B2572","v":20100205},{"$f":"'Market Data'!C2572","v":5804.5},{"$f":"'Market Data'!D2572","v":5805.5},{"$f":"'Market Data'!E2572","v":5688.5},{"$f":"'Market Data'!F2572","v":5706},null,2568,"Hidden","Long",null,1,0,"",null,1,"Stay Long",-3535,-82778.459999999992]
[null,{"$f":"'Market Data'!B2573","v":20100208},{"$f":"'Market Data'!C2573","v":5712},{"$f":"'Market Data'!D2573","v":5776.5},{"$f":"'Market Data'!E2573","v":5705.5},{"$f":"'Market Data'!F2573","v":5747},null,2569,"Hidden","Long",null,1,0,"",null,1,"Stay Long",1435,-81343.459999999992]
[null,{"$f":"'Market Data'!B2574","v":20100209},{"$f":"'Market Data'!C2574","v":5733.5},{"$f":"'Market Data'!D2574","v":5840},{"$f":"'Market Data'!E2574","v":5730.5},{"$f":"'Market Data'!F2574","v":5817.5},null,2570,"Hidden","Long",null,1,0,"",null,1,"Stay Long",2467.5,-78875.959999999992]
[null,{"$f":"'Market Data'!B2575","v":20100210},{"$f":"'Market Data'!C2575","v":5803.5},{"$f":"'Market Data'!D2575","v":5863.5},{"$f":"'Market Data'!E2575","v":5774.5},{"$f":"'Market Data'!F2575","v":5803.5},null,2571,"Hidden","Long",null,1,0,"",null,1,"Stay Long",-490,-79365.959999999992]
[null,{"$f":"'Market Data'!B2576","v":20100211},{"$f":"'Market Data'!C2576","v":5836.5},{"$f":"'Market Data'!D2576","v":5852.5},{"$f":"'Market Data'!E2576","v":5724},{"$f":"'Market Data'!F2576","v":5805.5},null,2572,"Hidden","Long",null,1,0,"",null,1,"Stay Long",70,-79295.959999999992]
[null,{"$f":"'Market Data'!B2577","v":20100212},{"$f":"'Market Data'!C2577","v":5837.5},{"$f":"'Market Data'!D2577","v":5838.5},{"$f":"'Market Data'!E2577","v":5729},{"$f":"'Market Data'!F2577","v":5784},null,2573,"Hidden","Long",null,1,0,"",null,1,"Stay Long",-752.5,-80048.459999999992]
[null,{"$f":"'Market Data'!B2578","v":20100215},{"$f":"'Market Data'!C2578","v":5793.5},{"$f":"'Market Data'!D2578","v":5817.5},{"$f":"'Market Data'!E2578","v":5770.5},{"$f":"'Market Data'!F2578","v":5787.5},null,2574,"Hidden","Long",null,1,0,"",null,1,"Stay Long",122.5,-79925.959999999992]
[null,{"$f":"'Market Data'!B2579","v":20100216},{"$f":"'Market Data'!C2579","v":5800.5},{"$f":"'Market Data'!D2579","v":5876.5},{"$f":"'Market Data'!E2579","v":5765},{"$f":"'Market Data'!F2579","v":5863},null,2575,"Hidden","Long",null,1,0,"",null,1,"Stay Long",2642.5,-77283.459999999992]
[null,{"$f":"'Market Data'!B2580","v":20100217},{"$f":"'Market Data'!C2580","v":5895},{"$f":"'Market Data'!D2580","v":5952},{"$f":"'Market Data'!E2580","v":5881.5},{"$f":"'Market Data'!F2580","v":5924.5},null,2576,"Hidden","Long",null,1,0,"",null,1,"Stay Long",2152.5,-75130.959999999992]
[null,{"$f":"'Market Data'!B2581","v":20100218},{"$f":"'Market Data'!C2581","v":5922.5},{"$f":"'Market Data'!D2581","v":5962},{"$f":"'Market Data'!E2581","v":5894.5},{"$f":"'Market Data'!F2581","v":5948},null,2577,"Hidden","Long",null,1,0,"",null,1,"Stay Long",822.5,-74308.459999999992]
[null,{"$f":"'Market Data'!B2582","v":20100219},{"$f":"'Market Data'!C2582","v":5908.5},{"$f":"'Market Data'!D2582","v":6000.5},{"$f":"'Market Data'!E2582","v":5895.5},{"$f":"'Market Data'!F2582","v":5987.5},null,2578,"Hidden","Long",null,1,0,"",null,1,"Stay Long",1382.5,-72925.959999999992]
[null,{"$f":"'Market Data'!B2583","v":20100222},{"$f":"'Market Data'!C2583","v":5993.5},{"$f":"'Market Data'!D2583","v":6026},{"$f":"'Market Data'!E2583","v":5951.5},{"$f":"'Market Data'!F2583","v":5963.5},null,2579,"Hidden","Long",null,1,0,"",null,1,"Stay Long",-840,-73765.959999999992]
[null,{"$f":"'Market Data'!B2584","v":20100223},{"$f":"'Market Data'!C2584","v":5973.5},{"$f":"'Market Data'!D2584","v":6002.5},{"$f":"'Market Data'!E2584","v":5852.5},{"$f":"'Market Data'!F2584","v":5873.5},null,2580,"Hidden","Long",null,1,0,"",null,1,"Stay Long",-3150,-76915.959999999992]
[null,{"$f":"'Market Data'!B2585","v":20100224},{"$f":"'Market Data'!C2585","v":5903.5},{"$f":"'Market Data'!D2585","v":5910.5},{"$f":"'Market Data'!E2585","v":5840.5},{"$f":"'Market Data'!F2585","v":5886.5},null,2581,"Hidden","Long",null,1,0,"",null,1,"Stay Long",455,-76460.959999999992]
[null,{"$f":"'Market Data'!B2586","v":20100225},{"$f":"'Market Data'!C2586","v":5865},{"$f":"'Market Data'!D2586","v":5927},{"$f":"'Market Data'!E2586","v":5787},{"$f":"'Market Data'!F2586","v":5816},null,2582,"Hidden","Long",null,1,0,"",null,1,"Stay Long",-2467.5,-78928.459999999992]
[null,{"$f":"'Market Data'!B2587","v":20100226},{"$f":"'Market Data'!C2587","v":5865.5},{"$f":"'Market Data'!D2587","v":5879},{"$f":"'Market Data'!E2587","v":5799},{"$f":"'Market Data'!F2587","v":5861.5},null,2583,"Hidden","Long",null,1,0,"",null,1,"Stay Long",1592.5,-77335.959999999992]
[null,{"$f":"'Market Data'!B2588","v":20100301},{"$f":"'Market Data'!C2588","v":5910.5},{"$f":"'Market Data'!D2588","v":5988.5},{"$f":"'Market Data'!E2588","v":5906},{"$f":"'Market Data'!F2588","v":5980},null,2584,"Hidden","Long",null,1,0,"",null,1,"Stay Long",4147.5,-73188.459999999992]
[null,{"$f":"'Market Data'!B2589","v":20100302},{"$f":"'Market Data'!C2589","v":5993.5},{"$f":"'Market Data'!D2589","v":6052},{"$f":"'Market Data'!E2589","v":5979.5},{"$f":"'Market Data'!F2589","v":6041.5},null,2585,"Hidden","Long",null,1,0,"",null,1,"Stay Long",2152.5,-71035.959999999992]
[null,{"$f":"'Market Data'!B2590","v":20100303},{"$f":"'Market Data'!C2590","v":6026.5},{"$f":"'Market Data'!D2590","v":6100},{"$f":"'Market Data'!E2590","v":6026.5},{"$f":"'Market Data'!F2590","v":6073},null,2586,"Hidden","Long",null,1,0,"",null,1,"Stay Long",1102.5,-69933.459999999992]
[null,{"$f":"'Market Data'!B2591","v":20100304},{"$f":"'Market Data'!C2591","v":6043.5},{"$f":"'Market Data'!D2591","v":6093.5},{"$f":"'Market Data'!E2591","v":6033},{"$f":"'Market Data'!F2591","v":6063.5},null,2587,"Hidden","Long",null,1,0,"",null,1,"Stay Long",-332.5,-70265.959999999992]
[null,{"$f":"'Market Data'!B2592","v":20100305},{"$f":"'Market Data'!C2592","v":6083.5},{"$f":"'Market Data'!D2592","v":6150.5},{"$f":"'Market Data'!E2592","v":6077},{"$f":"'Market Data'!F2592","v":6143.5},null,2588,"Hidden","Long",null,1,0,"",null,1,"Stay Long",2800,-67465.959999999992]
[null,{"$f":"'Market Data'!B2593","v":20100308},{"$f":"'Market Data'!C2593","v":6178.5},{"$f":"'Market Data'!D2593","v":6183},{"$f":"'Market Data'!E2593","v":6135},{"$f":"'Market Data'!F2593","v":6152},null,2589,"Hidden","Long",null,1,0,"",null,1,"Stay Long",297.5,-67168.459999999992]
[null,{"$f":"'Market Data'!B2594","v":20100309},{"$f":"'Market Data'!C2594","v":6144},{"$f":"'Market Data'!D2594","v":6178},{"$f":"'Market Data'!E2594","v":6107},{"$f":"'Market Data'!F2594","v":6176},null,2590,"Hidden","Long",null,1,0,"",null,1,"Stay Long",840,-66328.459999999992]
[null,{"$f":"'Market Data'!B2595","v":20100310},{"$f":"'Market Data'!C2595","v":6164.5},{"$f":"'Market Data'!D2595","v":6224.5},{"$f":"'Market Data'!E2595","v":6142.5},{"$f":"'Market Data'!F2595","v":6193},null,2591,"Hidden","Long",null,1,0,"",null,1,"Stay Long",595,-65733.459999999992]
[null,{"$f":"'Market Data'!B2596","v":20100311},{"$f":"'Market Data'!C2596","v":6188.5},{"$f":"'Market Data'!D2596","v":6224},{"$f":"'Market Data'!E2596","v":6175.5},{"$f":"'Market Data'!F2596","v":6197.5},null,2592,"Hidden","Long",null,1,0,"",null,1,"Stay Long",157.5,-65575.959999999992]
[null,{"$f":"'Market Data'!B2597","v":20100312},{"$f":"'Market Data'!C2597","v":6214},{"$f":"'Market Data'!D2597","v":6259.5},{"$f":"'Market Data'!E2597","v":6202.5},{"$f":"'Market Data'!F2597","v":6211},null,2593,"Hidden","Long",null,1,0,"",null,1,"Stay Long",472.5,-65103.459999999992]
[null,{"$f":"'Market Data'!B2598","v":20100315},{"$f":"'Market Data'!C2598","v":6207.5},{"$f":"'Market Data'!D2598","v":6222.5},{"$f":"'Market Data'!E2598","v":6166.5},{"$f":"'Market Data'!F2598","v":6188},null,2594,"Hidden","Long",null,1,0,"",null,1,"Stay Long",-805,-65908.459999999992]
[null,{"$f":"'Market Data'!B2599","v":20100316},{"$f":"'Market Data'!C2599","v":6217},{"$f":"'Market Data'!D2599","v":6260.5},{"$f":"'Market Data'!E2599","v":6197.5},{"$f":"'Market Data'!F2599","v":6229},null,2595,"Hidden","Long",null,1,0,"",null,1,"Stay Long",1435,-64473.459999999992]
[null,{"$f":"'Market Data'!B2600","v":20100317},{"$f":"'Market Data'!C2600","v":6267},{"$f":"'Market Data'!D2600","v":6305.5},{"$f":"'Market Data'!E2600","v":6259},{"$f":"'Market Data'!F2600","v":6300.5},null,2596,"Hidden","Long",null,1,0,"",null,1,"Stay Long",2502.5,-61970.959999999992]
[null,{"$f":"'Market Data'!B2601","v":20100318},{"$f":"'Market Data'!C2601","v":6278.5},{"$f":"'Market Data'!D2601","v":6309},{"$f":"'Market Data'!E2601","v":6264},{"$f":"'Market Data'!F2601","v":6292},null,2597,"Hidden","Long",null,1,0,"",null,1,"Stay Long",-297.5,-62268.459999999992]
[null,{"$f":"'Market Data'!B2602","v":20100319},{"$f":"'Market Data'!C2602","v":6306.5},{"$f":"'Market Data'!D2602","v":6311.5},{"$f":"'Market Data'!E2602","v":6222.5},{"$f":"'Market Data'!F2602","v":6251.5},null,2598,"Hidden","Long",null,1,0,"",null,1,"Stay Long",-1417.5,-63685.959999999992]
[null,{"$f":"'Market Data'!B2603","v":20100322},{"$f":"'Market Data'!C2603","v":6228.5},{"$f":"'Market Data'!D2603","v":6265.5},{"$f":"'Market Data'!E2603","v":6178},{"$f":"'Market Data'!F2603","v":6259.5},null,2599,"Hidden","Long",null,1,0,"",null,1,"Stay Long",280,-63405.959999999992]
[null,{"$f":"'Market Data'!B2604","v":20100323},{"$f":"'Market Data'!C2604","v":6256.5},{"$f":"'Market Data'!D2604","v":6300},{"$f":"'Market Data'!E2604","v":6249},{"$f":"'Market Data'!F2604","v":6279.5},null,2600,"Hidden","Long",null,1,0,"",null,1,"Stay Long",700,-62705.959999999992]
[null,{"$f":"'Market Data'!B2605","v":20100324},{"$f":"'Market Data'!C2605","v":6299},{"$f":"'Market Data'!D2605","v":6315.5},{"$f":"'Market Data'!E2605","v":6231},{"$f":"'Market Data'!F2605","v":6294},null,2601,"Hidden","Long",null,1,0,"",null,1,"Stay Long",507.5,-62198.459999999992]
[null,{"$f":"'Market Data'!B2606","v":20100325},{"$f":"'Market Data'!C2606","v":6313.5},{"$f":"'Market Data'!D2606","v":6407.5},{"$f":"'Market Data'!E2606","v":6305.5},{"$f":"'Market Data'!F2606","v":6391.5},null,2602,"Hidden","Long",null,1,0,"",null,1,"Stay Long",3412.5,-58785.959999999992]
[null,{"$f":"'Market Data'!B2607","v":20100326},{"$f":"'Market Data'!C2607","v":6374.5},{"$f":"'Market Data'!D2607","v":6404},{"$f":"'Market Data'!E2607","v":6367},{"$f":"'Market Data'!F2607","v":6383.5},null,2603,"Hidden","Long",null,1,0,"",null,1,"Stay Long",-280,-59065.959999999992]
[null,{"$f":"'Market Data'!B2608","v":20100329},{"$f":"'Market Data'!C2608","v":6406},{"$f":"'Market Data'!D2608","v":6441},{"$f":"'Market Data'!E2608","v":6395},{"$f":"'Market Data'!F2608","v":6416.5},null,2604,"Hidden","Long",null,1,0,"",null,1,"Stay Long",1155,-57910.959999999992]
[null,{"$f":"'Market Data'!B2609","v":20100330},{"$f":"'Market Data'!C2609","v":6426},{"$f":"'Market Data'!D2609","v":6474.5},{"$f":"'Market Data'!E2609","v":6402.5},{"$f":"'Market Data'!F2609","v":6422},null,2605,"Hidden","Long",null,1,0,"",null,1,"Stay Long",192.5,-57718.459999999992]
[null,{"$f":"'Market Data'!B2610","v":20100331},{"$f":"'Market Data'!C2610","v":6418.5},{"$f":"'Market Data'!D2610","v":6434},{"$f":"'Market Data'!E2610","v":6375.5},{"$f":"'Market Data'!F2610","v":6427.5},null,2606,"Hidden","Long",null,1,0,"",null,1,"Stay Long",192.5,-57525.959999999992]
[null,{"$f":"'Market Data'!B2611","v":20100401},{"$f":"'Market Data'!C2611","v":6454.5},{"$f":"'Market Data'!D2611","v":6509.5},{"$f":"'Market Data'!E2611","v":6444},{"$f":"'Market Data'!F2611","v":6500},null,2607,"Hidden","Long",null,1,0,"",null,1,"Stay Long",2537.5,-54988.459999999992]
[null,{"$f":"'Market Data'!B2612","v":20100406},{"$f":"'Market Data'!C2612","v":6520.5},{"$f":"'Market Data'!D2612","v":6534},{"$f":"'Market Data'!E2612","v":6481},{"$f":"'Market Data'!F2612","v":6517.5},null,2608,"Hidden","Long",null,1,0,"",null,1,"Stay Long",612.5,-54375.959999999992]
[null,{"$f":"'Market Data'!B2613","v":20100407},{"$f":"'Market Data'!C2613","v":6524.5},{"$f":"'Market Data'!D2613","v":6525},{"$f":"'Market Data'!E2613","v":6475},{"$f":"'Market Data'!F2613","v":6489.5},null,2609,"Hidden","Long",null,1,0,"",null,1,"Stay Long",-980,-55355.959999999992]
[null,{"$f":"'Market Data'!B2614","v":20100408},{"$f":"'Market Data'!C2614","v":6470.5},{"$f":"'Market Data'!D2614","v":6474.5},{"$f":"'Market Data'!E2614","v":6403.5},{"$f":"'Market Data'!F2614","v":6467.5},null,2610,"Hidden","Long",null,1,0,"",null,1,"Stay Long",-770,-56125.959999999992]
[null,{"$f":"'Market Data'!B2615","v":20100409},{"$f":"'Market Data'!C2615","v":6473},{"$f":"'Market Data'!D2615","v":6522},{"$f":"'Market Data'!E2615","v":6473},{"$f":"'Market Data'!F2615","v":6507.5},null,2611,"Hidden","Long",null,1,0,"",null,1,"Stay Long",1400,-54725.959999999992]
[null,{"$f":"'Market Data'!B2616","v":20100412},{"$f":"'Market Data'!C2616","v":6551.5},{"$f":"'Market Data'!D2616","v":6563.5},{"$f":"'Market Data'!E2616","v":6489.5},{"$f":"'Market Data'!F2616","v":6523},null,2612,"Hidden","Long",null,1,0,"",null,1,"Stay Long",542.5,-54183.459999999992]
[null,{"$f":"'Market Data'!B2617","v":20100413},{"$f":"'Market Data'!C2617","v":6500.5},{"$f":"'Market Data'!D2617","v":6520},{"$f":"'Market Data'!E2617","v":6465.5},{"$f":"'Market Data'!F2617","v":6503},null,2613,"Hidden","Long",null,1,0,"",null,1,"Stay Long",-700,-54883.459999999992]
[null,{"$f":"'Market Data'!B2618","v":20100414},{"$f":"'Market Data'!C2618","v":6532.5},{"$f":"'Market Data'!D2618","v":6573.5},{"$f":"'Market Data'!E2618","v":6517},{"$f":"'Market Data'!F2618","v":6546},null,2614,"Hidden","Long",null,1,0,"",null,1,"Stay Long",1505,-53378.459999999992]
[null,{"$f":"'Market Data'!B2619","v":20100415},{"$f":"'Market Data'!C2619","v":6551.5},{"$f":"'Market Data'!D2619","v":6577},{"$f":"'Market Data'!E2619","v":6516.5},{"$f":"'Market Data'!F2619","v":6559.5},null,2615,"Hidden","Long",null,1,0,"",null,1,"Stay Long",472.5,-52905.959999999992]
[null,{"$f":"'Market Data'!B2620","v":20100416},{"$f":"'Market Data'!C2620","v":6525.5},{"$f":"'Market Data'!D2620","v":6570.5},{"$f":"'Market Data'!E2620","v":6428.5},{"$f":"'Market Data'!F2620","v":6455},null,2616,"Hidden","Long",null,1,0,"",null,1,"Stay Long",-3657.5,-56563.459999999992]
[null,{"$f":"'Market Data'!B2621","v":20100419},{"$f":"'Market Data'!C2621","v":6425.5},{"$f":"'Market Data'!D2621","v":6457},{"$f":"'Market Data'!E2621","v":6400},{"$f":"'Market Data'!F2621","v":6423.5},null,2617,"Hidden","Long",null,1,0,"",null,1,"Stay Long",-1102.5,-57665.959999999992]
[null,{"$f":"'Market Data'!B2622","v":20100420},{"$f":"'Market Data'!C2622","v":6454.5},{"$f":"'Market Data'!D2622","v":6534.5},{"$f":"'Market Data'!E2622","v":6438.5},{"$f":"'Market Data'!F2622","v":6526.5},null,2618,"Hidden","Long",null,1,0,"",null,1,"Stay Long",3605,-54060.959999999992]
[null,{"$f":"'Market Data'!B2623","v":20100421},{"$f":"'Market Data'!C2623","v":6549},{"$f":"'Market Data'!D2623","v":6554},{"$f":"'Market Data'!E2623","v":6486},{"$f":"'Market Data'!F2623","v":6512},null,2619,"Hidden","Long",null,1,0,"",null,1,"Stay Long",-507.5,-54568.459999999992]
[null,{"$f":"'Market Data'!B2624","v":20100422},{"$f":"'Market Data'!C2624","v":6494.5},{"$f":"'Market Data'!D2624","v":6553.5},{"$f":"'Market Data'!E2624","v":6406},{"$f":"'Market Data'!F2624","v":6446},null,2620,"Hidden","Long",null,1,0,"",null,1,"Stay Long",-2310,-56878.459999999992]
[null,{"$f":"'Market Data'!B2625","v":20100423},{"$f":"'Market Data'!C2625","v":6469.5},{"$f":"'Market Data'!D2625","v":6554.5},{"$f":"'Market Data'!E2625","v":6435},{"$f":"'Market Data'!F2625","v":6540},null,2621,"Hidden","Long",null,1,0,"",null,1,"Stay Long",3290,-53588.459999999992]
[null,{"$f":"'Market Data'!B2626","v":20100426},{"$f":"'Market Data'!C2626","v":6549},{"$f":"'Market Data'!D2626","v":6607.5},{"$f":"'Market Data'!E2626","v":6548.5},{"$f":"'Market Data'!F2626","v":6599.5},null,2622,"Hidden","Long",null,1,0,"",null,1,"Stay Long",2082.5,-51505.959999999992]
[null,{"$f":"'Market Data'!B2627","v":20100427},{"$f":"'Market Data'!C2627","v":6590},{"$f":"'Market Data'!D2627","v":6599.5},{"$f":"'Market Data'!E2627","v":6387},{"$f":"'Market Data'!F2627","v":6425},null,2623,"Hidden","Long",null,1,{"$f":"$L2640-P2640","v":0},"",null,1,"Stay Long",-6107.5,-57613.459999999992]
[null,{"$f":"'Market Data'!B2628","v":20100428},{"$f":"'Market Data'!C2628","v":6409.5},{"$f":"'Market Data'!D2628","v":6429.5},{"$f":"'Market Data'!E2628","v":6293},{"$f":"'Market Data'!F2628","v":6349.5},null,2624,"Hidden","Long",null,1,0,"",null,{"$f":"IF($N2640=\"Fill\",$L2640,$P2640)","v":1},"Stay Long",{"$f":"IF(OR($P2640&$L2640=\"01\",$P2640&$L2640=\"0-1\"),(($F2641-$C2641)*$R$3*$L2640)-(ABS($M2640)*$R$4),IF(OR($P2640&$L2640=\"10\",$P2640&$L2640=\"-10\"),(($C2641-$F2640)*$R$3*$P2640)-(ABS($M2640)*$R$4),IF(OR($P2640&$L2640=\"1-1\",$P2640&$L2640=\"-11\"),(($C2641-$F2640)*$R$3*$P2640)-(ABS($M2640)*$R$4)+(($F2641-$C2641)*$R$3*$P2641),IF(OR($P2640&$L2640=\"11\",$P2640&$L2640=\"-1-1\"),(($F2641-$F2640)*$R$3*$P2641),0))))","v":-2642.5},-60255.959999999992]
[null,{"$f":"'Market Data'!B2629","v":20100429},{"$f":"'Market Data'!C2629","v":6344.5},{"$f":"'Market Data'!D2629","v":6432},{"$f":"'Market Data'!E2629","v":6342.5},{"$f":"'Market Data'!F2629","v":6421},null,{"$f":"ROW()-ROW(H$17)","v":2625},"Hidden",{"$f":"$I$4","v":"Long"},null,1,0,{"$f":"IF(NOT($M2642=0),\"Fill\",\"\")","v":""},null,1,{"$f":"IF($P2641&$L2641=\"00\",\"Stay Flat\",IF($P2641&$L2641=\"01\",\"Go Long\",IF($P2641&$L2641=\"0-1\",\"Go Short\",IF($P2641&$L2641=\"-10\",\"Exit Short\",IF($P2641&$L2641=\"-1-1\",\"Stay Short\",IF($P2641&$L2641=\"-11\",\"Exit Short, Go Long\",IF($P2641&$L2641=\"10\",\"Exit Long\",IF($P2641&$L2641=\"1-1\",\"Exit Long, Go Short\",IF($P2641&$L2641=\"11\",\"Stay Long\",\"\")))))))))","v":"Stay Long"},2502.5,{"$f":"S2641+R2642","v":-57753.459999999992}]
[null,{"$f":"'Market Data'!B2630","v":20100430},{"$f":"'Market Data'!C2630","v":6405.5},{"$f":"'Market Data'!D2630","v":6478.5},{"$f":"'Market Data'!E2630","v":6349.5},{"$f":"'Market Data'!F2630","v":6369.5},null,2626,"Hidden","Long",null,{"$f":"IF($J2643=\"Short\",-1,IF($J2643=\"Long\",1,0))","v":1},0,"",null,1,"Stay Long",-1802.5,-59555.959999999992]
[null,{"$f":"'Market Data'!B2631","v":20100503},{"$f":"'Market Data'!C2631","v":6373},{"$f":"'Market Data'!D2631","v":6466.5},{"$f":"'Market Data'!E2631","v":6354},{"$f":"'Market Data'!F2631","v":6466.5},null,2627,"Hidden","Long",null,1,0,"",null,1,"Stay Long",3395,-56160.959999999992]
[null,{"$f":"'Market Data'!B2632","v":20100504},{"$f":"'Market Data'!C2632","v":6442.5},{"$f":"'Market Data'!D2632","v":6466.5},{"$f":"'Market Data'!E2632","v":6258},{"$f":"'Market Data'!F2632","v":6282.5},null,2628,"Hidden","Long",null,1,0,"",null,1,"Stay Long",-6440,-62600.959999999992]
[null,{"$f":"'Market Data'!B2633","v":20100505},{"$f":"'Market Data'!C2633","v":6284},{"$f":"'Market Data'!D2633","v":6299.5},{"$f":"'Market Data'!E2633","v":6201.5},{"$f":"'Market Data'!F2633","v":6245.5},null,2629,"Hidden","Long",null,1,0,"",null,1,"Stay Long",-1295,-63895.959999999992]
[null,{"$f":"'Market Data'!B2634","v":20100506},{"$f":"'Market Data'!C2634","v":6223.5},{"$f":"'Market Data'!D2634","v":6278.5},{"$f":"'Market Data'!E2634","v":6155},{"$f":"'Market Data'!F2634","v":6194},null,2630,"Hidden","Long",null,1,0,"",null,1,"Stay Long",-1802.5,-65698.459999999992]
[null,{"$f":"'Market Data'!B2635","v":20100507},{"$f":"'Market Data'!C2635","v":6009.5},{"$f":"'Market Data'!D2635","v":6169},{"$f":"'Market Data'!E2635","v":5919.5},{"$f":"'Market Data'!F2635","v":5988},null,2631,"Hidden","Long",null,1,0,"",null,1,"Stay Long",-7210,-72908.459999999992]
[null,{"$f":"'Market Data'!B2636","v":20100510},{"$f":"'Market Data'!C2636","v":6112.5},{"$f":"'Market Data'!D2636","v":6280.5},{"$f":"'Market Data'!E2636","v":6110.5},{"$f":"'Market Data'!F2636","v":6251.5},null,2632,"Hidden","Long",null,1,0,"",null,1,"Stay Long",9222.5,-63685.959999999992]
[null,{"$f":"'Market Data'!B2637","v":20100511},{"$f":"'Market Data'!C2637","v":6203.5},{"$f":"'Market Data'!D2637","v":6339.5},{"$f":"'Market Data'!E2637","v":6172.5},{"$f":"'Market Data'!F2637","v":6335.5},null,2633,"Hidden","Long",null,1,0,"",null,1,"Stay Long",2940,-60745.959999999992]
[null,{"$f":"'Market Data'!B2638","v":20100512},{"$f":"'Market Data'!C2638","v":6285.5},{"$f":"'Market Data'!D2638","v":6480.5},{"$f":"'Market Data'!E2638","v":6267},{"$f":"'Market Data'!F2638","v":6465},null,2634,"Hidden","Long",null,1,0,"",null,1,"Stay Long",4532.5,-56213.459999999992]
[null,{"$f":"'Market Data'!B2639","v":20100513},{"$f":"'Market Data'!C2639","v":6485.5},{"$f":"'Market Data'!D2639","v":6540.5},{"$f":"'Market Data'!E2639","v":6460.5},{"$f":"'Market Data'!F2639","v":6514.5},null,2635,"Hidden","Long",null,1,0,"",null,1,"Stay Long",1732.5,-54480.959999999992]
[null,{"$f":"'Market Data'!B2640","v":20100514},{"$f":"'Market Data'!C2640","v":6498.5},{"$f":"'Market Data'!D2640","v":6500},{"$f":"'Market Data'!E2640","v":6277},{"$f":"'Market Data'!F2640","v":6348},null,2636,"Hidden","Long",null,1,0,"",null,1,"Stay Long",-5827.5,-60308.459999999992]
[null,{"$f":"'Market Data'!B2641","v":20100517},{"$f":"'Market Data'!C2641","v":6258},{"$f":"'Market Data'!D2641","v":6416.5},{"$f":"'Market Data'!E2641","v":6242.5},{"$f":"'Market Data'!F2641","v":6297},null,2637,"Hidden","Long",null,1,0,"",null,1,"Stay Long",-1785,-62093.459999999992]
[null,{"$f":"'Market Data'!B2642","v":20100518},{"$f":"'Market Data'!C2642","v":6375.5},{"$f":"'Market Data'!D2642","v":6447.5},{"$f":"'Market Data'!E2642","v":6373.5},{"$f":"'Market Data'!F2642","v":6423.5},null,2638,"Hidden","Long",null,1,0,"",null,1,"Stay Long",4427.5,-57665.959999999992]
[null,{"$f":"'Market Data'!B2643","v":20100519},{"$f":"'Market Data'!C2643","v":6343.5},{"$f":"'Market Data'!D2643","v":6388.5},{"$f":"'Market Data'!E2643","v":6220.5},{"$f":"'Market Data'!F2643","v":6276.5},null,2639,"Hidden","Long",null,1,0,"",null,1,"Stay Long",-5145,-62810.959999999992]
[null,{"$f":"'Market Data'!B2644","v":20100520},{"$f":"'Market Data'!C2644","v":6259.5},{"$f":"'Market Data'!D2644","v":6308},{"$f":"'Market Data'!E2644","v":6042.5},{"$f":"'Market Data'!F2644","v":6069.5},null,2640,"Hidden","Long",null,1,0,"",null,1,"Stay Long",-7245,-70055.959999999992]
[null,{"$f":"'Market Data'!B2645","v":20100521},{"$f":"'Market Data'!C2645","v":6091.5},{"$f":"'Market Data'!D2645","v":6133.5},{"$f":"'Market Data'!E2645","v":5948.5},{"$f":"'Market Data'!F2645","v":6080.5},null,2641,"Hidden","Long",null,1,0,"",null,1,"Stay Long",385,-69670.959999999992]
[null,{"$f":"'Market Data'!B2646","v":20100524},{"$f":"'Market Data'!C2646","v":6079},{"$f":"'Market Data'!D2646","v":6133},{"$f":"'Market Data'!E2646","v":5994},{"$f":"'Market Data'!F2646","v":6082},null,2642,"Hidden","Long",null,1,0,"",null,1,"Stay Long",52.5,-69618.459999999992]
[null,{"$f":"'Market Data'!B2647","v":20100525},{"$f":"'Market Data'!C2647","v":5919},{"$f":"'Market Data'!D2647","v":5963},{"$f":"'Market Data'!E2647","v":5868.5},{"$f":"'Market Data'!F2647","v":5945},null,2643,"Hidden","Long",null,1,0,"",null,1,"Stay Long",-4795,-74413.459999999992]
[null,{"$f":"'Market Data'!B2648","v":20100526},{"$f":"'Market Data'!C2648","v":5982.5},{"$f":"'Market Data'!D2648","v":6090.5},{"$f":"'Market Data'!E2648","v":5980},{"$f":"'Market Data'!F2648","v":6030},null,2644,"Hidden","Long",null,1,0,"",null,1,"Stay Long",2975,-71438.459999999992]
[null,{"$f":"'Market Data'!B2649","v":20100527},{"$f":"'Market Data'!C2649","v":6013},{"$f":"'Market Data'!D2649","v":6217.5},{"$f":"'Market Data'!E2649","v":6012.5},{"$f":"'Market Data'!F2649","v":6190.5},null,2645,"Hidden","Long",null,1,0,"",null,1,"Stay Long",5617.5,-65820.959999999992]
[null,{"$f":"'Market Data'!B2650","v":20100528},{"$f":"'Market Data'!C2650","v":6209.5},{"$f":"'Market Data'!D2650","v":6242.5},{"$f":"'Market Data'!E2650","v":6151},{"$f":"'Market Data'!F2650","v":6182.5},null,2646,"Hidden","Long",null,1,0,"",null,1,"Stay Long",-280,-66100.959999999992]
[null,{"$f":"'Market Data'!B2651","v":20100531},{"$f":"'Market Data'!C2651","v":6228},{"$f":"'Market Data'!D2651","v":6256.5},{"$f":"'Market Data'!E2651","v":6192},{"$f":"'Market Data'!F2651","v":6223.5},null,2647,"Hidden","Long",null,1,0,"",null,1,"Stay Long",1435,-64665.959999999992]
[null,{"$f":"'Market Data'!B2652","v":20100601},{"$f":"'Market Data'!C2652","v":6194.5},{"$f":"'Market Data'!D2652","v":6273.5},{"$f":"'Market Data'!E2652","v":6092.5},{"$f":"'Market Data'!F2652","v":6220},null,2648,"Hidden","Long",null,1,0,"",null,1,"Stay Long",-122.5,-64788.459999999992]
[null,{"$f":"'Market Data'!B2653","v":20100602},{"$f":"'Market Data'!C2653","v":6181.5},{"$f":"'Market Data'!D2653","v":6259.5},{"$f":"'Market Data'!E2653","v":6128.5},{"$f":"'Market Data'!F2653","v":6250},null,2649,"Hidden","Long",null,1,0,"",null,1,"Stay Long",1050,-63738.459999999992]
[null,{"$f":"'Market Data'!B2654","v":20100603},{"$f":"'Market Data'!C2654","v":6330.5},{"$f":"'Market Data'!D2654","v":6365},{"$f":"'Market Data'!E2654","v":6289},{"$f":"'Market Data'!F2654","v":6304},null,2650,"Hidden","Long",null,1,0,"",null,1,"Stay Long",1890,-61848.459999999992]
[null,{"$f":"'Market Data'!B2655","v":20100604},{"$f":"'Market Data'!C2655","v":6316},{"$f":"'Market Data'!D2655","v":6376},{"$f":"'Market Data'!E2655","v":6173.5},{"$f":"'Market Data'!F2655","v":6201},null,2651,"Hidden","Long",null,1,0,"",null,1,"Stay Long",-3605,-65453.459999999992]
[null,{"$f":"'Market Data'!B2656","v":20100607},{"$f":"'Market Data'!C2656","v":6122},{"$f":"'Market Data'!D2656","v":6216.5},{"$f":"'Market Data'!E2656","v":6091.5},{"$f":"'Market Data'!F2656","v":6180},null,2652,"Hidden","Long",null,1,0,"",null,1,"Stay Long",-735,-66188.459999999992]
[null,{"$f":"'Market Data'!B2657","v":20100608},{"$f":"'Market Data'!C2657","v":6159},{"$f":"'Market Data'!D2657","v":6192.5},{"$f":"'Market Data'!E2657","v":6059},{"$f":"'Market Data'!F2657","v":6138},null,2653,"Hidden","Long",null,1,0,"",null,1,"Stay Long",-1470,-67658.459999999992]
[null,{"$f":"'Market Data'!B2658","v":20100609},{"$f":"'Market Data'!C2658","v":6149.5},{"$f":"'Market Data'!D2658","v":6255.5},{"$f":"'Market Data'!E2658","v":6093.5},{"$f":"'Market Data'!F2658","v":6229},null,2654,"Hidden","Long",null,1,0,"",null,1,"Stay Long",3185,-64473.459999999992]
[null,{"$f":"'Market Data'!B2659","v":20100610},{"$f":"'Market Data'!C2659","v":6211.5},{"$f":"'Market Data'!D2659","v":6350.5},{"$f":"'Market Data'!E2659","v":6184.5},{"$f":"'Market Data'!F2659","v":6291.5},null,2655,"Hidden","Long",null,1,0,"",null,1,"Stay Long",2187.5,-62285.959999999992]
[null,{"$f":"'Market Data'!B2660","v":20100611},{"$f":"'Market Data'!C2660","v":6329.5},{"$f":"'Market Data'!D2660","v":6354.5},{"$f":"'Market Data'!E2660","v":6243},{"$f":"'Market Data'!F2660","v":6307.5},null,2656,"Hidden","Long",null,1,0,"",null,1,"Stay Long",560,-61725.959999999992]
[null,{"$f":"'Market Data'!B2661","v":20100614},{"$f":"'Market Data'!C2661","v":6365.5},{"$f":"'Market Data'!D2661","v":6399},{"$f":"'Market Data'!E2661","v":6353},{"$f":"'Market Data'!F2661","v":6363},null,2657,"Hidden","Long",null,1,0,"",null,1,"Stay Long",1942.5,-59783.459999999992]
[null,{"$f":"'Market Data'!B2662","v":20100615},{"$f":"'Market Data'!C2662","v":6363.5},{"$f":"'Market Data'!D2662","v":6455.5},{"$f":"'Market Data'!E2662","v":6338.5},{"$f":"'Market Data'!F2662","v":6446},null,2658,"Hidden","Long",null,1,0,"",null,1,"Stay Long",2905,-56878.459999999992]
[null,{"$f":"'Market Data'!B2663","v":20100616},{"$f":"'Market Data'!C2663","v":6460.5},{"$f":"'Market Data'!D2663","v":6479},{"$f":"'Market Data'!E2663","v":6403.5},{"$f":"'Market Data'!F2663","v":6453.5},null,2659,"Hidden","Long",null,1,0,"",null,1,"Stay Long",262.5,-56615.959999999992]
[null,{"$f":"'Market Data'!B2664","v":20100617},{"$f":"'Market Data'!C2664","v":6446.5},{"$f":"'Market Data'!D2664","v":6504.5},{"$f":"'Market Data'!E2664","v":6427},{"$f":"'Market Data'!F2664","v":6483.5},null,2660,"Hidden","Long",null,1,0,"",null,1,"Stay Long",1050,-55565.959999999992]
[null,{"$f":"'Market Data'!B2665","v":20100618},{"$f":"'Market Data'!C2665","v":6495.5},{"$f":"'Market Data'!D2665","v":6519},{"$f":"'Market Data'!E2665","v":6449},{"$f":"'Market Data'!F2665","v":6469.5},null,2661,"Hidden","Long",null,1,0,"",null,1,"Stay Long",-490,-56055.959999999992]
[null,{"$f":"'Market Data'!B2666","v":20100621},{"$f":"'Market Data'!C2666","v":6559.5},{"$f":"'Market Data'!D2666","v":6615},{"$f":"'Market Data'!E2666","v":6523.5},{"$f":"'Market Data'!F2666","v":6545},null,2662,"Hidden","Long",null,1,0,"",null,1,"Stay Long",2642.5,-53413.459999999992]
[null,{"$f":"'Market Data'!B2667","v":20100622},{"$f":"'Market Data'!C2667","v":6536.5},{"$f":"'Market Data'!D2667","v":6558},{"$f":"'Market Data'!E2667","v":6477},{"$f":"'Market Data'!F2667","v":6526},null,2663,"Hidden","Long",null,1,0,"",null,1,"Stay Long",-665,-54078.459999999992]
[null,{"$f":"'Market Data'!B2668","v":20100623},{"$f":"'Market Data'!C2668","v":6487.5},{"$f":"'Market Data'!D2668","v":6534.5},{"$f":"'Market Data'!E2668","v":6439.5},{"$f":"'Market Data'!F2668","v":6485.5},null,2664,"Hidden","Long",null,1,0,"",null,1,"Stay Long",-1417.5,-55495.959999999992]
[null,{"$f":"'Market Data'!B2669","v":20100624},{"$f":"'Market Data'!C2669","v":6490.5},{"$f":"'Market Data'!D2669","v":6507.5},{"$f":"'Market Data'!E2669","v":6357.5},{"$f":"'Market Data'!F2669","v":6395},null,2665,"Hidden","Long",null,1,0,"",null,1,"Stay Long",-3167.5,-58663.459999999992]
[null,{"$f":"'Market Data'!B2670","v":20100625},{"$f":"'Market Data'!C2670","v":6397.5},{"$f":"'Market Data'!D2670","v":6413},{"$f":"'Market Data'!E2670","v":6301.5},{"$f":"'Market Data'!F2670","v":6336.5},null,2666,"Hidden","Long",null,1,0,"",null,1,"Stay Long",-2047.5,-60710.959999999992]
[null,{"$f":"'Market Data'!B2671","v":20100628},{"$f":"'Market Data'!C2671","v":6355.5},{"$f":"'Market Data'!D2671","v":6432.5},{"$f":"'Market Data'!E2671","v":6320.5},{"$f":"'Market Data'!F2671","v":6411},null,2667,"Hidden","Long",null,1,0,"",null,1,"Stay Long",2607.5,-58103.459999999992]
[null,{"$f":"'Market Data'!B2672","v":20100629},{"$f":"'Market Data'!C2672","v":6344.5},{"$f":"'Market Data'!D2672","v":6344.5},{"$f":"'Market Data'!E2672","v":6197.5},{"$f":"'Market Data'!F2672","v":6226},null,2668,"Hidden","Long",null,1,0,"",null,1,"Stay Long",-6475,-64578.459999999992]
[null,{"$f":"'Market Data'!B2673","v":20100630},{"$f":"'Market Data'!C2673","v":6222.5},{"$f":"'Market Data'!D2673","v":6264.5},{"$f":"'Market Data'!E2673","v":6199.5},{"$f":"'Market Data'!F2673","v":6222.5},null,2669,"Hidden","Long",null,1,0,"",null,1,"Stay Long",-122.5,-64700.959999999992]
[null,{"$f":"'Market Data'!B2674","v":20100701},{"$f":"'Market Data'!C2674","v":6138.5},{"$f":"'Market Data'!D2674","v":6217.5},{"$f":"'Market Data'!E2674","v":6088.5},{"$f":"'Market Data'!F2674","v":6153.5},null,2670,"Hidden","Long",null,1,0,"",null,1,"Stay Long",-2415,-67115.959999999992]
[null,{"$f":"'Market Data'!B2675","v":20100702},{"$f":"'Market Data'!C2675","v":6146},{"$f":"'Market Data'!D2675","v":6202.5},{"$f":"'Market Data'!E2675","v":6070.5},{"$f":"'Market Data'!F2675","v":6077.5},null,2671,"Hidden","Long",null,1,0,"",null,1,"Stay Long",-2660,-69775.959999999992]
[null,{"$f":"'Market Data'!B2676","v":20100705},{"$f":"'Market Data'!C2676","v":6089.5},{"$f":"'Market Data'!D2676","v":6127.5},{"$f":"'Market Data'!E2676","v":6069},{"$f":"'Market Data'!F2676","v":6077},null,2672,"Hidden","Long",null,1,0,"",null,1,"Stay Long",-17.5,-69793.459999999992]
[null,{"$f":"'Market Data'!B2677","v":20100706},{"$f":"'Market Data'!C2677","v":6104},{"$f":"'Market Data'!D2677","v":6258},{"$f":"'Market Data'!E2677","v":6102},{"$f":"'Market Data'!F2677","v":6174.5},null,2673,"Hidden","Long",null,1,0,"",null,1,"Stay Long",3412.5,-66380.959999999992]
[null,{"$f":"'Market Data'!B2678","v":20100707},{"$f":"'Market Data'!C2678","v":6158},{"$f":"'Market Data'!D2678","v":6260},{"$f":"'Market Data'!E2678","v":6108.5},{"$f":"'Market Data'!F2678","v":6245},null,2674,"Hidden","Long",null,1,0,"",null,1,"Stay Long",2467.5,-63913.459999999992]
[null,{"$f":"'Market Data'!B2679","v":20100708},{"$f":"'Market Data'!C2679","v":6301.5},{"$f":"'Market Data'!D2679","v":6318.5},{"$f":"'Market Data'!E2679","v":6266},{"$f":"'Market Data'!F2679","v":6297},null,2675,"Hidden","Long",null,1,0,"",null,1,"Stay Long",1820,-62093.459999999992]
[null,{"$f":"'Market Data'!B2680","v":20100709},{"$f":"'Market Data'!C2680","v":6335.5},{"$f":"'Market Data'!D2680","v":6341},{"$f":"'Market Data'!E2680","v":6299.5},{"$f":"'Market Data'!F2680","v":6330},null,2676,"Hidden","Long",null,1,0,"",null,1,"Stay Long",1155,-60938.459999999992]
[null,{"$f":"'Market Data'!B2681","v":20100712},{"$f":"'Market Data'!C2681","v":6334.5},{"$f":"'Market Data'!D2681","v":6382},{"$f":"'Market Data'!E2681","v":6321.5},{"$f":"'Market Data'!F2681","v":6340},null,2677,"Hidden","Long",null,1,0,"",null,1,"Stay Long",350,-60588.459999999992]
[null,{"$f":"'Market Data'!B2682","v":20100713},{"$f":"'Market Data'!C2682","v":6345.5},{"$f":"'Market Data'!D2682","v":6463},{"$f":"'Market Data'!E2682","v":6328.5},{"$f":"'Market Data'!F2682","v":6441.5},null,2678,"Hidden","Long",null,1,0,"",null,1,"Stay Long",3552.5,-57035.959999999992]
[null,{"$f":"'Market Data'!B2683","v":20100714},{"$f":"'Market Data'!C2683","v":6495.5},{"$f":"'Market Data'!D2683","v":6501.5},{"$f":"'Market Data'!E2683","v":6421.5},{"$f":"'Market Data'!F2683","v":6467},null,2679,"Hidden","Long",null,1,0,"",null,1,"Stay Long",892.5,-56143.459999999992]
[null,{"$f":"'Market Data'!B2684","v":20100715},{"$f":"'Market Data'!C2684","v":6473.5},{"$f":"'Market Data'!D2684","v":6520},{"$f":"'Market Data'!E2684","v":6387.5},{"$f":"'Market Data'!F2684","v":6410.5},null,2680,"Hidden","Long",null,1,0,"",null,1,"Stay Long",-1977.5,-58120.959999999992]
[null,{"$f":"'Market Data'!B2685","v":20100716},{"$f":"'Market Data'!C2685","v":6411},{"$f":"'Market Data'!D2685","v":6467.5},{"$f":"'Market Data'!E2685","v":6275.5},{"$f":"'Market Data'!F2685","v":6295.5},null,2681,"Hidden","Long",null,1,0,"",null,1,"Stay Long",-4025,-62145.959999999992]
[null,{"$f":"'Market Data'!B2686","v":20100719},{"$f":"'Market Data'!C2686","v":6306},{"$f":"'Market Data'!D2686","v":6346.5},{"$f":"'Market Data'!E2686","v":6254.5},{"$f":"'Market Data'!F2686","v":6288},null,2682,"Hidden","Long",null,1,0,"",null,1,"Stay Long",-262.5,-62408.459999999992]
[null,{"$f":"'Market Data'!B2687","v":20100720},{"$f":"'Market Data'!C2687","v":6290},{"$f":"'Market Data'!D2687","v":6310.5},{"$f":"'Market Data'!E2687","v":6167},{"$f":"'Market Data'!F2687","v":6225},null,2683,"Hidden","Long",null,1,0,"",null,1,"Stay Long",-2205,-64613.459999999992]
[null,{"$f":"'Market Data'!B2688","v":20100721},{"$f":"'Market Data'!C2688","v":6265},{"$f":"'Market Data'!D2688","v":6323},{"$f":"'Market Data'!E2688","v":6236.5},{"$f":"'Market Data'!F2688","v":6264.5},null,2684,"Hidden","Long",null,1,0,"",null,1,"Stay Long",1382.5,-63230.959999999992]
[null,{"$f":"'Market Data'!B2689","v":20100722},{"$f":"'Market Data'!C2689","v":6225.5},{"$f":"'Market Data'!D2689","v":6410},{"$f":"'Market Data'!E2689","v":6210},{"$f":"'Market Data'!F2689","v":6392.5},null,2685,"Hidden","Long",null,1,0,"",null,1,"Stay Long",4480,-58750.959999999992]
[null,{"$f":"'Market Data'!B2690","v":20100723},{"$f":"'Market Data'!C2690","v":6395.5},{"$f":"'Market Data'!D2690","v":6455},{"$f":"'Market Data'!E2690","v":6371.5},{"$f":"'Market Data'!F2690","v":6423},null,2686,"Hidden","Long",null,1,0,"",null,1,"Stay Long",1067.5,-57683.459999999992]
[null,{"$f":"'Market Data'!B2691","v":20100726},{"$f":"'Market Data'!C2691","v":6468.5},{"$f":"'Market Data'!D2691","v":6475.5},{"$f":"'Market Data'!E2691","v":6391},{"$f":"'Market Data'!F2691","v":6449},null,2687,"Hidden","Long",null,1,{"$f":"$L2704-P2704","v":0},"",null,1,"Stay Long",910,-56773.459999999992]
[null,{"$f":"'Market Data'!B2692","v":20100727},{"$f":"'Market Data'!C2692","v":6457},{"$f":"'Market Data'!D2692","v":6514.5},{"$f":"'Market Data'!E2692","v":6443},{"$f":"'Market Data'!F2692","v":6470},null,2688,"Hidden","Long",null,1,0,"",null,{"$f":"IF($N2704=\"Fill\",$L2704,$P2704)","v":1},"Stay Long",{"$f":"IF(OR($P2704&$L2704=\"01\",$P2704&$L2704=\"0-1\"),(($F2705-$C2705)*$R$3*$L2704)-(ABS($M2704)*$R$4),IF(OR($P2704&$L2704=\"10\",$P2704&$L2704=\"-10\"),(($C2705-$F2704)*$R$3*$P2704)-(ABS($M2704)*$R$4),IF(OR($P2704&$L2704=\"1-1\",$P2704&$L2704=\"-11\"),(($C2705-$F2704)*$R$3*$P2704)-(ABS($M2704)*$R$4)+(($F2705-$C2705)*$R$3*$P2705),IF(OR($P2704&$L2704=\"11\",$P2704&$L2704=\"-1-1\"),(($F2705-$F2704)*$R$3*$P2705),0))))","v":735},-56038.459999999992]
[null,{"$f":"'Market Data'!B2693","v":20100728},{"$f":"'Market Data'!C2693","v":6500.5},{"$f":"'Market Data'!D2693","v":6509.5},{"$f":"'Market Data'!E2693","v":6407},{"$f":"'Market Data'!F2693","v":6453.5},null,{"$f":"ROW()-ROW(H$17)","v":2689},"Hidden",{"$f":"$I$4","v":"Long"},null,1,0,{"$f":"IF(NOT($M2706=0),\"Fill\",\"\")","v":""},null,1,{"$f":"IF($P2705&$L2705=\"00\",\"Stay Flat\",IF($P2705&$L2705=\"01\",\"Go Long\",IF($P2705&$L2705=\"0-1\",\"Go Short\",IF($P2705&$L2705=\"-10\",\"Exit Short\",IF($P2705&$L2705=\"-1-1\",\"Stay Short\",IF($P2705&$L2705=\"-11\",\"Exit Short, Go Long\",IF($P2705&$L2705=\"10\",\"Exit Long\",IF($P2705&$L2705=\"1-1\",\"Exit Long, Go Short\",IF($P2705&$L2705=\"11\",\"Stay Long\",\"\")))))))))","v":"Stay Long"},-577.5,{"$f":"S2705+R2706","v":-56615.959999999992}]
[null,{"$f":"'Market Data'!B2694","v":20100729},{"$f":"'Market Data'!C2694","v":6445.5},{"$f":"'Market Data'!D2694","v":6505},{"$f":"'Market Data'!E2694","v":6347.5},{"$f":"'Market Data'!F2694","v":6376.5},null,2690,"Hidden","Long",null,{"$f":"IF($J2707=\"Short\",-1,IF($J2707=\"Long\",1,0))","v":1},0,"",null,1,"Stay Long",-2695,-59310.959999999992]
[null,{"$f":"'Market Data'!B2695","v":20100730},{"$f":"'Market Data'!C2695","v":6376},{"$f":"'Market Data'!D2695","v":6445.5},{"$f":"'Market Data'!E2695","v":6318.5},{"$f":"'Market Data'!F2695","v":6411},null,2691,"Hidden","Long",null,1,0,"",null,1,"Stay Long",1207.5,-58103.459999999992]
[null,{"$f":"'Market Data'!B2696","v":20100802},{"$f":"'Market Data'!C2696","v":6441},{"$f":"'Market Data'!D2696","v":6565},{"$f":"'Market Data'!E2696","v":6441},{"$f":"'Market Data'!F2696","v":6544},null,2692,"Hidden","Long",null,1,0,"",null,1,"Stay Long",4655,-53448.459999999992]
[null,{"$f":"'Market Data'!B2697","v":20100803},{"$f":"'Market Data'!C2697","v":6551},{"$f":"'Market Data'!D2697","v":6573.5},{"$f":"'Market Data'!E2697","v":6526},{"$f":"'Market Data'!F2697","v":6559},null,2693,"Hidden","Long",null,1,0,"",null,1,"Stay Long",525,-52923.459999999992]
[null,{"$f":"'Market Data'!B2698","v":20100804},{"$f":"'Market Data'!C2698","v":6544.5},{"$f":"'Market Data'!D2698","v":6622},{"$f":"'Market Data'!E2698","v":6523},{"$f":"'Market Data'!F2698","v":6598},null,2694,"Hidden","Long",null,1,0,"",null,1,"Stay Long",1365,-51558.459999999992]
[null,{"$f":"'Market Data'!B2699","v":20100805},{"$f":"'Market Data'!C2699","v":6603.5},{"$f":"'Market Data'!D2699","v":6643},{"$f":"'Market Data'!E2699","v":6579.5},{"$f":"'Market Data'!F2699","v":6600},null,2695,"Hidden","Long",null,1,0,"",null,1,"Stay Long",70,-51488.459999999992]
[null,{"$f":"'Market Data'!B2700","v":20100806},{"$f":"'Market Data'!C2700","v":6616.5},{"$f":"'Market Data'!D2700","v":6647},{"$f":"'Market Data'!E2700","v":6503},{"$f":"'Market Data'!F2700","v":6535},null,2696,"Hidden","Long",null,1,0,"",null,1,"Stay Long",-2275,-53763.459999999992]
[null,{"$f":"'Market Data'!B2701","v":20100809},{"$f":"'Market Data'!C2701","v":6585},{"$f":"'Market Data'!D2701","v":6616},{"$f":"'Market Data'!E2701","v":6576},{"$f":"'Market Data'!F2701","v":6608},null,2697,"Hidden","Long",null,1,0,"",null,1,"Stay Long",2555,-51208.459999999992]
[null,{"$f":"'Market Data'!B2702","v":20100810},{"$f":"'Market Data'!C2702","v":6595.5},{"$f":"'Market Data'!D2702","v":6597.5},{"$f":"'Market Data'!E2702","v":6506},{"$f":"'Market Data'!F2702","v":6547.5},null,2698,"Hidden","Long",null,1,0,"",null,1,"Stay Long",-2117.5,-53325.959999999992]
[null,{"$f":"'Market Data'!B2703","v":20100811},{"$f":"'Market Data'!C2703","v":6532.5},{"$f":"'Market Data'!D2703","v":6532.5},{"$f":"'Market Data'!E2703","v":6401},{"$f":"'Market Data'!F2703","v":6410},null,2699,"Hidden","Long",null,1,0,"",null,1,"Stay Long",-4812.5,-58138.459999999992]
[null,{"$f":"'Market Data'!B2704","v":20100812},{"$f":"'Market Data'!C2704","v":6390},{"$f":"'Market Data'!D2704","v":6406},{"$f":"'Market Data'!E2704","v":6356},{"$f":"'Market Data'!F2704","v":6393},null,2700,"Hidden","Long",null,1,0,"",null,1,"Stay Long",-595,-58733.459999999992]
[null,{"$f":"'Market Data'!B2705","v":20100813},{"$f":"'Market Data'!C2705","v":6415.5},{"$f":"'Market Data'!D2705","v":6434},{"$f":"'Market Data'!E2705","v":6326.5},{"$f":"'Market Data'!F2705","v":6378.5},null,2701,"Hidden","Long",null,1,0,"",null,1,"Stay Long",-507.5,-59240.959999999992]
[null,{"$f":"'Market Data'!B2706","v":20100816},{"$f":"'Market Data'!C2706","v":6382.5},{"$f":"'Market Data'!D2706","v":6414.5},{"$f":"'Market Data'!E2706","v":6319},{"$f":"'Market Data'!F2706","v":6376},null,2702,"Hidden","Long",null,1,0,"",null,1,"Stay Long",-87.5,-59328.459999999992]
[null,{"$f":"'Market Data'!B2707","v":20100817},{"$f":"'Market Data'!C2707","v":6398.5},{"$f":"'Market Data'!D2707","v":6475},{"$f":"'Market Data'!E2707","v":6381},{"$f":"'Market Data'!F2707","v":6458},null,2703,"Hidden","Long",null,1,0,"",null,1,"Stay Long",2870,-56458.459999999992]
[null,{"$f":"'Market Data'!B2708","v":20100818},{"$f":"'Market Data'!C2708","v":6431},{"$f":"'Market Data'!D2708","v":6475.5},{"$f":"'Market Data'!E2708","v":6412.5},{"$f":"'Market Data'!F2708","v":6459},null,2704,"Hidden","Long",null,1,0,"",null,1,"Stay Long",35,-56423.459999999992]
[null,{"$f":"'Market Data'!B2709","v":20100819},{"$f":"'Market Data'!C2709","v":6456},{"$f":"'Market Data'!D2709","v":6489},{"$f":"'Market Data'!E2709","v":6309},{"$f":"'Market Data'!F2709","v":6328.5},null,2705,"Hidden","Long",null,1,0,"",null,1,"Stay Long",-4567.5,-60990.959999999992]
[null,{"$f":"'Market Data'!B2710","v":20100820},{"$f":"'Market Data'!C2710","v":6328.5},{"$f":"'Market Data'!D2710","v":6355.5},{"$f":"'Market Data'!E2710","v":6245.5},{"$f":"'Market Data'!F2710","v":6253},null,2706,"Hidden","Long",null,1,0,"",null,1,"Stay Long",-2642.5,-63633.459999999992]
[null,{"$f":"'Market Data'!B2711","v":20100823},{"$f":"'Market Data'!C2711","v":6275.5},{"$f":"'Market Data'!D2711","v":6312.5},{"$f":"'Market Data'!E2711","v":6252},{"$f":"'Market Data'!F2711","v":6269.5},null,2707,"Hidden","Long",null,1,0,"",null,1,"Stay Long",577.5,-63055.959999999992]
[null,{"$f":"'Market Data'!B2712","v":20100824},{"$f":"'Market Data'!C2712","v":6247},{"$f":"'Market Data'!D2712","v":6247.5},{"$f":"'Market Data'!E2712","v":6126},{"$f":"'Market Data'!F2712","v":6186.5},null,2708,"Hidden","Long",null,1,0,"",null,1,"Stay Long",-2905,-65960.959999999992]
[null,{"$f":"'Market Data'!B2713","v":20100825},{"$f":"'Market Data'!C2713","v":6164.5},{"$f":"'Market Data'!D2713","v":6213},{"$f":"'Market Data'!E2713","v":6092},{"$f":"'Market Data'!F2713","v":6145.5},null,2709,"Hidden","Long",null,1,0,"",null,1,"Stay Long",-1435,-67395.959999999992]
[null,{"$f":"'Market Data'!B2714","v":20100826},{"$f":"'Market Data'!C2714","v":6178.5},{"$f":"'Market Data'!D2714","v":6207.5},{"$f":"'Market Data'!E2714","v":6152},{"$f":"'Market Data'!F2714","v":6166},null,2710,"Hidden","Long",null,1,0,"",null,1,"Stay Long",717.5,-66678.459999999992]
[null,{"$f":"'Market Data'!B2715","v":20100827},{"$f":"'Market Data'!C2715","v":6151},{"$f":"'Market Data'!D2715","v":6220},{"$f":"'Market Data'!E2715","v":6100.5},{"$f":"'Market Data'!F2715","v":6197.5},null,2711,"Hidden","Long",null,1,0,"",null,1,"Stay Long",1102.5,-65575.959999999992]
[null,{"$f":"'Market Data'!B2716","v":20100830},{"$f":"'Market Data'!C2716","v":6232.5},{"$f":"'Market Data'!D2716","v":6243},{"$f":"'Market Data'!E2716","v":6145},{"$f":"'Market Data'!F2716","v":6168.5},null,2712,"Hidden","Long",null,1,0,"",null,1,"Stay Long",-1015,-66590.959999999992]
[null,{"$f":"'Market Data'!B2717","v":20100831},{"$f":"'Market Data'!C2717","v":6106},{"$f":"'Market Data'!D2717","v":6191.5},{"$f":"'Market Data'!E2717","v":6071.5},{"$f":"'Market Data'!F2717","v":6165},null,2713,"Hidden","Long",null,1,0,"",null,1,"Stay Long",-122.5,-66713.459999999992]
[null,{"$f":"'Market Data'!B2718","v":20100901},{"$f":"'Market Data'!C2718","v":6187.5},{"$f":"'Market Data'!D2718","v":6344},{"$f":"'Market Data'!E2718","v":6131.5},{"$f":"'Market Data'!F2718","v":6324.5},null,2714,"Hidden","Long",null,1,0,"",null,1,"Stay Long",5582.5,-61130.959999999992]
[null,{"$f":"'Market Data'!B2719","v":20100902},{"$f":"'Market Data'!C2719","v":6312.5},{"$f":"'Market Data'!D2719","v":6362},{"$f":"'Market Data'!E2719","v":6308},{"$f":"'Market Data'!F2719","v":6339},null,2715,"Hidden","Long",null,1,0,"",null,1,"Stay Long",507.5,-60623.459999999992]
[null,{"$f":"'Market Data'!B2720","v":20100903},{"$f":"'Market Data'!C2720","v":6352.5},{"$f":"'Market Data'!D2720","v":6435},{"$f":"'Market Data'!E2720","v":6343},{"$f":"'Market Data'!F2720","v":6400},null,2716,"Hidden","Long",null,1,0,"",null,1,"Stay Long",2135,-58488.459999999992]
[null,{"$f":"'Market Data'!B2721","v":20100906},{"$f":"'Market Data'!C2721","v":6430.5},{"$f":"'Market Data'!D2721","v":6431.5},{"$f":"'Market Data'!E2721","v":6397.5},{"$f":"'Market Data'!F2721","v":6409},null,2717,"Hidden","Long",null,1,0,"",null,1,"Stay Long",315,-58173.459999999992]
[null,{"$f":"'Market Data'!B2722","v":20100907},{"$f":"'Market Data'!C2722","v":6408},{"$f":"'Market Data'!D2722","v":6408},{"$f":"'Market Data'!E2722","v":6337.5},{"$f":"'Market Data'!F2722","v":6366},null,2718,"Hidden","Long",null,1,0,"",null,1,"Stay Long",-1505,-59678.459999999992]
[null,{"$f":"'Market Data'!B2723","v":20100908},{"$f":"'Market Data'!C2723","v":6359.5},{"$f":"'Market Data'!D2723","v":6437.5},{"$f":"'Market Data'!E2723","v":6318.5},{"$f":"'Market Data'!F2723","v":6426},null,2719,"Hidden","Long",null,1,0,"",null,1,"Stay Long",2100,-57578.459999999992]
[null,{"$f":"'Market Data'!B2724","v":20100909},{"$f":"'Market Data'!C2724","v":6399.5},{"$f":"'Market Data'!D2724","v":6490},{"$f":"'Market Data'!E2724","v":6388},{"$f":"'Market Data'!F2724","v":6440},null,2720,"Hidden","Long",null,1,0,"",null,1,"Stay Long",490,-57088.459999999992]
[null,{"$f":"'Market Data'!B2725","v":20100910},{"$f":"'Market Data'!C2725","v":6457.5},{"$f":"'Market Data'!D2725","v":6481.5},{"$f":"'Market Data'!E2725","v":6439},{"$f":"'Market Data'!F2725","v":6464.5},null,2721,"Hidden","Long",null,1,0,"",null,1,"Stay Long",857.5,-56230.959999999992]
[null,{"$f":"'Market Data'!B2726","v":20100913},{"$f":"'Market Data'!C2726","v":6524},{"$f":"'Market Data'!D2726","v":6548.5},{"$f":"'Market Data'!E2726","v":6487.5},{"$f":"'Market Data'!F2726","v":6504},null,2722,"Hidden","Long",null,1,0,"",null,1,"Stay Long",1382.5,-54848.459999999992]
[null,{"$f":"'Market Data'!B2727","v":20100914},{"$f":"'Market Data'!C2727","v":6509},{"$f":"'Market Data'!D2727","v":6545.5},{"$f":"'Market Data'!E2727","v":6486.5},{"$f":"'Market Data'!F2727","v":6528.5},null,2723,"Hidden","Long",null,1,0,"",null,1,"Stay Long",857.5,-53990.959999999992]
[null,{"$f":"'Market Data'!B2728","v":20100915},{"$f":"'Market Data'!C2728","v":6535},{"$f":"'Market Data'!D2728","v":6543.5},{"$f":"'Market Data'!E2728","v":6484},{"$f":"'Market Data'!F2728","v":6523},null,2724,"Hidden","Long",null,1,0,"",null,1,"Stay Long",-192.5,-54183.459999999992]
[null,{"$f":"'Market Data'!B2729","v":20100916},{"$f":"'Market Data'!C2729","v":6512.5},{"$f":"'Market Data'!D2729","v":6538.5},{"$f":"'Market Data'!E2729","v":6488.5},{"$f":"'Market Data'!F2729","v":6512.5},null,2725,"Hidden","Long",null,1,0,"",null,1,"Stay Long",-367.5,-54550.959999999992]
[null,{"$f":"'Market Data'!B2730","v":20100917},{"$f":"'Market Data'!C2730","v":6570.5},{"$f":"'Market Data'!D2730","v":6585.5},{"$f":"'Market Data'!E2730","v":6441},{"$f":"'Market Data'!F2730","v":6457.5},null,2726,"Hidden","Long",null,1,0,"",null,1,"Stay Long",-1925,-56475.959999999992]
[null,{"$f":"'Market Data'!B2731","v":20100920},{"$f":"'Market Data'!C2731","v":6495.5},{"$f":"'Market Data'!D2731","v":6558},{"$f":"'Market Data'!E2731","v":6475},{"$f":"'Market Data'!F2731","v":6544},null,2727,"Hidden","Long",null,1,0,"",null,1,"Stay Long",3027.5,-53448.459999999992]
[null,{"$f":"'Market Data'!B2732","v":20100921},{"$f":"'Market Data'!C2732","v":6551},{"$f":"'Market Data'!D2732","v":6597},{"$f":"'Market Data'!E2732","v":6528.5},{"$f":"'Market Data'!F2732","v":6540},null,2728,"Hidden","Long",null,1,0,"",null,1,"Stay Long",-140,-53588.459999999992]
[null,{"$f":"'Market Data'!B2733","v":20100922},{"$f":"'Market Data'!C2733","v":6560.5},{"$f":"'Market Data'!D2733","v":6561.5},{"$f":"'Market Data'!E2733","v":6449},{"$f":"'Market Data'!F2733","v":6475},null,2729,"Hidden","Long",null,1,0,"",null,1,"Stay Long",-2275,-55863.459999999992]
[null,{"$f":"'Market Data'!B2734","v":20100923},{"$f":"'Market Data'!C2734","v":6511},{"$f":"'Market Data'!D2734","v":6521.5},{"$f":"'Market Data'!E2734","v":6384},{"$f":"'Market Data'!F2734","v":6439},null,2730,"Hidden","Long",null,1,0,"",null,1,"Stay Long",-1260,-57123.459999999992]
[null,{"$f":"'Market Data'!B2735","v":20100924},{"$f":"'Market Data'!C2735","v":6429.5},{"$f":"'Market Data'!D2735","v":6568},{"$f":"'Market Data'!E2735","v":6400},{"$f":"'Market Data'!F2735","v":6552},null,2731,"Hidden","Long",null,1,0,"",null,1,"Stay Long",3955,-53168.459999999992]
[null,{"$f":"'Market Data'!B2736","v":20100927},{"$f":"'Market Data'!C2736","v":6580},{"$f":"'Market Data'!D2736","v":6587.5},{"$f":"'Market Data'!E2736","v":6528},{"$f":"'Market Data'!F2736","v":6538.5},null,2732,"Hidden","Long",null,1,0,"",null,1,"Stay Long",-472.5,-53640.959999999992]
[null,{"$f":"'Market Data'!B2737","v":20100928},{"$f":"'Market Data'!C2737","v":6537.5},{"$f":"'Market Data'!D2737","v":6569.5},{"$f":"'Market Data'!E2737","v":6452.5},{"$f":"'Market Data'!F2737","v":6531.5},null,2733,"Hidden","Long",null,1,0,"",null,1,"Stay Long",-245,-53885.959999999992]
[null,{"$f":"'Market Data'!B2738","v":20100929},{"$f":"'Market Data'!C2738","v":6533.5},{"$f":"'Market Data'!D2738","v":6584},{"$f":"'Market Data'!E2738","v":6477.5},{"$f":"'Market Data'!F2738","v":6512.5},null,2734,"Hidden","Long",null,1,0,"",null,1,"Stay Long",-665,-54550.959999999992]
[null,{"$f":"'Market Data'!B2739","v":20100930},{"$f":"'Market Data'!C2739","v":6479},{"$f":"'Market Data'!D2739","v":6595.5},{"$f":"'Market Data'!E2739","v":6441},{"$f":"'Market Data'!F2739","v":6491},null,2735,"Hidden","Long",null,1,0,"",null,1,"Stay Long",-752.5,-55303.459999999992]
[null,{"$f":"'Market Data'!B2740","v":20101001},{"$f":"'Market Data'!C2740","v":6497.5},{"$f":"'Market Data'!D2740","v":6551.5},{"$f":"'Market Data'!E2740","v":6442.5},{"$f":"'Market Data'!F2740","v":6472},null,2736,"Hidden","Long",null,1,0,"",null,1,"Stay Long",-665,-55968.459999999992]
[null,{"$f":"'Market Data'!B2741","v":20101004},{"$f":"'Market Data'!C2741","v":6464.5},{"$f":"'Market Data'!D2741","v":6481.5},{"$f":"'Market Data'!E2741","v":6366},{"$f":"'Market Data'!F2741","v":6381},null,2737,"Hidden","Long",null,1,0,"",null,1,"Stay Long",-3185,-59153.459999999992]
[null,{"$f":"'Market Data'!B2742","v":20101005},{"$f":"'Market Data'!C2742","v":6411.5},{"$f":"'Market Data'!D2742","v":6491.5},{"$f":"'Market Data'!E2742","v":6372.5},{"$f":"'Market Data'!F2742","v":6486},null,2738,"Hidden","Long",null,1,0,"",null,1,"Stay Long",3675,-55478.459999999992]
[null,{"$f":"'Market Data'!B2743","v":20101006},{"$f":"'Market Data'!C2743","v":6501.5},{"$f":"'Market Data'!D2743","v":6546.5},{"$f":"'Market Data'!E2743","v":6497.5},{"$f":"'Market Data'!F2743","v":6512},null,2739,"Hidden","Long",null,1,0,"",null,1,"Stay Long",910,-54568.459999999992]
[null,{"$f":"'Market Data'!B2744","v":20101007},{"$f":"'Market Data'!C2744","v":6508},{"$f":"'Market Data'!D2744","v":6580},{"$f":"'Market Data'!E2744","v":6490},{"$f":"'Market Data'!F2744","v":6511.5},null,2740,"Hidden","Long",null,1,0,"",null,1,"Stay Long",-17.5,-54585.959999999992]
[null,{"$f":"'Market Data'!B2745","v":20101008},{"$f":"'Market Data'!C2745","v":6540.5},{"$f":"'Market Data'!D2745","v":6555},{"$f":"'Market Data'!E2745","v":6492.5},{"$f":"'Market Data'!F2745","v":6549.5},null,2741,"Hidden","Long",null,1,0,"",null,1,"Stay Long",1330,-53255.959999999992]
[null,{"$f":"'Market Data'!B2746","v":20101011},{"$f":"'Market Data'!C2746","v":6552.5},{"$f":"'Market Data'!D2746","v":6582.5},{"$f":"'Market Data'!E2746","v":6542.5},{"$f":"'Market Data'!F2746","v":6568},null,2742,"Hidden","Long",null,1,0,"",null,1,"Stay Long",647.5,-52608.459999999992]
[null,{"$f":"'Market Data'!B2747","v":20101012},{"$f":"'Market Data'!C2747","v":6525.5},{"$f":"'Market Data'!D2747","v":6574},{"$f":"'Market Data'!E2747","v":6477.5},{"$f":"'Market Data'!F2747","v":6555},null,2743,"Hidden","Long",null,1,0,"",null,1,"Stay Long",-455,-53063.459999999992]
[null,{"$f":"'Market Data'!B2748","v":20101013},{"$f":"'Market Data'!C2748","v":6577},{"$f":"'Market Data'!D2748","v":6714},{"$f":"'Market Data'!E2748","v":6577},{"$f":"'Market Data'!F2748","v":6696},null,2744,"Hidden","Long",null,1,0,"",null,1,"Stay Long",4935,-48128.459999999992]
[null,{"$f":"'Market Data'!B2749","v":20101014},{"$f":"'Market Data'!C2749","v":6707.5},{"$f":"'Market Data'!D2749","v":6742},{"$f":"'Market Data'!E2749","v":6700},{"$f":"'Market Data'!F2749","v":6712.5},null,2745,"Hidden","Long",null,1,0,"",null,1,"Stay Long",577.5,-47550.959999999992]
[null,{"$f":"'Market Data'!B2750","v":20101015},{"$f":"'Market Data'!C2750","v":6733.5},{"$f":"'Market Data'!D2750","v":6771},{"$f":"'Market Data'!E2750","v":6694.5},{"$f":"'Market Data'!F2750","v":6743.5},null,2746,"Hidden","Long",null,1,0,"",null,1,"Stay Long",1085,-46465.959999999992]
[null,{"$f":"'Market Data'!B2751","v":20101018},{"$f":"'Market Data'!C2751","v":6723.5},{"$f":"'Market Data'!D2751","v":6792},{"$f":"'Market Data'!E2751","v":6714.5},{"$f":"'Market Data'!F2751","v":6774.5},null,2747,"Hidden","Long",null,1,0,"",null,1,"Stay Long",1085,-45380.959999999992]
[null,{"$f":"'Market Data'!B2752","v":20101019},{"$f":"'Market Data'!C2752","v":6764},{"$f":"'Market Data'!D2752","v":6803.5},{"$f":"'Market Data'!E2752","v":6728.5},{"$f":"'Market Data'!F2752","v":6755},null,2748,"Hidden","Long",null,1,0,"",null,1,"Stay Long",-682.5,-46063.459999999992]
[null,{"$f":"'Market Data'!B2753","v":20101020},{"$f":"'Market Data'!C2753","v":6747},{"$f":"'Market Data'!D2753","v":6791.5},{"$f":"'Market Data'!E2753","v":6718.5},{"$f":"'Market Data'!F2753","v":6784.5},null,2749,"Hidden","Long",null,1,0,"",null,1,"Stay Long",1032.5,-45030.959999999992]
[null,{"$f":"'Market Data'!B2754","v":20101021},{"$f":"'Market Data'!C2754","v":6772.5},{"$f":"'Market Data'!D2754","v":6879},{"$f":"'Market Data'!E2754","v":6761.5},{"$f":"'Market Data'!F2754","v":6846.5},null,2750,"Hidden","Long",null,1,0,"",null,1,"Stay Long",2170,-42860.959999999992]
[null,{"$f":"'Market Data'!B2755","v":20101022},{"$f":"'Market Data'!C2755","v":6861.5},{"$f":"'Market Data'!D2755","v":6880.5},{"$f":"'Market Data'!E2755","v":6843},{"$f":"'Market Data'!F2755","v":6870},null,2751,"Hidden","Long",null,1,{"$f":"$L2768-P2768","v":0},"",null,1,"Stay Long",822.5,-42038.459999999992]
[null,{"$f":"'Market Data'!B2756","v":20101025},{"$f":"'Market Data'!C2756","v":6915},{"$f":"'Market Data'!D2756","v":6931.5},{"$f":"'Market Data'!E2756","v":6882.5},{"$f":"'Market Data'!F2756","v":6891},null,2752,"Hidden","Long",null,1,0,"",null,{"$f":"IF($N2768=\"Fill\",$L2768,$P2768)","v":1},"Stay Long",{"$f":"IF(OR($P2768&$L2768=\"01\",$P2768&$L2768=\"0-1\"),(($F2769-$C2769)*$R$3*$L2768)-(ABS($M2768)*$R$4),IF(OR($P2768&$L2768=\"10\",$P2768&$L2768=\"-10\"),(($C2769-$F2768)*$R$3*$P2768)-(ABS($M2768)*$R$4),IF(OR($P2768&$L2768=\"1-1\",$P2768&$L2768=\"-11\"),(($C2769-$F2768)*$R$3*$P2768)-(ABS($M2768)*$R$4)+(($F2769-$C2769)*$R$3*$P2769),IF(OR($P2768&$L2768=\"11\",$P2768&$L2768=\"-1-1\"),(($F2769-$F2768)*$R$3*$P2769),0))))","v":735},-41303.459999999992]
[null,{"$f":"'Market Data'!B2757","v":20101026},{"$f":"'Market Data'!C2757","v":6897},{"$f":"'Market Data'!D2757","v":6903.5},{"$f":"'Market Data'!E2757","v":6835.5},{"$f":"'Market Data'!F2757","v":6875.5},null,{"$f":"ROW()-ROW(H$17)","v":2753},"Hidden",{"$f":"$I$4","v":"Long"},null,1,0,{"$f":"IF(NOT($M2770=0),\"Fill\",\"\")","v":""},null,1,{"$f":"IF($P2769&$L2769=\"00\",\"Stay Flat\",IF($P2769&$L2769=\"01\",\"Go Long\",IF($P2769&$L2769=\"0-1\",\"Go Short\",IF($P2769&$L2769=\"-10\",\"Exit Short\",IF($P2769&$L2769=\"-1-1\",\"Stay Short\",IF($P2769&$L2769=\"-11\",\"Exit Short, Go Long\",IF($P2769&$L2769=\"10\",\"Exit Long\",IF($P2769&$L2769=\"1-1\",\"Exit Long, Go Short\",IF($P2769&$L2769=\"11\",\"Stay Long\",\"\")))))))))","v":"Stay Long"},-542.5,{"$f":"S2769+R2770","v":-41845.959999999992}]
[null,{"$f":"'Market Data'!B2758","v":20101027},{"$f":"'Market Data'!C2758","v":6860.5},{"$f":"'Market Data'!D2758","v":6886.5},{"$f":"'Market Data'!E2758","v":6810},{"$f":"'Market Data'!F2758","v":6824},null,2754,"Hidden","Long",null,{"$f":"IF($J2771=\"Short\",-1,IF($J2771=\"Long\",1,0))","v":1},0,"",null,1,"Stay Long",-1802.5,-43648.459999999992]
[null,{"$f":"'Market Data'!B2759","v":20101028},{"$f":"'Market Data'!C2759","v":6858.5},{"$f":"'Market Data'!D2759","v":6905},{"$f":"'Market Data'!E2759","v":6832.5},{"$f":"'Market Data'!F2759","v":6845.5},null,2755,"Hidden","Long",null,1,0,"",null,1,"Stay Long",752.5,-42895.959999999992]
[null,{"$f":"'Market Data'!B2760","v":20101029},{"$f":"'Market Data'!C2760","v":6831},{"$f":"'Market Data'!D2760","v":6887.5},{"$f":"'Market Data'!E2760","v":6825.5},{"$f":"'Market Data'!F2760","v":6869},null,2756,"Hidden","Long",null,1,0,"",null,1,"Stay Long",822.5,-42073.459999999992]
[null,{"$f":"'Market Data'!B2761","v":20101101},{"$f":"'Market Data'!C2761","v":6914},{"$f":"'Market Data'!D2761","v":6927.5},{"$f":"'Market Data'!E2761","v":6841},{"$f":"'Market Data'!F2761","v":6856},null,2757,"Hidden","Long",null,1,0,"",null,1,"Stay Long",-455,-42528.459999999992]
[null,{"$f":"'Market Data'!B2762","v":20101102},{"$f":"'Market Data'!C2762","v":6857},{"$f":"'Market Data'!D2762","v":6926.5},{"$f":"'Market Data'!E2762","v":6850.5},{"$f":"'Market Data'!F2762","v":6920},null,2758,"Hidden","Long",null,1,0,"",null,1,"Stay Long",2240,-40288.459999999992]
[null,{"$f":"'Market Data'!B2763","v":20101103},{"$f":"'Market Data'!C2763","v":6921.5},{"$f":"'Market Data'!D2763","v":6941},{"$f":"'Market Data'!E2763","v":6859},{"$f":"'Market Data'!F2763","v":6884},null,2759,"Hidden","Long",null,1,0,"",null,1,"Stay Long",-1260,-41548.459999999992]
[null,{"$f":"'Market Data'!B2764","v":20101104},{"$f":"'Market Data'!C2764","v":6918},{"$f":"'Market Data'!D2764","v":7014},{"$f":"'Market Data'!E2764","v":6912.5},{"$f":"'Market Data'!F2764","v":6991.5},null,2760,"Hidden","Long",null,1,0,"",null,1,"Stay Long",3762.5,-37785.959999999992]
[null,{"$f":"'Market Data'!B2765","v":20101105},{"$f":"'Market Data'!C2765","v":6992.5},{"$f":"'Market Data'!D2765","v":7033.5},{"$f":"'Market Data'!E2765","v":6967.5},{"$f":"'Market Data'!F2765","v":7015},null,2761,"Hidden","Long",null,1,0,"",null,1,"Stay Long",822.5,-36963.459999999992]
[null,{"$f":"'Market Data'!B2766","v":20101108},{"$f":"'Market Data'!C2766","v":7001},{"$f":"'Market Data'!D2766","v":7017},{"$f":"'Market Data'!E2766","v":6983},{"$f":"'Market Data'!F2766","v":7012.5},null,2762,"Hidden","Long",null,1,0,"",null,1,"Stay Long",-87.5,-37050.959999999992]
[null,{"$f":"'Market Data'!B2767","v":20101109},{"$f":"'Market Data'!C2767","v":7001},{"$f":"'Market Data'!D2767","v":7066},{"$f":"'Market Data'!E2767","v":6988},{"$f":"'Market Data'!F2767","v":7034.5},null,2763,"Hidden","Long",null,1,0,"",null,1,"Stay Long",770,-36280.959999999992]
[null,{"$f":"'Market Data'!B2768","v":20101110},{"$f":"'Market Data'!C2768","v":7023},{"$f":"'Market Data'!D2768","v":7038.5},{"$f":"'Market Data'!E2768","v":6937.5},{"$f":"'Market Data'!F2768","v":6996},null,2764,"Hidden","Long",null,1,0,"",null,1,"Stay Long",-1347.5,-37628.459999999992]
[null,{"$f":"'Market Data'!B2769","v":20101111},{"$f":"'Market Data'!C2769","v":7004},{"$f":"'Market Data'!D2769","v":7016},{"$f":"'Market Data'!E2769","v":6955.5},{"$f":"'Market Data'!F2769","v":6987},null,2765,"Hidden","Long",null,1,0,"",null,1,"Stay Long",-315,-37943.459999999992]
[null,{"$f":"'Market Data'!B2770","v":20101112},{"$f":"'Market Data'!C2770","v":6928.5},{"$f":"'Market Data'!D2770","v":7015},{"$f":"'Market Data'!E2770","v":6873},{"$f":"'Market Data'!F2770","v":6962},null,2766,"Hidden","Long",null,1,0,"",null,1,"Stay Long",-875,-38818.459999999992]
[null,{"$f":"'Market Data'!B2771","v":20101115},{"$f":"'Market Data'!C2771","v":6957.5},{"$f":"'Market Data'!D2771","v":7068},{"$f":"'Market Data'!E2771","v":6932.5},{"$f":"'Market Data'!F2771","v":7050},null,2767,"Hidden","Long",null,1,0,"",null,1,"Stay Long",3080,-35738.459999999992]
[null,{"$f":"'Market Data'!B2772","v":20101116},{"$f":"'Market Data'!C2772","v":7008.5},{"$f":"'Market Data'!D2772","v":7024},{"$f":"'Market Data'!E2772","v":6902},{"$f":"'Market Data'!F2772","v":6922.5},null,2768,"Hidden","Long",null,1,0,"",null,1,"Stay Long",-4462.5,-40200.959999999992]
[null,{"$f":"'Market Data'!B2773","v":20101117},{"$f":"'Market Data'!C2773","v":6922.5},{"$f":"'Market Data'!D2773","v":6961.5},{"$f":"'Market Data'!E2773","v":6907.5},{"$f":"'Market Data'!F2773","v":6953.5},null,2769,"Hidden","Long",null,1,0,"",null,1,"Stay Long",1085,-39115.959999999992]
[null,{"$f":"'Market Data'!B2774","v":20101118},{"$f":"'Market Data'!C2774","v":7008},{"$f":"'Market Data'!D2774","v":7089},{"$f":"'Market Data'!E2774","v":7007},{"$f":"'Market Data'!F2774","v":7083},null,2770,"Hidden","Long",null,1,0,"",null,1,"Stay Long",4532.5,-34583.459999999992]
[null,{"$f":"'Market Data'!B2775","v":20101119},{"$f":"'Market Data'!C2775","v":7092.5},{"$f":"'Market Data'!D2775","v":7108.5},{"$f":"'Market Data'!E2775","v":7046},{"$f":"'Market Data'!F2775","v":7099},null,2771,"Hidden","Long",null,1,0,"",null,1,"Stay Long",560,-34023.459999999992]
[null,{"$f":"'Market Data'!B2776","v":20101122},{"$f":"'Market Data'!C2776","v":7135},{"$f":"'Market Data'!D2776","v":7155},{"$f":"'Market Data'!E2776","v":7044.5},{"$f":"'Market Data'!F2776","v":7057.5},null,2772,"Hidden","Long",null,1,0,"",null,1,"Stay Long",-1452.5,-35475.959999999992]
[null,{"$f":"'Market Data'!B2777","v":20101123},{"$f":"'Market Data'!C2777","v":7049.5},{"$f":"'Market Data'!D2777","v":7080.5},{"$f":"'Market Data'!E2777","v":6959},{"$f":"'Market Data'!F2777","v":6989},null,2773,"Hidden","Long",null,1,0,"",null,1,"Stay Long",-2397.5,-37873.459999999992]
[null,{"$f":"'Market Data'!B2778","v":20101124},{"$f":"'Market Data'!C2778","v":6995},{"$f":"'Market Data'!D2778","v":7090},{"$f":"'Market Data'!E2778","v":6951},{"$f":"'Market Data'!F2778","v":7085.5},null,2774,"Hidden","Long",null,1,0,"",null,1,"Stay Long",3377.5,-34495.959999999992]
[null,{"$f":"'Market Data'!B2779","v":20101125},{"$f":"'Market Data'!C2779","v":7081},{"$f":"'Market Data'!D2779","v":7137},{"$f":"'Market Data'!E2779","v":7072.5},{"$f":"'Market Data'!F2779","v":7131},null,2775,"Hidden","Long",null,1,0,"",null,1,"Stay Long",1592.5,-32903.459999999992]
[null,{"$f":"'Market Data'!B2780","v":20101126},{"$f":"'Market Data'!C2780","v":7097.5},{"$f":"'Market Data'!D2780","v":7122.5},{"$f":"'Market Data'!E2780","v":7029},{"$f":"'Market Data'!F2780","v":7095.5},null,2776,"Hidden","Long",null,1,0,"",null,1,"Stay Long",-1242.5,-34145.959999999992]
[null,{"$f":"'Market Data'!B2781","v":20101129},{"$f":"'Market Data'!C2781","v":7109},{"$f":"'Market Data'!D2781","v":7158},{"$f":"'Market Data'!E2781","v":6934.5},{"$f":"'Market Data'!F2781","v":6962},null,2777,"Hidden","Long",null,1,0,"",null,1,"Stay Long",-4672.5,-38818.459999999992]
[null,{"$f":"'Market Data'!B2782","v":20101130},{"$f":"'Market Data'!C2782","v":6975.5},{"$f":"'Market Data'!D2782","v":7014},{"$f":"'Market Data'!E2782","v":6908},{"$f":"'Market Data'!F2782","v":6962.5},null,2778,"Hidden","Long",null,1,0,"",null,1,"Stay Long",17.5,-38800.959999999992]
[null,{"$f":"'Market Data'!B2783","v":20101201},{"$f":"'Market Data'!C2783","v":6974.5},{"$f":"'Market Data'!D2783","v":7137},{"$f":"'Market Data'!E2783","v":6972.5},{"$f":"'Market Data'!F2783","v":7129.5},null,2779,"Hidden","Long",null,1,0,"",null,1,"Stay Long",5845,-32955.959999999992]
[null,{"$f":"'Market Data'!B2784","v":20101202},{"$f":"'Market Data'!C2784","v":7123.5},{"$f":"'Market Data'!D2784","v":7213.5},{"$f":"'Market Data'!E2784","v":7090.5},{"$f":"'Market Data'!F2784","v":7198},null,2780,"Hidden","Long",null,1,0,"",null,1,"Stay Long",2397.5,-30558.459999999992]
[null,{"$f":"'Market Data'!B2785","v":20101203},{"$f":"'Market Data'!C2785","v":7203.5},{"$f":"'Market Data'!D2785","v":7227.5},{"$f":"'Market Data'!E2785","v":7164},{"$f":"'Market Data'!F2785","v":7197.5},null,2781,"Hidden","Long",null,1,0,"",null,1,"Stay Long",-17.5,-30575.959999999992]
[null,{"$f":"'Market Data'!B2786","v":20101206},{"$f":"'Market Data'!C2786","v":7216.5},{"$f":"'Market Data'!D2786","v":7226.5},{"$f":"'Market Data'!E2786","v":7175},{"$f":"'Market Data'!F2786","v":7204.5},null,2782,"Hidden","Long",null,1,0,"",null,1,"Stay Long",245,-30330.959999999992]
[null,{"$f":"'Market Data'!B2787","v":20101207},{"$f":"'Market Data'!C2787","v":7222},{"$f":"'Market Data'!D2787","v":7291},{"$f":"'Market Data'!E2787","v":7210},{"$f":"'Market Data'!F2787","v":7260},null,2783,"Hidden","Long",null,1,0,"",null,1,"Stay Long",1942.5,-28388.459999999992]
[null,{"$f":"'Market Data'!B2788","v":20101208},{"$f":"'Market Data'!C2788","v":7229},{"$f":"'Market Data'!D2788","v":7262},{"$f":"'Market Data'!E2788","v":7204.5},{"$f":"'Market Data'!F2788","v":7223},null,2784,"Hidden","Long",null,1,0,"",null,1,"Stay Long",-1295,-29683.459999999992]
[null,{"$f":"'Market Data'!B2789","v":20101209},{"$f":"'Market Data'!C2789","v":7258},{"$f":"'Market Data'!D2789","v":7276.5},{"$f":"'Market Data'!E2789","v":7194},{"$f":"'Market Data'!F2789","v":7214},null,2785,"Hidden","Long",null,1,0,"",null,1,"Stay Long",-315,-29998.459999999992]
[null,{"$f":"'Market Data'!B2790","v":20101210},{"$f":"'Market Data'!C2790","v":7252.5},{"$f":"'Market Data'!D2790","v":7267.5},{"$f":"'Market Data'!E2790","v":7221.5},{"$f":"'Market Data'!F2790","v":7258.5},null,2786,"Hidden","Long",null,1,0,"",null,1,"Stay Long",1557.5,-28440.959999999992]
[null,{"$f":"'Market Data'!B2791","v":20101213},{"$f":"'Market Data'!C2791","v":7260.5},{"$f":"'Market Data'!D2791","v":7293.5},{"$f":"'Market Data'!E2791","v":7260.5},{"$f":"'Market Data'!F2791","v":7278.5},null,2787,"Hidden","Long",null,1,0,"",null,1,"Stay Long",700,-27740.959999999992]
[null,{"$f":"'Market Data'!B2792","v":20101214},{"$f":"'Market Data'!C2792","v":7270},{"$f":"'Market Data'!D2792","v":7285.5},{"$f":"'Market Data'!E2792","v":7259.5},{"$f":"'Market Data'!F2792","v":7280},null,2788,"Hidden","Long",null,1,0,"",null,1,"Stay Long",52.5,-27688.459999999992]
[null,{"$f":"'Market Data'!B2793","v":20101215},{"$f":"'Market Data'!C2793","v":7257.5},{"$f":"'Market Data'!D2793","v":7279},{"$f":"'Market Data'!E2793","v":7211.5},{"$f":"'Market Data'!F2793","v":7260},null,2789,"Hidden","Long",null,1,0,"",null,1,"Stay Long",-700,-28388.459999999992]
[null,{"$f":"'Market Data'!B2794","v":20101216},{"$f":"'Market Data'!C2794","v":7265.5},{"$f":"'Market Data'!D2794","v":7282.5},{"$f":"'Market Data'!E2794","v":7238},{"$f":"'Market Data'!F2794","v":7274.5},null,2790,"Hidden","Long",null,1,0,"",null,1,"Stay Long",507.5,-27880.959999999992]
[null,{"$f":"'Market Data'!B2795","v":20101217},{"$f":"'Market Data'!C2795","v":7283},{"$f":"'Market Data'!D2795","v":7290.5},{"$f":"'Market Data'!E2795","v":7226},{"$f":"'Market Data'!F2795","v":7246.5},null,2791,"Hidden","Long",null,1,0,"",null,1,"Stay Long",-980,-28860.959999999992]
[null,{"$f":"'Market Data'!B2796","v":20101220},{"$f":"'Market Data'!C2796","v":7234},{"$f":"'Market Data'!D2796","v":7315.5},{"$f":"'Market Data'!E2796","v":7232},{"$f":"'Market Data'!F2796","v":7284},null,2792,"Hidden","Long",null,1,0,"",null,1,"Stay Long",1312.5,-27548.459999999992]
[null,{"$f":"'Market Data'!B2797","v":20101221},{"$f":"'Market Data'!C2797","v":7294},{"$f":"'Market Data'!D2797","v":7334.5},{"$f":"'Market Data'!E2797","v":7288},{"$f":"'Market Data'!F2797","v":7325},null,2793,"Hidden","Long",null,1,0,"",null,1,"Stay Long",1435,-26113.459999999992]
[null,{"$f":"'Market Data'!B2798","v":20101222},{"$f":"'Market Data'!C2798","v":7323},{"$f":"'Market Data'!D2798","v":7331},{"$f":"'Market Data'!E2798","v":7313},{"$f":"'Market Data'!F2798","v":7322},null,2794,"Hidden","Long",null,1,0,"",null,1,"Stay Long",-105,-26218.459999999992]
[null,{"$f":"'Market Data'!B2799","v":20101223},{"$f":"'Market Data'!C2799","v":7329},{"$f":"'Market Data'!D2799","v":7329.5},{"$f":"'Market Data'!E2799","v":7286},{"$f":"'Market Data'!F2799","v":7301.5},null,2795,"Hidden","Long",null,1,0,"",null,1,"Stay Long",-717.5,-26935.959999999992]
[null,{"$f":"'Market Data'!B2800","v":20101227},{"$f":"'Market Data'!C2800","v":7309.5},{"$f":"'Market Data'!D2800","v":7312.5},{"$f":"'Market Data'!E2800","v":7144},{"$f":"'Market Data'!F2800","v":7218},null,2796,"Hidden","Long",null,1,0,"",null,1,"Stay Long",-2922.5,-29858.459999999992]
[null,{"$f":"'Market Data'!B2801","v":20101228},{"$f":"'Market Data'!C2801","v":7234.5},{"$f":"'Market Data'!D2801","v":7239},{"$f":"'Market Data'!E2801","v":7200},{"$f":"'Market Data'!F2801","v":7217},null,2797,"Hidden","Long",null,1,0,"",null,1,"Stay Long",-35,-29893.459999999992]
[null,{"$f":"'Market Data'!B2802","v":20101229},{"$f":"'Market Data'!C2802","v":7235.5},{"$f":"'Market Data'!D2802","v":7253},{"$f":"'Market Data'!E2802","v":7225.5},{"$f":"'Market Data'!F2802","v":7238},null,2798,"Hidden","Long",null,1,0,"",null,1,"Stay Long",735,-29158.459999999992]
[null,{"$f":"'Market Data'!B2803","v":20101230},{"$f":"'Market Data'!C2803","v":7239},{"$f":"'Market Data'!D2803","v":7252},{"$f":"'Market Data'!E2803","v":7139},{"$f":"'Market Data'!F2803","v":7156},null,2799,"Hidden","Long",null,1,0,"",null,1,"Stay Long",-2870,-32028.459999999992]
[null,{"$f":"'Market Data'!B2804","v":20110103},{"$f":"'Market Data'!C2804","v":7230.5},{"$f":"'Market Data'!D2804","v":7271.5},{"$f":"'Market Data'!E2804","v":7206},{"$f":"'Market Data'!F2804","v":7224.5},null,2800,"Hidden","Long",null,1,0,"",null,1,"Stay Long",2397.5,-29630.959999999992]
[null,{"$f":"'Market Data'!B2805","v":20110104},{"$f":"'Market Data'!C2805","v":7218.5},{"$f":"'Market Data'!D2805","v":7267},{"$f":"'Market Data'!E2805","v":7192},{"$f":"'Market Data'!F2805","v":7203.5},null,2801,"Hidden","Long",null,1,0,"",null,1,"Stay Long",-735,-30365.959999999992]
[null,{"$f":"'Market Data'!B2806","v":20110105},{"$f":"'Market Data'!C2806","v":7189.5},{"$f":"'Market Data'!D2806","v":7210},{"$f":"'Market Data'!E2806","v":7081.5},{"$f":"'Market Data'!F2806","v":7187.5},null,2802,"Hidden","Long",null,1,0,"",null,1,"Stay Long",-560,-30925.959999999992]
[null,{"$f":"'Market Data'!B2807","v":20110106},{"$f":"'Market Data'!C2807","v":7203},{"$f":"'Market Data'!D2807","v":7300},{"$f":"'Market Data'!E2807","v":7197},{"$f":"'Market Data'!F2807","v":7230.5},null,2803,"Hidden","Long",null,1,0,"",null,1,"Stay Long",1505,-29420.959999999992]
[null,{"$f":"'Market Data'!B2808","v":20110107},{"$f":"'Market Data'!C2808","v":7232},{"$f":"'Market Data'!D2808","v":7263.5},{"$f":"'Market Data'!E2808","v":7175},{"$f":"'Market Data'!F2808","v":7202.5},null,2804,"Hidden","Long",null,1,0,"",null,1,"Stay Long",-980,-30400.959999999992]
[null,{"$f":"'Market Data'!B2809","v":20110110},{"$f":"'Market Data'!C2809","v":7186},{"$f":"'Market Data'!D2809","v":7193},{"$f":"'Market Data'!E2809","v":7083.5},{"$f":"'Market Data'!F2809","v":7121},null,2805,"Hidden","Long",null,1,0,"",null,1,"Stay Long",-2852.5,-33253.459999999992]
[null,{"$f":"'Market Data'!B2810","v":20110111},{"$f":"'Market Data'!C2810","v":7131.5},{"$f":"'Market Data'!D2810","v":7200.5},{"$f":"'Market Data'!E2810","v":7108},{"$f":"'Market Data'!F2810","v":7194},null,2806,"Hidden","Long",null,1,0,"",null,1,"Stay Long",2555,-30698.459999999992]
[null,{"$f":"'Market Data'!B2811","v":20110112},{"$f":"'Market Data'!C2811","v":7193.5},{"$f":"'Market Data'!D2811","v":7338},{"$f":"'Market Data'!E2811","v":7193},{"$f":"'Market Data'!F2811","v":7318.5},null,2807,"Hidden","Long",null,1,0,"",null,1,"Stay Long",4357.5,-26340.959999999992]
[null,{"$f":"'Market Data'!B2812","v":20110113},{"$f":"'Market Data'!C2812","v":7335.5},{"$f":"'Market Data'!D2812","v":7339},{"$f":"'Market Data'!E2812","v":7286.5},{"$f":"'Market Data'!F2812","v":7317},null,2808,"Hidden","Long",null,1,0,"",null,1,"Stay Long",-52.5,-26393.459999999992]
[null,{"$f":"'Market Data'!B2813","v":20110114},{"$f":"'Market Data'!C2813","v":7302},{"$f":"'Market Data'!D2813","v":7351.5},{"$f":"'Market Data'!E2813","v":7264},{"$f":"'Market Data'!F2813","v":7331},null,2809,"Hidden","Long",null,1,0,"",null,1,"Stay Long",490,-25903.459999999992]
[null,{"$f":"'Market Data'!B2814","v":20110117},{"$f":"'Market Data'!C2814","v":7328.5},{"$f":"'Market Data'!D2814","v":7336},{"$f":"'Market Data'!E2814","v":7304.5},{"$f":"'Market Data'!F2814","v":7322.5},null,2810,"Hidden","Long",null,1,0,"",null,1,"Stay Long",-297.5,-26200.959999999992]
[null,{"$f":"'Market Data'!B2815","v":20110118},{"$f":"'Market Data'!C2815","v":7327},{"$f":"'Market Data'!D2815","v":7406},{"$f":"'Market Data'!E2815","v":7326},{"$f":"'Market Data'!F2815","v":7390},null,2811,"Hidden","Long",null,1,0,"",null,1,"Stay Long",2362.5,-23838.459999999992]
[null,{"$f":"'Market Data'!B2816","v":20110119},{"$f":"'Market Data'!C2816","v":7422},{"$f":"'Market Data'!D2816","v":7434},{"$f":"'Market Data'!E2816","v":7314},{"$f":"'Market Data'!F2816","v":7330.5},null,2812,"Hidden","Long",null,1,0,"",null,1,"Stay Long",-2082.5,-25920.959999999992]
[null,{"$f":"'Market Data'!B2817","v":20110120},{"$f":"'Market Data'!C2817","v":7321},{"$f":"'Market Data'!D2817","v":7336},{"$f":"'Market Data'!E2817","v":7256.5},{"$f":"'Market Data'!F2817","v":7274.5},null,2813,"Hidden","Long",null,1,0,"",null,1,"Stay Long",-1960,-27880.959999999992]
[null,{"$f":"'Market Data'!B2818","v":20110121},{"$f":"'Market Data'!C2818","v":7292},{"$f":"'Market Data'!D2818","v":7372.5},{"$f":"'Market Data'!E2818","v":7274},{"$f":"'Market Data'!F2818","v":7311},null,2814,"Hidden","Long",null,1,0,"",null,1,"Stay Long",1277.5,-26603.459999999992]
[null,{"$f":"'Market Data'!B2819","v":20110124},{"$f":"'Market Data'!C2819","v":7338.5},{"$f":"'Market Data'!D2819","v":7345.5},{"$f":"'Market Data'!E2819","v":7251.5},{"$f":"'Market Data'!F2819","v":7317},null,2815,"Hidden","Long",null,1,{"$f":"$L2832-P2832","v":0},"",null,1,"Stay Long",210,-26393.459999999992]
[null,{"$f":"'Market Data'!B2820","v":20110125},{"$f":"'Market Data'!C2820","v":7343},{"$f":"'Market Data'!D2820","v":7354.5},{"$f":"'Market Data'!E2820","v":7294.5},{"$f":"'Market Data'!F2820","v":7304.5},null,2816,"Hidden","Long",null,1,0,"",null,{"$f":"IF($N2832=\"Fill\",$L2832,$P2832)","v":1},"Stay Long",{"$f":"IF(OR($P2832&$L2832=\"01\",$P2832&$L2832=\"0-1\"),(($F2833-$C2833)*$R$3*$L2832)-(ABS($M2832)*$R$4),IF(OR($P2832&$L2832=\"10\",$P2832&$L2832=\"-10\"),(($C2833-$F2832)*$R$3*$P2832)-(ABS($M2832)*$R$4),IF(OR($P2832&$L2832=\"1-1\",$P2832&$L2832=\"-11\"),(($C2833-$F2832)*$R$3*$P2832)-(ABS($M2832)*$R$4)+(($F2833-$C2833)*$R$3*$P2833),IF(OR($P2832&$L2832=\"11\",$P2832&$L2832=\"-1-1\"),(($F2833-$F2832)*$R$3*$P2833),0))))","v":-437.5},-26830.959999999992]
[null,{"$f":"'Market Data'!B2821","v":20110126},{"$f":"'Market Data'!C2821","v":7343},{"$f":"'Market Data'!D2821","v":7410.5},{"$f":"'Market Data'!E2821","v":7335},{"$f":"'Market Data'!F2821","v":7371.5},null,{"$f":"ROW()-ROW(H$17)","v":2817},"Hidden",{"$f":"$I$4","v":"Long"},null,1,0,{"$f":"IF(NOT($M2834=0),\"Fill\",\"\")","v":""},null,1,{"$f":"IF($P2833&$L2833=\"00\",\"Stay Flat\",IF($P2833&$L2833=\"01\",\"Go Long\",IF($P2833&$L2833=\"0-1\",\"Go Short\",IF($P2833&$L2833=\"-10\",\"Exit Short\",IF($P2833&$L2833=\"-1-1\",\"Stay Short\",IF($P2833&$L2833=\"-11\",\"Exit Short, Go Long\",IF($P2833&$L2833=\"10\",\"Exit Long\",IF($P2833&$L2833=\"1-1\",\"Exit Long, Go Short\",IF($P2833&$L2833=\"11\",\"Stay Long\",\"\")))))))))","v":"Stay Long"},2345,{"$f":"S2833+R2834","v":-24485.959999999992}]
[null,{"$f":"'Market Data'!B2822","v":20110127},{"$f":"'Market Data'!C2822","v":7391},{"$f":"'Market Data'!D2822","v":7430},{"$f":"'Market Data'!E2822","v":7363.5},{"$f":"'Market Data'!F2822","v":7404},null,2818,"Hidden","Long",null,{"$f":"IF($J2835=\"Short\",-1,IF($J2835=\"Long\",1,0))","v":1},0,"",null,1,"Stay Long",1137.5,-23348.459999999992]
[null,{"$f":"'Market Data'!B2823","v":20110128},{"$f":"'Market Data'!C2823","v":7403},{"$f":"'Market Data'!D2823","v":7425.5},{"$f":"'Market Data'!E2823","v":7321},{"$f":"'Market Data'!F2823","v":7356},null,2819,"Hidden","Long",null,1,0,"",null,1,"Stay Long",-1680,-25028.459999999992]
[null,{"$f":"'Market Data'!B2824","v":20110131},{"$f":"'Market Data'!C2824","v":7341},{"$f":"'Market Data'!D2824","v":7357},{"$f":"'Market Data'!E2824","v":7282},{"$f":"'Market Data'!F2824","v":7337},null,2820,"Hidden","Long",null,1,0,"",null,1,"Stay Long",-665,-25693.459999999992]
[null,{"$f":"'Market Data'!B2825","v":20110201},{"$f":"'Market Data'!C2825","v":7364},{"$f":"'Market Data'!D2825","v":7446},{"$f":"'Market Data'!E2825","v":7354},{"$f":"'Market Data'!F2825","v":7426.5},null,2821,"Hidden","Long",null,1,0,"",null,1,"Stay Long",3132.5,-22560.959999999992]
[null,{"$f":"'Market Data'!B2826","v":20110202},{"$f":"'Market Data'!C2826","v":7440.5},{"$f":"'Market Data'!D2826","v":7469},{"$f":"'Market Data'!E2826","v":7407.5},{"$f":"'Market Data'!F2826","v":7427},null,2822,"Hidden","Long",null,1,0,"",null,1,"Stay Long",17.5,-22543.459999999992]
[null,{"$f":"'Market Data'!B2827","v":20110203},{"$f":"'Market Data'!C2827","v":7417.5},{"$f":"'Market Data'!D2827","v":7463.5},{"$f":"'Market Data'!E2827","v":7393.5},{"$f":"'Market Data'!F2827","v":7432},null,2823,"Hidden","Long",null,1,0,"",null,1,"Stay Long",175,-22368.459999999992]
[null,{"$f":"'Market Data'!B2828","v":20110204},{"$f":"'Market Data'!C2828","v":7453.5},{"$f":"'Market Data'!D2828","v":7477},{"$f":"'Market Data'!E2828","v":7433},{"$f":"'Market Data'!F2828","v":7457.5},null,2824,"Hidden","Long",null,1,0,"",null,1,"Stay Long",892.5,-21475.959999999992]
[null,{"$f":"'Market Data'!B2829","v":20110207},{"$f":"'Market Data'!C2829","v":7477},{"$f":"'Market Data'!D2829","v":7536},{"$f":"'Market Data'!E2829","v":7459.5},{"$f":"'Market Data'!F2829","v":7528},null,2825,"Hidden","Long",null,1,0,"",null,1,"Stay Long",2467.5,-19008.459999999992]
[null,{"$f":"'Market Data'!B2830","v":20110208},{"$f":"'Market Data'!C2830","v":7529},{"$f":"'Market Data'!D2830","v":7582},{"$f":"'Market Data'!E2830","v":7518.5},{"$f":"'Market Data'!F2830","v":7559.5},null,2826,"Hidden","Long",null,1,0,"",null,1,"Stay Long",1102.5,-17905.959999999992]
[null,{"$f":"'Market Data'!B2831","v":20110209},{"$f":"'Market Data'!C2831","v":7565},{"$f":"'Market Data'!D2831","v":7599},{"$f":"'Market Data'!E2831","v":7559.5},{"$f":"'Market Data'!F2831","v":7562},null,2827,"Hidden","Long",null,1,0,"",null,1,"Stay Long",87.5,-17818.459999999992]
[null,{"$f":"'Market Data'!B2832","v":20110210},{"$f":"'Market Data'!C2832","v":7577},{"$f":"'Market Data'!D2832","v":7601},{"$f":"'Market Data'!E2832","v":7516},{"$f":"'Market Data'!F2832","v":7582},null,2828,"Hidden","Long",null,1,0,"",null,1,"Stay Long",700,-17118.459999999992]
[null,{"$f":"'Market Data'!B2833","v":20110211},{"$f":"'Market Data'!C2833","v":7561},{"$f":"'Market Data'!D2833","v":7644.5},{"$f":"'Market Data'!E2833","v":7528},{"$f":"'Market Data'!F2833","v":7626},null,2829,"Hidden","Long",null,1,0,"",null,1,"Stay Long",1540,-15578.459999999992]
[null,{"$f":"'Market Data'!B2834","v":20110214},{"$f":"'Market Data'!C2834","v":7649.5},{"$f":"'Market Data'!D2834","v":7670},{"$f":"'Market Data'!E2834","v":7625.5},{"$f":"'Market Data'!F2834","v":7640.5},null,2830,"Hidden","Long",null,1,0,"",null,1,"Stay Long",507.5,-15070.959999999992]
[null,{"$f":"'Market Data'!B2835","v":20110215},{"$f":"'Market Data'!C2835","v":7654},{"$f":"'Market Data'!D2835","v":7668},{"$f":"'Market Data'!E2835","v":7623},{"$f":"'Market Data'!F2835","v":7647},null,2831,"Hidden","Long",null,1,0,"",null,1,"Stay Long",227.5,-14843.459999999992]
[null,{"$f":"'Market Data'!B2836","v":20110216},{"$f":"'Market Data'!C2836","v":7671},{"$f":"'Market Data'!D2836","v":7684.5},{"$f":"'Market Data'!E2836","v":7647},{"$f":"'Market Data'!F2836","v":7669.5},null,2832,"Hidden","Long",null,1,0,"",null,1,"Stay Long",787.5,-14055.959999999992]
[null,{"$f":"'Market Data'!B2837","v":20110217},{"$f":"'Market Data'!C2837","v":7663},{"$f":"'Market Data'!D2837","v":7680},{"$f":"'Market Data'!E2837","v":7609},{"$f":"'Market Data'!F2837","v":7644},null,2833,"Hidden","Long",null,1,0,"",null,1,"Stay Long",-892.5,-14948.459999999992]
[null,{"$f":"'Market Data'!B2838","v":20110218},{"$f":"'Market Data'!C2838","v":7660},{"$f":"'Market Data'!D2838","v":7671.5},{"$f":"'Market Data'!E2838","v":7624.5},{"$f":"'Market Data'!F2838","v":7662},null,2834,"Hidden","Long",null,1,0,"",null,1,"Stay Long",630,-14318.459999999992]
[null,{"$f":"'Market Data'!B2839","v":20110221},{"$f":"'Market Data'!C2839","v":7659},{"$f":"'Market Data'!D2839","v":7689},{"$f":"'Market Data'!E2839","v":7556.5},{"$f":"'Market Data'!F2839","v":7567.5},null,2835,"Hidden","Long",null,1,0,"",null,1,"Stay Long",-3307.5,-17625.959999999992]
[null,{"$f":"'Market Data'!B2840","v":20110222},{"$f":"'Market Data'!C2840","v":7551.5},{"$f":"'Market Data'!D2840","v":7597.5},{"$f":"'Market Data'!E2840","v":7493},{"$f":"'Market Data'!F2840","v":7566.5},null,2836,"Hidden","Long",null,1,0,"",null,1,"Stay Long",-35,-17660.959999999992]
[null,{"$f":"'Market Data'!B2841","v":20110223},{"$f":"'Market Data'!C2841","v":7524},{"$f":"'Market Data'!D2841","v":7557},{"$f":"'Market Data'!E2841","v":7390},{"$f":"'Market Data'!F2841","v":7449},null,2837,"Hidden","Long",null,1,0,"",null,1,"Stay Long",-4112.5,-21773.459999999992]
[null,{"$f":"'Market Data'!B2842","v":20110224},{"$f":"'Market Data'!C2842","v":7420},{"$f":"'Market Data'!D2842","v":7423.5},{"$f":"'Market Data'!E2842","v":7324.5},{"$f":"'Market Data'!F2842","v":7376},null,2838,"Hidden","Long",null,1,0,"",null,1,"Stay Long",-2555,-24328.459999999992]
[null,{"$f":"'Market Data'!B2843","v":20110225},{"$f":"'Market Data'!C2843","v":7383},{"$f":"'Market Data'!D2843","v":7444.5},{"$f":"'Market Data'!E2843","v":7372.5},{"$f":"'Market Data'!F2843","v":7426.5},null,2839,"Hidden","Long",null,1,0,"",null,1,"Stay Long",1767.5,-22560.959999999992]
[null,{"$f":"'Market Data'!B2844","v":20110228},{"$f":"'Market Data'!C2844","v":7420.5},{"$f":"'Market Data'!D2844","v":7550.5},{"$f":"'Market Data'!E2844","v":7392.5},{"$f":"'Market Data'!F2844","v":7516.5},null,2840,"Hidden","Long",null,1,0,"",null,1,"Stay Long",3150,-19410.959999999992]
[null,{"$f":"'Market Data'!B2845","v":20110301},{"$f":"'Market Data'!C2845","v":7571},{"$f":"'Market Data'!D2845","v":7601.5},{"$f":"'Market Data'!E2845","v":7409.5},{"$f":"'Market Data'!F2845","v":7465.5},null,2841,"Hidden","Long",null,1,0,"",null,1,"Stay Long",-1785,-21195.959999999992]
[null,{"$f":"'Market Data'!B2846","v":20110302},{"$f":"'Market Data'!C2846","v":7396.5},{"$f":"'Market Data'!D2846","v":7448},{"$f":"'Market Data'!E2846","v":7366.5},{"$f":"'Market Data'!F2846","v":7432.5},null,2842,"Hidden","Long",null,1,0,"",null,1,"Stay Long",-1155,-22350.959999999992]
[null,{"$f":"'Market Data'!B2847","v":20110303},{"$f":"'Market Data'!C2847","v":7461},{"$f":"'Market Data'!D2847","v":7538.5},{"$f":"'Market Data'!E2847","v":7433},{"$f":"'Market Data'!F2847","v":7463.5},null,2843,"Hidden","Long",null,1,0,"",null,1,"Stay Long",1085,-21265.959999999992]
[null,{"$f":"'Market Data'!B2848","v":20110304},{"$f":"'Market Data'!C2848","v":7507.5},{"$f":"'Market Data'!D2848","v":7556},{"$f":"'Market Data'!E2848","v":7371},{"$f":"'Market Data'!F2848","v":7414},null,2844,"Hidden","Long",null,1,0,"",null,1,"Stay Long",-1732.5,-22998.459999999992]
[null,{"$f":"'Market Data'!B2849","v":20110307},{"$f":"'Market Data'!C2849","v":7387},{"$f":"'Market Data'!D2849","v":7515},{"$f":"'Market Data'!E2849","v":7365.5},{"$f":"'Market Data'!F2849","v":7406},null,2845,"Hidden","Long",null,1,0,"",null,1,"Stay Long",-280,-23278.459999999992]
[null,{"$f":"'Market Data'!B2850","v":20110308},{"$f":"'Market Data'!C2850","v":7435},{"$f":"'Market Data'!D2850","v":7467.5},{"$f":"'Market Data'!E2850","v":7313},{"$f":"'Market Data'!F2850","v":7405},null,2846,"Hidden","Long",null,1,0,"",null,1,"Stay Long",-35,-23313.459999999992]
[null,{"$f":"'Market Data'!B2851","v":20110309},{"$f":"'Market Data'!C2851","v":7391.5},{"$f":"'Market Data'!D2851","v":7461},{"$f":"'Market Data'!E2851","v":7350.5},{"$f":"'Market Data'!F2851","v":7369},null,2847,"Hidden","Long",null,1,0,"",null,1,"Stay Long",-1260,-24573.459999999992]
[null,{"$f":"'Market Data'!B2852","v":20110310},{"$f":"'Market Data'!C2852","v":7328.5},{"$f":"'Market Data'!D2852","v":7352.5},{"$f":"'Market Data'!E2852","v":7264},{"$f":"'Market Data'!F2852","v":7296},null,2848,"Hidden","Long",null,1,0,"",null,1,"Stay Long",-2555,-27128.459999999992]
[null,{"$f":"'Market Data'!B2853","v":20110311},{"$f":"'Market Data'!C2853","v":7232.5},{"$f":"'Market Data'!D2853","v":7259},{"$f":"'Market Data'!E2853","v":7208},{"$f":"'Market Data'!F2853","v":7223.5},null,2849,"Hidden","Long",null,1,0,"",null,1,"Stay Long",-2537.5,-29665.959999999992]
[null,{"$f":"'Market Data'!B2854","v":20110314},{"$f":"'Market Data'!C2854","v":7176},{"$f":"'Market Data'!D2854","v":7190},{"$f":"'Market Data'!E2854","v":7089},{"$f":"'Market Data'!F2854","v":7116},null,2850,"Hidden","Long",null,1,0,"",null,1,"Stay Long",-3762.5,-33428.459999999992]
[null,{"$f":"'Market Data'!B2855","v":20110315},{"$f":"'Market Data'!C2855","v":6902.5},{"$f":"'Market Data'!D2855","v":6958.5},{"$f":"'Market Data'!E2855","v":6724.5},{"$f":"'Market Data'!F2855","v":6905},null,2851,"Hidden","Long",null,1,0,"",null,1,"Stay Long",-7385,-40813.459999999992]
[null,{"$f":"'Market Data'!B2856","v":20110316},{"$f":"'Market Data'!C2856","v":6863},{"$f":"'Market Data'!D2856","v":6978},{"$f":"'Market Data'!E2856","v":6654},{"$f":"'Market Data'!F2856","v":6770.5},null,2852,"Hidden","Long",null,1,0,"",null,1,"Stay Long",-4707.5,-45520.959999999992]
[null,{"$f":"'Market Data'!B2857","v":20110317},{"$f":"'Market Data'!C2857","v":6766},{"$f":"'Market Data'!D2857","v":6934},{"$f":"'Market Data'!E2857","v":6756},{"$f":"'Market Data'!F2857","v":6894},null,2853,"Hidden","Long",null,1,0,"",null,1,"Stay Long",4322.5,-41198.459999999992]
[null,{"$f":"'Market Data'!B2858","v":20110318},{"$f":"'Market Data'!C2858","v":6962},{"$f":"'Market Data'!D2858","v":7002.5},{"$f":"'Market Data'!E2858","v":6862},{"$f":"'Market Data'!F2858","v":6912.5},null,2854,"Hidden","Long",null,1,0,"",null,1,"Stay Long",647.5,-40550.959999999992]
[null,{"$f":"'Market Data'!B2859","v":20110321},{"$f":"'Market Data'!C2859","v":6958},{"$f":"'Market Data'!D2859","v":7067},{"$f":"'Market Data'!E2859","v":6951},{"$f":"'Market Data'!F2859","v":7046},null,2855,"Hidden","Long",null,1,0,"",null,1,"Stay Long",4672.5,-35878.459999999992]
[null,{"$f":"'Market Data'!B2860","v":20110322},{"$f":"'Market Data'!C2860","v":7059},{"$f":"'Market Data'!D2860","v":7065.5},{"$f":"'Market Data'!E2860","v":7003.5},{"$f":"'Market Data'!F2860","v":7025.5},null,2856,"Hidden","Long",null,1,0,"",null,1,"Stay Long",-717.5,-36595.959999999992]
[null,{"$f":"'Market Data'!B2861","v":20110323},{"$f":"'Market Data'!C2861","v":7006},{"$f":"'Market Data'!D2861","v":7058},{"$f":"'Market Data'!E2861","v":6956.5},{"$f":"'Market Data'!F2861","v":7040},null,2857,"Hidden","Long",null,1,0,"",null,1,"Stay Long",507.5,-36088.459999999992]
[null,{"$f":"'Market Data'!B2862","v":20110324},{"$f":"'Market Data'!C2862","v":7040},{"$f":"'Market Data'!D2862","v":7198},{"$f":"'Market Data'!E2862","v":7023.5},{"$f":"'Market Data'!F2862","v":7177},null,2858,"Hidden","Long",null,1,0,"",null,1,"Stay Long",4795,-31293.459999999992]
[null,{"$f":"'Market Data'!B2863","v":20110325},{"$f":"'Market Data'!C2863","v":7214},{"$f":"'Market Data'!D2863","v":7224},{"$f":"'Market Data'!E2863","v":7158},{"$f":"'Market Data'!F2863","v":7199.5},null,2859,"Hidden","Long",null,1,0,"",null,1,"Stay Long",787.5,-30505.959999999992]
[null,{"$f":"'Market Data'!B2864","v":20110328},{"$f":"'Market Data'!C2864","v":7181},{"$f":"'Market Data'!D2864","v":7221.5},{"$f":"'Market Data'!E2864","v":7153},{"$f":"'Market Data'!F2864","v":7178.5},null,2860,"Hidden","Long",null,1,0,"",null,1,"Stay Long",-735,-31240.959999999992]
[null,{"$f":"'Market Data'!B2865","v":20110329},{"$f":"'Market Data'!C2865","v":7173},{"$f":"'Market Data'!D2865","v":7198},{"$f":"'Market Data'!E2865","v":7103},{"$f":"'Market Data'!F2865","v":7177},null,2861,"Hidden","Long",null,1,0,"",null,1,"Stay Long",-52.5,-31293.459999999992]
[null,{"$f":"'Market Data'!B2866","v":20110330},{"$f":"'Market Data'!C2866","v":7235},{"$f":"'Market Data'!D2866","v":7309},{"$f":"'Market Data'!E2866","v":7233},{"$f":"'Market Data'!F2866","v":7289.5},null,2862,"Hidden","Long",null,1,0,"",null,1,"Stay Long",3937.5,-27355.959999999992]
[null,{"$f":"'Market Data'!B2867","v":20110331},{"$f":"'Market Data'!C2867","v":7317},{"$f":"'Market Data'!D2867","v":7318.5},{"$f":"'Market Data'!E2867","v":7274},{"$f":"'Market Data'!F2867","v":7296.5},null,2863,"Hidden","Long",null,1,0,"",null,1,"Stay Long",245,-27110.959999999992]
[null,{"$f":"'Market Data'!B2868","v":20110401},{"$f":"'Market Data'!C2868","v":7318},{"$f":"'Market Data'!D2868","v":7431.5},{"$f":"'Market Data'!E2868","v":7308.5},{"$f":"'Market Data'!F2868","v":7416.5},null,2864,"Hidden","Long",null,1,0,"",null,1,"Stay Long",4200,-22910.959999999992]
[null,{"$f":"'Market Data'!B2869","v":20110404},{"$f":"'Market Data'!C2869","v":7413.5},{"$f":"'Market Data'!D2869","v":7438},{"$f":"'Market Data'!E2869","v":7400},{"$f":"'Market Data'!F2869","v":7417.5},null,2865,"Hidden","Long",null,1,0,"",null,1,"Stay Long",35,-22875.959999999992]
[null,{"$f":"'Market Data'!B2870","v":20110405},{"$f":"'Market Data'!C2870","v":7431.5},{"$f":"'Market Data'!D2870","v":7435},{"$f":"'Market Data'!E2870","v":7366},{"$f":"'Market Data'!F2870","v":7416.5},null,2866,"Hidden","Long",null,1,0,"",null,1,"Stay Long",-35,-22910.959999999992]
[null,{"$f":"'Market Data'!B2871","v":20110406},{"$f":"'Market Data'!C2871","v":7433.5},{"$f":"'Market Data'!D2871","v":7480.5},{"$f":"'Market Data'!E2871","v":7393.5},{"$f":"'Market Data'!F2871","v":7454.5},null,2867,"Hidden","Long",null,1,0,"",null,1,"Stay Long",1330,-21580.959999999992]
[null,{"$f":"'Market Data'!B2872","v":20110407},{"$f":"'Market Data'!C2872","v":7442},{"$f":"'Market Data'!D2872","v":7479},{"$f":"'Market Data'!E2872","v":7410.5},{"$f":"'Market Data'!F2872","v":7418.5},null,2868,"Hidden","Long",null,1,0,"",null,1,"Stay Long",-1260,-22840.959999999992]
[null,{"$f":"'Market Data'!B2873","v":20110408},{"$f":"'Market Data'!C2873","v":7459},{"$f":"'Market Data'!D2873","v":7471},{"$f":"'Market Data'!E2873","v":7407},{"$f":"'Market Data'!F2873","v":7441},null,2869,"Hidden","Long",null,1,0,"",null,1,"Stay Long",787.5,-22053.459999999992]
[null,{"$f":"'Market Data'!B2874","v":20110411},{"$f":"'Market Data'!C2874","v":7442},{"$f":"'Market Data'!D2874","v":7463},{"$f":"'Market Data'!E2874","v":7391.5},{"$f":"'Market Data'!F2874","v":7444.5},null,2870,"Hidden","Long",null,1,0,"",null,1,"Stay Long",122.5,-21930.959999999992]
[null,{"$f":"'Market Data'!B2875","v":20110412},{"$f":"'Market Data'!C2875","v":7393},{"$f":"'Market Data'!D2875","v":7418.5},{"$f":"'Market Data'!E2875","v":7327},{"$f":"'Market Data'!F2875","v":7346},null,2871,"Hidden","Long",null,1,0,"",null,1,"Stay Long",-3447.5,-25378.459999999992]
[null,{"$f":"'Market Data'!B2876","v":20110413},{"$f":"'Market Data'!C2876","v":7370},{"$f":"'Market Data'!D2876","v":7440.5},{"$f":"'Market Data'!E2876","v":7361.5},{"$f":"'Market Data'!F2876","v":7419.5},null,2872,"Hidden","Long",null,1,0,"",null,1,"Stay Long",2572.5,-22805.959999999992]
[null,{"$f":"'Market Data'!B2877","v":20110414},{"$f":"'Market Data'!C2877","v":7408},{"$f":"'Market Data'!D2877","v":7423},{"$f":"'Market Data'!E2877","v":7332},{"$f":"'Market Data'!F2877","v":7386.5},null,2873,"Hidden","Long",null,1,0,"",null,1,"Stay Long",-1155,-23960.959999999992]
[null,{"$f":"'Market Data'!B2878","v":20110415},{"$f":"'Market Data'!C2878","v":7390},{"$f":"'Market Data'!D2878","v":7430},{"$f":"'Market Data'!E2878","v":7378.5},{"$f":"'Market Data'!F2878","v":7410},null,2874,"Hidden","Long",null,1,0,"",null,1,"Stay Long",822.5,-23138.459999999992]
[null,{"$f":"'Market Data'!B2879","v":20110418},{"$f":"'Market Data'!C2879","v":7416},{"$f":"'Market Data'!D2879","v":7419.5},{"$f":"'Market Data'!E2879","v":7227},{"$f":"'Market Data'!F2879","v":7264.5},null,2875,"Hidden","Long",null,1,0,"",null,1,"Stay Long",-5092.5,-28230.959999999992]
[null,{"$f":"'Market Data'!B2880","v":20110419},{"$f":"'Market Data'!C2880","v":7269},{"$f":"'Market Data'!D2880","v":7316},{"$f":"'Market Data'!E2880","v":7261.5},{"$f":"'Market Data'!F2880","v":7267},null,2876,"Hidden","Long",null,1,0,"",null,1,"Stay Long",87.5,-28143.459999999992]
[null,{"$f":"'Market Data'!B2881","v":20110420},{"$f":"'Market Data'!C2881","v":7354},{"$f":"'Market Data'!D2881","v":7499.5},{"$f":"'Market Data'!E2881","v":7346},{"$f":"'Market Data'!F2881","v":7475.5},null,2877,"Hidden","Long",null,1,0,"",null,1,"Stay Long",7297.5,-20845.959999999992]
[null,{"$f":"'Market Data'!B2882","v":20110421},{"$f":"'Market Data'!C2882","v":7523},{"$f":"'Market Data'!D2882","v":7552.5},{"$f":"'Market Data'!E2882","v":7511},{"$f":"'Market Data'!F2882","v":7531},null,2878,"Hidden","Long",null,1,0,"",null,1,"Stay Long",1942.5,-18903.459999999992]
[null,{"$f":"'Market Data'!B2883","v":20110426},{"$f":"'Market Data'!C2883","v":7524.5},{"$f":"'Market Data'!D2883","v":7611},{"$f":"'Market Data'!E2883","v":7509.5},{"$f":"'Market Data'!F2883","v":7590},null,2879,"Hidden","Long",null,1,{"$f":"$L2896-P2896","v":0},"",null,1,"Stay Long",2065,-16838.459999999992]
[null,{"$f":"'Market Data'!B2884","v":20110427},{"$f":"'Market Data'!C2884","v":7603.5},{"$f":"'Market Data'!D2884","v":7697},{"$f":"'Market Data'!E2884","v":7591.5},{"$f":"'Market Data'!F2884","v":7636},null,2880,"Hidden","Long",null,1,0,"",null,{"$f":"IF($N2896=\"Fill\",$L2896,$P2896)","v":1},"Stay Long",{"$f":"IF(OR($P2896&$L2896=\"01\",$P2896&$L2896=\"0-1\"),(($F2897-$C2897)*$R$3*$L2896)-(ABS($M2896)*$R$4),IF(OR($P2896&$L2896=\"10\",$P2896&$L2896=\"-10\"),(($C2897-$F2896)*$R$3*$P2896)-(ABS($M2896)*$R$4),IF(OR($P2896&$L2896=\"1-1\",$P2896&$L2896=\"-11\"),(($C2897-$F2896)*$R$3*$P2896)-(ABS($M2896)*$R$4)+(($F2897-$C2897)*$R$3*$P2897),IF(OR($P2896&$L2896=\"11\",$P2896&$L2896=\"-1-1\"),(($F2897-$F2896)*$R$3*$P2897),0))))","v":1610},-15228.459999999992]
[null,{"$f":"'Market Data'!B2885","v":20110428},{"$f":"'Market Data'!C2885","v":7702.5},{"$f":"'Market Data'!D2885","v":7734},{"$f":"'Market Data'!E2885","v":7660.5},{"$f":"'Market Data'!F2885","v":7712.5},null,{"$f":"ROW()-ROW(H$17)","v":2881},"Hidden",{"$f":"$I$4","v":"Long"},null,1,0,{"$f":"IF(NOT($M2898=0),\"Fill\",\"\")","v":""},null,1,{"$f":"IF($P2897&$L2897=\"00\",\"Stay Flat\",IF($P2897&$L2897=\"01\",\"Go Long\",IF($P2897&$L2897=\"0-1\",\"Go Short\",IF($P2897&$L2897=\"-10\",\"Exit Short\",IF($P2897&$L2897=\"-1-1\",\"Stay Short\",IF($P2897&$L2897=\"-11\",\"Exit Short, Go Long\",IF($P2897&$L2897=\"10\",\"Exit Long\",IF($P2897&$L2897=\"1-1\",\"Exit Long, Go Short\",IF($P2897&$L2897=\"11\",\"Stay Long\",\"\")))))))))","v":"Stay Long"},2677.5,{"$f":"S2897+R2898","v":-12550.959999999992}]
[null,{"$f":"'Market Data'!B2886","v":20110429},{"$f":"'Market Data'!C2886","v":7713.5},{"$f":"'Market Data'!D2886","v":7766.5},{"$f":"'Market Data'!E2886","v":7702},{"$f":"'Market Data'!F2886","v":7747.5},null,2882,"Hidden","Long",null,{"$f":"IF($J2899=\"Short\",-1,IF($J2899=\"Long\",1,0))","v":1},0,"",null,1,"Stay Long",1225,-11325.959999999992]
[null,{"$f":"'Market Data'!B2887","v":20110502},{"$f":"'Market Data'!C2887","v":7817.5},{"$f":"'Market Data'!D2887","v":7842},{"$f":"'Market Data'!E2887","v":7736},{"$f":"'Market Data'!F2887","v":7773},null,2883,"Hidden","Long",null,1,0,"",null,1,"Stay Long",892.5,-10433.459999999992]
[null,{"$f":"'Market Data'!B2888","v":20110503},{"$f":"'Market Data'!C2888","v":7743},{"$f":"'Market Data'!D2888","v":7763.5},{"$f":"'Market Data'!E2888","v":7687.5},{"$f":"'Market Data'!F2888","v":7738},null,2884,"Hidden","Long",null,1,0,"",null,1,"Stay Long",-1225,-11658.459999999992]
[null,{"$f":"'Market Data'!B2889","v":20110504},{"$f":"'Market Data'!C2889","v":7697},{"$f":"'Market Data'!D2889","v":7779.5},{"$f":"'Market Data'!E2889","v":7596.5},{"$f":"'Market Data'!F2889","v":7612},null,2885,"Hidden","Long",null,1,0,"",null,1,"Stay Long",-4410,-16068.459999999992]
[null,{"$f":"'Market Data'!B2890","v":20110505},{"$f":"'Market Data'!C2890","v":7646.5},{"$f":"'Market Data'!D2890","v":7661.5},{"$f":"'Market Data'!E2890","v":7527},{"$f":"'Market Data'!F2890","v":7604.5},null,2886,"Hidden","Long",null,1,0,"",null,1,"Stay Long",-262.5,-16330.959999999992]
[null,{"$f":"'Market Data'!B2891","v":20110506},{"$f":"'Market Data'!C2891","v":7605.5},{"$f":"'Market Data'!D2891","v":7737},{"$f":"'Market Data'!E2891","v":7596},{"$f":"'Market Data'!F2891","v":7722.5},null,2887,"Hidden","Long",null,1,0,"",null,1,"Stay Long",4130,-12200.959999999992]
[null,{"$f":"'Market Data'!B2892","v":20110509},{"$f":"'Market Data'!C2892","v":7670.5},{"$f":"'Market Data'!D2892","v":7720},{"$f":"'Market Data'!E2892","v":7608.5},{"$f":"'Market Data'!F2892","v":7644.5},null,2888,"Hidden","Long",null,1,0,"",null,1,"Stay Long",-2730,-14930.959999999992]
[null,{"$f":"'Market Data'!B2893","v":20110510},{"$f":"'Market Data'!C2893","v":7647.5},{"$f":"'Market Data'!D2893","v":7765},{"$f":"'Market Data'!E2893","v":7644},{"$f":"'Market Data'!F2893","v":7725},null,2889,"Hidden","Long",null,1,0,"",null,1,"Stay Long",2817.5,-12113.459999999992]
[null,{"$f":"'Market Data'!B2894","v":20110511},{"$f":"'Market Data'!C2894","v":7753},{"$f":"'Market Data'!D2894","v":7797.5},{"$f":"'Market Data'!E2894","v":7668},{"$f":"'Market Data'!F2894","v":7731.5},null,2890,"Hidden","Long",null,1,0,"",null,1,"Stay Long",227.5,-11885.959999999992]
[null,{"$f":"'Market Data'!B2895","v":20110512},{"$f":"'Market Data'!C2895","v":7672},{"$f":"'Market Data'!D2895","v":7722.5},{"$f":"'Market Data'!E2895","v":7584},{"$f":"'Market Data'!F2895","v":7670.5},null,2891,"Hidden","Long",null,1,0,"",null,1,"Stay Long",-2135,-14020.959999999992]
[null,{"$f":"'Market Data'!B2896","v":20110513},{"$f":"'Market Data'!C2896","v":7717.5},{"$f":"'Market Data'!D2896","v":7737.5},{"$f":"'Market Data'!E2896","v":7574.5},{"$f":"'Market Data'!F2896","v":7628.5},null,2892,"Hidden","Long",null,1,0,"",null,1,"Stay Long",-1470,-15490.959999999992]
[null,{"$f":"'Market Data'!B2897","v":20110516},{"$f":"'Market Data'!C2897","v":7566},{"$f":"'Market Data'!D2897","v":7629.5},{"$f":"'Market Data'!E2897","v":7510.5},{"$f":"'Market Data'!F2897","v":7607.5},null,2893,"Hidden","Long",null,1,0,"",null,1,"Stay Long",-735,-16225.959999999992]
[null,{"$f":"'Market Data'!B2898","v":20110517},{"$f":"'Market Data'!C2898","v":7560},{"$f":"'Market Data'!D2898","v":7595.5},{"$f":"'Market Data'!E2898","v":7469.5},{"$f":"'Market Data'!F2898","v":7498.5},null,2894,"Hidden","Long",null,1,0,"",null,1,"Stay Long",-3815,-20040.959999999992]
[null,{"$f":"'Market Data'!B2899","v":20110518},{"$f":"'Market Data'!C2899","v":7548},{"$f":"'Market Data'!D2899","v":7568},{"$f":"'Market Data'!E2899","v":7486},{"$f":"'Market Data'!F2899","v":7531},null,2895,"Hidden","Long",null,1,0,"",null,1,"Stay Long",1137.5,-18903.459999999992]
[null,{"$f":"'Market Data'!B2900","v":20110519},{"$f":"'Market Data'!C2900","v":7563},{"$f":"'Market Data'!D2900","v":7647},{"$f":"'Market Data'!E2900","v":7539},{"$f":"'Market Data'!F2900","v":7571.5},null,2896,"Hidden","Long",null,1,0,"",null,1,"Stay Long",1417.5,-17485.959999999992]
[null,{"$f":"'Market Data'!B2901","v":20110520},{"$f":"'Market Data'!C2901","v":7602},{"$f":"'Market Data'!D2901","v":7635.5},{"$f":"'Market Data'!E2901","v":7450.5},{"$f":"'Market Data'!F2901","v":7489.5},null,2897,"Hidden","Long",null,1,0,"",null,1,"Stay Long",-2870,-20355.959999999992]
[null,{"$f":"'Market Data'!B2902","v":20110523},{"$f":"'Market Data'!C2902","v":7418},{"$f":"'Market Data'!D2902","v":7420},{"$f":"'Market Data'!E2902","v":7325},{"$f":"'Market Data'!F2902","v":7357},null,2898,"Hidden","Long",null,1,0,"",null,1,"Stay Long",-4637.5,-24993.459999999992]
[null,{"$f":"'Market Data'!B2903","v":20110524},{"$f":"'Market Data'!C2903","v":7348},{"$f":"'Market Data'!D2903","v":7427},{"$f":"'Market Data'!E2903","v":7339},{"$f":"'Market Data'!F2903","v":7368},null,2899,"Hidden","Long",null,1,0,"",null,1,"Stay Long",385,-24608.459999999992]
[null,{"$f":"'Market Data'!B2904","v":20110525},{"$f":"'Market Data'!C2904","v":7296},{"$f":"'Market Data'!D2904","v":7425.5},{"$f":"'Market Data'!E2904","v":7285.5},{"$f":"'Market Data'!F2904","v":7398.5},null,2900,"Hidden","Long",null,1,0,"",null,1,"Stay Long",1067.5,-23540.959999999992]
[null,{"$f":"'Market Data'!B2905","v":20110526},{"$f":"'Market Data'!C2905","v":7418.5},{"$f":"'Market Data'!D2905","v":7439.5},{"$f":"'Market Data'!E2905","v":7309},{"$f":"'Market Data'!F2905","v":7336.5},null,2901,"Hidden","Long",null,1,0,"",null,1,"Stay Long",-2170,-25710.959999999992]
[null,{"$f":"'Market Data'!B2906","v":20110527},{"$f":"'Market Data'!C2906","v":7408},{"$f":"'Market Data'!D2906","v":7429},{"$f":"'Market Data'!E2906","v":7335.5},{"$f":"'Market Data'!F2906","v":7387},null,2902,"Hidden","Long",null,1,0,"",null,1,"Stay Long",1767.5,-23943.459999999992]
[null,{"$f":"'Market Data'!B2907","v":20110530},{"$f":"'Market Data'!C2907","v":7371.5},{"$f":"'Market Data'!D2907","v":7427},{"$f":"'Market Data'!E2907","v":7361},{"$f":"'Market Data'!F2907","v":7385},null,2903,"Hidden","Long",null,1,0,"",null,1,"Stay Long",-70,-24013.459999999992]
[null,{"$f":"'Market Data'!B2908","v":20110531},{"$f":"'Market Data'!C2908","v":7449.5},{"$f":"'Market Data'!D2908","v":7555.5},{"$f":"'Market Data'!E2908","v":7440},{"$f":"'Market Data'!F2908","v":7514},null,2904,"Hidden","Long",null,1,0,"",null,1,"Stay Long",4515,-19498.459999999992]
[null,{"$f":"'Market Data'!B2909","v":20110601},{"$f":"'Market Data'!C2909","v":7563},{"$f":"'Market Data'!D2909","v":7565.5},{"$f":"'Market Data'!E2909","v":7349},{"$f":"'Market Data'!F2909","v":7444.5},null,2905,"Hidden","Long",null,1,0,"",null,1,"Stay Long",-2432.5,-21930.959999999992]
[null,{"$f":"'Market Data'!B2910","v":20110602},{"$f":"'Market Data'!C2910","v":7363},{"$f":"'Market Data'!D2910","v":7379},{"$f":"'Market Data'!E2910","v":7287.5},{"$f":"'Market Data'!F2910","v":7306},null,2906,"Hidden","Long",null,1,0,"",null,1,"Stay Long",-4847.5,-26778.459999999992]
[null,{"$f":"'Market Data'!B2911","v":20110603},{"$f":"'Market Data'!C2911","v":7318},{"$f":"'Market Data'!D2911","v":7366.5},{"$f":"'Market Data'!E2911","v":7241},{"$f":"'Market Data'!F2911","v":7321},null,2907,"Hidden","Long",null,1,0,"",null,1,"Stay Long",525,-26253.459999999992]
[null,{"$f":"'Market Data'!B2912","v":20110606},{"$f":"'Market Data'!C2912","v":7318},{"$f":"'Market Data'!D2912","v":7346.5},{"$f":"'Market Data'!E2912","v":7260},{"$f":"'Market Data'!F2912","v":7311.5},null,2908,"Hidden","Long",null,1,0,"",null,1,"Stay Long",-332.5,-26585.959999999992]
[null,{"$f":"'Market Data'!B2913","v":20110607},{"$f":"'Market Data'!C2913","v":7284},{"$f":"'Market Data'!D2913","v":7370},{"$f":"'Market Data'!E2913","v":7284},{"$f":"'Market Data'!F2913","v":7328},null,2909,"Hidden","Long",null,1,0,"",null,1,"Stay Long",577.5,-26008.459999999992]
[null,{"$f":"'Market Data'!B2914","v":20110608},{"$f":"'Market Data'!C2914","v":7278},{"$f":"'Market Data'!D2914","v":7310},{"$f":"'Market Data'!E2914","v":7210.5},{"$f":"'Market Data'!F2914","v":7275},null,2910,"Hidden","Long",null,1,0,"",null,1,"Stay Long",-1855,-27863.459999999992]
[null,{"$f":"'Market Data'!B2915","v":20110609},{"$f":"'Market Data'!C2915","v":7268},{"$f":"'Market Data'!D2915","v":7410.5},{"$f":"'Market Data'!E2915","v":7253.5},{"$f":"'Market Data'!F2915","v":7374.5},null,2911,"Hidden","Long",null,1,0,"",null,1,"Stay Long",3482.5,-24380.959999999992]
[null,{"$f":"'Market Data'!B2916","v":20110610},{"$f":"'Market Data'!C2916","v":7365},{"$f":"'Market Data'!D2916","v":7403},{"$f":"'Market Data'!E2916","v":7264},{"$f":"'Market Data'!F2916","v":7292},null,2912,"Hidden","Long",null,1,0,"",null,1,"Stay Long",-2887.5,-27268.459999999992]
[null,{"$f":"'Market Data'!B2917","v":20110613},{"$f":"'Market Data'!C2917","v":7284},{"$f":"'Market Data'!D2917","v":7343.5},{"$f":"'Market Data'!E2917","v":7260},{"$f":"'Market Data'!F2917","v":7310.5},null,2913,"Hidden","Long",null,1,0,"",null,1,"Stay Long",647.5,-26620.959999999992]
[null,{"$f":"'Market Data'!B2918","v":20110614},{"$f":"'Market Data'!C2918","v":7349.5},{"$f":"'Market Data'!D2918","v":7452},{"$f":"'Market Data'!E2918","v":7344},{"$f":"'Market Data'!F2918","v":7419},null,2914,"Hidden","Long",null,1,0,"",null,1,"Stay Long",3797.5,-22823.459999999992]
[null,{"$f":"'Market Data'!B2919","v":20110615},{"$f":"'Market Data'!C2919","v":7411},{"$f":"'Market Data'!D2919","v":7421.5},{"$f":"'Market Data'!E2919","v":7290},{"$f":"'Market Data'!F2919","v":7338},null,2915,"Hidden","Long",null,1,0,"",null,1,"Stay Long",-2835,-25658.459999999992]
[null,{"$f":"'Market Data'!B2920","v":20110616},{"$f":"'Market Data'!C2920","v":7280.5},{"$f":"'Market Data'!D2920","v":7336},{"$f":"'Market Data'!E2920","v":7234.5},{"$f":"'Market Data'!F2920","v":7325},null,2916,"Hidden","Long",null,1,0,"",null,1,"Stay Long",-455,-26113.459999999992]
[null,{"$f":"'Market Data'!B2921","v":20110617},{"$f":"'Market Data'!C2921","v":7294.5},{"$f":"'Market Data'!D2921","v":7445},{"$f":"'Market Data'!E2921","v":7254.5},{"$f":"'Market Data'!F2921","v":7393.5},null,2917,"Hidden","Long",null,1,0,"",null,1,"Stay Long",2397.5,-23715.959999999992]
[null,{"$f":"'Market Data'!B2922","v":20110620},{"$f":"'Market Data'!C2922","v":7330},{"$f":"'Market Data'!D2922","v":7387},{"$f":"'Market Data'!E2922","v":7278},{"$f":"'Market Data'!F2922","v":7371.5},null,2918,"Hidden","Long",null,1,0,"",null,1,"Stay Long",-770,-24485.959999999992]
[null,{"$f":"'Market Data'!B2923","v":20110621},{"$f":"'Market Data'!C2923","v":7391},{"$f":"'Market Data'!D2923","v":7531},{"$f":"'Market Data'!E2923","v":7390.5},{"$f":"'Market Data'!F2923","v":7497},null,2919,"Hidden","Long",null,1,0,"",null,1,"Stay Long",4392.5,-20093.459999999992]
[null,{"$f":"'Market Data'!B2924","v":20110622},{"$f":"'Market Data'!C2924","v":7500.5},{"$f":"'Market Data'!D2924","v":7529},{"$f":"'Market Data'!E2924","v":7468},{"$f":"'Market Data'!F2924","v":7503.5},null,2920,"Hidden","Long",null,1,0,"",null,1,"Stay Long",227.5,-19865.959999999992]
[null,{"$f":"'Market Data'!B2925","v":20110623},{"$f":"'Market Data'!C2925","v":7453.5},{"$f":"'Market Data'!D2925","v":7467.5},{"$f":"'Market Data'!E2925","v":7335},{"$f":"'Market Data'!F2925","v":7363},null,2921,"Hidden","Long",null,1,0,"",null,1,"Stay Long",-4917.5,-24783.459999999992]
[null,{"$f":"'Market Data'!B2926","v":20110624},{"$f":"'Market Data'!C2926","v":7451},{"$f":"'Market Data'!D2926","v":7490},{"$f":"'Market Data'!E2926","v":7313},{"$f":"'Market Data'!F2926","v":7344},null,2922,"Hidden","Long",null,1,0,"",null,1,"Stay Long",-665,-25448.459999999992]
[null,{"$f":"'Market Data'!B2927","v":20110627},{"$f":"'Market Data'!C2927","v":7311},{"$f":"'Market Data'!D2927","v":7363.5},{"$f":"'Market Data'!E2927","v":7293.5},{"$f":"'Market Data'!F2927","v":7323},null,2923,"Hidden","Long",null,1,0,"",null,1,"Stay Long",-735,-26183.459999999992]
[null,{"$f":"'Market Data'!B2928","v":20110628},{"$f":"'Market Data'!C2928","v":7341.5},{"$f":"'Market Data'!D2928","v":7425.5},{"$f":"'Market Data'!E2928","v":7290},{"$f":"'Market Data'!F2928","v":7386.5},null,2924,"Hidden","Long",null,1,0,"",null,1,"Stay Long",2222.5,-23960.959999999992]
[null,{"$f":"'Market Data'!B2929","v":20110629},{"$f":"'Market Data'!C2929","v":7416},{"$f":"'Market Data'!D2929","v":7537},{"$f":"'Market Data'!E2929","v":7415.5},{"$f":"'Market Data'!F2929","v":7514.5},null,2925,"Hidden","Long",null,1,0,"",null,1,"Stay Long",4480,-19480.959999999992]
[null,{"$f":"'Market Data'!B2930","v":20110630},{"$f":"'Market Data'!C2930","v":7536},{"$f":"'Market Data'!D2930","v":7607.5},{"$f":"'Market Data'!E2930","v":7501},{"$f":"'Market Data'!F2930","v":7583.5},null,2926,"Hidden","Long",null,1,0,"",null,1,"Stay Long",2415,-17065.959999999992]
[null,{"$f":"'Market Data'!B2931","v":20110701},{"$f":"'Market Data'!C2931","v":7611.5},{"$f":"'Market Data'!D2931","v":7669},{"$f":"'Market Data'!E2931","v":7572},{"$f":"'Market Data'!F2931","v":7627},null,2927,"Hidden","Long",null,1,0,"",null,1,"Stay Long",1522.5,-15543.459999999992]
[null,{"$f":"'Market Data'!B2932","v":20110704},{"$f":"'Market Data'!C2932","v":7641},{"$f":"'Market Data'!D2932","v":7666},{"$f":"'Market Data'!E2932","v":7630.5},{"$f":"'Market Data'!F2932","v":7655},null,2928,"Hidden","Long",null,1,0,"",null,1,"Stay Long",980,-14563.459999999992]
[null,{"$f":"'Market Data'!B2933","v":20110705},{"$f":"'Market Data'!C2933","v":7658},{"$f":"'Market Data'!D2933","v":7691},{"$f":"'Market Data'!E2933","v":7637.5},{"$f":"'Market Data'!F2933","v":7663},null,2929,"Hidden","Long",null,1,0,"",null,1,"Stay Long",280,-14283.459999999992]
[null,{"$f":"'Market Data'!B2934","v":20110706},{"$f":"'Market Data'!C2934","v":7682.5},{"$f":"'Market Data'!D2934","v":7687},{"$f":"'Market Data'!E2934","v":7611},{"$f":"'Market Data'!F2934","v":7642.5},null,2930,"Hidden","Long",null,1,0,"",null,1,"Stay Long",-717.5,-15000.959999999992]
[null,{"$f":"'Market Data'!B2935","v":20110707},{"$f":"'Market Data'!C2935","v":7697},{"$f":"'Market Data'!D2935","v":7732},{"$f":"'Market Data'!E2935","v":7656},{"$f":"'Market Data'!F2935","v":7690},null,2931,"Hidden","Long",null,1,0,"",null,1,"Stay Long",1662.5,-13338.459999999992]
[null,{"$f":"'Market Data'!B2936","v":20110708},{"$f":"'Market Data'!C2936","v":7716.5},{"$f":"'Market Data'!D2936","v":7739},{"$f":"'Market Data'!E2936","v":7603},{"$f":"'Market Data'!F2936","v":7619},null,2932,"Hidden","Long",null,1,0,"",null,1,"Stay Long",-2485,-15823.459999999992]
[null,{"$f":"'Market Data'!B2937","v":20110711},{"$f":"'Market Data'!C2937","v":7602},{"$f":"'Market Data'!D2937","v":7608.5},{"$f":"'Market Data'!E2937","v":7401.5},{"$f":"'Market Data'!F2937","v":7447},null,2933,"Hidden","Long",null,1,0,"",null,1,"Stay Long",-6020,-21843.459999999992]
[null,{"$f":"'Market Data'!B2938","v":20110712},{"$f":"'Market Data'!C2938","v":7355},{"$f":"'Market Data'!D2938","v":7417},{"$f":"'Market Data'!E2938","v":7206.5},{"$f":"'Market Data'!F2938","v":7387},null,2934,"Hidden","Long",null,1,0,"",null,1,"Stay Long",-2100,-23943.459999999992]
[null,{"$f":"'Market Data'!B2939","v":20110713},{"$f":"'Market Data'!C2939","v":7372.5},{"$f":"'Market Data'!D2939","v":7493.5},{"$f":"'Market Data'!E2939","v":7359.5},{"$f":"'Market Data'!F2939","v":7481},null,2935,"Hidden","Long",null,1,0,"",null,1,"Stay Long",3290,-20653.459999999992]
[null,{"$f":"'Market Data'!B2940","v":20110714},{"$f":"'Market Data'!C2940","v":7412},{"$f":"'Market Data'!D2940","v":7482},{"$f":"'Market Data'!E2940","v":7368},{"$f":"'Market Data'!F2940","v":7436},null,2936,"Hidden","Long",null,1,0,"",null,1,"Stay Long",-1575,-22228.459999999992]
[null,{"$f":"'Market Data'!B2941","v":20110715},{"$f":"'Market Data'!C2941","v":7409},{"$f":"'Market Data'!D2941","v":7466},{"$f":"'Market Data'!E2941","v":7349},{"$f":"'Market Data'!F2941","v":7442},null,2937,"Hidden","Long",null,1,0,"",null,1,"Stay Long",210,-22018.459999999992]
[null,{"$f":"'Market Data'!B2942","v":20110718},{"$f":"'Market Data'!C2942","v":7399.5},{"$f":"'Market Data'!D2942","v":7404.5},{"$f":"'Market Data'!E2942","v":7298.5},{"$f":"'Market Data'!F2942","v":7335.5},null,2938,"Hidden","Long",null,1,0,"",null,1,"Stay Long",-3727.5,-25745.959999999992]
[null,{"$f":"'Market Data'!B2943","v":20110719},{"$f":"'Market Data'!C2943","v":7346},{"$f":"'Market Data'!D2943","v":7448.5},{"$f":"'Market Data'!E2943","v":7343},{"$f":"'Market Data'!F2943","v":7400},null,2939,"Hidden","Long",null,1,0,"",null,1,"Stay Long",2257.5,-23488.459999999992]
[null,{"$f":"'Market Data'!B2944","v":20110720},{"$f":"'Market Data'!C2944","v":7447},{"$f":"'Market Data'!D2944","v":7474},{"$f":"'Market Data'!E2944","v":7374.5},{"$f":"'Market Data'!F2944","v":7428.5},null,2940,"Hidden","Long",null,1,0,"",null,1,"Stay Long",997.5,-22490.959999999992]
[null,{"$f":"'Market Data'!B2945","v":20110721},{"$f":"'Market Data'!C2945","v":7452.5},{"$f":"'Market Data'!D2945","v":7536.5},{"$f":"'Market Data'!E2945","v":7348.5},{"$f":"'Market Data'!F2945","v":7503.5},null,2941,"Hidden","Long",null,1,0,"",null,1,"Stay Long",2625,-19865.959999999992]
[null,{"$f":"'Market Data'!B2946","v":20110722},{"$f":"'Market Data'!C2946","v":7551},{"$f":"'Market Data'!D2946","v":7565.5},{"$f":"'Market Data'!E2946","v":7473.5},{"$f":"'Market Data'!F2946","v":7528.5},null,2942,"Hidden","Long",null,1,0,"",null,1,"Stay Long",875,-18990.959999999992]
[null,{"$f":"'Market Data'!B2947","v":20110725},{"$f":"'Market Data'!C2947","v":7480},{"$f":"'Market Data'!D2947","v":7576.5},{"$f":"'Market Data'!E2947","v":7466.5},{"$f":"'Market Data'!F2947","v":7562.5},null,2943,"Hidden","Long",null,1,{"$f":"$L2960-P2960","v":0},"",null,1,"Stay Long",1190,-17800.959999999992]
[null,{"$f":"'Market Data'!B2948","v":20110726},{"$f":"'Market Data'!C2948","v":7563},{"$f":"'Market Data'!D2948","v":7591},{"$f":"'Market Data'!E2948","v":7509.5},{"$f":"'Market Data'!F2948","v":7562.5},null,2944,"Hidden","Long",null,1,0,"",null,{"$f":"IF($N2960=\"Fill\",$L2960,$P2960)","v":1},"Stay Long",{"$f":"IF(OR($P2960&$L2960=\"01\",$P2960&$L2960=\"0-1\"),(($F2961-$C2961)*$R$3*$L2960)-(ABS($M2960)*$R$4),IF(OR($P2960&$L2960=\"10\",$P2960&$L2960=\"-10\"),(($C2961-$F2960)*$R$3*$P2960)-(ABS($M2960)*$R$4),IF(OR($P2960&$L2960=\"1-1\",$P2960&$L2960=\"-11\"),(($C2961-$F2960)*$R$3*$P2960)-(ABS($M2960)*$R$4)+(($F2961-$C2961)*$R$3*$P2961),IF(OR($P2960&$L2960=\"11\",$P2960&$L2960=\"-1-1\"),(($F2961-$F2960)*$R$3*$P2961),0))))","v":0},-17800.959999999992]
[null,{"$f":"'Market Data'!B2949","v":20110727},{"$f":"'Market Data'!C2949","v":7538},{"$f":"'Market Data'!D2949","v":7554},{"$f":"'Market Data'!E2949","v":7424.5},{"$f":"'Market Data'!F2949","v":7462},null,{"$f":"ROW()-ROW(H$17)","v":2945},"Hidden",{"$f":"$I$4","v":"Long"},null,1,0,{"$f":"IF(NOT($M2962=0),\"Fill\",\"\")","v":""},null,1,{"$f":"IF($P2961&$L2961=\"00\",\"Stay Flat\",IF($P2961&$L2961=\"01\",\"Go Long\",IF($P2961&$L2961=\"0-1\",\"Go Short\",IF($P2961&$L2961=\"-10\",\"Exit Short\",IF($P2961&$L2961=\"-1-1\",\"Stay Short\",IF($P2961&$L2961=\"-11\",\"Exit Short, Go Long\",IF($P2961&$L2961=\"10\",\"Exit Long\",IF($P2961&$L2961=\"1-1\",\"Exit Long, Go Short\",IF($P2961&$L2961=\"11\",\"Stay Long\",\"\")))))))))","v":"Stay Long"},-3517.5,{"$f":"S2961+R2962","v":-21318.459999999992}]
[null,{"$f":"'Market Data'!B2950","v":20110728},{"$f":"'Market Data'!C2950","v":7393},{"$f":"'Market Data'!D2950","v":7413},{"$f":"'Market Data'!E2950","v":7317.5},{"$f":"'Market Data'!F2950","v":7403},null,2946,"Hidden","Long",null,{"$f":"IF($J2963=\"Short\",-1,IF($J2963=\"Long\",1,0))","v":1},0,"",null,1,"Stay Long",-2065,-23383.459999999992]
[null,{"$f":"'Market Data'!B2951","v":20110729},{"$f":"'Market Data'!C2951","v":7282.5},{"$f":"'Market Data'!D2951","v":7398.5},{"$f":"'Market Data'!E2951","v":7270.5},{"$f":"'Market Data'!F2951","v":7373},null,2947,"Hidden","Long",null,1,0,"",null,1,"Stay Long",-1050,-24433.459999999992]
[null,{"$f":"'Market Data'!B2952","v":20110801},{"$f":"'Market Data'!C2952","v":7452},{"$f":"'Market Data'!D2952","v":7491},{"$f":"'Market Data'!E2952","v":7052},{"$f":"'Market Data'!F2952","v":7196.5},null,2948,"Hidden","Long",null,1,0,"",null,1,"Stay Long",-6177.5,-30610.959999999992]
[null,{"$f":"'Market Data'!B2953","v":20110802},{"$f":"'Market Data'!C2953","v":7149},{"$f":"'Market Data'!D2953","v":7164.5},{"$f":"'Market Data'!E2953","v":6906.5},{"$f":"'Market Data'!F2953","v":7014.5},null,2949,"Hidden","Long",null,1,0,"",null,1,"Stay Long",-6370,-36980.959999999992]
[null,{"$f":"'Market Data'!B2954","v":20110803},{"$f":"'Market Data'!C2954","v":6904},{"$f":"'Market Data'!D2954","v":6989.5},{"$f":"'Market Data'!E2954","v":6743.5},{"$f":"'Market Data'!F2954","v":6837},null,2950,"Hidden","Long",null,1,0,"",null,1,"Stay Long",-6212.5,-43193.459999999992]
[null,{"$f":"'Market Data'!B2955","v":20110804},{"$f":"'Market Data'!C2955","v":6892},{"$f":"'Market Data'!D2955","v":6942.5},{"$f":"'Market Data'!E2955","v":6449.5},{"$f":"'Market Data'!F2955","v":6609},null,2951,"Hidden","Long",null,1,0,"",null,1,"Stay Long",-7980,-51173.459999999992]
[null,{"$f":"'Market Data'!B2956","v":20110805},{"$f":"'Market Data'!C2956","v":6453.5},{"$f":"'Market Data'!D2956","v":6641.5},{"$f":"'Market Data'!E2956","v":6317},{"$f":"'Market Data'!F2956","v":6449.5},null,2952,"Hidden","Long",null,1,0,"",null,1,"Stay Long",-5582.5,-56755.959999999992]
[null,{"$f":"'Market Data'!B2957","v":20110808},{"$f":"'Market Data'!C2957","v":6273.5},{"$f":"'Market Data'!D2957","v":6475.5},{"$f":"'Market Data'!E2957","v":5909.5},{"$f":"'Market Data'!F2957","v":6154.5},null,2953,"Hidden","Long",null,1,0,"",null,1,"Stay Long",-10325,-67080.959999999992]
[null,{"$f":"'Market Data'!B2958","v":20110809},{"$f":"'Market Data'!C2958","v":5940},{"$f":"'Market Data'!D2958","v":6226.5},{"$f":"'Market Data'!E2958","v":5689.5},{"$f":"'Market Data'!F2958","v":6133},null,2954,"Hidden","Long",null,1,0,"",null,1,"Stay Long",-752.5,-67833.459999999992]
[null,{"$f":"'Market Data'!B2959","v":20110810},{"$f":"'Market Data'!C2959","v":6182},{"$f":"'Market Data'!D2959","v":6313},{"$f":"'Market Data'!E2959","v":5733},{"$f":"'Market Data'!F2959","v":5801.5},null,2955,"Hidden","Long",null,1,0,"",null,1,"Stay Long",-11602.5,-79435.959999999992]
[null,{"$f":"'Market Data'!B2960","v":20110811},{"$f":"'Market Data'!C2960","v":5963},{"$f":"'Market Data'!D2960","v":6143.5},{"$f":"'Market Data'!E2960","v":5683.5},{"$f":"'Market Data'!F2960","v":6004.5},null,2956,"Hidden","Long",null,1,0,"",null,1,"Stay Long",7105,-72330.959999999992]
[null,{"$f":"'Market Data'!B2961","v":20110812},{"$f":"'Market Data'!C2961","v":6010.5},{"$f":"'Market Data'!D2961","v":6259.5},{"$f":"'Market Data'!E2961","v":5872},{"$f":"'Market Data'!F2961","v":6186.5},null,2957,"Hidden","Long",null,1,0,"",null,1,"Stay Long",6370,-65960.959999999992]
[null,{"$f":"'Market Data'!B2962","v":20110815},{"$f":"'Market Data'!C2962","v":6269},{"$f":"'Market Data'!D2962","v":6304},{"$f":"'Market Data'!E2962","v":6202.5},{"$f":"'Market Data'!F2962","v":6218.5},null,2958,"Hidden","Long",null,1,0,"",null,1,"Stay Long",1120,-64840.959999999992]
[null,{"$f":"'Market Data'!B2963","v":20110816},{"$f":"'Market Data'!C2963","v":6229.5},{"$f":"'Market Data'!D2963","v":6242},{"$f":"'Market Data'!E2963","v":6043.5},{"$f":"'Market Data'!F2963","v":6191},null,2959,"Hidden","Long",null,1,0,"",null,1,"Stay Long",-962.5,-65803.459999999992]
[null,{"$f":"'Market Data'!B2964","v":20110817},{"$f":"'Market Data'!C2964","v":6156},{"$f":"'Market Data'!D2964","v":6215},{"$f":"'Market Data'!E2964","v":6067},{"$f":"'Market Data'!F2964","v":6148},null,2960,"Hidden","Long",null,1,0,"",null,1,"Stay Long",-1505,-67308.459999999992]
[null,{"$f":"'Market Data'!B2965","v":20110818},{"$f":"'Market Data'!C2965","v":6059},{"$f":"'Market Data'!D2965","v":6090},{"$f":"'Market Data'!E2965","v":5725.5},{"$f":"'Market Data'!F2965","v":5788.5},null,2961,"Hidden","Long",null,1,0,"",null,1,"Stay Long",-12582.5,-79890.959999999992]
[null,{"$f":"'Market Data'!B2966","v":20110819},{"$f":"'Market Data'!C2966","v":5730},{"$f":"'Market Data'!D2966","v":5790},{"$f":"'Market Data'!E2966","v":5538},{"$f":"'Market Data'!F2966","v":5691},null,2962,"Hidden","Long",null,1,0,"",null,1,"Stay Long",-3412.5,-83303.459999999992]
[null,{"$f":"'Market Data'!B2967","v":20110822},{"$f":"'Market Data'!C2967","v":5603},{"$f":"'Market Data'!D2967","v":5787},{"$f":"'Market Data'!E2967","v":5585},{"$f":"'Market Data'!F2967","v":5667.5},null,2963,"Hidden","Long",null,1,0,"",null,1,"Stay Long",-822.5,-84125.959999999992]
[null,{"$f":"'Market Data'!B2968","v":20110823},{"$f":"'Market Data'!C2968","v":5714.5},{"$f":"'Market Data'!D2968","v":5831},{"$f":"'Market Data'!E2968","v":5645},{"$f":"'Market Data'!F2968","v":5716},null,2964,"Hidden","Long",null,1,0,"",null,1,"Stay Long",1697.5,-82428.459999999992]
[null,{"$f":"'Market Data'!B2969","v":20110824},{"$f":"'Market Data'!C2969","v":5768},{"$f":"'Market Data'!D2969","v":5939},{"$f":"'Market Data'!E2969","v":5707.5},{"$f":"'Market Data'!F2969","v":5864.5},null,2965,"Hidden","Long",null,1,0,"",null,1,"Stay Long",5197.5,-77230.959999999992]
[null,{"$f":"'Market Data'!B2970","v":20110825},{"$f":"'Market Data'!C2970","v":5881.5},{"$f":"'Market Data'!D2970","v":5971.5},{"$f":"'Market Data'!E2970","v":5611},{"$f":"'Market Data'!F2970","v":5780.5},null,2966,"Hidden","Long",null,1,0,"",null,1,"Stay Long",-2940,-80170.959999999992]
[null,{"$f":"'Market Data'!B2971","v":20110826},{"$f":"'Market Data'!C2971","v":5774},{"$f":"'Market Data'!D2971","v":5784},{"$f":"'Market Data'!E2971","v":5597},{"$f":"'Market Data'!F2971","v":5724.5},null,2967,"Hidden","Long",null,1,0,"",null,1,"Stay Long",-1960,-82130.959999999992]
[null,{"$f":"'Market Data'!B2972","v":20110829},{"$f":"'Market Data'!C2972","v":5829.5},{"$f":"'Market Data'!D2972","v":5910.5},{"$f":"'Market Data'!E2972","v":5780},{"$f":"'Market Data'!F2972","v":5868.5},null,2968,"Hidden","Long",null,1,0,"",null,1,"Stay Long",5040,-77090.959999999992]
[null,{"$f":"'Market Data'!B2973","v":20110830},{"$f":"'Market Data'!C2973","v":5902.5},{"$f":"'Market Data'!D2973","v":5923.5},{"$f":"'Market Data'!E2973","v":5764},{"$f":"'Market Data'!F2973","v":5838},null,2969,"Hidden","Long",null,1,0,"",null,1,"Stay Long",-1067.5,-78158.459999999992]
[null,{"$f":"'Market Data'!B2974","v":20110831},{"$f":"'Market Data'!C2974","v":5854},{"$f":"'Market Data'!D2974","v":6064.5},{"$f":"'Market Data'!E2974","v":5840.5},{"$f":"'Market Data'!F2974","v":5984.5},null,2970,"Hidden","Long",null,1,0,"",null,1,"Stay Long",5127.5,-73030.959999999992]
[null,{"$f":"'Market Data'!B2975","v":20110901},{"$f":"'Market Data'!C2975","v":5969.5},{"$f":"'Market Data'!D2975","v":5989.5},{"$f":"'Market Data'!E2975","v":5830},{"$f":"'Market Data'!F2975","v":5916},null,2971,"Hidden","Long",null,1,0,"",null,1,"Stay Long",-2397.5,-75428.459999999992]
[null,{"$f":"'Market Data'!B2976","v":20110902},{"$f":"'Market Data'!C2976","v":5830.5},{"$f":"'Market Data'!D2976","v":5842},{"$f":"'Market Data'!E2976","v":5685},{"$f":"'Market Data'!F2976","v":5733.5},null,2972,"Hidden","Long",null,1,0,"",null,1,"Stay Long",-6387.5,-81815.959999999992]
[null,{"$f":"'Market Data'!B2977","v":20110905},{"$f":"'Market Data'!C2977","v":5657},{"$f":"'Market Data'!D2977","v":5657},{"$f":"'Market Data'!E2977","v":5398.5},{"$f":"'Market Data'!F2977","v":5451.5},null,2973,"Hidden","Long",null,1,0,"",null,1,"Stay Long",-9870,-91685.959999999992]
[null,{"$f":"'Market Data'!B2978","v":20110906},{"$f":"'Market Data'!C2978","v":5394},{"$f":"'Market Data'!D2978","v":5527},{"$f":"'Market Data'!E2978","v":5344},{"$f":"'Market Data'!F2978","v":5390},null,2974,"Hidden","Long",null,1,0,"",null,1,"Stay Long",-2152.5,-93838.459999999992]
[null,{"$f":"'Market Data'!B2979","v":20110907},{"$f":"'Market Data'!C2979","v":5507.5},{"$f":"'Market Data'!D2979","v":5646},{"$f":"'Market Data'!E2979","v":5469},{"$f":"'Market Data'!F2979","v":5592.5},null,2975,"Hidden","Long",null,1,0,"",null,1,"Stay Long",7087.5,-86750.959999999992]
[null,{"$f":"'Market Data'!B2980","v":20110908},{"$f":"'Market Data'!C2980","v":5616.5},{"$f":"'Market Data'!D2980","v":5666},{"$f":"'Market Data'!E2980","v":5499.5},{"$f":"'Market Data'!F2980","v":5598},null,2976,"Hidden","Long",null,1,0,"",null,1,"Stay Long",192.5,-86558.459999999992]
[null,{"$f":"'Market Data'!B2981","v":20110909},{"$f":"'Market Data'!C2981","v":5544},{"$f":"'Market Data'!D2981","v":5594.5},{"$f":"'Market Data'!E2981","v":5332.5},{"$f":"'Market Data'!F2981","v":5377.5},null,2977,"Hidden","Long",null,1,0,"",null,1,"Stay Long",-7717.5,-94275.959999999992]
[null,{"$f":"'Market Data'!B2982","v":20110912},{"$f":"'Market Data'!C2982","v":5271},{"$f":"'Market Data'!D2982","v":5341},{"$f":"'Market Data'!E2982","v":5154},{"$f":"'Market Data'!F2982","v":5272},null,2978,"Hidden","Long",null,1,0,"",null,1,"Stay Long",-3692.5,-97968.459999999992]
[null,{"$f":"'Market Data'!B2983","v":20110913},{"$f":"'Market Data'!C2983","v":5346.5},{"$f":"'Market Data'!D2983","v":5416.5},{"$f":"'Market Data'!E2983","v":5155},{"$f":"'Market Data'!F2983","v":5339},null,2979,"Hidden","Long",null,1,0,"",null,1,"Stay Long",2345,-95623.459999999992]
[null,{"$f":"'Market Data'!B2984","v":20110914},{"$f":"'Market Data'!C2984","v":5285.5},{"$f":"'Market Data'!D2984","v":5640.5},{"$f":"'Market Data'!E2984","v":5262.5},{"$f":"'Market Data'!F2984","v":5531},null,2980,"Hidden","Long",null,1,0,"",null,1,"Stay Long",6720,-88903.459999999992]
[null,{"$f":"'Market Data'!B2985","v":20110915},{"$f":"'Market Data'!C2985","v":5579.5},{"$f":"'Market Data'!D2985","v":5771.5},{"$f":"'Market Data'!E2985","v":5565.5},{"$f":"'Market Data'!F2985","v":5692},null,2981,"Hidden","Long",null,1,0,"",null,1,"Stay Long",5635,-83268.459999999992]
[null,{"$f":"'Market Data'!B2986","v":20110916},{"$f":"'Market Data'!C2986","v":5761},{"$f":"'Market Data'!D2986","v":5861.5},{"$f":"'Market Data'!E2986","v":5714},{"$f":"'Market Data'!F2986","v":5743},null,2982,"Hidden","Long",null,1,0,"",null,1,"Stay Long",1785,-81483.459999999992]
[null,{"$f":"'Market Data'!B2987","v":20110919},{"$f":"'Market Data'!C2987","v":5669.5},{"$f":"'Market Data'!D2987","v":5689.5},{"$f":"'Market Data'!E2987","v":5552.5},{"$f":"'Market Data'!F2987","v":5627},null,2983,"Hidden","Long",null,1,0,"",null,1,"Stay Long",-4060,-85543.459999999992]
[null,{"$f":"'Market Data'!B2988","v":20110920},{"$f":"'Market Data'!C2988","v":5579},{"$f":"'Market Data'!D2988","v":5771.5},{"$f":"'Market Data'!E2988","v":5552.5},{"$f":"'Market Data'!F2988","v":5759.5},null,2984,"Hidden","Long",null,1,0,"",null,1,"Stay Long",4637.5,-80905.959999999992]
[null,{"$f":"'Market Data'!B2989","v":20110921},{"$f":"'Market Data'!C2989","v":5717},{"$f":"'Market Data'!D2989","v":5770.5},{"$f":"'Market Data'!E2989","v":5528.5},{"$f":"'Market Data'!F2989","v":5626},null,2985,"Hidden","Long",null,1,0,"",null,1,"Stay Long",-4672.5,-85578.459999999992]
[null,{"$f":"'Market Data'!B2990","v":20110922},{"$f":"'Market Data'!C2990","v":5470.5},{"$f":"'Market Data'!D2990","v":5495},{"$f":"'Market Data'!E2990","v":5290},{"$f":"'Market Data'!F2990","v":5359},null,2986,"Hidden","Long",null,1,0,"",null,1,"Stay Long",-9345,-94923.459999999992]
[null,{"$f":"'Market Data'!B2991","v":20110923},{"$f":"'Market Data'!C2991","v":5375.5},{"$f":"'Market Data'!D2991","v":5424.5},{"$f":"'Market Data'!E2991","v":5162.5},{"$f":"'Market Data'!F2991","v":5376.5},null,2987,"Hidden","Long",null,1,0,"",null,1,"Stay Long",612.5,-94310.959999999992]
[null,{"$f":"'Market Data'!B2992","v":20110926},{"$f":"'Market Data'!C2992","v":5340.5},{"$f":"'Market Data'!D2992","v":5608},{"$f":"'Market Data'!E2992","v":5267.5},{"$f":"'Market Data'!F2992","v":5535.5},null,2988,"Hidden","Long",null,1,0,"",null,1,"Stay Long",5565,-88745.959999999992]
[null,{"$f":"'Market Data'!B2993","v":20110927},{"$f":"'Market Data'!C2993","v":5661},{"$f":"'Market Data'!D2993","v":5866},{"$f":"'Market Data'!E2993","v":5660.5},{"$f":"'Market Data'!F2993","v":5804},null,2989,"Hidden","Long",null,1,0,"",null,1,"Stay Long",9397.5,-79348.459999999992]
[null,{"$f":"'Market Data'!B2994","v":20110928},{"$f":"'Market Data'!C2994","v":5743},{"$f":"'Market Data'!D2994","v":5894},{"$f":"'Market Data'!E2994","v":5678.5},{"$f":"'Market Data'!F2994","v":5774},null,2990,"Hidden","Long",null,1,0,"",null,1,"Stay Long",-1050,-80398.459999999992]
[null,{"$f":"'Market Data'!B2995","v":20110929},{"$f":"'Market Data'!C2995","v":5743.5},{"$f":"'Market Data'!D2995","v":5898},{"$f":"'Market Data'!E2995","v":5723},{"$f":"'Market Data'!F2995","v":5830},null,2991,"Hidden","Long",null,1,0,"",null,1,"Stay Long",1960,-78438.459999999992]
[null,{"$f":"'Market Data'!B2996","v":20110930},{"$f":"'Market Data'!C2996","v":5812.5},{"$f":"'Market Data'!D2996","v":5820},{"$f":"'Market Data'!E2996","v":5609.5},{"$f":"'Market Data'!F2996","v":5653.5},null,2992,"Hidden","Long",null,1,0,"",null,1,"Stay Long",-6177.5,-84615.959999999992]
[null,{"$f":"'Market Data'!B2997","v":20111003},{"$f":"'Market Data'!C2997","v":5538.5},{"$f":"'Market Data'!D2997","v":5631},{"$f":"'Market Data'!E2997","v":5449.5},{"$f":"'Market Data'!F2997","v":5576},null,2993,"Hidden","Long",null,1,0,"",null,1,"Stay Long",-2712.5,-87328.459999999992]
[null,{"$f":"'Market Data'!B2998","v":20111004},{"$f":"'Market Data'!C2998","v":5474},{"$f":"'Market Data'!D2998","v":5526.5},{"$f":"'Market Data'!E2998","v":5314.5},{"$f":"'Market Data'!F2998","v":5415},null,2994,"Hidden","Long",null,1,0,"",null,1,"Stay Long",-5635,-92963.459999999992]
[null,{"$f":"'Market Data'!B2999","v":20111005},{"$f":"'Market Data'!C2999","v":5497.5},{"$f":"'Market Data'!D2999","v":5707},{"$f":"'Market Data'!E2999","v":5454.5},{"$f":"'Market Data'!F2999","v":5654.5},null,2995,"Hidden","Long",null,1,0,"",null,1,"Stay Long",8382.5,-84580.959999999992]
[null,{"$f":"'Market Data'!B3000","v":20111006},{"$f":"'Market Data'!C3000","v":5675.5},{"$f":"'Market Data'!D3000","v":5872},{"$f":"'Market Data'!E3000","v":5646.5},{"$f":"'Market Data'!F3000","v":5828},null,2996,"Hidden","Long",null,1,0,"",null,1,"Stay Long",6072.5,-78508.459999999992]
[null,{"$f":"'Market Data'!B3001","v":20111007},{"$f":"'Market Data'!C3001","v":5835.5},{"$f":"'Market Data'!D3001","v":5941.5},{"$f":"'Market Data'!E3001","v":5796},{"$f":"'Market Data'!F3001","v":5864},null,2997,"Hidden","Long",null,1,0,"",null,1,"Stay Long",1260,-77248.459999999992]
[null,{"$f":"'Market Data'!B3002","v":20111010},{"$f":"'Market Data'!C3002","v":5926},{"$f":"'Market Data'!D3002","v":6067},{"$f":"'Market Data'!E3002","v":5843},{"$f":"'Market Data'!F3002","v":6035.5},null,2998,"Hidden","Long",null,1,0,"",null,1,"Stay Long",6002.5,-71245.959999999992]
[null,{"$f":"'Market Data'!B3003","v":20111011},{"$f":"'Market Data'!C3003","v":6061},{"$f":"'Market Data'!D3003","v":6076.5},{"$f":"'Market Data'!E3003","v":5965.5},{"$f":"'Market Data'!F3003","v":6044},null,2999,"Hidden","Long",null,1,0,"",null,1,"Stay Long",297.5,-70948.459999999992]
[null,{"$f":"'Market Data'!B3004","v":20111012},{"$f":"'Market Data'!C3004","v":6028},{"$f":"'Market Data'!D3004","v":6221},{"$f":"'Market Data'!E3004","v":5989.5},{"$f":"'Market Data'!F3004","v":6177},null,3000,"Hidden","Long",null,1,0,"",null,1,"Stay Long",4655,-66293.459999999992]
[null,{"$f":"'Market Data'!B3005","v":20111013},{"$f":"'Market Data'!C3005","v":6162},{"$f":"'Market Data'!D3005","v":6228.5},{"$f":"'Market Data'!E3005","v":6067.5},{"$f":"'Market Data'!F3005","v":6094},null,3001,"Hidden","Long",null,1,0,"",null,1,"Stay Long",-2905,-69198.459999999992]
[null,{"$f":"'Market Data'!B3006","v":20111014},{"$f":"'Market Data'!C3006","v":6141.5},{"$f":"'Market Data'!D3006","v":6230.5},{"$f":"'Market Data'!E3006","v":6077.5},{"$f":"'Market Data'!F3006","v":6148},null,3002,"Hidden","Long",null,1,0,"",null,1,"Stay Long",1890,-67308.459999999992]
[null,{"$f":"'Market Data'!B3007","v":20111017},{"$f":"'Market Data'!C3007","v":6226},{"$f":"'Market Data'!D3007","v":6273.5},{"$f":"'Market Data'!E3007","v":6003.5},{"$f":"'Market Data'!F3007","v":6051.5},null,3003,"Hidden","Long",null,1,0,"",null,1,"Stay Long",-3377.5,-70685.959999999992]
[null,{"$f":"'Market Data'!B3008","v":20111018},{"$f":"'Market Data'!C3008","v":5994.5},{"$f":"'Market Data'!D3008","v":6180.5},{"$f":"'Market Data'!E3008","v":5938.5},{"$f":"'Market Data'!F3008","v":6055.5},null,3004,"Hidden","Long",null,1,0,"",null,1,"Stay Long",140,-70545.959999999992]
[null,{"$f":"'Market Data'!B3009","v":20111019},{"$f":"'Market Data'!C3009","v":6132.5},{"$f":"'Market Data'!D3009","v":6171},{"$f":"'Market Data'!E3009","v":6026.5},{"$f":"'Market Data'!F3009","v":6101.5},null,3005,"Hidden","Long",null,1,0,"",null,1,"Stay Long",1610,-68935.959999999992]
[null,{"$f":"'Market Data'!B3010","v":20111020},{"$f":"'Market Data'!C3010","v":6007.5},{"$f":"'Market Data'!D3010","v":6107.5},{"$f":"'Market Data'!E3010","v":5936.5},{"$f":"'Market Data'!F3010","v":5964.5},null,3006,"Hidden","Long",null,1,0,"",null,1,"Stay Long",-4795,-73730.959999999992]
[null,{"$f":"'Market Data'!B3011","v":20111021},{"$f":"'Market Data'!C3011","v":6010.5},{"$f":"'Market Data'!D3011","v":6177.5},{"$f":"'Market Data'!E3011","v":5958.5},{"$f":"'Market Data'!F3011","v":6157},null,3007,"Hidden","Long",null,1,{"$f":"$L3024-P3024","v":0},"",null,1,"Stay Long",6737.5,-66993.459999999992]
[null,{"$f":"'Market Data'!B3012","v":20111024},{"$f":"'Market Data'!C3012","v":6220.5},{"$f":"'Market Data'!D3012","v":6260.5},{"$f":"'Market Data'!E3012","v":6126.5},{"$f":"'Market Data'!F3012","v":6248.5},null,3008,"Hidden","Long",null,1,0,"",null,{"$f":"IF($N3024=\"Fill\",$L3024,$P3024)","v":1},"Stay Long",{"$f":"IF(OR($P3024&$L3024=\"01\",$P3024&$L3024=\"0-1\"),(($F3025-$C3025)*$R$3*$L3024)-(ABS($M3024)*$R$4),IF(OR($P3024&$L3024=\"10\",$P3024&$L3024=\"-10\"),(($C3025-$F3024)*$R$3*$P3024)-(ABS($M3024)*$R$4),IF(OR($P3024&$L3024=\"1-1\",$P3024&$L3024=\"-11\"),(($C3025-$F3024)*$R$3*$P3024)-(ABS($M3024)*$R$4)+(($F3025-$C3025)*$R$3*$P3025),IF(OR($P3024&$L3024=\"11\",$P3024&$L3024=\"-1-1\"),(($F3025-$F3024)*$R$3*$P3025),0))))","v":3202.5},-63790.959999999992]
[null,{"$f":"'Market Data'!B3013","v":20111025},{"$f":"'Market Data'!C3013","v":6201.5},{"$f":"'Market Data'!D3013","v":6351.5},{"$f":"'Market Data'!E3013","v":6148.5},{"$f":"'Market Data'!F3013","v":6233.5},null,{"$f":"ROW()-ROW(H$17)","v":3009},"Hidden",{"$f":"$I$4","v":"Long"},null,1,0,{"$f":"IF(NOT($M3026=0),\"Fill\",\"\")","v":""},null,1,{"$f":"IF($P3025&$L3025=\"00\",\"Stay Flat\",IF($P3025&$L3025=\"01\",\"Go Long\",IF($P3025&$L3025=\"0-1\",\"Go Short\",IF($P3025&$L3025=\"-10\",\"Exit Short\",IF($P3025&$L3025=\"-1-1\",\"Stay Short\",IF($P3025&$L3025=\"-11\",\"Exit Short, Go Long\",IF($P3025&$L3025=\"10\",\"Exit Long\",IF($P3025&$L3025=\"1-1\",\"Exit Long, Go Short\",IF($P3025&$L3025=\"11\",\"Stay Long\",\"\")))))))))","v":"Stay Long"},-525,{"$f":"S3025+R3026","v":-64315.959999999992}]
[null,{"$f":"'Market Data'!B3014","v":20111026},{"$f":"'Market Data'!C3014","v":6222.5},{"$f":"'Market Data'!D3014","v":6337.5},{"$f":"'Market Data'!E3014","v":6140.5},{"$f":"'Market Data'!F3014","v":6199},null,3010,"Hidden","Long",null,{"$f":"IF($J3027=\"Short\",-1,IF($J3027=\"Long\",1,0))","v":1},0,"",null,1,"Stay Long",-1207.5,-65523.459999999992]
[null,{"$f":"'Market Data'!B3015","v":20111027},{"$f":"'Market Data'!C3015","v":6382.5},{"$f":"'Market Data'!D3015","v":6624.5},{"$f":"'Market Data'!E3015","v":6360},{"$f":"'Market Data'!F3015","v":6513.5},null,3011,"Hidden","Long",null,1,0,"",null,1,"Stay Long",11007.5,-54515.959999999992]
[null,{"$f":"'Market Data'!B3016","v":20111028},{"$f":"'Market Data'!C3016","v":6584.5},{"$f":"'Market Data'!D3016","v":6622.5},{"$f":"'Market Data'!E3016","v":6496},{"$f":"'Market Data'!F3016","v":6534},null,3012,"Hidden","Long",null,1,0,"",null,1,"Stay Long",717.5,-53798.459999999992]
[null,{"$f":"'Market Data'!B3017","v":20111031},{"$f":"'Market Data'!C3017","v":6482.5},{"$f":"'Market Data'!D3017","v":6497},{"$f":"'Market Data'!E3017","v":6280.5},{"$f":"'Market Data'!F3017","v":6354.5},null,3013,"Hidden","Long",null,1,0,"",null,1,"Stay Long",-6282.5,-60080.959999999992]
[null,{"$f":"'Market Data'!B3018","v":20111101},{"$f":"'Market Data'!C3018","v":6227.5},{"$f":"'Market Data'!D3018","v":6227.5},{"$f":"'Market Data'!E3018","v":5950},{"$f":"'Market Data'!F3018","v":6023},null,3014,"Hidden","Long",null,1,0,"",null,1,"Stay Long",-11602.5,-71683.459999999992]
[null,{"$f":"'Market Data'!B3019","v":20111102},{"$f":"'Market Data'!C3019","v":6123.5},{"$f":"'Market Data'!D3019","v":6181.5},{"$f":"'Market Data'!E3019","v":5998.5},{"$f":"'Market Data'!F3019","v":6158},null,3015,"Hidden","Long",null,1,0,"",null,1,"Stay Long",4725,-66958.459999999992]
[null,{"$f":"'Market Data'!B3020","v":20111103},{"$f":"'Market Data'!C3020","v":5992.5},{"$f":"'Market Data'!D3020","v":6384.5},{"$f":"'Market Data'!E3020","v":5977},{"$f":"'Market Data'!F3020","v":6340.5},null,3016,"Hidden","Long",null,1,0,"",null,1,"Stay Long",6387.5,-60570.959999999992]
[null,{"$f":"'Market Data'!B3021","v":20111104},{"$f":"'Market Data'!C3021","v":6362.5},{"$f":"'Market Data'!D3021","v":6376.5},{"$f":"'Market Data'!E3021","v":6114.5},{"$f":"'Market Data'!F3021","v":6169},null,3017,"Hidden","Long",null,1,0,"",null,1,"Stay Long",-6002.5,-66573.459999999992]
[null,{"$f":"'Market Data'!B3022","v":20111107},{"$f":"'Market Data'!C3022","v":6186},{"$f":"'Market Data'!D3022","v":6217},{"$f":"'Market Data'!E3022","v":6020},{"$f":"'Market Data'!F3022","v":6111},null,3018,"Hidden","Long",null,1,0,"",null,1,"Stay Long",-2030,-68603.459999999992]
[null,{"$f":"'Market Data'!B3023","v":20111108},{"$f":"'Market Data'!C3023","v":6137.5},{"$f":"'Market Data'!D3023","v":6276},{"$f":"'Market Data'!E3023","v":6120},{"$f":"'Market Data'!F3023","v":6157},null,3019,"Hidden","Long",null,1,0,"",null,1,"Stay Long",1610,-66993.459999999992]
[null,{"$f":"'Market Data'!B3024","v":20111109},{"$f":"'Market Data'!C3024","v":6276.5},{"$f":"'Market Data'!D3024","v":6284.5},{"$f":"'Market Data'!E3024","v":5915.5},{"$f":"'Market Data'!F3024","v":6021},null,3020,"Hidden","Long",null,1,0,"",null,1,"Stay Long",-4760,-71753.459999999992]
[null,{"$f":"'Market Data'!B3025","v":20111110},{"$f":"'Market Data'!C3025","v":5877.5},{"$f":"'Market Data'!D3025","v":6122},{"$f":"'Market Data'!E3025","v":5848.5},{"$f":"'Market Data'!F3025","v":6053.5},null,3021,"Hidden","Long",null,1,0,"",null,1,"Stay Long",1137.5,-70615.959999999992]
[null,{"$f":"'Market Data'!B3026","v":20111111},{"$f":"'Market Data'!C3026","v":6104},{"$f":"'Market Data'!D3026","v":6253},{"$f":"'Market Data'!E3026","v":6039},{"$f":"'Market Data'!F3026","v":6231},null,3022,"Hidden","Long",null,1,0,"",null,1,"Stay Long",6212.5,-64403.459999999992]
[null,{"$f":"'Market Data'!B3027","v":20111114},{"$f":"'Market Data'!C3027","v":6271.5},{"$f":"'Market Data'!D3027","v":6317.5},{"$f":"'Market Data'!E3027","v":6107},{"$f":"'Market Data'!F3027","v":6183.5},null,3023,"Hidden","Long",null,1,0,"",null,1,"Stay Long",-1662.5,-66065.959999999992]
[null,{"$f":"'Market Data'!B3028","v":20111115},{"$f":"'Market Data'!C3028","v":6110.5},{"$f":"'Market Data'!D3028","v":6200.5},{"$f":"'Market Data'!E3028","v":6000},{"$f":"'Market Data'!F3028","v":6132},null,3024,"Hidden","Long",null,1,0,"",null,1,"Stay Long",-1802.5,-67868.459999999992]
[null,{"$f":"'Market Data'!B3029","v":20111116},{"$f":"'Market Data'!C3029","v":6031.5},{"$f":"'Market Data'!D3029","v":6218.5},{"$f":"'Market Data'!E3029","v":6017.5},{"$f":"'Market Data'!F3029","v":6108},null,3025,"Hidden","Long",null,1,0,"",null,1,"Stay Long",-840,-68708.459999999992]
[null,{"$f":"'Market Data'!B3030","v":20111117},{"$f":"'Market Data'!C3030","v":6052.5},{"$f":"'Market Data'!D3030","v":6109.5},{"$f":"'Market Data'!E3030","v":5942.5},{"$f":"'Market Data'!F3030","v":6031.5},null,3026,"Hidden","Long",null,1,0,"",null,1,"Stay Long",-2677.5,-71385.959999999992]
[null,{"$f":"'Market Data'!B3031","v":20111118},{"$f":"'Market Data'!C3031","v":5940.5},{"$f":"'Market Data'!D3031","v":6086.5},{"$f":"'Market Data'!E3031","v":5937.5},{"$f":"'Market Data'!F3031","v":6002.5},null,3027,"Hidden","Long",null,1,0,"",null,1,"Stay Long",-1015,-72400.959999999992]
[null,{"$f":"'Market Data'!B3032","v":20111121},{"$f":"'Market Data'!C3032","v":5932.5},{"$f":"'Market Data'!D3032","v":5966},{"$f":"'Market Data'!E3032","v":5772.5},{"$f":"'Market Data'!F3032","v":5804.5},null,3028,"Hidden","Long",null,1,0,"",null,1,"Stay Long",-6930,-79330.959999999992]
[null,{"$f":"'Market Data'!B3033","v":20111122},{"$f":"'Market Data'!C3033","v":5839},{"$f":"'Market Data'!D3033","v":5867.5},{"$f":"'Market Data'!E3033","v":5718},{"$f":"'Market Data'!F3033","v":5740},null,3029,"Hidden","Long",null,1,0,"",null,1,"Stay Long",-2257.5,-81588.459999999992]
[null,{"$f":"'Market Data'!B3034","v":20111123},{"$f":"'Market Data'!C3034","v":5666},{"$f":"'Market Data'!D3034","v":5775},{"$f":"'Market Data'!E3034","v":5635.5},{"$f":"'Market Data'!F3034","v":5662},null,3030,"Hidden","Long",null,1,0,"",null,1,"Stay Long",-2730,-84318.459999999992]
[null,{"$f":"'Market Data'!B3035","v":20111124},{"$f":"'Market Data'!C3035","v":5676.5},{"$f":"'Market Data'!D3035","v":5749.5},{"$f":"'Market Data'!E3035","v":5583},{"$f":"'Market Data'!F3035","v":5623.5},null,3031,"Hidden","Long",null,1,0,"",null,1,"Stay Long",-1347.5,-85665.959999999992]
[null,{"$f":"'Market Data'!B3036","v":20111125},{"$f":"'Market Data'!C3036","v":5617.5},{"$f":"'Market Data'!D3036","v":5714.5},{"$f":"'Market Data'!E3036","v":5548.5},{"$f":"'Market Data'!F3036","v":5670.5},null,3032,"Hidden","Long",null,1,0,"",null,1,"Stay Long",1645,-84020.959999999992]
[null,{"$f":"'Market Data'!B3037","v":20111128},{"$f":"'Market Data'!C3037","v":5778},{"$f":"'Market Data'!D3037","v":5940},{"$f":"'Market Data'!E3037","v":5749.5},{"$f":"'Market Data'!F3037","v":5921},null,3033,"Hidden","Long",null,1,0,"",null,1,"Stay Long",8767.5,-75253.459999999992]
[null,{"$f":"'Market Data'!B3038","v":20111129},{"$f":"'Market Data'!C3038","v":5939.5},{"$f":"'Market Data'!D3038","v":6011.5},{"$f":"'Market Data'!E3038","v":5874.5},{"$f":"'Market Data'!F3038","v":5978.5},null,3034,"Hidden","Long",null,1,0,"",null,1,"Stay Long",2012.5,-73240.959999999992]
[null,{"$f":"'Market Data'!B3039","v":20111130},{"$f":"'Market Data'!C3039","v":5921.5},{"$f":"'Market Data'!D3039","v":6317},{"$f":"'Market Data'!E3039","v":5887},{"$f":"'Market Data'!F3039","v":6265},null,3035,"Hidden","Long",null,1,0,"",null,1,"Stay Long",10027.5,-63213.459999999992]
[null,{"$f":"'Market Data'!B3040","v":20111201},{"$f":"'Market Data'!C3040","v":6301},{"$f":"'Market Data'!D3040","v":6309},{"$f":"'Market Data'!E3040","v":6200},{"$f":"'Market Data'!F3040","v":6222.5},null,3036,"Hidden","Long",null,1,0,"",null,1,"Stay Long",-1487.5,-64700.959999999992]
[null,{"$f":"'Market Data'!B3041","v":20111202},{"$f":"'Market Data'!C3041","v":6272.5},{"$f":"'Market Data'!D3041","v":6357.5},{"$f":"'Market Data'!E3041","v":6229},{"$f":"'Market Data'!F3041","v":6260.5},null,3037,"Hidden","Long",null,1,0,"",null,1,"Stay Long",1330,-63370.959999999992]
[null,{"$f":"'Market Data'!B3042","v":20111205},{"$f":"'Market Data'!C3042","v":6298},{"$f":"'Market Data'!D3042","v":6357.5},{"$f":"'Market Data'!E3042","v":6236},{"$f":"'Market Data'!F3042","v":6297},null,3038,"Hidden","Long",null,1,0,"",null,1,"Stay Long",1277.5,-62093.459999999992]
[null,{"$f":"'Market Data'!B3043","v":20111206},{"$f":"'Market Data'!C3043","v":6231.5},{"$f":"'Market Data'!D3043","v":6280.5},{"$f":"'Market Data'!E3043","v":6189.5},{"$f":"'Market Data'!F3043","v":6226},null,3039,"Hidden","Long",null,1,0,"",null,1,"Stay Long",-2485,-64578.459999999992]
[null,{"$f":"'Market Data'!B3044","v":20111207},{"$f":"'Market Data'!C3044","v":6280.5},{"$f":"'Market Data'!D3044","v":6321},{"$f":"'Market Data'!E3044","v":6102},{"$f":"'Market Data'!F3044","v":6182},null,3040,"Hidden","Long",null,1,0,"",null,1,"Stay Long",-1540,-66118.459999999992]
[null,{"$f":"'Market Data'!B3045","v":20111208},{"$f":"'Market Data'!C3045","v":6252.5},{"$f":"'Market Data'!D3045","v":6263},{"$f":"'Market Data'!E3045","v":5998},{"$f":"'Market Data'!F3045","v":6061.5},null,3041,"Hidden","Long",null,1,0,"",null,1,"Stay Long",-4217.5,-70335.959999999992]
[null,{"$f":"'Market Data'!B3046","v":20111209},{"$f":"'Market Data'!C3046","v":5980.5},{"$f":"'Market Data'!D3046","v":6211.5},{"$f":"'Market Data'!E3046","v":5952.5},{"$f":"'Market Data'!F3046","v":6172.5},null,3042,"Hidden","Long",null,1,0,"",null,1,"Stay Long",3885,-66450.959999999992]
[null,{"$f":"'Market Data'!B3047","v":20111212},{"$f":"'Market Data'!C3047","v":6184},{"$f":"'Market Data'!D3047","v":6192.5},{"$f":"'Market Data'!E3047","v":5941.5},{"$f":"'Market Data'!F3047","v":5980},null,3043,"Hidden","Long",null,1,0,"",null,1,"Stay Long",-6737.5,-73188.459999999992]
[null,{"$f":"'Market Data'!B3048","v":20111213},{"$f":"'Market Data'!C3048","v":6001.5},{"$f":"'Market Data'!D3048","v":6037},{"$f":"'Market Data'!E3048","v":5882.5},{"$f":"'Market Data'!F3048","v":5952},null,3044,"Hidden","Long",null,1,0,"",null,1,"Stay Long",-980,-74168.459999999992]
[null,{"$f":"'Market Data'!B3049","v":20111214},{"$f":"'Market Data'!C3049","v":5897.5},{"$f":"'Market Data'!D3049","v":5953.5},{"$f":"'Market Data'!E3049","v":5852},{"$f":"'Market Data'!F3049","v":5868},null,3045,"Hidden","Long",null,1,0,"",null,1,"Stay Long",-2940,-77108.459999999992]
[null,{"$f":"'Market Data'!B3050","v":20111215},{"$f":"'Market Data'!C3050","v":5836},{"$f":"'Market Data'!D3050","v":5981},{"$f":"'Market Data'!E3050","v":5832},{"$f":"'Market Data'!F3050","v":5930},null,3046,"Hidden","Long",null,1,0,"",null,1,"Stay Long",2170,-74938.459999999992]
[null,{"$f":"'Market Data'!B3051","v":20111216},{"$f":"'Market Data'!C3051","v":5965.5},{"$f":"'Market Data'!D3051","v":5972},{"$f":"'Market Data'!E3051","v":5833},{"$f":"'Market Data'!F3051","v":5894},null,3047,"Hidden","Long",null,1,0,"",null,1,"Stay Long",-1260,-76198.459999999992]
[null,{"$f":"'Market Data'!B3052","v":20111219},{"$f":"'Market Data'!C3052","v":5806},{"$f":"'Market Data'!D3052","v":5960},{"$f":"'Market Data'!E3052","v":5788.5},{"$f":"'Market Data'!F3052","v":5848},null,3048,"Hidden","Long",null,1,0,"",null,1,"Stay Long",-1610,-77808.459999999992]
[null,{"$f":"'Market Data'!B3053","v":20111220},{"$f":"'Market Data'!C3053","v":5849},{"$f":"'Market Data'!D3053","v":6062},{"$f":"'Market Data'!E3053","v":5817.5},{"$f":"'Market Data'!F3053","v":6024},null,3049,"Hidden","Long",null,1,0,"",null,1,"Stay Long",6160,-71648.459999999992]
[null,{"$f":"'Market Data'!B3054","v":20111221},{"$f":"'Market Data'!C3054","v":6065},{"$f":"'Market Data'!D3054","v":6150},{"$f":"'Market Data'!E3054","v":5947},{"$f":"'Market Data'!F3054","v":5973.5},null,3050,"Hidden","Long",null,1,0,"",null,1,"Stay Long",-1767.5,-73415.959999999992]
[null,{"$f":"'Market Data'!B3055","v":20111222},{"$f":"'Market Data'!C3055","v":5979.5},{"$f":"'Market Data'!D3055","v":6069},{"$f":"'Market Data'!E3055","v":5978},{"$f":"'Market Data'!F3055","v":6034},null,3051,"Hidden","Long",null,1,0,"",null,1,"Stay Long",2117.5,-71298.459999999992]
[null,{"$f":"'Market Data'!B3056","v":20111223},{"$f":"'Market Data'!C3056","v":6101.5},{"$f":"'Market Data'!D3056","v":6111.5},{"$f":"'Market Data'!E3056","v":6025.5},{"$f":"'Market Data'!F3056","v":6060},null,3052,"Hidden","Long",null,1,0,"",null,1,"Stay Long",910,-70388.459999999992]
[null,{"$f":"'Market Data'!B3057","v":20111227},{"$f":"'Market Data'!C3057","v":6079},{"$f":"'Market Data'!D3057","v":6106},{"$f":"'Market Data'!E3057","v":6058.5},{"$f":"'Market Data'!F3057","v":6080.5},null,3053,"Hidden","Long",null,1,0,"",null,1,"Stay Long",717.5,-69670.959999999992]
[null,{"$f":"'Market Data'!B3058","v":20111228},{"$f":"'Market Data'!C3058","v":6039.5},{"$f":"'Market Data'!D3058","v":6084},{"$f":"'Market Data'!E3058","v":5948},{"$f":"'Market Data'!F3058","v":5964.5},null,3054,"Hidden","Long",null,1,0,"",null,1,"Stay Long",-4060,-73730.959999999992]
[null,{"$f":"'Market Data'!B3059","v":20111229},{"$f":"'Market Data'!C3059","v":5969},{"$f":"'Market Data'!D3059","v":6060.5},{"$f":"'Market Data'!E3059","v":5954.5},{"$f":"'Market Data'!F3059","v":6008.5},null,3055,"Hidden","Long",null,1,0,"",null,1,"Stay Long",1540,-72190.959999999992]
[null,{"$f":"'Market Data'!B3060","v":20111230},{"$f":"'Market Data'!C3060","v":6054},{"$f":"'Market Data'!D3060","v":6074},{"$f":"'Market Data'!E3060","v":5996},{"$f":"'Market Data'!F3060","v":6074},null,3056,"Hidden","Long",null,1,0,"",null,1,"Stay Long",2292.5,-69898.459999999992]
[null,{"$f":"'Market Data'!B3061","v":20120102},{"$f":"'Market Data'!C3061","v":6064},{"$f":"'Market Data'!D3061","v":6255.5},{"$f":"'Market Data'!E3061","v":6054},{"$f":"'Market Data'!F3061","v":6247.5},null,3057,"Hidden","Long",null,1,0,"",null,1,"Stay Long",6072.5,-63825.959999999992]
[null,{"$f":"'Market Data'!B3062","v":20120103},{"$f":"'Market Data'!C3062","v":6279},{"$f":"'Market Data'!D3062","v":6360},{"$f":"'Market Data'!E3062","v":6252},{"$f":"'Market Data'!F3062","v":6347},null,3058,"Hidden","Long",null,1,0,"",null,1,"Stay Long",3482.5,-60343.459999999992]
[null,{"$f":"'Market Data'!B3063","v":20120104},{"$f":"'Market Data'!C3063","v":6307.5},{"$f":"'Market Data'!D3063","v":6344},{"$f":"'Market Data'!E3063","v":6266.5},{"$f":"'Market Data'!F3063","v":6296.5},null,3059,"Hidden","Long",null,1,0,"",null,1,"Stay Long",-1767.5,-62110.959999999992]
[null,{"$f":"'Market Data'!B3064","v":20120105},{"$f":"'Market Data'!C3064","v":6294},{"$f":"'Market Data'!D3064","v":6323},{"$f":"'Market Data'!E3064","v":6219.5},{"$f":"'Market Data'!F3064","v":6280},null,3060,"Hidden","Long",null,1,0,"",null,1,"Stay Long",-577.5,-62688.459999999992]
[null,{"$f":"'Market Data'!B3065","v":20120106},{"$f":"'Market Data'!C3065","v":6279},{"$f":"'Market Data'!D3065","v":6334},{"$f":"'Market Data'!E3065","v":6190.5},{"$f":"'Market Data'!F3065","v":6234.5},null,3061,"Hidden","Long",null,1,0,"",null,1,"Stay Long",-1592.5,-64280.959999999992]
[null,{"$f":"'Market Data'!B3066","v":20120109},{"$f":"'Market Data'!C3066","v":6196.5},{"$f":"'Market Data'!D3066","v":6257.5},{"$f":"'Market Data'!E3066","v":6166.5},{"$f":"'Market Data'!F3066","v":6201.5},null,3062,"Hidden","Long",null,1,0,"",null,1,"Stay Long",-1155,-65435.959999999992]
[null,{"$f":"'Market Data'!B3067","v":20120110},{"$f":"'Market Data'!C3067","v":6269},{"$f":"'Market Data'!D3067","v":6372},{"$f":"'Market Data'!E3067","v":6249},{"$f":"'Market Data'!F3067","v":6343.5},null,3063,"Hidden","Long",null,1,0,"",null,1,"Stay Long",4970,-60465.959999999992]
[null,{"$f":"'Market Data'!B3068","v":20120111},{"$f":"'Market Data'!C3068","v":6312.5},{"$f":"'Market Data'!D3068","v":6361},{"$f":"'Market Data'!E3068","v":6284.5},{"$f":"'Market Data'!F3068","v":6321},null,3064,"Hidden","Long",null,1,0,"",null,1,"Stay Long",-787.5,-61253.459999999992]
[null,{"$f":"'Market Data'!B3069","v":20120112},{"$f":"'Market Data'!C3069","v":6347},{"$f":"'Market Data'!D3069","v":6438},{"$f":"'Market Data'!E3069","v":6326},{"$f":"'Market Data'!F3069","v":6358.5},null,3065,"Hidden","Long",null,1,0,"",null,1,"Stay Long",1312.5,-59940.959999999992]
[null,{"$f":"'Market Data'!B3070","v":20120113},{"$f":"'Market Data'!C3070","v":6412},{"$f":"'Market Data'!D3070","v":6438.5},{"$f":"'Market Data'!E3070","v":6241},{"$f":"'Market Data'!F3070","v":6308.5},null,3066,"Hidden","Long",null,1,0,"",null,1,"Stay Long",-1750,-61690.959999999992]
[null,{"$f":"'Market Data'!B3071","v":20120116},{"$f":"'Market Data'!C3071","v":6283},{"$f":"'Market Data'!D3071","v":6412},{"$f":"'Market Data'!E3071","v":6271.5},{"$f":"'Market Data'!F3071","v":6400.5},null,3067,"Hidden","Long",null,1,0,"",null,1,"Stay Long",3220,-58470.959999999992]
[null,{"$f":"'Market Data'!B3072","v":20120117},{"$f":"'Market Data'!C3072","v":6452},{"$f":"'Market Data'!D3072","v":6523},{"$f":"'Market Data'!E3072","v":6441.5},{"$f":"'Market Data'!F3072","v":6501.5},null,3068,"Hidden","Long",null,1,0,"",null,1,"Stay Long",3535,-54935.959999999992]
[null,{"$f":"'Market Data'!B3073","v":20120118},{"$f":"'Market Data'!C3073","v":6494},{"$f":"'Market Data'!D3073","v":6578},{"$f":"'Market Data'!E3073","v":6459.5},{"$f":"'Market Data'!F3073","v":6532.5},null,3069,"Hidden","Long",null,1,0,"",null,1,"Stay Long",1085,-53850.959999999992]
[null,{"$f":"'Market Data'!B3074","v":20120119},{"$f":"'Market Data'!C3074","v":6574},{"$f":"'Market Data'!D3074","v":6601},{"$f":"'Market Data'!E3074","v":6510},{"$f":"'Market Data'!F3074","v":6591.5},null,3070,"Hidden","Long",null,1,0,"",null,1,"Stay Long",2065,-51785.959999999992]
[null,{"$f":"'Market Data'!B3075","v":20120120},{"$f":"'Market Data'!C3075","v":6601},{"$f":"'Market Data'!D3075","v":6614},{"$f":"'Market Data'!E3075","v":6550},{"$f":"'Market Data'!F3075","v":6587.5},null,3071,"Hidden","Long",null,1,{"$f":"$L3088-P3088","v":0},"",null,1,"Stay Long",-140,-51925.959999999992]
[null,{"$f":"'Market Data'!B3076","v":20120123},{"$f":"'Market Data'!C3076","v":6589.5},{"$f":"'Market Data'!D3076","v":6654},{"$f":"'Market Data'!E3076","v":6529.5},{"$f":"'Market Data'!F3076","v":6611},null,3072,"Hidden","Long",null,1,0,"",null,{"$f":"IF($N3088=\"Fill\",$L3088,$P3088)","v":1},"Stay Long",{"$f":"IF(OR($P3088&$L3088=\"01\",$P3088&$L3088=\"0-1\"),(($F3089-$C3089)*$R$3*$L3088)-(ABS($M3088)*$R$4),IF(OR($P3088&$L3088=\"10\",$P3088&$L3088=\"-10\"),(($C3089-$F3088)*$R$3*$P3088)-(ABS($M3088)*$R$4),IF(OR($P3088&$L3088=\"1-1\",$P3088&$L3088=\"-11\"),(($C3089-$F3088)*$R$3*$P3088)-(ABS($M3088)*$R$4)+(($F3089-$C3089)*$R$3*$P3089),IF(OR($P3088&$L3088=\"11\",$P3088&$L3088=\"-1-1\"),(($F3089-$F3088)*$R$3*$P3089),0))))","v":822.5},-51103.459999999992]
[null,{"$f":"'Market Data'!B3077","v":20120124},{"$f":"'Market Data'!C3077","v":6586},{"$f":"'Market Data'!D3077","v":6603.5},{"$f":"'Market Data'!E3077","v":6512},{"$f":"'Market Data'!F3077","v":6590},null,{"$f":"ROW()-ROW(H$17)","v":3073},"Hidden",{"$f":"$I$4","v":"Long"},null,1,0,{"$f":"IF(NOT($M3090=0),\"Fill\",\"\")","v":""},null,1,{"$f":"IF($P3089&$L3089=\"00\",\"Stay Flat\",IF($P3089&$L3089=\"01\",\"Go Long\",IF($P3089&$L3089=\"0-1\",\"Go Short\",IF($P3089&$L3089=\"-10\",\"Exit Short\",IF($P3089&$L3089=\"-1-1\",\"Stay Short\",IF($P3089&$L3089=\"-11\",\"Exit Short, Go Long\",IF($P3089&$L3089=\"10\",\"Exit Long\",IF($P3089&$L3089=\"1-1\",\"Exit Long, Go Short\",IF($P3089&$L3089=\"11\",\"Stay Long\",\"\")))))))))","v":"Stay Long"},-735,{"$f":"S3089+R3090","v":-51838.459999999992}]
[null,{"$f":"'Market Data'!B3078","v":20120125},{"$f":"'Market Data'!C3078","v":6639},{"$f":"'Market Data'!D3078","v":6654.5},{"$f":"'Market Data'!E3078","v":6543},{"$f":"'Market Data'!F3078","v":6593.5},null,3074,"Hidden","Long",null,{"$f":"IF($J3091=\"Short\",-1,IF($J3091=\"Long\",1,0))","v":1},0,"",null,1,"Stay Long",122.5,-51715.959999999992]
[null,{"$f":"'Market Data'!B3079","v":20120126},{"$f":"'Market Data'!C3079","v":6633.5},{"$f":"'Market Data'!D3079","v":6738.5},{"$f":"'Market Data'!E3079","v":6607.5},{"$f":"'Market Data'!F3079","v":6716},null,3075,"Hidden","Long",null,1,0,"",null,1,"Stay Long",4287.5,-47428.459999999992]
[null,{"$f":"'Market Data'!B3080","v":20120127},{"$f":"'Market Data'!C3080","v":6698},{"$f":"'Market Data'!D3080","v":6753},{"$f":"'Market Data'!E3080","v":6660},{"$f":"'Market Data'!F3080","v":6697},null,3076,"Hidden","Long",null,1,0,"",null,1,"Stay Long",-665,-48093.459999999992]
[null,{"$f":"'Market Data'!B3081","v":20120130},{"$f":"'Market Data'!C3081","v":6666},{"$f":"'Market Data'!D3081","v":6670.5},{"$f":"'Market Data'!E3081","v":6590},{"$f":"'Market Data'!F3081","v":6625},null,3077,"Hidden","Long",null,1,0,"",null,1,"Stay Long",-2520,-50613.459999999992]
[null,{"$f":"'Market Data'!B3082","v":20120131},{"$f":"'Market Data'!C3082","v":6658},{"$f":"'Market Data'!D3082","v":6712},{"$f":"'Market Data'!E3082","v":6627.5},{"$f":"'Market Data'!F3082","v":6642.5},null,3078,"Hidden","Long",null,1,0,"",null,1,"Stay Long",612.5,-50000.959999999992]
[null,{"$f":"'Market Data'!B3083","v":20120201},{"$f":"'Market Data'!C3083","v":6649},{"$f":"'Market Data'!D3083","v":6810},{"$f":"'Market Data'!E3083","v":6639.5},{"$f":"'Market Data'!F3083","v":6785.5},null,3079,"Hidden","Long",null,1,0,"",null,1,"Stay Long",5005,-44995.959999999992]
[null,{"$f":"'Market Data'!B3084","v":20120202},{"$f":"'Market Data'!C3084","v":6813},{"$f":"'Market Data'!D3084","v":6851},{"$f":"'Market Data'!E3084","v":6784},{"$f":"'Market Data'!F3084","v":6836},null,3080,"Hidden","Long",null,1,0,"",null,1,"Stay Long",1767.5,-43228.459999999992]
[null,{"$f":"'Market Data'!B3085","v":20120203},{"$f":"'Market Data'!C3085","v":6837},{"$f":"'Market Data'!D3085","v":6969},{"$f":"'Market Data'!E3085","v":6813.5},{"$f":"'Market Data'!F3085","v":6942},null,3081,"Hidden","Long",null,1,0,"",null,1,"Stay Long",3710,-39518.459999999992]
[null,{"$f":"'Market Data'!B3086","v":20120206},{"$f":"'Market Data'!C3086","v":6928},{"$f":"'Market Data'!D3086","v":6960.5},{"$f":"'Market Data'!E3086","v":6892.5},{"$f":"'Market Data'!F3086","v":6940.5},null,3082,"Hidden","Long",null,1,0,"",null,1,"Stay Long",-52.5,-39570.959999999992]
[null,{"$f":"'Market Data'!B3087","v":20120207},{"$f":"'Market Data'!C3087","v":6928.5},{"$f":"'Market Data'!D3087","v":6966.5},{"$f":"'Market Data'!E3087","v":6859.5},{"$f":"'Market Data'!F3087","v":6933},null,3083,"Hidden","Long",null,1,0,"",null,1,"Stay Long",-262.5,-39833.459999999992]
[null,{"$f":"'Market Data'!B3088","v":20120208},{"$f":"'Market Data'!C3088","v":6961.5},{"$f":"'Market Data'!D3088","v":7009},{"$f":"'Market Data'!E3088","v":6911},{"$f":"'Market Data'!F3088","v":6923},null,3084,"Hidden","Long",null,1,0,"",null,1,"Stay Long",-350,-40183.459999999992]
[null,{"$f":"'Market Data'!B3089","v":20120209},{"$f":"'Market Data'!C3089","v":6954},{"$f":"'Market Data'!D3089","v":7023},{"$f":"'Market Data'!E3089","v":6922.5},{"$f":"'Market Data'!F3089","v":6963},null,3085,"Hidden","Long",null,1,0,"",null,1,"Stay Long",1400,-38783.459999999992]
[null,{"$f":"'Market Data'!B3090","v":20120210},{"$f":"'Market Data'!C3090","v":6939},{"$f":"'Market Data'!D3090","v":6944},{"$f":"'Market Data'!E3090","v":6825},{"$f":"'Market Data'!F3090","v":6871.5},null,3086,"Hidden","Long",null,1,0,"",null,1,"Stay Long",-3202.5,-41985.959999999992]
[null,{"$f":"'Market Data'!B3091","v":20120213},{"$f":"'Market Data'!C3091","v":6916},{"$f":"'Market Data'!D3091","v":6951},{"$f":"'Market Data'!E3091","v":6885},{"$f":"'Market Data'!F3091","v":6905.5},null,3087,"Hidden","Long",null,1,0,"",null,1,"Stay Long",1190,-40795.959999999992]
[null,{"$f":"'Market Data'!B3092","v":20120214},{"$f":"'Market Data'!C3092","v":6896},{"$f":"'Market Data'!D3092","v":6970},{"$f":"'Market Data'!E3092","v":6868},{"$f":"'Market Data'!F3092","v":6906.5},null,3088,"Hidden","Long",null,1,0,"",null,1,"Stay Long",35,-40760.959999999992]
[null,{"$f":"'Market Data'!B3093","v":20120215},{"$f":"'Market Data'!C3093","v":6974},{"$f":"'Market Data'!D3093","v":7008},{"$f":"'Market Data'!E3093","v":6889},{"$f":"'Market Data'!F3093","v":6941},null,3089,"Hidden","Long",null,1,0,"",null,1,"Stay Long",1207.5,-39553.459999999992]
[null,{"$f":"'Market Data'!B3094","v":20120216},{"$f":"'Market Data'!C3094","v":6847},{"$f":"'Market Data'!D3094","v":6982},{"$f":"'Market Data'!E3094","v":6827},{"$f":"'Market Data'!F3094","v":6921.5},null,3090,"Hidden","Long",null,1,0,"",null,1,"Stay Long",-682.5,-40235.959999999992]
[null,{"$f":"'Market Data'!B3095","v":20120217},{"$f":"'Market Data'!C3095","v":6967.5},{"$f":"'Market Data'!D3095","v":7053},{"$f":"'Market Data'!E3095","v":6967.5},{"$f":"'Market Data'!F3095","v":7016.5},null,3091,"Hidden","Long",null,1,0,"",null,1,"Stay Long",3325,-36910.959999999992]
[null,{"$f":"'Market Data'!B3096","v":20120220},{"$f":"'Market Data'!C3096","v":7094},{"$f":"'Market Data'!D3096","v":7134},{"$f":"'Market Data'!E3096","v":7054},{"$f":"'Market Data'!F3096","v":7119},null,3092,"Hidden","Long",null,1,0,"",null,1,"Stay Long",3587.5,-33323.459999999992]
[null,{"$f":"'Market Data'!B3097","v":20120221},{"$f":"'Market Data'!C3097","v":7132.5},{"$f":"'Market Data'!D3097","v":7149.5},{"$f":"'Market Data'!E3097","v":7046},{"$f":"'Market Data'!F3097","v":7090},null,3093,"Hidden","Long",null,1,0,"",null,1,"Stay Long",-1015,-34338.459999999992]
[null,{"$f":"'Market Data'!B3098","v":20120222},{"$f":"'Market Data'!C3098","v":7079.5},{"$f":"'Market Data'!D3098","v":7096.5},{"$f":"'Market Data'!E3098","v":6995},{"$f":"'Market Data'!F3098","v":7023.5},null,3094,"Hidden","Long",null,1,0,"",null,1,"Stay Long",-2327.5,-36665.959999999992]
[null,{"$f":"'Market Data'!B3099","v":20120223},{"$f":"'Market Data'!C3099","v":7024},{"$f":"'Market Data'!D3099","v":7082},{"$f":"'Market Data'!E3099","v":6906},{"$f":"'Market Data'!F3099","v":6986},null,3095,"Hidden","Long",null,1,0,"",null,1,"Stay Long",-1312.5,-37978.459999999992]
[null,{"$f":"'Market Data'!B3100","v":20120224},{"$f":"'Market Data'!C3100","v":7027.5},{"$f":"'Market Data'!D3100","v":7067.5},{"$f":"'Market Data'!E3100","v":7001.5},{"$f":"'Market Data'!F3100","v":7042},null,3096,"Hidden","Long",null,1,0,"",null,1,"Stay Long",1960,-36018.459999999992]
[null,{"$f":"'Market Data'!B3101","v":20120227},{"$f":"'Market Data'!C3101","v":7000.5},{"$f":"'Market Data'!D3101","v":7046.5},{"$f":"'Market Data'!E3101","v":6918},{"$f":"'Market Data'!F3101","v":7038.5},null,3097,"Hidden","Long",null,1,0,"",null,1,"Stay Long",-122.5,-36140.959999999992]
[null,{"$f":"'Market Data'!B3102","v":20120228},{"$f":"'Market Data'!C3102","v":7049},{"$f":"'Market Data'!D3102","v":7078.5},{"$f":"'Market Data'!E3102","v":6984.5},{"$f":"'Market Data'!F3102","v":7065.5},null,3098,"Hidden","Long",null,1,0,"",null,1,"Stay Long",945,-35195.959999999992]
[null,{"$f":"'Market Data'!B3103","v":20120229},{"$f":"'Market Data'!C3103","v":7080.5},{"$f":"'Market Data'!D3103","v":7144},{"$f":"'Market Data'!E3103","v":7016.5},{"$f":"'Market Data'!F3103","v":7028.5},null,3099,"Hidden","Long",null,1,0,"",null,1,"Stay Long",-1295,-36490.959999999992]
[null,{"$f":"'Market Data'!B3104","v":20120301},{"$f":"'Market Data'!C3104","v":6997},{"$f":"'Market Data'!D3104","v":7136},{"$f":"'Market Data'!E3104","v":6991},{"$f":"'Market Data'!F3104","v":7108},null,3100,"Hidden","Long",null,1,0,"",null,1,"Stay Long",2782.5,-33708.459999999992]
[null,{"$f":"'Market Data'!B3105","v":20120302},{"$f":"'Market Data'!C3105","v":7136},{"$f":"'Market Data'!D3105","v":7139},{"$f":"'Market Data'!E3105","v":7072.5},{"$f":"'Market Data'!F3105","v":7099},null,3101,"Hidden","Long",null,1,0,"",null,1,"Stay Long",-315,-34023.459999999992]
[null,{"$f":"'Market Data'!B3106","v":20120305},{"$f":"'Market Data'!C3106","v":7058.5},{"$f":"'Market Data'!D3106","v":7080},{"$f":"'Market Data'!E3106","v":6989},{"$f":"'Market Data'!F3106","v":7044},null,3102,"Hidden","Long",null,1,0,"",null,1,"Stay Long",-1925,-35948.459999999992]
[null,{"$f":"'Market Data'!B3107","v":20120306},{"$f":"'Market Data'!C3107","v":7037},{"$f":"'Market Data'!D3107","v":7042},{"$f":"'Market Data'!E3107","v":6776},{"$f":"'Market Data'!F3107","v":6833.5},null,3103,"Hidden","Long",null,1,0,"",null,1,"Stay Long",-7367.5,-43315.959999999992]
[null,{"$f":"'Market Data'!B3108","v":20120307},{"$f":"'Market Data'!C3108","v":6810},{"$f":"'Market Data'!D3108","v":6857},{"$f":"'Market Data'!E3108","v":6787.5},{"$f":"'Market Data'!F3108","v":6850},null,3104,"Hidden","Long",null,1,0,"",null,1,"Stay Long",577.5,-42738.459999999992]
[null,{"$f":"'Market Data'!B3109","v":20120308},{"$f":"'Market Data'!C3109","v":6874},{"$f":"'Market Data'!D3109","v":7049},{"$f":"'Market Data'!E3109","v":6873},{"$f":"'Market Data'!F3109","v":7008},null,3105,"Hidden","Long",null,1,0,"",null,1,"Stay Long",5530,-37208.459999999992]
[null,{"$f":"'Market Data'!B3110","v":20120309},{"$f":"'Market Data'!C3110","v":7023.5},{"$f":"'Market Data'!D3110","v":7089},{"$f":"'Market Data'!E3110","v":7005.5},{"$f":"'Market Data'!F3110","v":7063.5},null,3106,"Hidden","Long",null,1,0,"",null,1,"Stay Long",1942.5,-35265.959999999992]
[null,{"$f":"'Market Data'!B3111","v":20120312},{"$f":"'Market Data'!C3111","v":7038.5},{"$f":"'Market Data'!D3111","v":7098},{"$f":"'Market Data'!E3111","v":7022},{"$f":"'Market Data'!F3111","v":7072},null,3107,"Hidden","Long",null,1,0,"",null,1,"Stay Long",297.5,-34968.459999999992]
[null,{"$f":"'Market Data'!B3112","v":20120313},{"$f":"'Market Data'!C3112","v":7137},{"$f":"'Market Data'!D3112","v":7222},{"$f":"'Market Data'!E3112","v":7114},{"$f":"'Market Data'!F3112","v":7174.5},null,3108,"Hidden","Long",null,1,0,"",null,1,"Stay Long",3587.5,-31380.959999999992]
[null,{"$f":"'Market Data'!B3113","v":20120314},{"$f":"'Market Data'!C3113","v":7188.5},{"$f":"'Market Data'!D3113","v":7273.5},{"$f":"'Market Data'!E3113","v":7188.5},{"$f":"'Market Data'!F3113","v":7260.5},null,3109,"Hidden","Long",null,1,0,"",null,1,"Stay Long",3010,-28370.959999999992]
[null,{"$f":"'Market Data'!B3114","v":20120315},{"$f":"'Market Data'!C3114","v":7260},{"$f":"'Market Data'!D3114","v":7337},{"$f":"'Market Data'!E3114","v":7246},{"$f":"'Market Data'!F3114","v":7319},null,3110,"Hidden","Long",null,1,0,"",null,1,"Stay Long",2047.5,-26323.459999999992]
[null,{"$f":"'Market Data'!B3115","v":20120316},{"$f":"'Market Data'!C3115","v":7321},{"$f":"'Market Data'!D3115","v":7369},{"$f":"'Market Data'!E3115","v":7315},{"$f":"'Market Data'!F3115","v":7327},null,3111,"Hidden","Long",null,1,0,"",null,1,"Stay Long",280,-26043.459999999992]
[null,{"$f":"'Market Data'!B3116","v":20120319},{"$f":"'Market Data'!C3116","v":7344},{"$f":"'Market Data'!D3116","v":7346},{"$f":"'Market Data'!E3116","v":7265},{"$f":"'Market Data'!F3116","v":7324.5},null,3112,"Hidden","Long",null,1,0,"",null,1,"Stay Long",-87.5,-26130.959999999992]
[null,{"$f":"'Market Data'!B3117","v":20120320},{"$f":"'Market Data'!C3117","v":7319},{"$f":"'Market Data'!D3117","v":7323},{"$f":"'Market Data'!E3117","v":7203},{"$f":"'Market Data'!F3117","v":7225.5},null,3113,"Hidden","Long",null,1,0,"",null,1,"Stay Long",-3465,-29595.959999999992]
[null,{"$f":"'Market Data'!B3118","v":20120321},{"$f":"'Market Data'!C3118","v":7258.5},{"$f":"'Market Data'!D3118","v":7287},{"$f":"'Market Data'!E3118","v":7183.5},{"$f":"'Market Data'!F3118","v":7246.5},null,3114,"Hidden","Long",null,1,0,"",null,1,"Stay Long",735,-28860.959999999992]
[null,{"$f":"'Market Data'!B3119","v":20120322},{"$f":"'Market Data'!C3119","v":7224.5},{"$f":"'Market Data'!D3119","v":7249.5},{"$f":"'Market Data'!E3119","v":7109},{"$f":"'Market Data'!F3119","v":7154.5},null,3115,"Hidden","Long",null,1,0,"",null,1,"Stay Long",-3220,-32080.959999999992]
[null,{"$f":"'Market Data'!B3120","v":20120323},{"$f":"'Market Data'!C3120","v":7160},{"$f":"'Market Data'!D3120","v":7200},{"$f":"'Market Data'!E3120","v":7079},{"$f":"'Market Data'!F3120","v":7175},null,3116,"Hidden","Long",null,1,0,"",null,1,"Stay Long",717.5,-31363.459999999992]
[null,{"$f":"'Market Data'!B3121","v":20120326},{"$f":"'Market Data'!C3121","v":7209},{"$f":"'Market Data'!D3121","v":7282.5},{"$f":"'Market Data'!E3121","v":7139},{"$f":"'Market Data'!F3121","v":7251},null,3117,"Hidden","Long",null,1,0,"",null,1,"Stay Long",2660,-28703.459999999992]
[null,{"$f":"'Market Data'!B3122","v":20120327},{"$f":"'Market Data'!C3122","v":7301.5},{"$f":"'Market Data'!D3122","v":7325},{"$f":"'Market Data'!E3122","v":7233},{"$f":"'Market Data'!F3122","v":7250},null,3118,"Hidden","Long",null,1,0,"",null,1,"Stay Long",-35,-28738.459999999992]
[null,{"$f":"'Market Data'!B3123","v":20120328},{"$f":"'Market Data'!C3123","v":7223},{"$f":"'Market Data'!D3123","v":7282.5},{"$f":"'Market Data'!E3123","v":7120.5},{"$f":"'Market Data'!F3123","v":7176.5},null,3119,"Hidden","Long",null,1,0,"",null,1,"Stay Long",-2572.5,-31310.959999999992]
[null,{"$f":"'Market Data'!B3124","v":20120329},{"$f":"'Market Data'!C3124","v":7140.5},{"$f":"'Market Data'!D3124","v":7165.5},{"$f":"'Market Data'!E3124","v":7012.5},{"$f":"'Market Data'!F3124","v":7051},null,3120,"Hidden","Long",null,1,0,"",null,1,"Stay Long",-4392.5,-35703.459999999992]
[null,{"$f":"'Market Data'!B3125","v":20120330},{"$f":"'Market Data'!C3125","v":7094},{"$f":"'Market Data'!D3125","v":7134.5},{"$f":"'Market Data'!E3125","v":7069},{"$f":"'Market Data'!F3125","v":7119},null,3121,"Hidden","Long",null,1,0,"",null,1,"Stay Long",2380,-33323.459999999992]
[null,{"$f":"'Market Data'!B3126","v":20120402},{"$f":"'Market Data'!C3126","v":7140.5},{"$f":"'Market Data'!D3126","v":7261.5},{"$f":"'Market Data'!E3126","v":7080.5},{"$f":"'Market Data'!F3126","v":7224.5},null,3122,"Hidden","Long",null,1,0,"",null,1,"Stay Long",3692.5,-29630.959999999992]
[null,{"$f":"'Market Data'!B3127","v":20120403},{"$f":"'Market Data'!C3127","v":7247},{"$f":"'Market Data'!D3127","v":7253},{"$f":"'Market Data'!E3127","v":7095.5},{"$f":"'Market Data'!F3127","v":7155.5},null,3123,"Hidden","Long",null,1,0,"",null,1,"Stay Long",-2415,-32045.959999999992]
[null,{"$f":"'Market Data'!B3128","v":20120404},{"$f":"'Market Data'!C3128","v":7090},{"$f":"'Market Data'!D3128","v":7116},{"$f":"'Market Data'!E3128","v":6940},{"$f":"'Market Data'!F3128","v":6944.5},null,3124,"Hidden","Long",null,1,0,"",null,1,"Stay Long",-7385,-39430.959999999992]
[null,{"$f":"'Market Data'!B3129","v":20120405},{"$f":"'Market Data'!C3129","v":6972},{"$f":"'Market Data'!D3129","v":7000.5},{"$f":"'Market Data'!E3129","v":6853},{"$f":"'Market Data'!F3129","v":6948},null,3125,"Hidden","Long",null,1,0,"",null,1,"Stay Long",122.5,-39308.459999999992]
[null,{"$f":"'Market Data'!B3130","v":20120410},{"$f":"'Market Data'!C3130","v":6846},{"$f":"'Market Data'!D3130","v":6906.5},{"$f":"'Market Data'!E3130","v":6726},{"$f":"'Market Data'!F3130","v":6797},null,3126,"Hidden","Long",null,1,0,"",null,1,"Stay Long",-5285,-44593.459999999992]
[null,{"$f":"'Market Data'!B3131","v":20120411},{"$f":"'Market Data'!C3131","v":6762},{"$f":"'Market Data'!D3131","v":6889.5},{"$f":"'Market Data'!E3131","v":6759},{"$f":"'Market Data'!F3131","v":6831},null,3127,"Hidden","Long",null,1,0,"",null,1,"Stay Long",1190,-43403.459999999992]
[null,{"$f":"'Market Data'!B3132","v":20120412},{"$f":"'Market Data'!C3132","v":6848},{"$f":"'Market Data'!D3132","v":6931.5},{"$f":"'Market Data'!E3132","v":6815},{"$f":"'Market Data'!F3132","v":6913},null,3128,"Hidden","Long",null,1,0,"",null,1,"Stay Long",2870,-40533.459999999992]
[null,{"$f":"'Market Data'!B3133","v":20120413},{"$f":"'Market Data'!C3133","v":6922},{"$f":"'Market Data'!D3133","v":6922},{"$f":"'Market Data'!E3133","v":6716},{"$f":"'Market Data'!F3133","v":6746},null,3129,"Hidden","Long",null,1,0,"",null,1,"Stay Long",-5845,-46378.459999999992]
[null,{"$f":"'Market Data'!B3134","v":20120416},{"$f":"'Market Data'!C3134","v":6733.5},{"$f":"'Market Data'!D3134","v":6841.5},{"$f":"'Market Data'!E3134","v":6694},{"$f":"'Market Data'!F3134","v":6811},null,3130,"Hidden","Long",null,1,0,"",null,1,"Stay Long",2275,-44103.459999999992]
[null,{"$f":"'Market Data'!B3135","v":20120417},{"$f":"'Market Data'!C3135","v":6790},{"$f":"'Market Data'!D3135","v":6976.5},{"$f":"'Market Data'!E3135","v":6782},{"$f":"'Market Data'!F3135","v":6960},null,3131,"Hidden","Long",null,1,0,"",null,1,"Stay Long",5215,-38888.459999999992]
[null,{"$f":"'Market Data'!B3136","v":20120418},{"$f":"'Market Data'!C3136","v":6970.5},{"$f":"'Market Data'!D3136","v":6979.5},{"$f":"'Market Data'!E3136","v":6882},{"$f":"'Market Data'!F3136","v":6900},null,3132,"Hidden","Long",null,1,0,"",null,1,"Stay Long",-2100,-40988.459999999992]
[null,{"$f":"'Market Data'!B3137","v":20120419},{"$f":"'Market Data'!C3137","v":6912.5},{"$f":"'Market Data'!D3137","v":6974},{"$f":"'Market Data'!E3137","v":6796},{"$f":"'Market Data'!F3137","v":6842.5},null,3133,"Hidden","Long",null,1,0,"",null,1,"Stay Long",-2012.5,-43000.959999999992]
[null,{"$f":"'Market Data'!B3138","v":20120420},{"$f":"'Market Data'!C3138","v":6850.5},{"$f":"'Market Data'!D3138","v":6928},{"$f":"'Market Data'!E3138","v":6815},{"$f":"'Market Data'!F3138","v":6910.5},null,3134,"Hidden","Long",null,1,0,"",null,1,"Stay Long",2380,-40620.959999999992]
[null,{"$f":"'Market Data'!B3139","v":20120423},{"$f":"'Market Data'!C3139","v":6868.5},{"$f":"'Market Data'!D3139","v":6878},{"$f":"'Market Data'!E3139","v":6663},{"$f":"'Market Data'!F3139","v":6685.5},null,3135,"Hidden","Long",null,1,{"$f":"$L3152-P3152","v":0},"",null,1,"Stay Long",-7875,-48495.959999999992]
[null,{"$f":"'Market Data'!B3140","v":20120424},{"$f":"'Market Data'!C3140","v":6725},{"$f":"'Market Data'!D3140","v":6769.5},{"$f":"'Market Data'!E3140","v":6670.5},{"$f":"'Market Data'!F3140","v":6762.5},null,3136,"Hidden","Long",null,1,0,"",null,{"$f":"IF($N3152=\"Fill\",$L3152,$P3152)","v":1},"Stay Long",{"$f":"IF(OR($P3152&$L3152=\"01\",$P3152&$L3152=\"0-1\"),(($F3153-$C3153)*$R$3*$L3152)-(ABS($M3152)*$R$4),IF(OR($P3152&$L3152=\"10\",$P3152&$L3152=\"-10\"),(($C3153-$F3152)*$R$3*$P3152)-(ABS($M3152)*$R$4),IF(OR($P3152&$L3152=\"1-1\",$P3152&$L3152=\"-11\"),(($C3153-$F3152)*$R$3*$P3152)-(ABS($M3152)*$R$4)+(($F3153-$C3153)*$R$3*$P3153),IF(OR($P3152&$L3152=\"11\",$P3152&$L3152=\"-1-1\"),(($F3153-$F3152)*$R$3*$P3153),0))))","v":2695},-45800.959999999992]
[null,{"$f":"'Market Data'!B3141","v":20120425},{"$f":"'Market Data'!C3141","v":6772},{"$f":"'Market Data'!D3141","v":6899},{"$f":"'Market Data'!E3141","v":6760},{"$f":"'Market Data'!F3141","v":6878.5},null,{"$f":"ROW()-ROW(H$17)","v":3137},"Hidden",{"$f":"$I$4","v":"Long"},null,1,0,{"$f":"IF(NOT($M3154=0),\"Fill\",\"\")","v":""},null,1,{"$f":"IF($P3153&$L3153=\"00\",\"Stay Flat\",IF($P3153&$L3153=\"01\",\"Go Long\",IF($P3153&$L3153=\"0-1\",\"Go Short\",IF($P3153&$L3153=\"-10\",\"Exit Short\",IF($P3153&$L3153=\"-1-1\",\"Stay Short\",IF($P3153&$L3153=\"-11\",\"Exit Short, Go Long\",IF($P3153&$L3153=\"10\",\"Exit Long\",IF($P3153&$L3153=\"1-1\",\"Exit Long, Go Short\",IF($P3153&$L3153=\"11\",\"Stay Long\",\"\")))))))))","v":"Stay Long"},4060,{"$f":"S3153+R3154","v":-41740.959999999992}]
[null,{"$f":"'Market Data'!B3142","v":20120426},{"$f":"'Market Data'!C3142","v":6863.5},{"$f":"'Market Data'!D3142","v":6947.5},{"$f":"'Market Data'!E3142","v":6805},{"$f":"'Market Data'!F3142","v":6902.5},null,3138,"Hidden","Long",null,{"$f":"IF($J3155=\"Short\",-1,IF($J3155=\"Long\",1,0))","v":1},0,"",null,1,"Stay Long",840,-40900.959999999992]
[null,{"$f":"'Market Data'!B3143","v":20120427},{"$f":"'Market Data'!C3143","v":6875.5},{"$f":"'Market Data'!D3143","v":6992.5},{"$f":"'Market Data'!E3143","v":6812},{"$f":"'Market Data'!F3143","v":6961},null,3139,"Hidden","Long",null,1,0,"",null,1,"Stay Long",2047.5,-38853.459999999992]
[null,{"$f":"'Market Data'!B3144","v":20120430},{"$f":"'Market Data'!C3144","v":6982},{"$f":"'Market Data'!D3144","v":7014},{"$f":"'Market Data'!E3144","v":6912.5},{"$f":"'Market Data'!F3144","v":6933},null,3140,"Hidden","Long",null,1,0,"",null,1,"Stay Long",-980,-39833.459999999992]
[null,{"$f":"'Market Data'!B3145","v":20120502},{"$f":"'Market Data'!C3145","v":6988},{"$f":"'Market Data'!D3145","v":7043},{"$f":"'Market Data'!E3145","v":6826.5},{"$f":"'Market Data'!F3145","v":6868},null,3141,"Hidden","Long",null,1,0,"",null,1,"Stay Long",-2275,-42108.459999999992]
[null,{"$f":"'Market Data'!B3146","v":20120503},{"$f":"'Market Data'!C3146","v":6905},{"$f":"'Market Data'!D3146","v":6957},{"$f":"'Market Data'!E3146","v":6810.5},{"$f":"'Market Data'!F3146","v":6857.5},null,3142,"Hidden","Long",null,1,0,"",null,1,"Stay Long",-367.5,-42475.959999999992]
[null,{"$f":"'Market Data'!B3147","v":20120504},{"$f":"'Market Data'!C3147","v":6825},{"$f":"'Market Data'!D3147","v":6849.5},{"$f":"'Market Data'!E3147","v":6696},{"$f":"'Market Data'!F3147","v":6723},null,3143,"Hidden","Long",null,1,0,"",null,1,"Stay Long",-4707.5,-47183.459999999992]
[null,{"$f":"'Market Data'!B3148","v":20120507},{"$f":"'Market Data'!C3148","v":6562},{"$f":"'Market Data'!D3148","v":6757},{"$f":"'Market Data'!E3148","v":6528},{"$f":"'Market Data'!F3148","v":6732},null,3144,"Hidden","Long",null,1,0,"",null,1,"Stay Long",315,-46868.459999999992]
[null,{"$f":"'Market Data'!B3149","v":20120508},{"$f":"'Market Data'!C3149","v":6731.5},{"$f":"'Market Data'!D3149","v":6740},{"$f":"'Market Data'!E3149","v":6574.5},{"$f":"'Market Data'!F3149","v":6603},null,3145,"Hidden","Long",null,1,0,"",null,1,"Stay Long",-4515,-51383.459999999992]
[null,{"$f":"'Market Data'!B3150","v":20120509},{"$f":"'Market Data'!C3150","v":6640},{"$f":"'Market Data'!D3150","v":6669.5},{"$f":"'Market Data'!E3150","v":6535.5},{"$f":"'Market Data'!F3150","v":6629.5},null,3146,"Hidden","Long",null,1,0,"",null,1,"Stay Long",927.5,-50455.959999999992]
[null,{"$f":"'Market Data'!B3151","v":20120510},{"$f":"'Market Data'!C3151","v":6661.5},{"$f":"'Market Data'!D3151","v":6712.5},{"$f":"'Market Data'!E3151","v":6600},{"$f":"'Market Data'!F3151","v":6677.5},null,3147,"Hidden","Long",null,1,0,"",null,1,"Stay Long",1680,-48775.959999999992]
[null,{"$f":"'Market Data'!B3152","v":20120511},{"$f":"'Market Data'!C3152","v":6619},{"$f":"'Market Data'!D3152","v":6751},{"$f":"'Market Data'!E3152","v":6606},{"$f":"'Market Data'!F3152","v":6743},null,3148,"Hidden","Long",null,1,0,"",null,1,"Stay Long",2292.5,-46483.459999999992]
[null,{"$f":"'Market Data'!B3153","v":20120514},{"$f":"'Market Data'!C3153","v":6668},{"$f":"'Market Data'!D3153","v":6686},{"$f":"'Market Data'!E3153","v":6564},{"$f":"'Market Data'!F3153","v":6626},null,3149,"Hidden","Long",null,1,0,"",null,1,"Stay Long",-4095,-50578.459999999992]
[null,{"$f":"'Market Data'!B3154","v":20120515},{"$f":"'Market Data'!C3154","v":6621},{"$f":"'Market Data'!D3154","v":6671},{"$f":"'Market Data'!E3154","v":6511.5},{"$f":"'Market Data'!F3154","v":6552.5},null,3150,"Hidden","Long",null,1,0,"",null,1,"Stay Long",-2572.5,-53150.959999999992]
[null,{"$f":"'Market Data'!B3155","v":20120516},{"$f":"'Market Data'!C3155","v":6485},{"$f":"'Market Data'!D3155","v":6603},{"$f":"'Market Data'!E3155","v":6456.5},{"$f":"'Market Data'!F3155","v":6549},null,3151,"Hidden","Long",null,1,0,"",null,1,"Stay Long",-122.5,-53273.459999999992]
[null,{"$f":"'Market Data'!B3156","v":20120517},{"$f":"'Market Data'!C3156","v":6558.5},{"$f":"'Market Data'!D3156","v":6581.5},{"$f":"'Market Data'!E3156","v":6419},{"$f":"'Market Data'!F3156","v":6476.5},null,3152,"Hidden","Long",null,1,0,"",null,1,"Stay Long",-2537.5,-55810.959999999992]
[null,{"$f":"'Market Data'!B3157","v":20120518},{"$f":"'Market Data'!C3157","v":6383},{"$f":"'Market Data'!D3157","v":6496},{"$f":"'Market Data'!E3157","v":6379.5},{"$f":"'Market Data'!F3157","v":6432.5},null,3153,"Hidden","Long",null,1,0,"",null,1,"Stay Long",-1540,-57350.959999999992]
[null,{"$f":"'Market Data'!B3158","v":20120521},{"$f":"'Market Data'!C3158","v":6431},{"$f":"'Market Data'!D3158","v":6527},{"$f":"'Market Data'!E3158","v":6401},{"$f":"'Market Data'!F3158","v":6495.5},null,3154,"Hidden","Long",null,1,0,"",null,1,"Stay Long",2205,-55145.959999999992]
[null,{"$f":"'Market Data'!B3159","v":20120522},{"$f":"'Market Data'!C3159","v":6532.5},{"$f":"'Market Data'!D3159","v":6605.5},{"$f":"'Market Data'!E3159","v":6508.5},{"$f":"'Market Data'!F3159","v":6595.5},null,3155,"Hidden","Long",null,1,0,"",null,1,"Stay Long",3500,-51645.959999999992]
[null,{"$f":"'Market Data'!B3160","v":20120523},{"$f":"'Market Data'!C3160","v":6494},{"$f":"'Market Data'!D3160","v":6533.5},{"$f":"'Market Data'!E3160","v":6417},{"$f":"'Market Data'!F3160","v":6442.5},null,3156,"Hidden","Long",null,1,0,"",null,1,"Stay Long",-5355,-57000.959999999992]
[null,{"$f":"'Market Data'!B3161","v":20120524},{"$f":"'Market Data'!C3161","v":6508},{"$f":"'Market Data'!D3161","v":6514},{"$f":"'Market Data'!E3161","v":6401},{"$f":"'Market Data'!F3161","v":6481.5},null,3157,"Hidden","Long",null,1,0,"",null,1,"Stay Long",1365,-55635.959999999992]
[null,{"$f":"'Market Data'!B3162","v":20120525},{"$f":"'Market Data'!C3162","v":6450.5},{"$f":"'Market Data'!D3162","v":6567},{"$f":"'Market Data'!E3162","v":6437},{"$f":"'Market Data'!F3162","v":6502.5},null,3158,"Hidden","Long",null,1,0,"",null,1,"Stay Long",735,-54900.959999999992]
[null,{"$f":"'Market Data'!B3163","v":20120528},{"$f":"'Market Data'!C3163","v":6558},{"$f":"'Market Data'!D3163","v":6587.5},{"$f":"'Market Data'!E3163","v":6469.5},{"$f":"'Market Data'!F3163","v":6481.5},null,3159,"Hidden","Long",null,1,0,"",null,1,"Stay Long",-735,-55635.959999999992]
[null,{"$f":"'Market Data'!B3164","v":20120529},{"$f":"'Market Data'!C3164","v":6530.5},{"$f":"'Market Data'!D3164","v":6601.5},{"$f":"'Market Data'!E3164","v":6492.5},{"$f":"'Market Data'!F3164","v":6559},null,3160,"Hidden","Long",null,1,0,"",null,1,"Stay Long",2712.5,-52923.459999999992]
[null,{"$f":"'Market Data'!B3165","v":20120530},{"$f":"'Market Data'!C3165","v":6537},{"$f":"'Market Data'!D3165","v":6554},{"$f":"'Market Data'!E3165","v":6416.5},{"$f":"'Market Data'!F3165","v":6441.5},null,3161,"Hidden","Long",null,1,0,"",null,1,"Stay Long",-4112.5,-57035.959999999992]
[null,{"$f":"'Market Data'!B3166","v":20120531},{"$f":"'Market Data'!C3166","v":6447},{"$f":"'Market Data'!D3166","v":6481.5},{"$f":"'Market Data'!E3166","v":6366.5},{"$f":"'Market Data'!F3166","v":6397},null,3162,"Hidden","Long",null,1,0,"",null,1,"Stay Long",-1557.5,-58593.459999999992]
[null,{"$f":"'Market Data'!B3167","v":20120601},{"$f":"'Market Data'!C3167","v":6403},{"$f":"'Market Data'!D3167","v":6419.5},{"$f":"'Market Data'!E3167","v":6166.5},{"$f":"'Market Data'!F3167","v":6222.5},null,3163,"Hidden","Long",null,1,0,"",null,1,"Stay Long",-6107.5,-64700.959999999992]
[null,{"$f":"'Market Data'!B3168","v":20120604},{"$f":"'Market Data'!C3168","v":6138},{"$f":"'Market Data'!D3168","v":6190},{"$f":"'Market Data'!E3168","v":6100},{"$f":"'Market Data'!F3168","v":6137.5},null,3164,"Hidden","Long",null,1,0,"",null,1,"Stay Long",-2975,-67675.959999999992]
[null,{"$f":"'Market Data'!B3169","v":20120605},{"$f":"'Market Data'!C3169","v":6169.5},{"$f":"'Market Data'!D3169","v":6185},{"$f":"'Market Data'!E3169","v":6071},{"$f":"'Market Data'!F3169","v":6124.5},null,3165,"Hidden","Long",null,1,0,"",null,1,"Stay Long",-455,-68130.959999999992]
[null,{"$f":"'Market Data'!B3170","v":20120606},{"$f":"'Market Data'!C3170","v":6186.5},{"$f":"'Market Data'!D3170","v":6294},{"$f":"'Market Data'!E3170","v":6152.5},{"$f":"'Market Data'!F3170","v":6259},null,3166,"Hidden","Long",null,1,0,"",null,1,"Stay Long",4707.5,-63423.459999999992]
[null,{"$f":"'Market Data'!B3171","v":20120607},{"$f":"'Market Data'!C3171","v":6304},{"$f":"'Market Data'!D3171","v":6390.5},{"$f":"'Market Data'!E3171","v":6257},{"$f":"'Market Data'!F3171","v":6296.5},null,3167,"Hidden","Long",null,1,0,"",null,1,"Stay Long",1312.5,-62110.959999999992]
[null,{"$f":"'Market Data'!B3172","v":20120608},{"$f":"'Market Data'!C3172","v":6252.5},{"$f":"'Market Data'!D3172","v":6329.5},{"$f":"'Market Data'!E3172","v":6210.5},{"$f":"'Market Data'!F3172","v":6283},null,3168,"Hidden","Long",null,1,0,"",null,1,"Stay Long",-472.5,-62583.459999999992]
[null,{"$f":"'Market Data'!B3173","v":20120611},{"$f":"'Market Data'!C3173","v":6462},{"$f":"'Market Data'!D3173","v":6480},{"$f":"'Market Data'!E3173","v":6256},{"$f":"'Market Data'!F3173","v":6295},null,3169,"Hidden","Long",null,1,0,"",null,1,"Stay Long",420,-62163.459999999992]
[null,{"$f":"'Market Data'!B3174","v":20120612},{"$f":"'Market Data'!C3174","v":6285},{"$f":"'Market Data'!D3174","v":6371},{"$f":"'Market Data'!E3174","v":6241},{"$f":"'Market Data'!F3174","v":6325},null,3170,"Hidden","Long",null,1,0,"",null,1,"Stay Long",1050,-61113.459999999992]
[null,{"$f":"'Market Data'!B3175","v":20120613},{"$f":"'Market Data'!C3175","v":6334.5},{"$f":"'Market Data'!D3175","v":6380},{"$f":"'Market Data'!E3175","v":6251},{"$f":"'Market Data'!F3175","v":6290.5},null,3171,"Hidden","Long",null,1,0,"",null,1,"Stay Long",-1207.5,-62320.959999999992]
[null,{"$f":"'Market Data'!B3176","v":20120614},{"$f":"'Market Data'!C3176","v":6305},{"$f":"'Market Data'!D3176","v":6326.5},{"$f":"'Market Data'!E3176","v":6235},{"$f":"'Market Data'!F3176","v":6294.5},null,3172,"Hidden","Long",null,1,0,"",null,1,"Stay Long",140,-62180.959999999992]
[null,{"$f":"'Market Data'!B3177","v":20120615},{"$f":"'Market Data'!C3177","v":6322},{"$f":"'Market Data'!D3177","v":6425.5},{"$f":"'Market Data'!E3177","v":6310.5},{"$f":"'Market Data'!F3177","v":6385},null,3173,"Hidden","Long",null,1,0,"",null,1,"Stay Long",3167.5,-59013.459999999992]
[null,{"$f":"'Market Data'!B3178","v":20120618},{"$f":"'Market Data'!C3178","v":6475.5},{"$f":"'Market Data'!D3178","v":6493},{"$f":"'Market Data'!E3178","v":6379},{"$f":"'Market Data'!F3178","v":6401.5},null,3174,"Hidden","Long",null,1,0,"",null,1,"Stay Long",577.5,-58435.959999999992]
[null,{"$f":"'Market Data'!B3179","v":20120619},{"$f":"'Market Data'!C3179","v":6400.5},{"$f":"'Market Data'!D3179","v":6538},{"$f":"'Market Data'!E3179","v":6389.5},{"$f":"'Market Data'!F3179","v":6518},null,3175,"Hidden","Long",null,1,0,"",null,1,"Stay Long",4077.5,-54358.459999999992]
[null,{"$f":"'Market Data'!B3180","v":20120620},{"$f":"'Market Data'!C3180","v":6478.5},{"$f":"'Market Data'!D3180","v":6577.5},{"$f":"'Market Data'!E3180","v":6474.5},{"$f":"'Market Data'!F3180","v":6547.5},null,3176,"Hidden","Long",null,1,0,"",null,1,"Stay Long",1032.5,-53325.959999999992]
[null,{"$f":"'Market Data'!B3181","v":20120621},{"$f":"'Market Data'!C3181","v":6516.5},{"$f":"'Market Data'!D3181","v":6585},{"$f":"'Market Data'!E3181","v":6420.5},{"$f":"'Market Data'!F3181","v":6509},null,3177,"Hidden","Long",null,1,0,"",null,1,"Stay Long",-1347.5,-54673.459999999992]
[null,{"$f":"'Market Data'!B3182","v":20120622},{"$f":"'Market Data'!C3182","v":6458.5},{"$f":"'Market Data'!D3182","v":6476},{"$f":"'Market Data'!E3182","v":6412},{"$f":"'Market Data'!F3182","v":6414.5},null,3178,"Hidden","Long",null,1,0,"",null,1,"Stay Long",-3307.5,-57980.959999999992]
[null,{"$f":"'Market Data'!B3183","v":20120625},{"$f":"'Market Data'!C3183","v":6417},{"$f":"'Market Data'!D3183","v":6423.5},{"$f":"'Market Data'!E3183","v":6274},{"$f":"'Market Data'!F3183","v":6303.5},null,3179,"Hidden","Long",null,1,0,"",null,1,"Stay Long",-3885,-61865.959999999992]
[null,{"$f":"'Market Data'!B3184","v":20120626},{"$f":"'Market Data'!C3184","v":6319},{"$f":"'Market Data'!D3184","v":6337.5},{"$f":"'Market Data'!E3184","v":6264},{"$f":"'Market Data'!F3184","v":6295},null,3180,"Hidden","Long",null,1,0,"",null,1,"Stay Long",-297.5,-62163.459999999992]
[null,{"$f":"'Market Data'!B3185","v":20120627},{"$f":"'Market Data'!C3185","v":6318},{"$f":"'Market Data'!D3185","v":6401.5},{"$f":"'Market Data'!E3185","v":6288},{"$f":"'Market Data'!F3185","v":6373},null,3181,"Hidden","Long",null,1,0,"",null,1,"Stay Long",2730,-59433.459999999992]
[null,{"$f":"'Market Data'!B3186","v":20120628},{"$f":"'Market Data'!C3186","v":6403.5},{"$f":"'Market Data'!D3186","v":6403.5},{"$f":"'Market Data'!E3186","v":6251.5},{"$f":"'Market Data'!F3186","v":6304.5},null,3182,"Hidden","Long",null,1,0,"",null,1,"Stay Long",-2397.5,-61830.959999999992]
[null,{"$f":"'Market Data'!B3187","v":20120629},{"$f":"'Market Data'!C3187","v":6443.5},{"$f":"'Market Data'!D3187","v":6592},{"$f":"'Market Data'!E3187","v":6417.5},{"$f":"'Market Data'!F3187","v":6565},null,3183,"Hidden","Long",null,1,0,"",null,1,"Stay Long",9117.5,-52713.459999999992]
[null,{"$f":"'Market Data'!B3188","v":20120702},{"$f":"'Market Data'!C3188","v":6598.5},{"$f":"'Market Data'!D3188","v":6700.5},{"$f":"'Market Data'!E3188","v":6548.5},{"$f":"'Market Data'!F3188","v":6642.5},null,3184,"Hidden","Long",null,1,0,"",null,1,"Stay Long",2712.5,-50000.959999999992]
[null,{"$f":"'Market Data'!B3189","v":20120703},{"$f":"'Market Data'!C3189","v":6675.5},{"$f":"'Market Data'!D3189","v":6750.5},{"$f":"'Market Data'!E3189","v":6661},{"$f":"'Market Data'!F3189","v":6730.5},null,3185,"Hidden","Long",null,1,0,"",null,1,"Stay Long",3080,-46920.959999999992]
[null,{"$f":"'Market Data'!B3190","v":20120704},{"$f":"'Market Data'!C3190","v":6746},{"$f":"'Market Data'!D3190","v":6746},{"$f":"'Market Data'!E3190","v":6681.5},{"$f":"'Market Data'!F3190","v":6715},null,3186,"Hidden","Long",null,1,0,"",null,1,"Stay Long",-542.5,-47463.459999999992]
[null,{"$f":"'Market Data'!B3191","v":20120705},{"$f":"'Market Data'!C3191","v":6711},{"$f":"'Market Data'!D3191","v":6801},{"$f":"'Market Data'!E3191","v":6631.5},{"$f":"'Market Data'!F3191","v":6691.5},null,3187,"Hidden","Long",null,1,0,"",null,1,"Stay Long",-822.5,-48285.959999999992]
[null,{"$f":"'Market Data'!B3192","v":20120706},{"$f":"'Market Data'!C3192","v":6670.5},{"$f":"'Market Data'!D3192","v":6690.5},{"$f":"'Market Data'!E3192","v":6559.5},{"$f":"'Market Data'!F3192","v":6568},null,3188,"Hidden","Long",null,1,0,"",null,1,"Stay Long",-4322.5,-52608.459999999992]
[null,{"$f":"'Market Data'!B3193","v":20120709},{"$f":"'Market Data'!C3193","v":6559.5},{"$f":"'Market Data'!D3193","v":6578.5},{"$f":"'Market Data'!E3193","v":6531.5},{"$f":"'Market Data'!F3193","v":6553},null,3189,"Hidden","Long",null,1,0,"",null,1,"Stay Long",-525,-53133.459999999992]
[null,{"$f":"'Market Data'!B3194","v":20120710},{"$f":"'Market Data'!C3194","v":6548},{"$f":"'Market Data'!D3194","v":6648},{"$f":"'Market Data'!E3194","v":6504},{"$f":"'Market Data'!F3194","v":6603.5},null,3190,"Hidden","Long",null,1,0,"",null,1,"Stay Long",1767.5,-51365.959999999992]
[null,{"$f":"'Market Data'!B3195","v":20120711},{"$f":"'Market Data'!C3195","v":6572.5},{"$f":"'Market Data'!D3195","v":6657},{"$f":"'Market Data'!E3195","v":6555},{"$f":"'Market Data'!F3195","v":6605},null,3191,"Hidden","Long",null,1,0,"",null,1,"Stay Long",52.5,-51313.459999999992]
[null,{"$f":"'Market Data'!B3196","v":20120712},{"$f":"'Market Data'!C3196","v":6581.5},{"$f":"'Market Data'!D3196","v":6616.5},{"$f":"'Market Data'!E3196","v":6520.5},{"$f":"'Market Data'!F3196","v":6578.5},null,3192,"Hidden","Long",null,1,0,"",null,1,"Stay Long",-927.5,-52240.959999999992]
[null,{"$f":"'Market Data'!B3197","v":20120713},{"$f":"'Market Data'!C3197","v":6617.5},{"$f":"'Market Data'!D3197","v":6731},{"$f":"'Market Data'!E3197","v":6591},{"$f":"'Market Data'!F3197","v":6696},null,3193,"Hidden","Long",null,1,0,"",null,1,"Stay Long",4112.5,-48128.459999999992]
[null,{"$f":"'Market Data'!B3198","v":20120716},{"$f":"'Market Data'!C3198","v":6708.5},{"$f":"'Market Data'!D3198","v":6732},{"$f":"'Market Data'!E3198","v":6664},{"$f":"'Market Data'!F3198","v":6729.5},null,3194,"Hidden","Long",null,1,0,"",null,1,"Stay Long",1172.5,-46955.959999999992]
[null,{"$f":"'Market Data'!B3199","v":20120717},{"$f":"'Market Data'!C3199","v":6740},{"$f":"'Market Data'!D3199","v":6783.5},{"$f":"'Market Data'!E3199","v":6695.5},{"$f":"'Market Data'!F3199","v":6721.5},null,3195,"Hidden","Long",null,1,0,"",null,1,"Stay Long",-280,-47235.959999999992]
[null,{"$f":"'Market Data'!B3200","v":20120718},{"$f":"'Market Data'!C3200","v":6743.5},{"$f":"'Market Data'!D3200","v":6852},{"$f":"'Market Data'!E3200","v":6733},{"$f":"'Market Data'!F3200","v":6835},null,3196,"Hidden","Long",null,1,0,"",null,1,"Stay Long",3972.5,-43263.459999999992]
[null,{"$f":"'Market Data'!B3201","v":20120719},{"$f":"'Market Data'!C3201","v":6866.5},{"$f":"'Market Data'!D3201","v":6930},{"$f":"'Market Data'!E3201","v":6852.5},{"$f":"'Market Data'!F3201","v":6906.5},null,3197,"Hidden","Long",null,1,0,"",null,1,"Stay Long",2502.5,-40760.959999999992]
[null,{"$f":"'Market Data'!B3202","v":20120720},{"$f":"'Market Data'!C3202","v":6895.5},{"$f":"'Market Data'!D3202","v":6935},{"$f":"'Market Data'!E3202","v":6774.5},{"$f":"'Market Data'!F3202","v":6787},null,3198,"Hidden","Long",null,1,0,"",null,1,"Stay Long",-4182.5,-44943.459999999992]
[null,{"$f":"'Market Data'!B3203","v":20120723},{"$f":"'Market Data'!C3203","v":6699.5},{"$f":"'Market Data'!D3203","v":6729},{"$f":"'Market Data'!E3203","v":6524.5},{"$f":"'Market Data'!F3203","v":6580.5},null,3199,"Hidden","Long",null,1,{"$f":"$L3216-P3216","v":0},"",null,1,"Stay Long",-7227.5,-52170.959999999992]
[null,{"$f":"'Market Data'!B3204","v":20120724},{"$f":"'Market Data'!C3204","v":6593.5},{"$f":"'Market Data'!D3204","v":6611},{"$f":"'Market Data'!E3204","v":6467.5},{"$f":"'Market Data'!F3204","v":6559},null,3200,"Hidden","Long",null,1,0,"",null,{"$f":"IF($N3216=\"Fill\",$L3216,$P3216)","v":1},"Stay Long",{"$f":"IF(OR($P3216&$L3216=\"01\",$P3216&$L3216=\"0-1\"),(($F3217-$C3217)*$R$3*$L3216)-(ABS($M3216)*$R$4),IF(OR($P3216&$L3216=\"10\",$P3216&$L3216=\"-10\"),(($C3217-$F3216)*$R$3*$P3216)-(ABS($M3216)*$R$4),IF(OR($P3216&$L3216=\"1-1\",$P3216&$L3216=\"-11\"),(($C3217-$F3216)*$R$3*$P3216)-(ABS($M3216)*$R$4)+(($F3217-$C3217)*$R$3*$P3217),IF(OR($P3216&$L3216=\"11\",$P3216&$L3216=\"-1-1\"),(($F3217-$F3216)*$R$3*$P3217),0))))","v":-752.5},-52923.459999999992]
[null,{"$f":"'Market Data'!B3205","v":20120725},{"$f":"'Market Data'!C3205","v":6498.5},{"$f":"'Market Data'!D3205","v":6630.5},{"$f":"'Market Data'!E3205","v":6495},{"$f":"'Market Data'!F3205","v":6556},null,{"$f":"ROW()-ROW(H$17)","v":3201},"Hidden",{"$f":"$I$4","v":"Long"},null,1,0,{"$f":"IF(NOT($M3218=0),\"Fill\",\"\")","v":""},null,1,{"$f":"IF($P3217&$L3217=\"00\",\"Stay Flat\",IF($P3217&$L3217=\"01\",\"Go Long\",IF($P3217&$L3217=\"0-1\",\"Go Short\",IF($P3217&$L3217=\"-10\",\"Exit Short\",IF($P3217&$L3217=\"-1-1\",\"Stay Short\",IF($P3217&$L3217=\"-11\",\"Exit Short, Go Long\",IF($P3217&$L3217=\"10\",\"Exit Long\",IF($P3217&$L3217=\"1-1\",\"Exit Long, Go Short\",IF($P3217&$L3217=\"11\",\"Stay Long\",\"\")))))))))","v":"Stay Long"},-105,{"$f":"S3217+R3218","v":-53028.459999999992}]
[null,{"$f":"'Market Data'!B3206","v":20120726},{"$f":"'Market Data'!C3206","v":6561},{"$f":"'Market Data'!D3206","v":6751},{"$f":"'Market Data'!E3206","v":6476.5},{"$f":"'Market Data'!F3206","v":6728.5},null,3202,"Hidden","Long",null,{"$f":"IF($J3219=\"Short\",-1,IF($J3219=\"Long\",1,0))","v":1},0,"",null,1,"Stay Long",6037.5,-46990.959999999992]
[null,{"$f":"'Market Data'!B3207","v":20120727},{"$f":"'Market Data'!C3207","v":6766},{"$f":"'Market Data'!D3207","v":6971},{"$f":"'Market Data'!E3207","v":6667},{"$f":"'Market Data'!F3207","v":6836},null,3203,"Hidden","Long",null,1,0,"",null,1,"Stay Long",3762.5,-43228.459999999992]
[null,{"$f":"'Market Data'!B3208","v":20120730},{"$f":"'Market Data'!C3208","v":6910},{"$f":"'Market Data'!D3208","v":6951.5},{"$f":"'Market Data'!E3208","v":6856.5},{"$f":"'Market Data'!F3208","v":6936},null,3204,"Hidden","Long",null,1,0,"",null,1,"Stay Long",3500,-39728.459999999992]
[null,{"$f":"'Market Data'!B3209","v":20120731},{"$f":"'Market Data'!C3209","v":6964},{"$f":"'Market Data'!D3209","v":6991.5},{"$f":"'Market Data'!E3209","v":6908.5},{"$f":"'Market Data'!F3209","v":6937.5},null,3205,"Hidden","Long",null,1,0,"",null,1,"Stay Long",52.5,-39675.959999999992]
[null,{"$f":"'Market Data'!B3210","v":20120801},{"$f":"'Market Data'!C3210","v":6930},{"$f":"'Market Data'!D3210","v":6957},{"$f":"'Market Data'!E3210","v":6879.5},{"$f":"'Market Data'!F3210","v":6911.5},null,3206,"Hidden","Long",null,1,0,"",null,1,"Stay Long",-910,-40585.959999999992]
[null,{"$f":"'Market Data'!B3211","v":20120802},{"$f":"'Market Data'!C3211","v":6920},{"$f":"'Market Data'!D3211","v":7017.5},{"$f":"'Market Data'!E3211","v":6705.5},{"$f":"'Market Data'!F3211","v":6766.5},null,3207,"Hidden","Long",null,1,0,"",null,1,"Stay Long",-5075,-45660.959999999992]
[null,{"$f":"'Market Data'!B3212","v":20120803},{"$f":"'Market Data'!C3212","v":6765.5},{"$f":"'Market Data'!D3212","v":7044},{"$f":"'Market Data'!E3212","v":6760},{"$f":"'Market Data'!F3212","v":7021},null,3208,"Hidden","Long",null,1,0,"",null,1,"Stay Long",8907.5,-36753.459999999992]
[null,{"$f":"'Market Data'!B3213","v":20120806},{"$f":"'Market Data'!C3213","v":7022.5},{"$f":"'Market Data'!D3213","v":7098.5},{"$f":"'Market Data'!E3213","v":7000.5},{"$f":"'Market Data'!F3213","v":7074.5},null,3209,"Hidden","Long",null,1,0,"",null,1,"Stay Long",1872.5,-34880.959999999992]
[null,{"$f":"'Market Data'!B3214","v":20120807},{"$f":"'Market Data'!C3214","v":7063.5},{"$f":"'Market Data'!D3214","v":7143.5},{"$f":"'Market Data'!E3214","v":7050},{"$f":"'Market Data'!F3214","v":7118},null,3210,"Hidden","Long",null,1,0,"",null,1,"Stay Long",1522.5,-33358.459999999992]
[null,{"$f":"'Market Data'!B3215","v":20120808},{"$f":"'Market Data'!C3215","v":7112},{"$f":"'Market Data'!D3215","v":7125.5},{"$f":"'Market Data'!E3215","v":7061},{"$f":"'Market Data'!F3215","v":7114.5},null,3211,"Hidden","Long",null,1,0,"",null,1,"Stay Long",-122.5,-33480.959999999992]
[null,{"$f":"'Market Data'!B3216","v":20120809},{"$f":"'Market Data'!C3216","v":7135.5},{"$f":"'Market Data'!D3216","v":7157.5},{"$f":"'Market Data'!E3216","v":7044},{"$f":"'Market Data'!F3216","v":7114},null,3212,"Hidden","Long",null,1,0,"",null,1,"Stay Long",-17.5,-33498.459999999992]
[null,{"$f":"'Market Data'!B3217","v":20120810},{"$f":"'Market Data'!C3217","v":7079},{"$f":"'Market Data'!D3217","v":7122},{"$f":"'Market Data'!E3217","v":7044.5},{"$f":"'Market Data'!F3217","v":7105},null,3213,"Hidden","Long",null,1,0,"",null,1,"Stay Long",-315,-33813.459999999992]
[null,{"$f":"'Market Data'!B3218","v":20120813},{"$f":"'Market Data'!C3218","v":7093.5},{"$f":"'Market Data'!D3218","v":7132.5},{"$f":"'Market Data'!E3218","v":7035.5},{"$f":"'Market Data'!F3218","v":7067.5},null,3214,"Hidden","Long",null,1,0,"",null,1,"Stay Long",-1312.5,-35125.959999999992]
[null,{"$f":"'Market Data'!B3219","v":20120814},{"$f":"'Market Data'!C3219","v":7116},{"$f":"'Market Data'!D3219","v":7150.5},{"$f":"'Market Data'!E3219","v":7092.5},{"$f":"'Market Data'!F3219","v":7123},null,3215,"Hidden","Long",null,1,0,"",null,1,"Stay Long",1942.5,-33183.459999999992]
[null,{"$f":"'Market Data'!B3220","v":20120815},{"$f":"'Market Data'!C3220","v":7097},{"$f":"'Market Data'!D3220","v":7128.5},{"$f":"'Market Data'!E3220","v":7061},{"$f":"'Market Data'!F3220","v":7105.5},null,3216,"Hidden","Long",null,1,0,"",null,1,"Stay Long",-612.5,-33795.959999999992]
[null,{"$f":"'Market Data'!B3221","v":20120816},{"$f":"'Market Data'!C3221","v":7137.5},{"$f":"'Market Data'!D3221","v":7171.5},{"$f":"'Market Data'!E3221","v":7082},{"$f":"'Market Data'!F3221","v":7146},null,3217,"Hidden","Long",null,1,0,"",null,1,"Stay Long",1417.5,-32378.459999999992]
[null,{"$f":"'Market Data'!B3222","v":20120817},{"$f":"'Market Data'!C3222","v":7163.5},{"$f":"'Market Data'!D3222","v":7208.5},{"$f":"'Market Data'!E3222","v":7153},{"$f":"'Market Data'!F3222","v":7189},null,3218,"Hidden","Long",null,1,0,"",null,1,"Stay Long",1505,-30873.459999999992]
[null,{"$f":"'Market Data'!B3223","v":20120820},{"$f":"'Market Data'!C3223","v":7200.5},{"$f":"'Market Data'!D3223","v":7240.5},{"$f":"'Market Data'!E3223","v":7163.5},{"$f":"'Market Data'!F3223","v":7188.5},null,3219,"Hidden","Long",null,1,0,"",null,1,"Stay Long",-17.5,-30890.959999999992]
[null,{"$f":"'Market Data'!B3224","v":20120821},{"$f":"'Market Data'!C3224","v":7202.5},{"$f":"'Market Data'!D3224","v":7261.5},{"$f":"'Market Data'!E3224","v":7195.5},{"$f":"'Market Data'!F3224","v":7246.5},null,3220,"Hidden","Long",null,1,0,"",null,1,"Stay Long",2030,-28860.959999999992]
[null,{"$f":"'Market Data'!B3225","v":20120822},{"$f":"'Market Data'!C3225","v":7201},{"$f":"'Market Data'!D3225","v":7215.5},{"$f":"'Market Data'!E3225","v":7158.5},{"$f":"'Market Data'!F3225","v":7176.5},null,3221,"Hidden","Long",null,1,0,"",null,1,"Stay Long",-2450,-31310.959999999992]
[null,{"$f":"'Market Data'!B3226","v":20120823},{"$f":"'Market Data'!C3226","v":7233},{"$f":"'Market Data'!D3226","v":7236.5},{"$f":"'Market Data'!E3226","v":7077},{"$f":"'Market Data'!F3226","v":7116.5},null,3222,"Hidden","Long",null,1,0,"",null,1,"Stay Long",-2100,-33410.959999999992]
[null,{"$f":"'Market Data'!B3227","v":20120824},{"$f":"'Market Data'!C3227","v":7113.5},{"$f":"'Market Data'!D3227","v":7146.5},{"$f":"'Market Data'!E3227","v":7039},{"$f":"'Market Data'!F3227","v":7131.5},null,3223,"Hidden","Long",null,1,0,"",null,1,"Stay Long",525,-32885.959999999992]
[null,{"$f":"'Market Data'!B3228","v":20120827},{"$f":"'Market Data'!C3228","v":7122},{"$f":"'Market Data'!D3228","v":7205},{"$f":"'Market Data'!E3228","v":7099.5},{"$f":"'Market Data'!F3228","v":7198.5},null,3224,"Hidden","Long",null,1,0,"",null,1,"Stay Long",2345,-30540.959999999992]
[null,{"$f":"'Market Data'!B3229","v":20120828},{"$f":"'Market Data'!C3229","v":7163.5},{"$f":"'Market Data'!D3229","v":7185},{"$f":"'Market Data'!E3229","v":7128.5},{"$f":"'Market Data'!F3229","v":7157},null,3225,"Hidden","Long",null,1,0,"",null,1,"Stay Long",-1452.5,-31993.459999999992]
[null,{"$f":"'Market Data'!B3230","v":20120829},{"$f":"'Market Data'!C3230","v":7163.5},{"$f":"'Market Data'!D3230","v":7186},{"$f":"'Market Data'!E3230","v":7098.5},{"$f":"'Market Data'!F3230","v":7154.5},null,3226,"Hidden","Long",null,1,0,"",null,1,"Stay Long",-87.5,-32080.959999999992]
[null,{"$f":"'Market Data'!B3231","v":20120830},{"$f":"'Market Data'!C3231","v":7123.5},{"$f":"'Market Data'!D3231","v":7135},{"$f":"'Market Data'!E3231","v":7024},{"$f":"'Market Data'!F3231","v":7061},null,3227,"Hidden","Long",null,1,0,"",null,1,"Stay Long",-3272.5,-35353.459999999992]
[null,{"$f":"'Market Data'!B3232","v":20120831},{"$f":"'Market Data'!C3232","v":7060.5},{"$f":"'Market Data'!D3232","v":7167.5},{"$f":"'Market Data'!E3232","v":7043.5},{"$f":"'Market Data'!F3232","v":7123},null,3228,"Hidden","Long",null,1,0,"",null,1,"Stay Long",2170,-33183.459999999992]
[null,{"$f":"'Market Data'!B3233","v":20120903},{"$f":"'Market Data'!C3233","v":7123},{"$f":"'Market Data'!D3233","v":7173},{"$f":"'Market Data'!E3233","v":7093.5},{"$f":"'Market Data'!F3233","v":7165},null,3229,"Hidden","Long",null,1,0,"",null,1,"Stay Long",1470,-31713.459999999992]
[null,{"$f":"'Market Data'!B3234","v":20120904},{"$f":"'Market Data'!C3234","v":7156},{"$f":"'Market Data'!D3234","v":7172.5},{"$f":"'Market Data'!E3234","v":7073},{"$f":"'Market Data'!F3234","v":7095},null,3230,"Hidden","Long",null,1,0,"",null,1,"Stay Long",-2450,-34163.459999999992]
[null,{"$f":"'Market Data'!B3235","v":20120905},{"$f":"'Market Data'!C3235","v":7097},{"$f":"'Market Data'!D3235","v":7157.5},{"$f":"'Market Data'!E3235","v":7046},{"$f":"'Market Data'!F3235","v":7120},null,3231,"Hidden","Long",null,1,0,"",null,1,"Stay Long",875,-33288.459999999992]
[null,{"$f":"'Market Data'!B3236","v":20120906},{"$f":"'Market Data'!C3236","v":7144},{"$f":"'Market Data'!D3236","v":7328},{"$f":"'Market Data'!E3236","v":7131},{"$f":"'Market Data'!F3236","v":7312},null,3232,"Hidden","Long",null,1,0,"",null,1,"Stay Long",6720,-26568.459999999992]
[null,{"$f":"'Market Data'!B3237","v":20120907},{"$f":"'Market Data'!C3237","v":7319.5},{"$f":"'Market Data'!D3237","v":7403.5},{"$f":"'Market Data'!E3237","v":7318.5},{"$f":"'Market Data'!F3237","v":7376},null,3233,"Hidden","Long",null,1,0,"",null,1,"Stay Long",2240,-24328.459999999992]
[null,{"$f":"'Market Data'!B3238","v":20120910},{"$f":"'Market Data'!C3238","v":7361.5},{"$f":"'Market Data'!D3238","v":7388.5},{"$f":"'Market Data'!E3238","v":7339},{"$f":"'Market Data'!F3238","v":7369.5},null,3234,"Hidden","Long",null,1,0,"",null,1,"Stay Long",-227.5,-24555.959999999992]
[null,{"$f":"'Market Data'!B3239","v":20120911},{"$f":"'Market Data'!C3239","v":7335.5},{"$f":"'Market Data'!D3239","v":7468.5},{"$f":"'Market Data'!E3239","v":7327},{"$f":"'Market Data'!F3239","v":7466.5},null,3235,"Hidden","Long",null,1,0,"",null,1,"Stay Long",3395,-21160.959999999992]
[null,{"$f":"'Market Data'!B3240","v":20120912},{"$f":"'Market Data'!C3240","v":7466.5},{"$f":"'Market Data'!D3240","v":7565},{"$f":"'Market Data'!E3240","v":7460.5},{"$f":"'Market Data'!F3240","v":7505.5},null,3236,"Hidden","Long",null,1,0,"",null,1,"Stay Long",1365,-19795.959999999992]
[null,{"$f":"'Market Data'!B3241","v":20120913},{"$f":"'Market Data'!C3241","v":7493.5},{"$f":"'Market Data'!D3241","v":7559.5},{"$f":"'Market Data'!E3241","v":7433},{"$f":"'Market Data'!F3241","v":7468},null,3237,"Hidden","Long",null,1,0,"",null,1,"Stay Long",-1312.5,-21108.459999999992]
[null,{"$f":"'Market Data'!B3242","v":20120914},{"$f":"'Market Data'!C3242","v":7575},{"$f":"'Market Data'!D3242","v":7601},{"$f":"'Market Data'!E3242","v":7535.5},{"$f":"'Market Data'!F3242","v":7564},null,3238,"Hidden","Long",null,1,0,"",null,1,"Stay Long",3360,-17748.459999999992]
[null,{"$f":"'Market Data'!B3243","v":20120917},{"$f":"'Market Data'!C3243","v":7535.5},{"$f":"'Market Data'!D3243","v":7569.5},{"$f":"'Market Data'!E3243","v":7523},{"$f":"'Market Data'!F3243","v":7552},null,3239,"Hidden","Long",null,1,0,"",null,1,"Stay Long",-420,-18168.459999999992]
[null,{"$f":"'Market Data'!B3244","v":20120918},{"$f":"'Market Data'!C3244","v":7540.5},{"$f":"'Market Data'!D3244","v":7543},{"$f":"'Market Data'!E3244","v":7458.5},{"$f":"'Market Data'!F3244","v":7522.5},null,3240,"Hidden","Long",null,1,0,"",null,1,"Stay Long",-1032.5,-19200.959999999992]
[null,{"$f":"'Market Data'!B3245","v":20120919},{"$f":"'Market Data'!C3245","v":7547.5},{"$f":"'Market Data'!D3245","v":7556},{"$f":"'Market Data'!E3245","v":7479.5},{"$f":"'Market Data'!F3245","v":7546},null,3241,"Hidden","Long",null,1,0,"",null,1,"Stay Long",822.5,-18378.459999999992]
[null,{"$f":"'Market Data'!B3246","v":20120920},{"$f":"'Market Data'!C3246","v":7509},{"$f":"'Market Data'!D3246","v":7555},{"$f":"'Market Data'!E3246","v":7466},{"$f":"'Market Data'!F3246","v":7536.5},null,3242,"Hidden","Long",null,1,0,"",null,1,"Stay Long",-332.5,-18710.959999999992]
[null,{"$f":"'Market Data'!B3247","v":20120921},{"$f":"'Market Data'!C3247","v":7576.5},{"$f":"'Market Data'!D3247","v":7633},{"$f":"'Market Data'!E3247","v":7544},{"$f":"'Market Data'!F3247","v":7606},null,3243,"Hidden","Long",null,1,0,"",null,1,"Stay Long",2432.5,-16278.459999999992]
[null,{"$f":"'Market Data'!B3248","v":20120924},{"$f":"'Market Data'!C3248","v":7571.5},{"$f":"'Market Data'!D3248","v":7595},{"$f":"'Market Data'!E3248","v":7539.5},{"$f":"'Market Data'!F3248","v":7568},null,3244,"Hidden","Long",null,1,0,"",null,1,"Stay Long",-1330,-17608.459999999992]
[null,{"$f":"'Market Data'!B3249","v":20120925},{"$f":"'Market Data'!C3249","v":7584},{"$f":"'Market Data'!D3249","v":7593},{"$f":"'Market Data'!E3249","v":7501},{"$f":"'Market Data'!F3249","v":7575.5},null,3245,"Hidden","Long",null,1,0,"",null,1,"Stay Long",262.5,-17345.959999999992]
[null,{"$f":"'Market Data'!B3250","v":20120926},{"$f":"'Market Data'!C3250","v":7517},{"$f":"'Market Data'!D3250","v":7525.5},{"$f":"'Market Data'!E3250","v":7408},{"$f":"'Market Data'!F3250","v":7444},null,3246,"Hidden","Long",null,1,0,"",null,1,"Stay Long",-4602.5,-21948.459999999992]
[null,{"$f":"'Market Data'!B3251","v":20120927},{"$f":"'Market Data'!C3251","v":7480.5},{"$f":"'Market Data'!D3251","v":7500.5},{"$f":"'Market Data'!E3251","v":7421},{"$f":"'Market Data'!F3251","v":7441},null,3247,"Hidden","Long",null,1,0,"",null,1,"Stay Long",-105,-22053.459999999992]
[null,{"$f":"'Market Data'!B3252","v":20120928},{"$f":"'Market Data'!C3252","v":7497},{"$f":"'Market Data'!D3252","v":7504},{"$f":"'Market Data'!E3252","v":7369.5},{"$f":"'Market Data'!F3252","v":7388},null,3248,"Hidden","Long",null,1,0,"",null,1,"Stay Long",-1855,-23908.459999999992]
[null,{"$f":"'Market Data'!B3253","v":20121001},{"$f":"'Market Data'!C3253","v":7360.5},{"$f":"'Market Data'!D3253","v":7493},{"$f":"'Market Data'!E3253","v":7359},{"$f":"'Market Data'!F3253","v":7483},null,3249,"Hidden","Long",null,1,0,"",null,1,"Stay Long",3325,-20583.459999999992]
[null,{"$f":"'Market Data'!B3254","v":20121002},{"$f":"'Market Data'!C3254","v":7435.5},{"$f":"'Market Data'!D3254","v":7527.5},{"$f":"'Market Data'!E3254","v":7418.5},{"$f":"'Market Data'!F3254","v":7462},null,3250,"Hidden","Long",null,1,0,"",null,1,"Stay Long",-735,-21318.459999999992]
[null,{"$f":"'Market Data'!B3255","v":20121003},{"$f":"'Market Data'!C3255","v":7457.5},{"$f":"'Market Data'!D3255","v":7493},{"$f":"'Market Data'!E3255","v":7424.5},{"$f":"'Market Data'!F3255","v":7477.5},null,3251,"Hidden","Long",null,1,0,"",null,1,"Stay Long",542.5,-20775.959999999992]
[null,{"$f":"'Market Data'!B3256","v":20121004},{"$f":"'Market Data'!C3256","v":7502},{"$f":"'Market Data'!D3256","v":7527.5},{"$f":"'Market Data'!E3256","v":7434.5},{"$f":"'Market Data'!F3256","v":7453.5},null,3252,"Hidden","Long",null,1,0,"",null,1,"Stay Long",-840,-21615.959999999992]
[null,{"$f":"'Market Data'!B3257","v":20121005},{"$f":"'Market Data'!C3257","v":7487.5},{"$f":"'Market Data'!D3257","v":7562},{"$f":"'Market Data'!E3257","v":7464.5},{"$f":"'Market Data'!F3257","v":7542},null,3253,"Hidden","Long",null,1,0,"",null,1,"Stay Long",3097.5,-18518.459999999992]
[null,{"$f":"'Market Data'!B3258","v":20121008},{"$f":"'Market Data'!C3258","v":7502},{"$f":"'Market Data'!D3258","v":7508.5},{"$f":"'Market Data'!E3258","v":7436.5},{"$f":"'Market Data'!F3258","v":7449.5},null,3254,"Hidden","Long",null,1,0,"",null,1,"Stay Long",-3237.5,-21755.959999999992]
[null,{"$f":"'Market Data'!B3259","v":20121009},{"$f":"'Market Data'!C3259","v":7477.5},{"$f":"'Market Data'!D3259","v":7478.5},{"$f":"'Market Data'!E3259","v":7370.5},{"$f":"'Market Data'!F3259","v":7377.5},null,3255,"Hidden","Long",null,1,0,"",null,1,"Stay Long",-2520,-24275.959999999992]
[null,{"$f":"'Market Data'!B3260","v":20121010},{"$f":"'Market Data'!C3260","v":7374.5},{"$f":"'Market Data'!D3260","v":7398.5},{"$f":"'Market Data'!E3260","v":7335},{"$f":"'Market Data'!F3260","v":7367},null,3256,"Hidden","Long",null,1,0,"",null,1,"Stay Long",-367.5,-24643.459999999992]
[null,{"$f":"'Market Data'!B3261","v":20121011},{"$f":"'Market Data'!C3261","v":7343},{"$f":"'Market Data'!D3261","v":7458},{"$f":"'Market Data'!E3261","v":7332.5},{"$f":"'Market Data'!F3261","v":7435},null,3257,"Hidden","Long",null,1,0,"",null,1,"Stay Long",2380,-22263.459999999992]
[null,{"$f":"'Market Data'!B3262","v":20121012},{"$f":"'Market Data'!C3262","v":7420},{"$f":"'Market Data'!D3262","v":7444},{"$f":"'Market Data'!E3262","v":7382},{"$f":"'Market Data'!F3262","v":7395},null,3258,"Hidden","Long",null,1,0,"",null,1,"Stay Long",-1400,-23663.459999999992]
[null,{"$f":"'Market Data'!B3263","v":20121015},{"$f":"'Market Data'!C3263","v":7384.5},{"$f":"'Market Data'!D3263","v":7455.5},{"$f":"'Market Data'!E3263","v":7371.5},{"$f":"'Market Data'!F3263","v":7414.5},null,3259,"Hidden","Long",null,1,0,"",null,1,"Stay Long",682.5,-22980.959999999992]
[null,{"$f":"'Market Data'!B3264","v":20121016},{"$f":"'Market Data'!C3264","v":7462.5},{"$f":"'Market Data'!D3264","v":7543.5},{"$f":"'Market Data'!E3264","v":7445.5},{"$f":"'Market Data'!F3264","v":7530},null,3260,"Hidden","Long",null,1,0,"",null,1,"Stay Long",4042.5,-18938.459999999992]
[null,{"$f":"'Market Data'!B3265","v":20121017},{"$f":"'Market Data'!C3265","v":7539.5},{"$f":"'Market Data'!D3265","v":7554},{"$f":"'Market Data'!E3265","v":7519},{"$f":"'Market Data'!F3265","v":7548},null,3261,"Hidden","Long",null,1,0,"",null,1,"Stay Long",630,-18308.459999999992]
[null,{"$f":"'Market Data'!B3266","v":20121018},{"$f":"'Market Data'!C3266","v":7557.5},{"$f":"'Market Data'!D3266","v":7599},{"$f":"'Market Data'!E3266","v":7540.5},{"$f":"'Market Data'!F3266","v":7590.5},null,3262,"Hidden","Long",null,1,0,"",null,1,"Stay Long",1487.5,-16820.959999999992]
[null,{"$f":"'Market Data'!B3267","v":20121019},{"$f":"'Market Data'!C3267","v":7565.5},{"$f":"'Market Data'!D3267","v":7583},{"$f":"'Market Data'!E3267","v":7480},{"$f":"'Market Data'!F3267","v":7517},null,3263,"Hidden","Long",null,1,{"$f":"$L3280-P3280","v":0},"",null,1,"Stay Long",-2572.5,-19393.459999999992]
[null,{"$f":"'Market Data'!B3268","v":20121022},{"$f":"'Market Data'!C3268","v":7516},{"$f":"'Market Data'!D3268","v":7542.5},{"$f":"'Market Data'!E3268","v":7453},{"$f":"'Market Data'!F3268","v":7473},null,3264,"Hidden","Long",null,1,0,"",null,{"$f":"IF($N3280=\"Fill\",$L3280,$P3280)","v":1},"Stay Long",{"$f":"IF(OR($P3280&$L3280=\"01\",$P3280&$L3280=\"0-1\"),(($F3281-$C3281)*$R$3*$L3280)-(ABS($M3280)*$R$4),IF(OR($P3280&$L3280=\"10\",$P3280&$L3280=\"-10\"),(($C3281-$F3280)*$R$3*$P3280)-(ABS($M3280)*$R$4),IF(OR($P3280&$L3280=\"1-1\",$P3280&$L3280=\"-11\"),(($C3281-$F3280)*$R$3*$P3280)-(ABS($M3280)*$R$4)+(($F3281-$C3281)*$R$3*$P3281),IF(OR($P3280&$L3280=\"11\",$P3280&$L3280=\"-1-1\"),(($F3281-$F3280)*$R$3*$P3281),0))))","v":-1540},-20933.459999999992]
[null,{"$f":"'Market Data'!B3269","v":20121023},{"$f":"'Market Data'!C3269","v":7488},{"$f":"'Market Data'!D3269","v":7496},{"$f":"'Market Data'!E3269","v":7303.5},{"$f":"'Market Data'!F3269","v":7327},null,{"$f":"ROW()-ROW(H$17)","v":3265},"Hidden",{"$f":"$I$4","v":"Long"},null,1,0,{"$f":"IF(NOT($M3282=0),\"Fill\",\"\")","v":""},null,1,{"$f":"IF($P3281&$L3281=\"00\",\"Stay Flat\",IF($P3281&$L3281=\"01\",\"Go Long\",IF($P3281&$L3281=\"0-1\",\"Go Short\",IF($P3281&$L3281=\"-10\",\"Exit Short\",IF($P3281&$L3281=\"-1-1\",\"Stay Short\",IF($P3281&$L3281=\"-11\",\"Exit Short, Go Long\",IF($P3281&$L3281=\"10\",\"Exit Long\",IF($P3281&$L3281=\"1-1\",\"Exit Long, Go Short\",IF($P3281&$L3281=\"11\",\"Stay Long\",\"\")))))))))","v":"Stay Long"},-5110,{"$f":"S3281+R3282","v":-26043.459999999992}]
[null,{"$f":"'Market Data'!B3270","v":20121024},{"$f":"'Market Data'!C3270","v":7365},{"$f":"'Market Data'!D3270","v":7367.5},{"$f":"'Market Data'!E3270","v":7269.5},{"$f":"'Market Data'!F3270","v":7345},null,3266,"Hidden","Long",null,{"$f":"IF($J3283=\"Short\",-1,IF($J3283=\"Long\",1,0))","v":1},0,"",null,1,"Stay Long",630,-25413.459999999992]
[null,{"$f":"'Market Data'!B3271","v":20121025},{"$f":"'Market Data'!C3271","v":7359.5},{"$f":"'Market Data'!D3271","v":7409},{"$f":"'Market Data'!E3271","v":7332.5},{"$f":"'Market Data'!F3271","v":7348.5},null,3267,"Hidden","Long",null,1,0,"",null,1,"Stay Long",122.5,-25290.959999999992]
[null,{"$f":"'Market Data'!B3272","v":20121026},{"$f":"'Market Data'!C3272","v":7303},{"$f":"'Market Data'!D3272","v":7408.5},{"$f":"'Market Data'!E3272","v":7295},{"$f":"'Market Data'!F3272","v":7381.5},null,3268,"Hidden","Long",null,1,0,"",null,1,"Stay Long",1155,-24135.959999999992]
[null,{"$f":"'Market Data'!B3273","v":20121029},{"$f":"'Market Data'!C3273","v":7376.5},{"$f":"'Market Data'!D3273","v":7377.5},{"$f":"'Market Data'!E3273","v":7322},{"$f":"'Market Data'!F3273","v":7356},null,3269,"Hidden","Long",null,1,0,"",null,1,"Stay Long",-892.5,-25028.459999999992]
[null,{"$f":"'Market Data'!B3274","v":20121030},{"$f":"'Market Data'!C3274","v":7347.5},{"$f":"'Market Data'!D3274","v":7444.5},{"$f":"'Market Data'!E3274","v":7347.5},{"$f":"'Market Data'!F3274","v":7426},null,3270,"Hidden","Long",null,1,0,"",null,1,"Stay Long",2450,-22578.459999999992]
[null,{"$f":"'Market Data'!B3275","v":20121031},{"$f":"'Market Data'!C3275","v":7437},{"$f":"'Market Data'!D3275","v":7499.5},{"$f":"'Market Data'!E3275","v":7404},{"$f":"'Market Data'!F3275","v":7420.5},null,3271,"Hidden","Long",null,1,0,"",null,1,"Stay Long",-192.5,-22770.959999999992]
[null,{"$f":"'Market Data'!B3276","v":20121101},{"$f":"'Market Data'!C3276","v":7418},{"$f":"'Market Data'!D3276","v":7509},{"$f":"'Market Data'!E3276","v":7395.5},{"$f":"'Market Data'!F3276","v":7483},null,3272,"Hidden","Long",null,1,0,"",null,1,"Stay Long",2187.5,-20583.459999999992]
[null,{"$f":"'Market Data'!B3277","v":20121102},{"$f":"'Market Data'!C3277","v":7498.5},{"$f":"'Market Data'!D3277","v":7542},{"$f":"'Market Data'!E3277","v":7463},{"$f":"'Market Data'!F3277","v":7510},null,3273,"Hidden","Long",null,1,0,"",null,1,"Stay Long",945,-19638.459999999992]
[null,{"$f":"'Market Data'!B3278","v":20121105},{"$f":"'Market Data'!C3278","v":7472},{"$f":"'Market Data'!D3278","v":7504.5},{"$f":"'Market Data'!E3278","v":7455.5},{"$f":"'Market Data'!F3278","v":7477.5},null,3274,"Hidden","Long",null,1,0,"",null,1,"Stay Long",-1137.5,-20775.959999999992]
[null,{"$f":"'Market Data'!B3279","v":20121106},{"$f":"'Market Data'!C3279","v":7506},{"$f":"'Market Data'!D3279","v":7569.5},{"$f":"'Market Data'!E3279","v":7469.5},{"$f":"'Market Data'!F3279","v":7525},null,3275,"Hidden","Long",null,1,0,"",null,1,"Stay Long",1662.5,-19113.459999999992]
[null,{"$f":"'Market Data'!B3280","v":20121107},{"$f":"'Market Data'!C3280","v":7566},{"$f":"'Market Data'!D3280","v":7589.5},{"$f":"'Market Data'!E3280","v":7373},{"$f":"'Market Data'!F3280","v":7380.5},null,3276,"Hidden","Long",null,1,0,"",null,1,"Stay Long",-5057.5,-24170.959999999992]
[null,{"$f":"'Market Data'!B3281","v":20121108},{"$f":"'Market Data'!C3281","v":7410},{"$f":"'Market Data'!D3281","v":7439},{"$f":"'Market Data'!E3281","v":7333.5},{"$f":"'Market Data'!F3281","v":7359.5},null,3277,"Hidden","Long",null,1,0,"",null,1,"Stay Long",-735,-24905.959999999992]
[null,{"$f":"'Market Data'!B3282","v":20121109},{"$f":"'Market Data'!C3282","v":7382.5},{"$f":"'Market Data'!D3282","v":7387.5},{"$f":"'Market Data'!E3282","v":7213},{"$f":"'Market Data'!F3282","v":7319.5},null,3278,"Hidden","Long",null,1,0,"",null,1,"Stay Long",-1400,-26305.959999999992]
[null,{"$f":"'Market Data'!B3283","v":20121112},{"$f":"'Market Data'!C3283","v":7317},{"$f":"'Market Data'!D3283","v":7352},{"$f":"'Market Data'!E3283","v":7287},{"$f":"'Market Data'!F3283","v":7321},null,3279,"Hidden","Long",null,1,0,"",null,1,"Stay Long",52.5,-26253.459999999992]
[null,{"$f":"'Market Data'!B3284","v":20121113},{"$f":"'Market Data'!C3284","v":7296},{"$f":"'Market Data'!D3284","v":7337},{"$f":"'Market Data'!E3284","v":7225},{"$f":"'Market Data'!F3284","v":7325},null,3280,"Hidden","Long",null,1,0,"",null,1,"Stay Long",140,-26113.459999999992]
[null,{"$f":"'Market Data'!B3285","v":20121114},{"$f":"'Market Data'!C3285","v":7302.5},{"$f":"'Market Data'!D3285","v":7334.5},{"$f":"'Market Data'!E3285","v":7181},{"$f":"'Market Data'!F3285","v":7265.5},null,3281,"Hidden","Long",null,1,0,"",null,1,"Stay Long",-2082.5,-28195.959999999992]
[null,{"$f":"'Market Data'!B3286","v":20121115},{"$f":"'Market Data'!C3286","v":7199.5},{"$f":"'Market Data'!D3286","v":7229.5},{"$f":"'Market Data'!E3286","v":7161},{"$f":"'Market Data'!F3286","v":7195},null,3282,"Hidden","Long",null,1,0,"",null,1,"Stay Long",-2467.5,-30663.459999999992]
[null,{"$f":"'Market Data'!B3287","v":20121116},{"$f":"'Market Data'!C3287","v":7183.5},{"$f":"'Market Data'!D3287","v":7209.5},{"$f":"'Market Data'!E3287","v":7097.5},{"$f":"'Market Data'!F3287","v":7108},null,3283,"Hidden","Long",null,1,0,"",null,1,"Stay Long",-3045,-33708.459999999992]
[null,{"$f":"'Market Data'!B3288","v":20121119},{"$f":"'Market Data'!C3288","v":7161.5},{"$f":"'Market Data'!D3288","v":7280.5},{"$f":"'Market Data'!E3288","v":7155.5},{"$f":"'Market Data'!F3288","v":7274.5},null,3284,"Hidden","Long",null,1,0,"",null,1,"Stay Long",5827.5,-27880.959999999992]
[null,{"$f":"'Market Data'!B3289","v":20121120},{"$f":"'Market Data'!C3289","v":7253},{"$f":"'Market Data'!D3289","v":7337.5},{"$f":"'Market Data'!E3289","v":7242},{"$f":"'Market Data'!F3289","v":7324},null,3285,"Hidden","Long",null,1,0,"",null,1,"Stay Long",1732.5,-26148.459999999992]
[null,{"$f":"'Market Data'!B3290","v":20121121},{"$f":"'Market Data'!C3290","v":7292},{"$f":"'Market Data'!D3290","v":7345.5},{"$f":"'Market Data'!E3290","v":7285.5},{"$f":"'Market Data'!F3290","v":7337},null,3286,"Hidden","Long",null,1,0,"",null,1,"Stay Long",455,-25693.459999999992]
[null,{"$f":"'Market Data'!B3291","v":20121122},{"$f":"'Market Data'!C3291","v":7360.5},{"$f":"'Market Data'!D3291","v":7404.5},{"$f":"'Market Data'!E3291","v":7356},{"$f":"'Market Data'!F3291","v":7397.5},null,3287,"Hidden","Long",null,1,0,"",null,1,"Stay Long",2117.5,-23575.959999999992]
[null,{"$f":"'Market Data'!B3292","v":20121123},{"$f":"'Market Data'!C3292","v":7407.5},{"$f":"'Market Data'!D3292","v":7485.5},{"$f":"'Market Data'!E3292","v":7370},{"$f":"'Market Data'!F3292","v":7456},null,3288,"Hidden","Long",null,1,0,"",null,1,"Stay Long",2047.5,-21528.459999999992]
[null,{"$f":"'Market Data'!B3293","v":20121126},{"$f":"'Market Data'!C3293","v":7441.5},{"$f":"'Market Data'!D3293","v":7465},{"$f":"'Market Data'!E3293","v":7423.5},{"$f":"'Market Data'!F3293","v":7442.5},null,3289,"Hidden","Long",null,1,0,"",null,1,"Stay Long",-472.5,-22000.959999999992]
[null,{"$f":"'Market Data'!B3294","v":20121127},{"$f":"'Market Data'!C3294","v":7480},{"$f":"'Market Data'!D3294","v":7514.5},{"$f":"'Market Data'!E3294","v":7456},{"$f":"'Market Data'!F3294","v":7488},null,3290,"Hidden","Long",null,1,0,"",null,1,"Stay Long",1592.5,-20408.459999999992]
[null,{"$f":"'Market Data'!B3295","v":20121128},{"$f":"'Market Data'!C3295","v":7464.5},{"$f":"'Market Data'!D3295","v":7536.5},{"$f":"'Market Data'!E3295","v":7414.5},{"$f":"'Market Data'!F3295","v":7498.5},null,3291,"Hidden","Long",null,1,0,"",null,1,"Stay Long",367.5,-20040.959999999992]
[null,{"$f":"'Market Data'!B3296","v":20121129},{"$f":"'Market Data'!C3296","v":7540.5},{"$f":"'Market Data'!D3296","v":7568},{"$f":"'Market Data'!E3296","v":7520.5},{"$f":"'Market Data'!F3296","v":7550.5},null,3292,"Hidden","Long",null,1,0,"",null,1,"Stay Long",1820,-18220.959999999992]
[null,{"$f":"'Market Data'!B3297","v":20121130},{"$f":"'Market Data'!C3297","v":7545.5},{"$f":"'Market Data'!D3297","v":7594.5},{"$f":"'Market Data'!E3297","v":7540},{"$f":"'Market Data'!F3297","v":7568.5},null,3293,"Hidden","Long",null,1,0,"",null,1,"Stay Long",630,-17590.959999999992]
[null,{"$f":"'Market Data'!B3298","v":20121203},{"$f":"'Market Data'!C3298","v":7578.5},{"$f":"'Market Data'!D3298","v":7638.5},{"$f":"'Market Data'!E3298","v":7566.5},{"$f":"'Market Data'!F3298","v":7585},null,3294,"Hidden","Long",null,1,0,"",null,1,"Stay Long",577.5,-17013.459999999992]
[null,{"$f":"'Market Data'!B3299","v":20121204},{"$f":"'Market Data'!C3299","v":7568},{"$f":"'Market Data'!D3299","v":7617.5},{"$f":"'Market Data'!E3299","v":7563},{"$f":"'Market Data'!F3299","v":7578},null,3295,"Hidden","Long",null,1,0,"",null,1,"Stay Long",-245,-17258.459999999992]
[null,{"$f":"'Market Data'!B3300","v":20121205},{"$f":"'Market Data'!C3300","v":7649},{"$f":"'Market Data'!D3300","v":7656.5},{"$f":"'Market Data'!E3300","v":7578},{"$f":"'Market Data'!F3300","v":7594.5},null,3296,"Hidden","Long",null,1,0,"",null,1,"Stay Long",577.5,-16680.959999999992]
[null,{"$f":"'Market Data'!B3301","v":20121206},{"$f":"'Market Data'!C3301","v":7617.5},{"$f":"'Market Data'!D3301","v":7707.5},{"$f":"'Market Data'!E3301","v":7610.5},{"$f":"'Market Data'!F3301","v":7687},null,3297,"Hidden","Long",null,1,0,"",null,1,"Stay Long",3237.5,-13443.459999999992]
[null,{"$f":"'Market Data'!B3302","v":20121207},{"$f":"'Market Data'!C3302","v":7696},{"$f":"'Market Data'!D3302","v":7704.5},{"$f":"'Market Data'!E3302","v":7637},{"$f":"'Market Data'!F3302","v":7658.5},null,3298,"Hidden","Long",null,1,0,"",null,1,"Stay Long",-997.5,-14440.959999999992]
[null,{"$f":"'Market Data'!B3303","v":20121210},{"$f":"'Market Data'!C3303","v":7672},{"$f":"'Market Data'!D3303","v":7691},{"$f":"'Market Data'!E3303","v":7607},{"$f":"'Market Data'!F3303","v":7681},null,3299,"Hidden","Long",null,1,0,"",null,1,"Stay Long",787.5,-13653.459999999992]
[null,{"$f":"'Market Data'!B3304","v":20121211},{"$f":"'Market Data'!C3304","v":7683.5},{"$f":"'Market Data'!D3304","v":7748},{"$f":"'Market Data'!E3304","v":7670.5},{"$f":"'Market Data'!F3304","v":7742},null,3300,"Hidden","Long",null,1,0,"",null,1,"Stay Long",2135,-11518.459999999992]
[null,{"$f":"'Market Data'!B3305","v":20121212},{"$f":"'Market Data'!C3305","v":7746},{"$f":"'Market Data'!D3305","v":7793.5},{"$f":"'Market Data'!E3305","v":7736.5},{"$f":"'Market Data'!F3305","v":7764.5},null,3301,"Hidden","Long",null,1,0,"",null,1,"Stay Long",787.5,-10730.959999999992]
[null,{"$f":"'Market Data'!B3306","v":20121213},{"$f":"'Market Data'!C3306","v":7747},{"$f":"'Market Data'!D3306","v":7771},{"$f":"'Market Data'!E3306","v":7711},{"$f":"'Market Data'!F3306","v":7721.5},null,3302,"Hidden","Long",null,1,0,"",null,1,"Stay Long",-1505,-12235.959999999992]
[null,{"$f":"'Market Data'!B3307","v":20121214},{"$f":"'Market Data'!C3307","v":7741.5},{"$f":"'Market Data'!D3307","v":7771.5},{"$f":"'Market Data'!E3307","v":7720.5},{"$f":"'Market Data'!F3307","v":7744.5},null,3303,"Hidden","Long",null,1,0,"",null,1,"Stay Long",805,-11430.959999999992]
[null,{"$f":"'Market Data'!B3308","v":20121217},{"$f":"'Market Data'!C3308","v":7760},{"$f":"'Market Data'!D3308","v":7778.5},{"$f":"'Market Data'!E3308","v":7715},{"$f":"'Market Data'!F3308","v":7749},null,3304,"Hidden","Long",null,1,0,"",null,1,"Stay Long",157.5,-11273.459999999992]
[null,{"$f":"'Market Data'!B3309","v":20121218},{"$f":"'Market Data'!C3309","v":7791.5},{"$f":"'Market Data'!D3309","v":7823.5},{"$f":"'Market Data'!E3309","v":7774.5},{"$f":"'Market Data'!F3309","v":7811},null,3305,"Hidden","Long",null,1,0,"",null,1,"Stay Long",2170,-9103.4599999999919]
[null,{"$f":"'Market Data'!B3310","v":20121219},{"$f":"'Market Data'!C3310","v":7823},{"$f":"'Market Data'!D3310","v":7831.5},{"$f":"'Market Data'!E3310","v":7804.5},{"$f":"'Market Data'!F3310","v":7822.5},null,3306,"Hidden","Long",null,1,0,"",null,1,"Stay Long",402.5,-8700.9599999999919]
[null,{"$f":"'Market Data'!B3311","v":20121220},{"$f":"'Market Data'!C3311","v":7796.5},{"$f":"'Market Data'!D3311","v":7845.5},{"$f":"'Market Data'!E3311","v":7787},{"$f":"'Market Data'!F3311","v":7823.5},null,3307,"Hidden","Long",null,1,0,"",null,1,"Stay Long",35,-8665.9599999999919]
[null,{"$f":"'Market Data'!B3312","v":20121221},{"$f":"'Market Data'!C3312","v":7759.5},{"$f":"'Market Data'!D3312","v":7809.5},{"$f":"'Market Data'!E3312","v":7747},{"$f":"'Market Data'!F3312","v":7795},null,3308,"Hidden","Long",null,1,0,"",null,1,"Stay Long",-997.5,-9663.4599999999919]
[null,{"$f":"'Market Data'!B3313","v":20121227},{"$f":"'Market Data'!C3313","v":7773},{"$f":"'Market Data'!D3313","v":7827},{"$f":"'Market Data'!E3313","v":7771.5},{"$f":"'Market Data'!F3313","v":7799},null,3309,"Hidden","Long",null,1,0,"",null,1,"Stay Long",140,-9523.4599999999919]
[null,{"$f":"'Market Data'!B3314","v":20121228},{"$f":"'Market Data'!C3314","v":7808},{"$f":"'Market Data'!D3314","v":7817},{"$f":"'Market Data'!E3314","v":7753},{"$f":"'Market Data'!F3314","v":7760},null,3310,"Hidden","Long",null,1,0,"",null,1,"Stay Long",-1365,-10888.459999999992]
[null,{"$f":"'Market Data'!B3315","v":20130102},{"$f":"'Market Data'!C3315","v":7886},{"$f":"'Market Data'!D3315","v":7947},{"$f":"'Market Data'!E3315","v":7868.5},{"$f":"'Market Data'!F3315","v":7920},null,3311,"Hidden","Long",null,1,0,"",null,1,"Stay Long",5600,-5288.4599999999919]

{"sheet":"Trading Rule","index":2,"n_rows":3329,"n_cols":47,"rows_kept":1125,"cut":true,"hidden":false,"merged":[[8,1,14,5],[16,11,16,12],[8,7,14,10],[8,14,14,16],[8,18,14,21],[8,23,14,24],[8,27,8,38],[16,9,16,10],[16,41,17,41],[16,42,17,42],[16,45,17,45],[16,43,17,43],[16,44,17,44]],"bounds":{"rows_first":500,"rows_last":125,"rows_between":500,"halvings":2}}
[null,"Introducing a Trading Rule",null,null,null,null,null,null,null,null,null,null,null,null,null,null,null,null,null,null,null,null,null,null,null,"… OPEN THE BOX",null,null,null,null,null,null,null,null,null,null,null,null,null,null,null,null,null,null,null,null,"Sample Year Static Data"]
[]
[null,"Polarised Fractal Efficiency (PFE)",null,null,null,null,null,null,null,null,null,null,null,null,"Number of Transactions",null,null,null,"Market details for Daxindix"]
[null,"If PFE (n) > constant then buy (i.e. go long)",null,null,null,null,null,null,"buy constant =",0,null,null,null,null,"Long",{"$f":"COUNTIF(L273:L3329,\"<>#N/A\")","v":58},null,null,null,null,"Unit move =",35]
[null,"If PFE (n) < constant then sell (i.e. go short)",null,null,null,null,null,null,"sell constant = ",0,null,null,null,null,"Short",{"$f":"COUNTIF(M273:M3329,\"<>#N/A\")","v":57},null,null,null,null,"Transaction cost = ",90.96]
[null,"where n = look back window",null,null,null,null,null,null,"n = ",84,null,null,null,null,"Total",{"$f":"P4+P5","v":115},null,null,null,null,"Maximum position size =",1]
[]
[]
[null,"Market  data showing Open, High, Low and Close for Daxindx for trading day.",null,null,null,null,null,"Signal is produced telling the system to go Long (buy) or Short (sell). This model uses Polarised Fractal Efficiency (PFE) as the indicator.",null,null,null,null,null,null,"Signal translates into potential position and order instruction for Next Day. Model assumes all orders get filled on the Next day Open.",null,null,null,"This shows Position, Profit / Loss (PL) and Cumulative PL for End of day on basis of previous day's order and/or position. It assumes appropriate transaction costs for market.",null,null,null,null,"Model calculates Sharpe ratio for sample period.",null,null,null,"Sample years"]
["Sample",null,null,null,null,null,null,null,null,null,null,null,null,null,null,null,null,null,null,null,null,null,null,null,null,null,"Year",2001,2002,2003,2004,2005,2006,2007,2008,2009,2010,2011,2012,2013]
[null,null,null,null,null,null,null,null,null,null,null,null,null,null,null,null,null,null,null,null,null,null,null,null,null,null,null,{"$f":"TEXT(AB$10,\"0\")","v":"2001"},"2002","2003","2004","2005","2006","2007","2008","2009","2010","2011","2012",{"$f":"TEXT(AN$10,\"0\")","v":"2013"}]
[null,null,null,null,null,null,null,null,null,null,null,null,null,null,null,null,null,null,null,null,null,null,null,null,null,null,null,{"$f":"CHAR(64+COLUMN($V$18))&INDEX($AP:$AP,MATCH(AB$11,$AQ:$AQ,0))","v":"V273"},{"$f":"CHAR(64+COLUMN($V$18))&INDEX($AP:$AP,MATCH(AC$11,$AQ:$AQ,0))","v":"V526"},{"$f":"CHAR(64+COLUMN($V$18))&INDEX($AP:$AP,MATCH(AD$11,$AQ:$AQ,0))","v":"V779"},{"$f":"CHAR(64+COLUMN($V$18))&INDEX($AP:$AP,MATCH(AE$11,$AQ:$AQ,0))","v":"V1032"},{"$f":"CHAR(64+COLUMN($V$18))&INDEX($AP:$AP,MATCH(AF$11,$AQ:$AQ,0))","v":"V1289"},{"$f":"CHAR(64+COLUMN($V$18))&INDEX($AP:$AP,MATCH(AG$11,$AQ:$AQ,0))","v":"V1546"},{"$f":"CHAR(64+COLUMN($V$18))&INDEX($AP:$AP,MATCH(AH$11,$AQ:$AQ,0))","v":"V1801"},{"$f":"CHAR(64+COLUMN($V$18))&INDEX($AP:$AP,MATCH(AI$11,$AQ:$AQ,0))","v":"V2053"},{"$f":"CHAR(64+COLUMN($V$18))&INDEX($AP:$AP,MATCH(AJ$11,$AQ:$AQ,0))","v":"V2307"},{"$f":"CHAR(64+COLUMN($V$18))&INDEX($AP:$AP,MATCH(AK$11,$AQ:$AQ,0))","v":"V2561"},{"$f":"CHAR(64+COLUMN($V$18))&INDEX($AP:$AP,MATCH(AL$11,$AQ:$AQ,0))","v":"V2817"},{"$f":"CHAR(64+COLUMN($V$18))&INDEX($AP:$AP,MATCH(AM$11,$AQ:$AQ,0))","v":"V3074"}]
[null,null,null,null,null,null,null,null,null,null,null,null,null,null,null,null,null,null,null,null,null,null,null,null,null,null,null,{"$f":"CHAR(64+COLUMN($V$18))&INDEX($AP:$AP,MATCH(AC$11,$AQ:$AQ,0))","v":"V526"},{"$f":"CHAR(64+COLUMN($V$18))&INDEX($AP:$AP,MATCH(AD$11,$AQ:$AQ,0))","v":"V779"},{"$f":"CHAR(64+COLUMN($V$18))&INDEX($AP:$AP,MATCH(AE$11,$AQ:$AQ,0))","v":"V1032"},{"$f":"CHAR(64+COLUMN($V$18))&INDEX($AP:$AP,MATCH(AF$11,$AQ:$AQ,0))","v":"V1289"},{"$f":"CHAR(64+COLUMN($V$18))&INDEX($AP:$AP,MATCH(AG$11,$AQ:$AQ,0))","v":"V1546"},{"$f":"CHAR(64+COLUMN($V$18))&INDEX($AP:$AP,MATCH(AH$11,$AQ:$AQ,0))","v":"V1801"},{"$f":"CHAR(64+COLUMN($V$18))&INDEX($AP:$AP,MATCH(AI$11,$AQ:$AQ,0))","v":"V2053"},{"$f":"CHAR(64+COLUMN($V$18))&INDEX($AP:$AP,MATCH(AJ$11,$AQ:$AQ,0))","v":"V2307"},{"$f":"CHAR(64+COLUMN($V$18))&INDEX($AP:$AP,MATCH(AK$11,$AQ:$AQ,0))","v":"V2561"},{"$f":"CHAR(64+COLUMN($V$18))&INDEX($AP:$AP,MATCH(AL$11,$AQ:$AQ,0))","v":"V2817"},{"$f":"CHAR(64+COLUMN($V$18))&INDEX($AP:$AP,MATCH(AM$11,$AQ:$AQ,0))","v":"V3074"},{"$f":"CHAR(64+COLUMN($V$18))&INDEX($AP:$AP,MATCH(AN$11,$AQ:$AQ,0))","v":"V3328"}]
["Static",null,null,null,null,null,null,null,null,null,null,null,null,null,null,null,null,null,null,null,null,null,null,null,null,null,"Sharpe Ratio",{"$f":"sharpe(INDIRECT(AB$12&\":\"&AB$13))","v":0.53562670550516511},{"$f":"sharpe(INDIRECT(AC$12&\":\"&AC$13))","v":0.98702725453248286},1.2919249173808252,9.480461227513079E-2,1.2653043918252025,0.64269491783420418,-8.2396867907902502E-2,0.70633264892524195,0.71976171657552246,0.4156827213569001,-2.755645425216437E-2,0.32195989719712614]
["Data",null,null,null,null,null,null,null,null,null,null,null,null,null,null,null,null,null,null,null,null,null,null,null,null,null,"in/out of Sample","in","in","in","in","in","out","in","out","in","out","in","out","<-- Set 'in' and 'out' of Sample Years"]
[]
[null,null,null,null,null,null,null,null,"End of day","End of day",null,"Trading Signal",null,null,"Next day","Next day","Next day",null,"End of day",null,"End of day","End of day",null,"in-sample sharpe","out-of-sample sharpe",null,null,null,null,null,null,null,null,null,null,null,null,null,null,null,null,"Row No. Last Date in Year","New Year","Sample","YYYY","YYYYMM"]
[null,"Date","Open","High","Low","Close",null,"Day","PFE(n)",null,"Signal","Go Long","Go Short",null,"Potential Position","Order quantity","Order status",null,"Position",null,"PL","Cumulative PL",null,{"$f":"SUMIF($AB$15:$AM$15,\"in\",$AB$14:$AM$14)/COUNTIF($AB$15:$AM$15,\"in\")","v":0.59806203449178286},{"$f":"SUMIF($AB$15:$AM$15,\"out\",$AB$14:$AM$14)/COUNTIF($AB$15:$AM$15,\"out\")","v":0.52166754632836809}]
[null,{"$f":"'Market Data'!B5","v":19991230},{"$f":"'Market Data'!C5","v":8863.5},{"$f":"'Market Data'!D5","v":8935.5},{"$f":"'Market Data'!E5","v":8853.5},{"$f":"'Market Data'!F5","v":8930.5},null,{"$f":"ROW()-ROW(H$18)","v":1},{"$f":"IF($H19<($J$6+1),\"\",PFE(OFFSET($F19,0,0,-$J$6)))","v":""},null,{"$f":"IF($I19=\"\",\"\",IF($I19>$J$4,\"Long\",IF($I19<$J$5,\"Short\",\"\")))","v":""},{"$f":"IF(AND($K19=\"Long\",$K18<>\"Long\"),$F19,NA())","v":{"$error":"#N/A"}},{"$f":"IF(AND($K19=\"Short\",$K18<>\"Short\"),$F19,NA())","v":{"$error":"#N/A"}},null,null,null,null,null,null,null,null,null,null,null,null,null,null,null,null,null,null,null,null,null,null,null,null,null,null,null,null,{"$f":"IF(NOT($AS19=$AS20),ROW(),\"\")","v":19},{"$f":"IF(NOT(AS19=AS20),AS20,\"\")","v":"2000"},{"$f":"INDEX($AB$15:$AM$15,MATCH($AS19,$AB$11:$AM$11,0))","v":{"$error":"#N/A"}},{"$f":"LEFT(AT19,4)","v":"1999"},{"$f":"LEFT(B19,6)","v":"199912"}]
[null,{"$f":"'Market Data'!B6","v":20000103},{"$f":"'Market Data'!C6","v":9091.5},{"$f":"'Market Data'!D6","v":9113.5},{"$f":"'Market Data'!E6","v":8670.5},{"$f":"'Market Data'!F6","v":8708},null,{"$f":"ROW()-ROW(H$18)","v":2},{"$f":"IF($H20<($J$6+1),\"\",PFE(OFFSET($F20,0,0,-$J$6)))","v":""},null,{"$f":"IF($I20=\"\",\"\",IF($I20>$J$4,\"Long\",IF($I20<$J$5,\"Short\",\"\")))","v":""},{"$error":"#N/A"},{"$error":"#N/A"},null,null,null,null,null,null,null,null,null,null,null,null,null,null,null,null,null,null,null,null,null,null,null,null,null,null,null,null,{"$f":"IF(NOT($AS20=$AS21),ROW(),\"\")","v":""},{"$f":"IF(NOT(AS20=AS21),AS21,\"\")","v":""},{"$f":"INDEX($AB$15:$AM$15,MATCH($AS20,$AB$11:$AM$11,0))","v":{"$error":"#N/A"}},{"$f":"LEFT(AT20,4)","v":"2000"},{"$f":"LEFT(B20,6)","v":"200001"}]
[null,{"$f":"'Market Data'!B7","v":20000104},{"$f":"'Market Data'!C7","v":8703.5},{"$f":"'Market Data'!D7","v":8703.5},{"$f":"'Market Data'!E7","v":8459.5},{"$f":"'Market Data'!F7","v":8533.5},null,3,{"$f":"IF($H21<($J$6+1),\"\",PFE(OFFSET($F21,0,0,-$J$6)))","v":""},null,"",{"$error":"#N/A"},{"$error":"#N/A"},null,null,null,null,null,null,null,null,null,null,null,null,null,null,null,null,null,null,null,null,null,null,null,null,null,null,null,null,{"$f":"IF(NOT($AS21=$AS22),ROW(),\"\")","v":""},{"$f":"IF(NOT(AS21=AS22),AS22,\"\")","v":""},{"$f":"INDEX($AB$15:$AM$15,MATCH($AS21,$AB$11:$AM$11,0))","v":{"$error":"#N/A"}},{"$f":"LEFT(AT21,4)","v":"2000"},{"$f":"LEFT(B21,6)","v":"200001"}]
[null,{"$f":"'Market Data'!B8","v":20000105},{"$f":"'Market Data'!C8","v":8370.5},{"$f":"'Market Data'!D8","v":8525.5},{"$f":"'Market Data'!E8","v":8366.5},{"$f":"'Market Data'!F8","v":8435.5},null,4,{"$f":"IF($H22<($J$6+1),\"\",PFE(OFFSET($F22,0,0,-$J$6)))","v":""},null,"",{"$error":"#N/A"},{"$error":"#N/A"},null,null,null,null,null,null,null,null,null,null,null,null,null,null,null,null,null,null,null,null,null,null,null,null,null,null,null,null,{"$f":"IF(NOT($AS22=$AS23),ROW(),\"\")","v":""},{"$f":"IF(NOT(AS22=AS23),AS23,\"\")","v":""},{"$f":"INDEX($AB$15:$AM$15,MATCH($AS22,$AB$11:$AM$11,0))","v":{"$error":"#N/A"}},{"$f":"LEFT(AT22,4)","v":"2000"},{"$f":"LEFT(B22,6)","v":"200001"}]
[null,{"$f":"'Market Data'!B9","v":20000106},{"$f":"'Market Data'!C9","v":8427.5},{"$f":"'Market Data'!D9","v":8480.5},{"$f":"'Market Data'!E9","v":8341},{"$f":"'Market Data'!F9","v":8409},null,5,{"$f":"IF($H23<($J$6+1),\"\",PFE(OFFSET($F23,0,0,-$J$6)))","v":""},null,"",{"$error":"#N/A"},{"$error":"#N/A"},null,null,null,null,null,null,null,null,null,null,null,null,null,null,null,null,null,null,null,null,null,null,null,null,null,null,null,null,{"$f":"IF(NOT($AS23=$AS24),ROW(),\"\")","v":""},{"$f":"IF(NOT(AS23=AS24),AS24,\"\")","v":""},{"$f":"INDEX($AB$15:$AM$15,MATCH($AS23,$AB$11:$AM$11,0))","v":{"$error":"#N/A"}},{"$f":"LEFT(AT23,4)","v":"2000"},{"$f":"LEFT(B23,6)","v":"200001"}]
[null,{"$f":"'Market Data'!B10","v":20000107},{"$f":"'Market Data'!C10","v":8463.5},{"$f":"'Market Data'!D10","v":8738.5},{"$f":"'Market Data'!E10","v":8452.5},{"$f":"'Market Data'!F10","v":8733.5},null,6,{"$f":"IF($H24<($J$6+1),\"\",PFE(OFFSET($F24,0,0,-$J$6)))","v":""},null,"",{"$error":"#N/A"},{"$error":"#N/A"},null,null,null,null,null,null,null,null,null,null,null,null,null,null,null,null,null,null,null,null,null,null,null,null,null,null,null,null,{"$f":"IF(NOT($AS24=$AS25),ROW(),\"\")","v":""},{"$f":"IF(NOT(AS24=AS25),AS25,\"\")","v":""},{"$f":"INDEX($AB$15:$AM$15,MATCH($AS24,$AB$11:$AM$11,0))","v":{"$error":"#N/A"}},{"$f":"LEFT(AT24,4)","v":"2000"},{"$f":"LEFT(B24,6)","v":"200001"}]
[null,{"$f":"'Market Data'!B11","v":20000110},{"$f":"'Market Data'!C11","v":8833.5},{"$f":"'Market Data'!D11","v":8922.5},{"$f":"'Market Data'!E11","v":8805.5},{"$f":"'Market Data'!F11","v":8863.5},null,7,{"$f":"IF($H25<($J$6+1),\"\",PFE(OFFSET($F25,0,0,-$J$6)))","v":""},null,"",{"$error":"#N/A"},{"$error":"#N/A"},null,null,null,null,null,null,null,null,null,null,null,null,null,null,null,null,null,null,null,null,null,null,null,null,null,null,null,null,{"$f":"IF(NOT($AS25=$AS26),ROW(),\"\")","v":""},{"$f":"IF(NOT(AS25=AS26),AS26,\"\")","v":""},{"$f":"INDEX($AB$15:$AM$15,MATCH($AS25,$AB$11:$AM$11,0))","v":{"$error":"#N/A"}},{"$f":"LEFT(AT25,4)","v":"2000"},{"$f":"LEFT(B25,6)","v":"200001"}]
[null,{"$f":"'Market Data'!B12","v":20000111},{"$f":"'Market Data'!C12","v":8843.5},{"$f":"'Market Data'!D12","v":8884.5},{"$f":"'Market Data'!E12","v":8764.5},{"$f":"'Market Data'!F12","v":8842},null,8,{"$f":"IF($H26<($J$6+1),\"\",PFE(OFFSET($F26,0,0,-$J$6)))","v":""},null,"",{"$error":"#N/A"},{"$error":"#N/A"},null,null,null,null,null,null,null,null,null,null,null,null,null,null,null,null,null,null,null,null,null,null,null,null,null,null,null,null,{"$f":"IF(NOT($AS26=$AS27),ROW(),\"\")","v":""},{"$f":"IF(NOT(AS26=AS27),AS27,\"\")","v":""},{"$f":"INDEX($AB$15:$AM$15,MATCH($AS26,$AB$11:$AM$11,0))","v":{"$error":"#N/A"}},{"$f":"LEFT(AT26,4)","v":"2000"},{"$f":"LEFT(B26,6)","v":"200001"}]
[null,{"$f":"'Market Data'!B13","v":20000112},{"$f":"'Market Data'!C13","v":8763.5},{"$f":"'Market Data'!D13","v":8850},{"$f":"'Market Data'!E13","v":8732},{"$f":"'Market Data'!F13","v":8841.5},null,9,{"$f":"IF($H27<($J$6+1),\"\",PFE(OFFSET($F27,0,0,-$J$6)))","v":""},null,"",{"$error":"#N/A"},{"$error":"#N/A"},null,null,null,null,null,null,null,null,null,null,null,null,null,null,null,null,null,null,null,null,null,null,null,null,null,null,null,null,{"$f":"IF(NOT($AS27=$AS28),ROW(),\"\")","v":""},{"$f":"IF(NOT(AS27=AS28),AS28,\"\")","v":""},{"$f":"INDEX($AB$15:$AM$15,MATCH($AS27,$AB$11:$AM$11,0))","v":{"$error":"#N/A"}},{"$f":"LEFT(AT27,4)","v":"2000"},{"$f":"LEFT(B27,6)","v":"200001"}]
[null,{"$f":"'Market Data'!B14","v":20000113},{"$f":"'Market Data'!C14","v":8843.5},{"$f":"'Market Data'!D14","v":9048.5},{"$f":"'Market Data'!E14","v":8827},{"$f":"'Market Data'!F14","v":8912.5},null,10,{"$f":"IF($H28<($J$6+1),\"\",PFE(OFFSET($F28,0,0,-$J$6)))","v":""},null,"",{"$error":"#N/A"},{"$error":"#N/A"},null,null,null,null,null,null,null,null,null,null,null,null,null,null,null,null,null,null,null,null,null,null,null,null,null,null,null,null,{"$f":"IF(NOT($AS28=$AS29),ROW(),\"\")","v":""},{"$f":"IF(NOT(AS28=AS29),AS29,\"\")","v":""},{"$f":"INDEX($AB$15:$AM$15,MATCH($AS28,$AB$11:$AM$11,0))","v":{"$error":"#N/A"}},{"$f":"LEFT(AT28,4)","v":"2000"},{"$f":"LEFT(B28,6)","v":"200001"}]
[null,{"$f":"'Market Data'!B15","v":20000114},{"$f":"'Market Data'!C15","v":8953.5},{"$f":"'Market Data'!D15","v":9149.5},{"$f":"'Market Data'!E15","v":8953.5},{"$f":"'Market Data'!F15","v":9132.5},null,11,{"$f":"IF($H29<($J$6+1),\"\",PFE(OFFSET($F29,0,0,-$J$6)))","v":""},null,"",{"$error":"#N/A"},{"$error":"#N/A"},null,null,null,null,null,null,null,null,null,null,null,null,null,null,null,null,null,null,null,null,null,null,null,null,null,null,null,null,{"$f":"IF(NOT($AS29=$AS30),ROW(),\"\")","v":""},{"$f":"IF(NOT(AS29=AS30),AS30,\"\")","v":""},{"$f":"INDEX($AB$15:$AM$15,MATCH($AS29,$AB$11:$AM$11,0))","v":{"$error":"#N/A"}},{"$f":"LEFT(AT29,4)","v":"2000"},{"$f":"LEFT(B29,6)","v":"200001"}]
[null,{"$f":"'Market Data'!B16","v":20000117},{"$f":"'Market Data'!C16","v":9166.5},{"$f":"'Market Data'!D16","v":9229.5},{"$f":"'Market Data'!E16","v":9050},{"$f":"'Market Data'!F16","v":9210.5},null,12,{"$f":"IF($H30<($J$6+1),\"\",PFE(OFFSET($F30,0,0,-$J$6)))","v":""},null,"",{"$error":"#N/A"},{"$error":"#N/A"},null,null,null,null,null,null,null,null,null,null,null,null,null,null,null,null,null,null,null,null,null,null,null,null,null,null,null,null,{"$f":"IF(NOT($AS30=$AS31),ROW(),\"\")","v":""},{"$f":"IF(NOT(AS30=AS31),AS31,\"\")","v":""},{"$f":"INDEX($AB$15:$AM$15,MATCH($AS30,$AB$11:$AM$11,0))","v":{"$error":"#N/A"}},{"$f":"LEFT(AT30,4)","v":"2000"},{"$f":"LEFT(B30,6)","v":"200001"}]
[null,{"$f":"'Market Data'!B17","v":20000118},{"$f":"'Market Data'!C17","v":9210.5},{"$f":"'Market Data'!D17","v":9241.5},{"$f":"'Market Data'!E17","v":8993.5},{"$f":"'Market Data'!F17","v":9026.5},null,13,{"$f":"IF($H31<($J$6+1),\"\",PFE(OFFSET($F31,0,0,-$J$6)))","v":""},null,"",{"$error":"#N/A"},{"$error":"#N/A"},null,null,null,null,null,null,null,null,null,null,null,null,null,null,null,null,null,null,null,null,null,null,null,null,null,null,null,null,{"$f":"IF(NOT($AS31=$AS32),ROW(),\"\")","v":""},{"$f":"IF(NOT(AS31=AS32),AS32,\"\")","v":""},{"$f":"INDEX($AB$15:$AM$15,MATCH($AS31,$AB$11:$AM$11,0))","v":{"$error":"#N/A"}},{"$f":"LEFT(AT31,4)","v":"2000"},{"$f":"LEFT(B31,6)","v":"200001"}]
[null,{"$f":"'Market Data'!B18","v":20000119},{"$f":"'Market Data'!C18","v":8993.5},{"$f":"'Market Data'!D18","v":9052.5},{"$f":"'Market Data'!E18","v":8918.5},{"$f":"'Market Data'!F18","v":9031.5},null,14,{"$f":"IF($H32<($J$6+1),\"\",PFE(OFFSET($F32,0,0,-$J$6)))","v":""},null,"",{"$error":"#N/A"},{"$error":"#N/A"},null,null,null,null,null,null,null,null,null,null,null,null,null,null,null,null,null,null,null,null,null,null,null,null,null,null,null,null,{"$f":"IF(NOT($AS32=$AS33),ROW(),\"\")","v":""},{"$f":"IF(NOT(AS32=AS33),AS33,\"\")","v":""},{"$f":"INDEX($AB$15:$AM$15,MATCH($AS32,$AB$11:$AM$11,0))","v":{"$error":"#N/A"}},{"$f":"LEFT(AT32,4)","v":"2000"},{"$f":"LEFT(B32,6)","v":"200001"}]
[null,{"$f":"'Market Data'!B19","v":20000120},{"$f":"'Market Data'!C19","v":9119.5},{"$f":"'Market Data'!D19","v":9131},{"$f":"'Market Data'!E19","v":9011},{"$f":"'Market Data'!F19","v":9043.5},null,15,{"$f":"IF($H33<($J$6+1),\"\",PFE(OFFSET($F33,0,0,-$J$6)))","v":""},null,"",{"$error":"#N/A"},{"$error":"#N/A"},null,null,null,null,null,null,null,null,null,null,null,null,null,null,null,null,null,null,null,null,null,null,null,null,null,null,null,null,{"$f":"IF(NOT($AS33=$AS34),ROW(),\"\")","v":""},{"$f":"IF(NOT(AS33=AS34),AS34,\"\")","v":""},{"$f":"INDEX($AB$15:$AM$15,MATCH($AS33,$AB$11:$AM$11,0))","v":{"$error":"#N/A"}},{"$f":"LEFT(AT33,4)","v":"2000"},{"$f":"LEFT(B33,6)","v":"200001"}]
[null,{"$f":"'Market Data'!B20","v":20000121},{"$f":"'Market Data'!C20","v":8973.5},{"$f":"'Market Data'!D20","v":9036.5},{"$f":"'Market Data'!E20","v":8866.5},{"$f":"'Market Data'!F20","v":8916},null,16,{"$f":"IF($H34<($J$6+1),\"\",PFE(OFFSET($F34,0,0,-$J$6)))","v":""},null,"",{"$error":"#N/A"},{"$error":"#N/A"},null,null,null,null,null,null,null,null,null,null,null,null,null,null,null,null,null,null,null,null,null,null,null,null,null,null,null,null,{"$f":"IF(NOT($AS34=$AS35),ROW(),\"\")","v":""},{"$f":"IF(NOT(AS34=AS35),AS35,\"\")","v":""},{"$f":"INDEX($AB$15:$AM$15,MATCH($AS34,$AB$11:$AM$11,0))","v":{"$error":"#N/A"}},{"$f":"LEFT(AT34,4)","v":"2000"},{"$f":"LEFT(B34,6)","v":"200001"}]
[null,{"$f":"'Market Data'!B21","v":20000124},{"$f":"'Market Data'!C21","v":8963.5},{"$f":"'Market Data'!D21","v":9023.5},{"$f":"'Market Data'!E21","v":8850.5},{"$f":"'Market Data'!F21","v":8853.5},null,17,{"$f":"IF($H35<($J$6+1),\"\",PFE(OFFSET($F35,0,0,-$J$6)))","v":""},null,"",{"$error":"#N/A"},{"$error":"#N/A"},null,null,null,null,null,null,null,null,null,null,null,null,null,null,null,null,null,null,null,null,null,null,null,null,null,null,null,null,{"$f":"IF(NOT($AS35=$AS36),ROW(),\"\")","v":""},{"$f":"IF(NOT(AS35=AS36),AS36,\"\")","v":""},{"$f":"INDEX($AB$15:$AM$15,MATCH($AS35,$AB$11:$AM$11,0))","v":{"$error":"#N/A"}},{"$f":"LEFT(AT35,4)","v":"2000"},{"$f":"LEFT(B35,6)","v":"200001"}]
[null,{"$f":"'Market Data'!B22","v":20000125},{"$f":"'Market Data'!C22","v":8784.5},{"$f":"'Market Data'!D22","v":8836.5},{"$f":"'Market Data'!E22","v":8745.5},{"$f":"'Market Data'!F22","v":8794.5},null,18,{"$f":"IF($H36<($J$6+1),\"\",PFE(OFFSET($F36,0,0,-$J$6)))","v":""},null,"",{"$error":"#N/A"},{"$error":"#N/A"},null,null,null,null,null,null,null,null,null,null,null,null,null,null,null,null,null,null,null,null,null,null,null,null,null,null,null,null,{"$f":"IF(NOT($AS36=$AS37),ROW(),\"\")","v":""},{"$f":"IF(NOT(AS36=AS37),AS37,\"\")","v":""},{"$f":"INDEX($AB$15:$AM$15,MATCH($AS36,$AB$11:$AM$11,0))","v":{"$error":"#N/A"}},{"$f":"LEFT(AT36,4)","v":"2000"},{"$f":"LEFT(B36,6)","v":"200001"}]
[null,{"$f":"'Market Data'!B23","v":20000126},{"$f":"'Market Data'!C23","v":8819.5},{"$f":"'Market Data'!D23","v":8908},{"$f":"'Market Data'!E23","v":8762.5},{"$f":"'Market Data'!F23","v":8893},null,19,{"$f":"IF($H37<($J$6+1),\"\",PFE(OFFSET($F37,0,0,-$J$6)))","v":""},null,"",{"$error":"#N/A"},{"$error":"#N/A"},null,null,null,null,null,null,null,null,null,null,null,null,null,null,null,null,null,null,null,null,null,null,null,null,null,null,null,null,{"$f":"IF(NOT($AS37=$AS38),ROW(),\"\")","v":""},{"$f":"IF(NOT(AS37=AS38),AS38,\"\")","v":""},{"$f":"INDEX($AB$15:$AM$15,MATCH($AS37,$AB$11:$AM$11,0))","v":{"$error":"#N/A"}},{"$f":"LEFT(AT37,4)","v":"2000"},{"$f":"LEFT(B37,6)","v":"200001"}]
[null,{"$f":"'Market Data'!B24","v":20000127},{"$f":"'Market Data'!C24","v":8927.5},{"$f":"'Market Data'!D24","v":9100.5},{"$f":"'Market Data'!E24","v":8866.5},{"$f":"'Market Data'!F24","v":9064.5},null,20,{"$f":"IF($H38<($J$6+1),\"\",PFE(OFFSET($F38,0,0,-$J$6)))","v":""},null,"",{"$error":"#N/A"},{"$error":"#N/A"},null,null,null,null,null,null,null,null,null,null,null,null,null,null,null,null,null,null,null,null,null,null,null,null,null,null,null,null,{"$f":"IF(NOT($AS38=$AS39),ROW(),\"\")","v":""},{"$f":"IF(NOT(AS38=AS39),AS39,\"\")","v":""},{"$f":"INDEX($AB$15:$AM$15,MATCH($AS38,$AB$11:$AM$11,0))","v":{"$error":"#N/A"}},{"$f":"LEFT(AT38,4)","v":"2000"},{"$f":"LEFT(B38,6)","v":"200001"}]
[null,{"$f":"'Market Data'!B25","v":20000128},{"$f":"'Market Data'!C25","v":9043.5},{"$f":"'Market Data'!D25","v":9148},{"$f":"'Market Data'!E25","v":8968.5},{"$f":"'Market Data'!F25","v":8998.5},null,21,{"$f":"IF($H39<($J$6+1),\"\",PFE(OFFSET($F39,0,0,-$J$6)))","v":""},null,"",{"$error":"#N/A"},{"$error":"#N/A"},null,null,null,null,null,null,null,null,null,null,null,null,null,null,null,null,null,null,null,null,null,null,null,null,null,null,null,null,{"$f":"IF(NOT($AS39=$AS40),ROW(),\"\")","v":""},{"$f":"IF(NOT(AS39=AS40),AS40,\"\")","v":""},{"$f":"INDEX($AB$15:$AM$15,MATCH($AS39,$AB$11:$AM$11,0))","v":{"$error":"#N/A"}},{"$f":"LEFT(AT39,4)","v":"2000"},{"$f":"LEFT(B39,6)","v":"200001"}]
[null,{"$f":"'Market Data'!B26","v":20000131},{"$f":"'Market Data'!C26","v":8932.5},{"$f":"'Market Data'!D26","v":8936},{"$f":"'Market Data'!E26","v":8737.5},{"$f":"'Market Data'!F26","v":8761.5},null,22,{"$f":"IF($H40<($J$6+1),\"\",PFE(OFFSET($F40,0,0,-$J$6)))","v":""},null,"",{"$error":"#N/A"},{"$error":"#N/A"},null,null,null,null,null,null,null,null,null,null,null,null,null,null,null,null,null,null,null,null,null,null,null,null,null,null,null,null,{"$f":"IF(NOT($AS40=$AS41),ROW(),\"\")","v":""},{"$f":"IF(NOT(AS40=AS41),AS41,\"\")","v":""},{"$f":"INDEX($AB$15:$AM$15,MATCH($AS40,$AB$11:$AM$11,0))","v":{"$error":"#N/A"}},{"$f":"LEFT(AT40,4)","v":"2000"},{"$f":"LEFT(B40,6)","v":"200001"}]
[null,{"$f":"'Market Data'!B27","v":20000201},{"$f":"'Market Data'!C27","v":8864.5},{"$f":"'Market Data'!D27","v":8958.5},{"$f":"'Market Data'!E27","v":8822.5},{"$f":"'Market Data'!F27","v":8944.5},null,23,{"$f":"IF($H41<($J$6+1),\"\",PFE(OFFSET($F41,0,0,-$J$6)))","v":""},null,"",{"$error":"#N/A"},{"$error":"#N/A"},null,null,null,null,null,null,null,null,null,null,null,null,null,null,null,null,null,null,null,null,null,null,null,null,null,null,null,null,{"$f":"IF(NOT($AS41=$AS42),ROW(),\"\")","v":""},{"$f":"IF(NOT(AS41=AS42),AS42,\"\")","v":""},{"$f":"INDEX($AB$15:$AM$15,MATCH($AS41,$AB$11:$AM$11,0))","v":{"$error":"#N/A"}},{"$f":"LEFT(AT41,4)","v":"2000"},{"$f":"LEFT(B41,6)","v":"200002"}]
[null,{"$f":"'Market Data'!B28","v":20000202},{"$f":"'Market Data'!C28","v":9002.5},{"$f":"'Market Data'!D28","v":9084.5},{"$f":"'Market Data'!E28","v":8954.5},{"$f":"'Market Data'!F28","v":9083},null,24,{"$f":"IF($H42<($J$6+1),\"\",PFE(OFFSET($F42,0,0,-$J$6)))","v":""},null,"",{"$error":"#N/A"},{"$error":"#N/A"},null,null,null,null,null,null,null,null,null,null,null,null,null,null,null,null,null,null,null,null,null,null,null,null,null,null,null,null,{"$f":"IF(NOT($AS42=$AS43),ROW(),\"\")","v":""},{"$f":"IF(NOT(AS42=AS43),AS43,\"\")","v":""},{"$f":"INDEX($AB$15:$AM$15,MATCH($AS42,$AB$11:$AM$11,0))","v":{"$error":"#N/A"}},{"$f":"LEFT(AT42,4)","v":"2000"},{"$f":"LEFT(B42,6)","v":"200002"}]
[null,{"$f":"'Market Data'!B29","v":20000203},{"$f":"'Market Data'!C29","v":9103.5},{"$f":"'Market Data'!D29","v":9271.5},{"$f":"'Market Data'!E29","v":9056},{"$f":"'Market Data'!F29","v":9261.5},null,25,{"$f":"IF($H43<($J$6+1),\"\",PFE(OFFSET($F43,0,0,-$J$6)))","v":""},null,"",{"$error":"#N/A"},{"$error":"#N/A"},null,null,null,null,null,null,null,null,null,null,null,null,null,null,null,null,null,null,null,null,null,null,null,null,null,null,null,null,{"$f":"IF(NOT($AS43=$AS44),ROW(),\"\")","v":""},{"$f":"IF(NOT(AS43=AS44),AS44,\"\")","v":""},{"$f":"INDEX($AB$15:$AM$15,MATCH($AS43,$AB$11:$AM$11,0))","v":{"$error":"#N/A"}},{"$f":"LEFT(AT43,4)","v":"2000"},{"$f":"LEFT(B43,6)","v":"200002"}]
[null,{"$f":"'Market Data'!B30","v":20000204},{"$f":"'Market Data'!C30","v":9321},{"$f":"'Market Data'!D30","v":9377.5},{"$f":"'Market Data'!E30","v":9249.5},{"$f":"'Market Data'!F30","v":9303.5},null,26,{"$f":"IF($H44<($J$6+1),\"\",PFE(OFFSET($F44,0,0,-$J$6)))","v":""},null,"",{"$error":"#N/A"},{"$error":"#N/A"},null,null,null,null,null,null,null,null,null,null,null,null,null,null,null,null,null,null,null,null,null,null,null,null,null,null,null,null,{"$f":"IF(NOT($AS44=$AS45),ROW(),\"\")","v":""},{"$f":"IF(NOT(AS44=AS45),AS45,\"\")","v":""},{"$f":"INDEX($AB$15:$AM$15,MATCH($AS44,$AB$11:$AM$11,0))","v":{"$error":"#N/A"}},{"$f":"LEFT(AT44,4)","v":"2000"},{"$f":"LEFT(B44,6)","v":"200002"}]
[null,{"$f":"'Market Data'!B31","v":20000207},{"$f":"'Market Data'!C31","v":9304.5},{"$f":"'Market Data'!D31","v":9331},{"$f":"'Market Data'!E31","v":9171.5},{"$f":"'Market Data'!F31","v":9219},null,27,{"$f":"IF($H45<($J$6+1),\"\",PFE(OFFSET($F45,0,0,-$J$6)))","v":""},null,"",{"$error":"#N/A"},{"$error":"#N/A"},null,null,null,null,null,null,null,null,null,null,null,null,null,null,null,null,null,null,null,null,null,null,null,null,null,null,null,null,{"$f":"IF(NOT($AS45=$AS46),ROW(),\"\")","v":""},{"$f":"IF(NOT(AS45=AS46),AS46,\"\")","v":""},{"$f":"INDEX($AB$15:$AM$15,MATCH($AS45,$AB$11:$AM$11,0))","v":{"$error":"#N/A"}},{"$f":"LEFT(AT45,4)","v":"2000"},{"$f":"LEFT(B45,6)","v":"200002"}]
[null,{"$f":"'Market Data'!B32","v":20000208},{"$f":"'Market Data'!C32","v":9211.5},{"$f":"'Market Data'!D32","v":9481.5},{"$f":"'Market Data'!E32","v":9203.5},{"$f":"'Market Data'!F32","v":9445.5},null,28,{"$f":"IF($H46<($J$6+1),\"\",PFE(OFFSET($F46,0,0,-$J$6)))","v":""},null,"",{"$error":"#N/A"},{"$error":"#N/A"},null,null,null,null,null,null,null,null,null,null,null,null,null,null,null,null,null,null,null,null,null,null,null,null,null,null,null,null,{"$f":"IF(NOT($AS46=$AS47),ROW(),\"\")","v":""},{"$f":"IF(NOT(AS46=AS47),AS47,\"\")","v":""},{"$f":"INDEX($AB$15:$AM$15,MATCH($AS46,$AB$11:$AM$11,0))","v":{"$error":"#N/A"}},{"$f":"LEFT(AT46,4)","v":"2000"},{"$f":"LEFT(B46,6)","v":"200002"}]
[null,{"$f":"'Market Data'!B33","v":20000209},{"$f":"'Market Data'!C33","v":9466.5},{"$f":"'Market Data'!D33","v":9589.5},{"$f":"'Market Data'!E33","v":9439.5},{"$f":"'Market Data'!F33","v":9562.5},null,29,{"$f":"IF($H47<($J$6+1),\"\",PFE(OFFSET($F47,0,0,-$J$6)))","v":""},null,"",{"$error":"#N/A"},{"$error":"#N/A"},null,null,null,null,null,null,null,null,null,null,null,null,null,null,null,null,null,null,null,null,null,null,null,null,null,null,null,null,{"$f":"IF(NOT($AS47=$AS48),ROW(),\"\")","v":""},{"$f":"IF(NOT(AS47=AS48),AS48,\"\")","v":""},{"$f":"INDEX($AB$15:$AM$15,MATCH($AS47,$AB$11:$AM$11,0))","v":{"$error":"#N/A"}},{"$f":"LEFT(AT47,4)","v":"2000"},{"$f":"LEFT(B47,6)","v":"200002"}]
[null,{"$f":"'Market Data'!B34","v":20000210},{"$f":"'Market Data'!C34","v":9449.5},{"$f":"'Market Data'!D34","v":9596.5},{"$f":"'Market Data'!E34","v":9432},{"$f":"'Market Data'!F34","v":9574.5},null,30,{"$f":"IF($H48<($J$6+1),\"\",PFE(OFFSET($F48,0,0,-$J$6)))","v":""},null,"",{"$error":"#N/A"},{"$error":"#N/A"},null,null,null,null,null,null,null,null,null,null,null,null,null,null,null,null,null,null,null,null,null,null,null,null,null,null,null,null,{"$f":"IF(NOT($AS48=$AS49),ROW(),\"\")","v":""},{"$f":"IF(NOT(AS48=AS49),AS49,\"\")","v":""},{"$f":"INDEX($AB$15:$AM$15,MATCH($AS48,$AB$11:$AM$11,0))","v":{"$error":"#N/A"}},{"$f":"LEFT(AT48,4)","v":"2000"},{"$f":"LEFT(B48,6)","v":"200002"}]
[null,{"$f":"'Market Data'!B35","v":20000211},{"$f":"'Market Data'!C35","v":9651.5},{"$f":"'Market Data'!D35","v":9738.5},{"$f":"'Market Data'!E35","v":9499.5},{"$f":"'Market Data'!F35","v":9613.5},null,31,{"$f":"IF($H49<($J$6+1),\"\",PFE(OFFSET($F49,0,0,-$J$6)))","v":""},null,"",{"$error":"#N/A"},{"$error":"#N/A"},null,null,null,null,null,null,null,null,null,null,null,null,null,null,null,null,null,null,null,null,null,null,null,null,null,null,null,null,{"$f":"IF(NOT($AS49=$AS50),ROW(),\"\")","v":""},{"$f":"IF(NOT(AS49=AS50),AS50,\"\")","v":""},{"$f":"INDEX($AB$15:$AM$15,MATCH($AS49,$AB$11:$AM$11,0))","v":{"$error":"#N/A"}},{"$f":"LEFT(AT49,4)","v":"2000"},{"$f":"LEFT(B49,6)","v":"200002"}]
[null,{"$f":"'Market Data'!B36","v":20000214},{"$f":"'Market Data'!C36","v":9504.5},{"$f":"'Market Data'!D36","v":9587},{"$f":"'Market Data'!E36","v":9468.5},{"$f":"'Market Data'!F36","v":9551.5},null,32,{"$f":"IF($H50<($J$6+1),\"\",PFE(OFFSET($F50,0,0,-$J$6)))","v":""},null,"",{"$error":"#N/A"},{"$error":"#N/A"},null,null,null,null,null,null,null,null,null,null,null,null,null,null,null,null,null,null,null,null,null,null,null,null,null,null,null,null,{"$f":"IF(NOT($AS50=$AS51),ROW(),\"\")","v":""},{"$f":"IF(NOT(AS50=AS51),AS51,\"\")","v":""},{"$f":"INDEX($AB$15:$AM$15,MATCH($AS50,$AB$11:$AM$11,0))","v":{"$error":"#N/A"}},{"$f":"LEFT(AT50,4)","v":"2000"},{"$f":"LEFT(B50,6)","v":"200002"}]
[null,{"$f":"'Market Data'!B37","v":20000215},{"$f":"'Market Data'!C37","v":9562.5},{"$f":"'Market Data'!D37","v":9610},{"$f":"'Market Data'!E37","v":9333.5},{"$f":"'Market Data'!F37","v":9340},null,33,{"$f":"IF($H51<($J$6+1),\"\",PFE(OFFSET($F51,0,0,-$J$6)))","v":""},null,"",{"$error":"#N/A"},{"$error":"#N/A"},null,null,null,null,null,null,null,null,null,null,null,null,null,null,null,null,null,null,null,null,null,null,null,null,null,null,null,null,{"$f":"IF(NOT($AS51=$AS52),ROW(),\"\")","v":""},{"$f":"IF(NOT(AS51=AS52),AS52,\"\")","v":""},{"$f":"INDEX($AB$15:$AM$15,MATCH($AS51,$AB$11:$AM$11,0))","v":{"$error":"#N/A"}},{"$f":"LEFT(AT51,4)","v":"2000"},{"$f":"LEFT(B51,6)","v":"200002"}]
[null,{"$f":"'Market Data'!B38","v":20000216},{"$f":"'Market Data'!C38","v":9466},{"$f":"'Market Data'!D38","v":9488.5},{"$f":"'Market Data'!E38","v":9268.5},{"$f":"'Market Data'!F38","v":9430},null,34,{"$f":"IF($H52<($J$6+1),\"\",PFE(OFFSET($F52,0,0,-$J$6)))","v":""},null,"",{"$error":"#N/A"},{"$error":"#N/A"},null,null,null,null,null,null,null,null,null,null,null,null,null,null,null,null,null,null,null,null,null,null,null,null,null,null,null,null,{"$f":"IF(NOT($AS52=$AS53),ROW(),\"\")","v":""},{"$f":"IF(NOT(AS52=AS53),AS53,\"\")","v":""},{"$f":"INDEX($AB$15:$AM$15,MATCH($AS52,$AB$11:$AM$11,0))","v":{"$error":"#N/A"}},{"$f":"LEFT(AT52,4)","v":"2000"},{"$f":"LEFT(B52,6)","v":"200002"}]
[null,{"$f":"'Market Data'!B39","v":20000217},{"$f":"'Market Data'!C39","v":9427.5},{"$f":"'Market Data'!D39","v":9555.5},{"$f":"'Market Data'!E39","v":9309},{"$f":"'Market Data'!F39","v":9540.5},null,35,{"$f":"IF($H53<($J$6+1),\"\",PFE(OFFSET($F53,0,0,-$J$6)))","v":""},null,"",{"$error":"#N/A"},{"$error":"#N/A"},null,null,null,null,null,null,null,null,null,null,null,null,null,null,null,null,null,null,null,null,null,null,null,null,null,null,null,null,{"$f":"IF(NOT($AS53=$AS54),ROW(),\"\")","v":""},{"$f":"IF(NOT(AS53=AS54),AS54,\"\")","v":""},{"$f":"INDEX($AB$15:$AM$15,MATCH($AS53,$AB$11:$AM$11,0))","v":{"$error":"#N/A"}},{"$f":"LEFT(AT53,4)","v":"2000"},{"$f":"LEFT(B53,6)","v":"200002"}]
[null,{"$f":"'Market Data'!B40","v":20000218},{"$f":"'Market Data'!C40","v":9511.5},{"$f":"'Market Data'!D40","v":9580.5},{"$f":"'Market Data'!E40","v":9467},{"$f":"'Market Data'!F40","v":9499.5},null,36,{"$f":"IF($H54<($J$6+1),\"\",PFE(OFFSET($F54,0,0,-$J$6)))","v":""},null,"",{"$error":"#N/A"},{"$error":"#N/A"},null,null,null,null,null,null,null,null,null,null,null,null,null,null,null,null,null,null,null,null,null,null,null,null,null,null,null,null,{"$f":"IF(NOT($AS54=$AS55),ROW(),\"\")","v":""},{"$f":"IF(NOT(AS54=AS55),AS55,\"\")","v":""},{"$f":"INDEX($AB$15:$AM$15,MATCH($AS54,$AB$11:$AM$11,0))","v":{"$error":"#N/A"}},{"$f":"LEFT(AT54,4)","v":"2000"},{"$f":"LEFT(B54,6)","v":"200002"}]
[null,{"$f":"'Market Data'!B41","v":20000221},{"$f":"'Market Data'!C41","v":9386.5},{"$f":"'Market Data'!D41","v":9476.5},{"$f":"'Market Data'!E41","v":9363.5},{"$f":"'Market Data'!F41","v":9470.5},null,37,{"$f":"IF($H55<($J$6+1),\"\",PFE(OFFSET($F55,0,0,-$J$6)))","v":""},null,"",{"$error":"#N/A"},{"$error":"#N/A"},null,null,null,null,null,null,null,null,null,null,null,null,null,null,null,null,null,null,null,null,null,null,null,null,null,null,null,null,{"$f":"IF(NOT($AS55=$AS56),ROW(),\"\")","v":""},{"$f":"IF(NOT(AS55=AS56),AS56,\"\")","v":""},{"$f":"INDEX($AB$15:$AM$15,MATCH($AS55,$AB$11:$AM$11,0))","v":{"$error":"#N/A"}},{"$f":"LEFT(AT55,4)","v":"2000"},{"$f":"LEFT(B55,6)","v":"200002"}]
[null,{"$f":"'Market Data'!B42","v":20000222},{"$f":"'Market Data'!C42","v":9463.5},{"$f":"'Market Data'!D42","v":9636.5},{"$f":"'Market Data'!E42","v":9454.5},{"$f":"'Market Data'!F42","v":9533},null,38,{"$f":"IF($H56<($J$6+1),\"\",PFE(OFFSET($F56,0,0,-$J$6)))","v":""},null,"",{"$error":"#N/A"},{"$error":"#N/A"},null,null,null,null,null,null,null,null,null,null,null,null,null,null,null,null,null,null,null,null,null,null,null,null,null,null,null,null,{"$f":"IF(NOT($AS56=$AS57),ROW(),\"\")","v":""},{"$f":"IF(NOT(AS56=AS57),AS57,\"\")","v":""},{"$f":"INDEX($AB$15:$AM$15,MATCH($AS56,$AB$11:$AM$11,0))","v":{"$error":"#N/A"}},{"$f":"LEFT(AT56,4)","v":"2000"},{"$f":"LEFT(B56,6)","v":"200002"}]
[null,{"$f":"'Market Data'!B43","v":20000223},{"$f":"'Market Data'!C43","v":9563},{"$f":"'Market Data'!D43","v":9689.5},{"$f":"'Market Data'!E43","v":9552.5},{"$f":"'Market Data'!F43","v":9615},null,39,{"$f":"IF($H57<($J$6+1),\"\",PFE(OFFSET($F57,0,0,-$J$6)))","v":""},null,"",{"$error":"#N/A"},{"$error":"#N/A"},null,null,null,null,null,null,null,null,null,null,null,null,null,null,null,null,null,null,null,null,null,null,null,null,null,null,null,null,{"$f":"IF(NOT($AS57=$AS58),ROW(),\"\")","v":""},{"$f":"IF(NOT(AS57=AS58),AS58,\"\")","v":""},{"$f":"INDEX($AB$15:$AM$15,MATCH($AS57,$AB$11:$AM$11,0))","v":{"$error":"#N/A"}},{"$f":"LEFT(AT57,4)","v":"2000"},{"$f":"LEFT(B57,6)","v":"200002"}]
[null,{"$f":"'Market Data'!B44","v":20000224},{"$f":"'Market Data'!C44","v":9693.5},{"$f":"'Market Data'!D44","v":9727.5},{"$f":"'Market Data'!E44","v":9491.5},{"$f":"'Market Data'!F44","v":9543.5},null,40,{"$f":"IF($H58<($J$6+1),\"\",PFE(OFFSET($F58,0,0,-$J$6)))","v":""},null,"",{"$error":"#N/A"},{"$error":"#N/A"},null,null,null,null,null,null,null,null,null,null,null,null,null,null,null,null,null,null,null,null,null,null,null,null,null,null,null,null,{"$f":"IF(NOT($AS58=$AS59),ROW(),\"\")","v":""},{"$f":"IF(NOT(AS58=AS59),AS59,\"\")","v":""},{"$f":"INDEX($AB$15:$AM$15,MATCH($AS58,$AB$11:$AM$11,0))","v":{"$error":"#N/A"}},{"$f":"LEFT(AT58,4)","v":"2000"},{"$f":"LEFT(B58,6)","v":"200002"}]
[null,{"$f":"'Market Data'!B45","v":20000225},{"$f":"'Market Data'!C45","v":9656.5},{"$f":"'Market Data'!D45","v":9696.5},{"$f":"'Market Data'!E45","v":9568.5},{"$f":"'Market Data'!F45","v":9689},null,41,{"$f":"IF($H59<($J$6+1),\"\",PFE(OFFSET($F59,0,0,-$J$6)))","v":""},null,"",{"$error":"#N/A"},{"$error":"#N/A"},null,null,null,null,null,null,null,null,null,null,null,null,null,null,null,null,null,null,null,null,null,null,null,null,null,null,null,null,{"$f":"IF(NOT($AS59=$AS60),ROW(),\"\")","v":""},{"$f":"IF(NOT(AS59=AS60),AS60,\"\")","v":""},{"$f":"INDEX($AB$15:$AM$15,MATCH($AS59,$AB$11:$AM$11,0))","v":{"$error":"#N/A"}},{"$f":"LEFT(AT59,4)","v":"2000"},{"$f":"LEFT(B59,6)","v":"200002"}]
[null,{"$f":"'Market Data'!B46","v":20000228},{"$f":"'Market Data'!C46","v":9643.5},{"$f":"'Market Data'!D46","v":9668.5},{"$f":"'Market Data'!E46","v":9404.5},{"$f":"'Market Data'!F46","v":9493.5},null,42,{"$f":"IF($H60<($J$6+1),\"\",PFE(OFFSET($F60,0,0,-$J$6)))","v":""},null,"",{"$error":"#N/A"},{"$error":"#N/A"},null,null,null,null,null,null,null,null,null,null,null,null,null,null,null,null,null,null,null,null,null,null,null,null,null,null,null,null,{"$f":"IF(NOT($AS60=$AS61),ROW(),\"\")","v":""},{"$f":"IF(NOT(AS60=AS61),AS61,\"\")","v":""},{"$f":"INDEX($AB$15:$AM$15,MATCH($AS60,$AB$11:$AM$11,0))","v":{"$error":"#N/A"}},{"$f":"LEFT(AT60,4)","v":"2000"},{"$f":"LEFT(B60,6)","v":"200002"}]
[null,{"$f":"'Market Data'!B47","v":20000229},{"$f":"'Market Data'!C47","v":9553.5},{"$f":"'Market Data'!D47","v":9620},{"$f":"'Market Data'!E47","v":9527.5},{"$f":"'Market Data'!F47","v":9591.5},null,43,{"$f":"IF($H61<($J$6+1),\"\",PFE(OFFSET($F61,0,0,-$J$6)))","v":""},null,"",{"$error":"#N/A"},{"$error":"#N/A"},null,null,null,null,null,null,null,null,null,null,null,null,null,null,null,null,null,null,null,null,null,null,null,null,null,null,null,null,{"$f":"IF(NOT($AS61=$AS62),ROW(),\"\")","v":""},{"$f":"IF(NOT(AS61=AS62),AS62,\"\")","v":""},{"$f":"INDEX($AB$15:$AM$15,MATCH($AS61,$AB$11:$AM$11,0))","v":{"$error":"#N/A"}},{"$f":"LEFT(AT61,4)","v":"2000"},{"$f":"LEFT(B61,6)","v":"200002"}]
[null,{"$f":"'Market Data'!B48","v":20000301},{"$f":"'Market Data'!C48","v":9639.5},{"$f":"'Market Data'!D48","v":9681.5},{"$f":"'Market Data'!E48","v":9530.5},{"$f":"'Market Data'!F48","v":9630.5},null,44,{"$f":"IF($H62<($J$6+1),\"\",PFE(OFFSET($F62,0,0,-$J$6)))","v":""},null,"",{"$error":"#N/A"},{"$error":"#N/A"},null,null,null,null,null,null,null,null,null,null,null,null,null,null,null,null,null,null,null,null,null,null,null,null,null,null,null,null,{"$f":"IF(NOT($AS62=$AS63),ROW(),\"\")","v":""},{"$f":"IF(NOT(AS62=AS63),AS63,\"\")","v":""},{"$f":"INDEX($AB$15:$AM$15,MATCH($AS62,$AB$11:$AM$11,0))","v":{"$error":"#N/A"}},{"$f":"LEFT(AT62,4)","v":"2000"},{"$f":"LEFT(B62,6)","v":"200003"}]
[null,{"$f":"'Market Data'!B49","v":20000302},{"$f":"'Market Data'!C49","v":9643},{"$f":"'Market Data'!D49","v":9863.5},{"$f":"'Market Data'!E49","v":9539},{"$f":"'Market Data'!F49","v":9858.5},null,45,{"$f":"IF($H63<($J$6+1),\"\",PFE(OFFSET($F63,0,0,-$J$6)))","v":""},null,"",{"$error":"#N/A"},{"$error":"#N/A"},null,null,null,null,null,null,null,null,null,null,null,null,null,null,null,null,null,null,null,null,null,null,null,null,null,null,null,null,{"$f":"IF(NOT($AS63=$AS64),ROW(),\"\")","v":""},{"$f":"IF(NOT(AS63=AS64),AS64,\"\")","v":""},{"$f":"INDEX($AB$15:$AM$15,MATCH($AS63,$AB$11:$AM$11,0))","v":{"$error":"#N/A"}},{"$f":"LEFT(AT63,4)","v":"2000"},{"$f":"LEFT(B63,6)","v":"200003"}]
[null,{"$f":"'Market Data'!B50","v":20000303},{"$f":"'Market Data'!C50","v":9843.5},{"$f":"'Market Data'!D50","v":9936.5},{"$f":"'Market Data'!E50","v":9794},{"$f":"'Market Data'!F50","v":9874},null,46,{"$f":"IF($H64<($J$6+1),\"\",PFE(OFFSET($F64,0,0,-$J$6)))","v":""},null,"",{"$error":"#N/A"},{"$error":"#N/A"},null,null,null,null,null,null,null,null,null,null,null,null,null,null,null,null,null,null,null,null,null,null,null,null,null,null,null,null,{"$f":"IF(NOT($AS64=$AS65),ROW(),\"\")","v":""},{"$f":"IF(NOT(AS64=AS65),AS65,\"\")","v":""},{"$f":"INDEX($AB$15:$AM$15,MATCH($AS64,$AB$11:$AM$11,0))","v":{"$error":"#N/A"}},{"$f":"LEFT(AT64,4)","v":"2000"},{"$f":"LEFT(B64,6)","v":"200003"}]
[null,{"$f":"'Market Data'!B51","v":20000306},{"$f":"'Market Data'!C51","v":9878.5},{"$f":"'Market Data'!D51","v":9915.5},{"$f":"'Market Data'!E51","v":9838.5},{"$f":"'Market Data'!F51","v":9882.5},null,47,{"$f":"IF($H65<($J$6+1),\"\",PFE(OFFSET($F65,0,0,-$J$6)))","v":""},null,"",{"$error":"#N/A"},{"$error":"#N/A"},null,null,null,null,null,null,null,null,null,null,null,null,null,null,null,null,null,null,null,null,null,null,null,null,null,null,null,null,{"$f":"IF(NOT($AS65=$AS66),ROW(),\"\")","v":""},{"$f":"IF(NOT(AS65=AS66),AS66,\"\")","v":""},{"$f":"INDEX($AB$15:$AM$15,MATCH($AS65,$AB$11:$AM$11,0))","v":{"$error":"#N/A"}},{"$f":"LEFT(AT65,4)","v":"2000"},{"$f":"LEFT(B65,6)","v":"200003"}]
[null,{"$f":"'Market Data'!B52","v":20000307},{"$f":"'Market Data'!C52","v":9942.5},{"$f":"'Market Data'!D52","v":10039.5},{"$f":"'Market Data'!E52","v":9829},{"$f":"'Market Data'!F52","v":9966.5},null,48,{"$f":"IF($H66<($J$6+1),\"\",PFE(OFFSET($F66,0,0,-$J$6)))","v":""},null,"",{"$error":"#N/A"},{"$error":"#N/A"},null,null,null,null,null,null,null,null,null,null,null,null,null,null,null,null,null,null,null,null,null,null,null,null,null,null,null,null,{"$f":"IF(NOT($AS66=$AS67),ROW(),\"\")","v":""},{"$f":"IF(NOT(AS66=AS67),AS67,\"\")","v":""},{"$f":"INDEX($AB$15:$AM$15,MATCH($AS66,$AB$11:$AM$11,0))","v":{"$error":"#N/A"}},{"$f":"LEFT(AT66,4)","v":"2000"},{"$f":"LEFT(B66,6)","v":"200003"}]
[null,{"$f":"'Market Data'!B53","v":20000308},{"$f":"'Market Data'!C53","v":9906.5},{"$f":"'Market Data'!D53","v":10019.5},{"$f":"'Market Data'!E53","v":9858.5},{"$f":"'Market Data'!F53","v":9883.5},null,49,{"$f":"IF($H67<($J$6+1),\"\",PFE(OFFSET($F67,0,0,-$J$6)))","v":""},null,"",{"$error":"#N/A"},{"$error":"#N/A"},null,null,null,null,null,null,null,null,null,null,null,null,null,null,null,null,null,null,null,null,null,null,null,null,null,null,null,null,{"$f":"IF(NOT($AS67=$AS68),ROW(),\"\")","v":""},{"$f":"IF(NOT(AS67=AS68),AS68,\"\")","v":""},{"$f":"INDEX($AB$15:$AM$15,MATCH($AS67,$AB$11:$AM$11,0))","v":{"$error":"#N/A"}},{"$f":"LEFT(AT67,4)","v":"2000"},{"$f":"LEFT(B67,6)","v":"200003"}]
[null,{"$f":"'Market Data'!B54","v":20000309},{"$f":"'Market Data'!C54","v":9960.5},{"$f":"'Market Data'!D54","v":9978.5},{"$f":"'Market Data'!E54","v":9785},{"$f":"'Market Data'!F54","v":9870.5},null,50,{"$f":"IF($H68<($J$6+1),\"\",PFE(OFFSET($F68,0,0,-$J$6)))","v":""},null,"",{"$error":"#N/A"},{"$error":"#N/A"},null,null,null,null,null,null,null,null,null,null,null,null,null,null,null,null,null,null,null,null,null,null,null,null,null,null,null,null,{"$f":"IF(NOT($AS68=$AS69),ROW(),\"\")","v":""},{"$f":"IF(NOT(AS68=AS69),AS69,\"\")","v":""},{"$f":"INDEX($AB$15:$AM$15,MATCH($AS68,$AB$11:$AM$11,0))","v":{"$error":"#N/A"}},{"$f":"LEFT(AT68,4)","v":"2000"},{"$f":"LEFT(B68,6)","v":"200003"}]
[null,{"$f":"'Market Data'!B55","v":20000310},{"$f":"'Market Data'!C55","v":9953.5},{"$f":"'Market Data'!D55","v":9962.5},{"$f":"'Market Data'!E55","v":9860},{"$f":"'Market Data'!F55","v":9892.5},null,51,{"$f":"IF($H69<($J$6+1),\"\",PFE(OFFSET($F69,0,0,-$J$6)))","v":""},null,"",{"$error":"#N/A"},{"$error":"#N/A"},null,null,null,null,null,null,null,null,null,null,null,null,null,null,null,null,null,null,null,null,null,null,null,null,null,null,null,null,{"$f":"IF(NOT($AS69=$AS70),ROW(),\"\")","v":""},{"$f":"IF(NOT(AS69=AS70),AS70,\"\")","v":""},{"$f":"INDEX($AB$15:$AM$15,MATCH($AS69,$AB$11:$AM$11,0))","v":{"$error":"#N/A"}},{"$f":"LEFT(AT69,4)","v":"2000"},{"$f":"LEFT(B69,6)","v":"200003"}]
[null,{"$f":"'Market Data'!B56","v":20000313},{"$f":"'Market Data'!C56","v":9843.5},{"$f":"'Market Data'!D56","v":9843.5},{"$f":"'Market Data'!E56","v":9548.5},{"$f":"'Market Data'!F56","v":9596.5},null,52,{"$f":"IF($H70<($J$6+1),\"\",PFE(OFFSET($F70,0,0,-$J$6)))","v":""},null,"",{"$error":"#N/A"},{"$error":"#N/A"},null,null,null,null,null,null,null,null,null,null,null,null,null,null,null,null,null,null,null,null,null,null,null,null,null,null,null,null,{"$f":"IF(NOT($AS70=$AS71),ROW(),\"\")","v":""},{"$f":"IF(NOT(AS70=AS71),AS71,\"\")","v":""},{"$f":"INDEX($AB$15:$AM$15,MATCH($AS70,$AB$11:$AM$11,0))","v":{"$error":"#N/A"}},{"$f":"LEFT(AT70,4)","v":"2000"},{"$f":"LEFT(B70,6)","v":"200003"}]
[null,{"$f":"'Market Data'!B57","v":20000314},{"$f":"'Market Data'!C57","v":9633.5},{"$f":"'Market Data'!D57","v":9658.5},{"$f":"'Market Data'!E57","v":9549.5},{"$f":"'Market Data'!F57","v":9563.5},null,53,{"$f":"IF($H71<($J$6+1),\"\",PFE(OFFSET($F71,0,0,-$J$6)))","v":""},null,"",{"$error":"#N/A"},{"$error":"#N/A"},null,null,null,null,null,null,null,null,null,null,null,null,null,null,null,null,null,null,null,null,null,null,null,null,null,null,null,null,{"$f":"IF(NOT($AS71=$AS72),ROW(),\"\")","v":""},{"$f":"IF(NOT(AS71=AS72),AS72,\"\")","v":""},{"$f":"INDEX($AB$15:$AM$15,MATCH($AS71,$AB$11:$AM$11,0))","v":{"$error":"#N/A"}},{"$f":"LEFT(AT71,4)","v":"2000"},{"$f":"LEFT(B71,6)","v":"200003"}]
[null,{"$f":"'Market Data'!B58","v":20000315},{"$f":"'Market Data'!C58","v":9457.5},{"$f":"'Market Data'!D58","v":9494.5},{"$f":"'Market Data'!E58","v":9314},{"$f":"'Market Data'!F58","v":9344.5},null,54,{"$f":"IF($H72<($J$6+1),\"\",PFE(OFFSET($F72,0,0,-$J$6)))","v":""},null,"",{"$error":"#N/A"},{"$error":"#N/A"},null,null,null,null,null,null,null,null,null,null,null,null,null,null,null,null,null,null,null,null,null,null,null,null,null,null,null,null,{"$f":"IF(NOT($AS72=$AS73),ROW(),\"\")","v":""},{"$f":"IF(NOT(AS72=AS73),AS73,\"\")","v":""},{"$f":"INDEX($AB$15:$AM$15,MATCH($AS72,$AB$11:$AM$11,0))","v":{"$error":"#N/A"}},{"$f":"LEFT(AT72,4)","v":"2000"},{"$f":"LEFT(B72,6)","v":"200003"}]
[null,{"$f":"'Market Data'!B59","v":20000316},{"$f":"'Market Data'!C59","v":9416.5},{"$f":"'Market Data'!D59","v":9539.5},{"$f":"'Market Data'!E59","v":9368.5},{"$f":"'Market Data'!F59","v":9495},null,55,{"$f":"IF($H73<($J$6+1),\"\",PFE(OFFSET($F73,0,0,-$J$6)))","v":""},null,"",{"$error":"#N/A"},{"$error":"#N/A"},null,null,null,null,null,null,null,null,null,null,null,null,null,null,null,null,null,null,null,null,null,null,null,null,null,null,null,null,{"$f":"IF(NOT($AS73=$AS74),ROW(),\"\")","v":""},{"$f":"IF(NOT(AS73=AS74),AS74,\"\")","v":""},{"$f":"INDEX($AB$15:$AM$15,MATCH($AS73,$AB$11:$AM$11,0))","v":{"$error":"#N/A"}},{"$f":"LEFT(AT73,4)","v":"2000"},{"$f":"LEFT(B73,6)","v":"200003"}]
[null,{"$f":"'Market Data'!B60","v":20000317},{"$f":"'Market Data'!C60","v":9679.5},{"$f":"'Market Data'!D60","v":9722},{"$f":"'Market Data'!E60","v":9462.5},{"$f":"'Market Data'!F60","v":9623.5},null,56,{"$f":"IF($H74<($J$6+1),\"\",PFE(OFFSET($F74,0,0,-$J$6)))","v":""},null,"",{"$error":"#N/A"},{"$error":"#N/A"},null,null,null,null,null,null,null,null,null,null,null,null,null,null,null,null,null,null,null,null,null,null,null,null,null,null,null,null,{"$f":"IF(NOT($AS74=$AS75),ROW(),\"\")","v":""},{"$f":"IF(NOT(AS74=AS75),AS75,\"\")","v":""},{"$f":"INDEX($AB$15:$AM$15,MATCH($AS74,$AB$11:$AM$11,0))","v":{"$error":"#N/A"}},{"$f":"LEFT(AT74,4)","v":"2000"},{"$f":"LEFT(B74,6)","v":"200003"}]
[null,{"$f":"'Market Data'!B61","v":20000320},{"$f":"'Market Data'!C61","v":9661.5},{"$f":"'Market Data'!D61","v":9775.5},{"$f":"'Market Data'!E61","v":9627},{"$f":"'Market Data'!F61","v":9763.5},null,57,{"$f":"IF($H75<($J$6+1),\"\",PFE(OFFSET($F75,0,0,-$J$6)))","v":""},null,"",{"$error":"#N/A"},{"$error":"#N/A"},null,null,null,null,null,null,null,null,null,null,null,null,null,null,null,null,null,null,null,null,null,null,null,null,null,null,null,null,{"$f":"IF(NOT($AS75=$AS76),ROW(),\"\")","v":""},{"$f":"IF(NOT(AS75=AS76),AS76,\"\")","v":""},{"$f":"INDEX($AB$15:$AM$15,MATCH($AS75,$AB$11:$AM$11,0))","v":{"$error":"#N/A"}},{"$f":"LEFT(AT75,4)","v":"2000"},{"$f":"LEFT(B75,6)","v":"200003"}]
[null,{"$f":"'Market Data'!B62","v":20000321},{"$f":"'Market Data'!C62","v":9744.5},{"$f":"'Market Data'!D62","v":9751},{"$f":"'Market Data'!E62","v":9631},{"$f":"'Market Data'!F62","v":9702.5},null,58,{"$f":"IF($H76<($J$6+1),\"\",PFE(OFFSET($F76,0,0,-$J$6)))","v":""},null,"",{"$error":"#N/A"},{"$error":"#N/A"},null,null,null,null,null,null,null,null,null,null,null,null,null,null,null,null,null,null,null,null,null,null,null,null,null,null,null,null,{"$f":"IF(NOT($AS76=$AS77),ROW(),\"\")","v":""},{"$f":"IF(NOT(AS76=AS77),AS77,\"\")","v":""},{"$f":"INDEX($AB$15:$AM$15,MATCH($AS76,$AB$11:$AM$11,0))","v":{"$error":"#N/A"}},{"$f":"LEFT(AT76,4)","v":"2000"},{"$f":"LEFT(B76,6)","v":"200003"}]
[null,{"$f":"'Market Data'!B63","v":20000322},{"$f":"'Market Data'!C63","v":9765.5},{"$f":"'Market Data'!D63","v":9842},{"$f":"'Market Data'!E63","v":9676},{"$f":"'Market Data'!F63","v":9692.5},null,59,{"$f":"IF($H77<($J$6+1),\"\",PFE(OFFSET($F77,0,0,-$J$6)))","v":""},null,"",{"$error":"#N/A"},{"$error":"#N/A"},null,null,null,null,null,null,null,null,null,null,null,null,null,null,null,null,null,null,null,null,null,null,null,null,null,null,null,null,{"$f":"IF(NOT($AS77=$AS78),ROW(),\"\")","v":""},{"$f":"IF(NOT(AS77=AS78),AS78,\"\")","v":""},{"$f":"INDEX($AB$15:$AM$15,MATCH($AS77,$AB$11:$AM$11,0))","v":{"$error":"#N/A"}},{"$f":"LEFT(AT77,4)","v":"2000"},{"$f":"LEFT(B77,6)","v":"200003"}]
[null,{"$f":"'Market Data'!B64","v":20000323},{"$f":"'Market Data'!C64","v":9731},{"$f":"'Market Data'!D64","v":9754.5},{"$f":"'Market Data'!E64","v":9561.5},{"$f":"'Market Data'!F64","v":9645.5},null,60,{"$f":"IF($H78<($J$6+1),\"\",PFE(OFFSET($F78,0,0,-$J$6)))","v":""},null,"",{"$error":"#N/A"},{"$error":"#N/A"},null,null,null,null,null,null,null,null,null,null,null,null,null,null,null,null,null,null,null,null,null,null,null,null,null,null,null,null,{"$f":"IF(NOT($AS78=$AS79),ROW(),\"\")","v":""},{"$f":"IF(NOT(AS78=AS79),AS79,\"\")","v":""},{"$f":"INDEX($AB$15:$AM$15,MATCH($AS78,$AB$11:$AM$11,0))","v":{"$error":"#N/A"}},{"$f":"LEFT(AT78,4)","v":"2000"},{"$f":"LEFT(B78,6)","v":"200003"}]
[null,{"$f":"'Market Data'!B65","v":20000324},{"$f":"'Market Data'!C65","v":9697.5},{"$f":"'Market Data'!D65","v":9807.5},{"$f":"'Market Data'!E65","v":9639.5},{"$f":"'Market Data'!F65","v":9796.5},null,61,{"$f":"IF($H79<($J$6+1),\"\",PFE(OFFSET($F79,0,0,-$J$6)))","v":""},null,"",{"$error":"#N/A"},{"$error":"#N/A"},null,null,null,null,null,null,null,null,null,null,null,null,null,null,null,null,null,null,null,null,null,null,null,null,null,null,null,null,{"$f":"IF(NOT($AS79=$AS80),ROW(),\"\")","v":""},{"$f":"IF(NOT(AS79=AS80),AS80,\"\")","v":""},{"$f":"INDEX($AB$15:$AM$15,MATCH($AS79,$AB$11:$AM$11,0))","v":{"$error":"#N/A"}},{"$f":"LEFT(AT79,4)","v":"2000"},{"$f":"LEFT(B79,6)","v":"200003"}]
[null,{"$f":"'Market Data'!B66","v":20000327},{"$f":"'Market Data'!C66","v":9804.5},{"$f":"'Market Data'!D66","v":9824.5},{"$f":"'Market Data'!E66","v":9722},{"$f":"'Market Data'!F66","v":9791.5},null,62,{"$f":"IF($H80<($J$6+1),\"\",PFE(OFFSET($F80,0,0,-$J$6)))","v":""},null,"",{"$error":"#N/A"},{"$error":"#N/A"},null,null,null,null,null,null,null,null,null,null,null,null,null,null,null,null,null,null,null,null,null,null,null,null,null,null,null,null,{"$f":"IF(NOT($AS80=$AS81),ROW(),\"\")","v":""},{"$f":"IF(NOT(AS80=AS81),AS81,\"\")","v":""},{"$f":"INDEX($AB$15:$AM$15,MATCH($AS80,$AB$11:$AM$11,0))","v":{"$error":"#N/A"}},{"$f":"LEFT(AT80,4)","v":"2000"},{"$f":"LEFT(B80,6)","v":"200003"}]
[null,{"$f":"'Market Data'!B67","v":20000328},{"$f":"'Market Data'!C67","v":9784.5},{"$f":"'Market Data'!D67","v":9927.5},{"$f":"'Market Data'!E67","v":9776.5},{"$f":"'Market Data'!F67","v":9817.5},null,63,{"$f":"IF($H81<($J$6+1),\"\",PFE(OFFSET($F81,0,0,-$J$6)))","v":""},null,"",{"$error":"#N/A"},{"$error":"#N/A"},null,null,null,null,null,null,null,null,null,null,null,null,null,null,null,null,null,null,null,null,null,null,null,null,null,null,null,null,{"$f":"IF(NOT($AS81=$AS82),ROW(),\"\")","v":""},{"$f":"IF(NOT(AS81=AS82),AS82,\"\")","v":""},{"$f":"INDEX($AB$15:$AM$15,MATCH($AS81,$AB$11:$AM$11,0))","v":{"$error":"#N/A"}},{"$f":"LEFT(AT81,4)","v":"2000"},{"$f":"LEFT(B81,6)","v":"200003"}]
[null,{"$f":"'Market Data'!B68","v":20000329},{"$f":"'Market Data'!C68","v":9806.5},{"$f":"'Market Data'!D68","v":9856},{"$f":"'Market Data'!E68","v":9751.5},{"$f":"'Market Data'!F68","v":9780.5},null,64,{"$f":"IF($H82<($J$6+1),\"\",PFE(OFFSET($F82,0,0,-$J$6)))","v":""},null,"",{"$error":"#N/A"},{"$error":"#N/A"},null,null,null,null,null,null,null,null,null,null,null,null,null,null,null,null,null,null,null,null,null,null,null,null,null,null,null,null,{"$f":"IF(NOT($AS82=$AS83),ROW(),\"\")","v":""},{"$f":"IF(NOT(AS82=AS83),AS83,\"\")","v":""},{"$f":"INDEX($AB$15:$AM$15,MATCH($AS82,$AB$11:$AM$11,0))","v":{"$error":"#N/A"}},{"$f":"LEFT(AT82,4)","v":"2000"},{"$f":"LEFT(B82,6)","v":"200003"}]
[null,{"$f":"'Market Data'!B69","v":20000330},{"$f":"'Market Data'!C69","v":9674.5},{"$f":"'Market Data'!D69","v":9686.5},{"$f":"'Market Data'!E69","v":9505.5},{"$f":"'Market Data'!F69","v":9542.5},null,65,{"$f":"IF($H83<($J$6+1),\"\",PFE(OFFSET($F83,0,0,-$J$6)))","v":""},null,"",{"$f":"IF(AND($K83=\"Long\",$K82<>\"Long\"),$F83,NA())","v":{"$error":"#N/A"}},{"$f":"IF(AND($K83=\"Short\",$K82<>\"Short\"),$F83,NA())","v":{"$error":"#N/A"}},null,null,null,null,null,null,null,null,null,null,null,null,null,null,null,null,null,null,null,null,null,null,null,null,null,null,null,null,{"$f":"IF(NOT($AS83=$AS84),ROW(),\"\")","v":""},{"$f":"IF(NOT(AS83=AS84),AS84,\"\")","v":""},{"$f":"INDEX($AB$15:$AM$15,MATCH($AS83,$AB$11:$AM$11,0))","v":{"$error":"#N/A"}},{"$f":"LEFT(AT83,4)","v":"2000"},{"$f":"LEFT(B83,6)","v":"200003"}]
[null,{"$f":"'Market Data'!B70","v":20000331},{"$f":"'Market Data'!C70","v":9519.5},{"$f":"'Market Data'!D70","v":9597.5},{"$f":"'Market Data'!E70","v":9409.5},{"$f":"'Market Data'!F70","v":9449.5},null,{"$f":"ROW()-ROW(H$18)","v":66},{"$f":"IF($H84<($J$6+1),\"\",PFE(OFFSET($F84,0,0,-$J$6)))","v":""},null,{"$f":"IF($I84=\"\",\"\",IF($I84>$J$4,\"Long\",IF($I84<$J$5,\"Short\",\"\")))","v":""},{"$error":"#N/A"},{"$error":"#N/A"},null,null,null,null,null,null,null,null,null,null,null,null,null,null,null,null,null,null,null,null,null,null,null,null,null,null,null,null,{"$f":"IF(NOT($AS84=$AS85),ROW(),\"\")","v":""},{"$f":"IF(NOT(AS84=AS85),AS85,\"\")","v":""},{"$f":"INDEX($AB$15:$AM$15,MATCH($AS84,$AB$11:$AM$11,0))","v":{"$error":"#N/A"}},{"$f":"LEFT(AT84,4)","v":"2000"},{"$f":"LEFT(B84,6)","v":"200003"}]
[null,{"$f":"'Market Data'!B71","v":20000403},{"$f":"'Market Data'!C71","v":9455.5},{"$f":"'Market Data'!D71","v":9527.5},{"$f":"'Market Data'!E71","v":9288},{"$f":"'Market Data'!F71","v":9319},null,67,{"$f":"IF($H85<($J$6+1),\"\",PFE(OFFSET($F85,0,0,-$J$6)))","v":""},null,"",{"$error":"#N/A"},{"$error":"#N/A"},null,null,null,null,null,null,null,null,null,null,null,null,null,null,null,null,null,null,null,null,null,null,null,null,null,null,null,null,{"$f":"IF(NOT($AS85=$AS86),ROW(),\"\")","v":""},{"$f":"IF(NOT(AS85=AS86),AS86,\"\")","v":""},{"$f":"INDEX($AB$15:$AM$15,MATCH($AS85,$AB$11:$AM$11,0))","v":{"$error":"#N/A"}},{"$f":"LEFT(AT85,4)","v":"2000"},{"$f":"LEFT(B85,6)","v":"200004"}]
[null,{"$f":"'Market Data'!B72","v":20000404},{"$f":"'Market Data'!C72","v":9364.5},{"$f":"'Market Data'!D72","v":9452.5},{"$f":"'Market Data'!E72","v":9344.5},{"$f":"'Market Data'!F72","v":9426.5},null,68,{"$f":"IF($H86<($J$6+1),\"\",PFE(OFFSET($F86,0,0,-$J$6)))","v":""},null,"",{"$error":"#N/A"},{"$error":"#N/A"},null,null,null,null,null,null,null,null,null,null,null,null,null,null,null,null,null,null,null,null,null,null,null,null,null,null,null,null,{"$f":"IF(NOT($AS86=$AS87),ROW(),\"\")","v":""},{"$f":"IF(NOT(AS86=AS87),AS87,\"\")","v":""},{"$f":"INDEX($AB$15:$AM$15,MATCH($AS86,$AB$11:$AM$11,0))","v":{"$error":"#N/A"}},{"$f":"LEFT(AT86,4)","v":"2000"},{"$f":"LEFT(B86,6)","v":"200004"}]
[null,{"$f":"'Market Data'!B73","v":20000405},{"$f":"'Market Data'!C73","v":9366.5},{"$f":"'Market Data'!D73","v":9422},{"$f":"'Market Data'!E73","v":9089.5},{"$f":"'Market Data'!F73","v":9190.5},null,69,{"$f":"IF($H87<($J$6+1),\"\",PFE(OFFSET($F87,0,0,-$J$6)))","v":""},null,"",{"$error":"#N/A"},{"$error":"#N/A"},null,null,null,null,null,null,null,null,null,null,null,null,null,null,null,null,null,null,null,null,null,null,null,null,null,null,null,null,{"$f":"IF(NOT($AS87=$AS88),ROW(),\"\")","v":""},{"$f":"IF(NOT(AS87=AS88),AS88,\"\")","v":""},{"$f":"INDEX($AB$15:$AM$15,MATCH($AS87,$AB$11:$AM$11,0))","v":{"$error":"#N/A"}},{"$f":"LEFT(AT87,4)","v":"2000"},{"$f":"LEFT(B87,6)","v":"200004"}]
[null,{"$f":"'Market Data'!B74","v":20000406},{"$f":"'Market Data'!C74","v":9251.5},{"$f":"'Market Data'!D74","v":9358.5},{"$f":"'Market Data'!E74","v":9196.5},{"$f":"'Market Data'!F74","v":9330},null,70,{"$f":"IF($H88<($J$6+1),\"\",PFE(OFFSET($F88,0,0,-$J$6)))","v":""},null,"",{"$error":"#N/A"},{"$error":"#N/A"},null,null,null,null,null,null,null,null,null,null,null,null,null,null,null,null,null,null,null,null,null,null,null,null,null,null,null,null,{"$f":"IF(NOT($AS88=$AS89),ROW(),\"\")","v":""},{"$f":"IF(NOT(AS88=AS89),AS89,\"\")","v":""},{"$f":"INDEX($AB$15:$AM$15,MATCH($AS88,$AB$11:$AM$11,0))","v":{"$error":"#N/A"}},{"$f":"LEFT(AT88,4)","v":"2000"},{"$f":"LEFT(B88,6)","v":"200004"}]
[null,{"$f":"'Market Data'!B75","v":20000407},{"$f":"'Market Data'!C75","v":9364.5},{"$f":"'Market Data'!D75","v":9404.5},{"$f":"'Market Data'!E75","v":9271},{"$f":"'Market Data'!F75","v":9392},null,71,{"$f":"IF($H89<($J$6+1),\"\",PFE(OFFSET($F89,0,0,-$J$6)))","v":""},null,"",{"$error":"#N/A"},{"$error":"#N/A"},null,null,null,null,null,null,null,null,null,null,null,null,null,null,null,null,null,null,null,null,null,null,null,null,null,null,null,null,{"$f":"IF(NOT($AS89=$AS90),ROW(),\"\")","v":""},{"$f":"IF(NOT(AS89=AS90),AS90,\"\")","v":""},{"$f":"INDEX($AB$15:$AM$15,MATCH($AS89,$AB$11:$AM$11,0))","v":{"$error":"#N/A"}},{"$f":"LEFT(AT89,4)","v":"2000"},{"$f":"LEFT(B89,6)","v":"200004"}]
[null,{"$f":"'Market Data'!B76","v":20000410},{"$f":"'Market Data'!C76","v":9444.5},{"$f":"'Market Data'!D76","v":9484.5},{"$f":"'Market Data'!E76","v":9382},{"$f":"'Market Data'!F76","v":9409.5},null,72,{"$f":"IF($H90<($J$6+1),\"\",PFE(OFFSET($F90,0,0,-$J$6)))","v":""},null,"",{"$error":"#N/A"},{"$error":"#N/A"},null,null,null,null,null,null,null,null,null,null,null,null,null,null,null,null,null,null,null,null,null,null,null,null,null,null,null,null,{"$f":"IF(NOT($AS90=$AS91),ROW(),\"\")","v":""},{"$f":"IF(NOT(AS90=AS91),AS91,\"\")","v":""},{"$f":"INDEX($AB$15:$AM$15,MATCH($AS90,$AB$11:$AM$11,0))","v":{"$error":"#N/A"}},{"$f":"LEFT(AT90,4)","v":"2000"},{"$f":"LEFT(B90,6)","v":"200004"}]
[null,{"$f":"'Market Data'!B77","v":20000411},{"$f":"'Market Data'!C77","v":9259.5},{"$f":"'Market Data'!D77","v":9357},{"$f":"'Market Data'!E77","v":9249.5},{"$f":"'Market Data'!F77","v":9319.5},null,73,{"$f":"IF($H91<($J$6+1),\"\",PFE(OFFSET($F91,0,0,-$J$6)))","v":""},null,"",{"$error":"#N/A"},{"$error":"#N/A"},null,null,null,null,null,null,null,null,null,null,null,null,null,null,null,null,null,null,null,null,null,null,null,null,null,null,null,null,{"$f":"IF(NOT($AS91=$AS92),ROW(),\"\")","v":""},{"$f":"IF(NOT(AS91=AS92),AS92,\"\")","v":""},{"$f":"INDEX($AB$15:$AM$15,MATCH($AS91,$AB$11:$AM$11,0))","v":{"$error":"#N/A"}},{"$f":"LEFT(AT91,4)","v":"2000"},{"$f":"LEFT(B91,6)","v":"200004"}]
[null,{"$f":"'Market Data'!B78","v":20000412},{"$f":"'Market Data'!C78","v":9346.5},{"$f":"'Market Data'!D78","v":9392},{"$f":"'Market Data'!E78","v":9286},{"$f":"'Market Data'!F78","v":9294.5},null,74,{"$f":"IF($H92<($J$6+1),\"\",PFE(OFFSET($F92,0,0,-$J$6)))","v":""},null,"",{"$error":"#N/A"},{"$error":"#N/A"},null,null,null,null,null,null,null,null,null,null,null,null,null,null,null,null,null,null,null,null,null,null,null,null,null,null,null,null,{"$f":"IF(NOT($AS92=$AS93),ROW(),\"\")","v":""},{"$f":"IF(NOT(AS92=AS93),AS93,\"\")","v":""},{"$f":"INDEX($AB$15:$AM$15,MATCH($AS92,$AB$11:$AM$11,0))","v":{"$error":"#N/A"}},{"$f":"LEFT(AT92,4)","v":"2000"},{"$f":"LEFT(B92,6)","v":"200004"}]
[null,{"$f":"'Market Data'!B79","v":20000413},{"$f":"'Market Data'!C79","v":9194.5},{"$f":"'Market Data'!D79","v":9322.5},{"$f":"'Market Data'!E79","v":9167.5},{"$f":"'Market Data'!F79","v":9318.5},null,75,{"$f":"IF($H93<($J$6+1),\"\",PFE(OFFSET($F93,0,0,-$J$6)))","v":""},null,"",{"$error":"#N/A"},{"$error":"#N/A"},null,null,null,null,null,null,null,null,null,null,null,null,null,null,null,null,null,null,null,null,null,null,null,null,null,null,null,null,{"$f":"IF(NOT($AS93=$AS94),ROW(),\"\")","v":""},{"$f":"IF(NOT(AS93=AS94),AS94,\"\")","v":""},{"$f":"INDEX($AB$15:$AM$15,MATCH($AS93,$AB$11:$AM$11,0))","v":{"$error":"#N/A"}},{"$f":"LEFT(AT93,4)","v":"2000"},{"$f":"LEFT(B93,6)","v":"200004"}]
[null,{"$f":"'Market Data'!B80","v":20000414},{"$f":"'Market Data'!C80","v":9224.5},{"$f":"'Market Data'!D80","v":9279.5},{"$f":"'Market Data'!E80","v":9033.5},{"$f":"'Market Data'!F80","v":9069.5},null,76,{"$f":"IF($H94<($J$6+1),\"\",PFE(OFFSET($F94,0,0,-$J$6)))","v":""},null,"",{"$error":"#N/A"},{"$error":"#N/A"},null,null,null,null,null,null,null,null,null,null,null,null,null,null,null,null,null,null,null,null,null,null,null,null,null,null,null,null,{"$f":"IF(NOT($AS94=$AS95),ROW(),\"\")","v":""},{"$f":"IF(NOT(AS94=AS95),AS95,\"\")","v":""},{"$f":"INDEX($AB$15:$AM$15,MATCH($AS94,$AB$11:$AM$11,0))","v":{"$error":"#N/A"}},{"$f":"LEFT(AT94,4)","v":"2000"},{"$f":"LEFT(B94,6)","v":"200004"}]
[null,{"$f":"'Market Data'!B81","v":20000417},{"$f":"'Market Data'!C81","v":8824.5},{"$f":"'Market Data'!D81","v":9059.5},{"$f":"'Market Data'!E81","v":8781.5},{"$f":"'Market Data'!F81","v":9048.5},null,77,{"$f":"IF($H95<($J$6+1),\"\",PFE(OFFSET($F95,0,0,-$J$6)))","v":""},null,"",{"$error":"#N/A"},{"$error":"#N/A"},null,null,null,null,null,null,null,null,null,null,null,null,null,null,null,null,null,null,null,null,null,null,null,null,null,null,null,null,{"$f":"IF(NOT($AS95=$AS96),ROW(),\"\")","v":""},{"$f":"IF(NOT(AS95=AS96),AS96,\"\")","v":""},{"$f":"INDEX($AB$15:$AM$15,MATCH($AS95,$AB$11:$AM$11,0))","v":{"$error":"#N/A"}},{"$f":"LEFT(AT95,4)","v":"2000"},{"$f":"LEFT(B95,6)","v":"200004"}]
[null,{"$f":"'Market Data'!B82","v":20000418},{"$f":"'Market Data'!C82","v":9118.5},{"$f":"'Market Data'!D82","v":9130},{"$f":"'Market Data'!E82","v":8963},{"$f":"'Market Data'!F82","v":9091.5},null,78,{"$f":"IF($H96<($J$6+1),\"\",PFE(OFFSET($F96,0,0,-$J$6)))","v":""},null,"",{"$error":"#N/A"},{"$error":"#N/A"},null,null,null,null,null,null,null,null,null,null,null,null,null,null,null,null,null,null,null,null,null,null,null,null,null,null,null,null,{"$f":"IF(NOT($AS96=$AS97),ROW(),\"\")","v":""},{"$f":"IF(NOT(AS96=AS97),AS97,\"\")","v":""},{"$f":"INDEX($AB$15:$AM$15,MATCH($AS96,$AB$11:$AM$11,0))","v":{"$error":"#N/A"}},{"$f":"LEFT(AT96,4)","v":"2000"},{"$f":"LEFT(B96,6)","v":"200004"}]
[null,{"$f":"'Market Data'!B83","v":20000419},{"$f":"'Market Data'!C83","v":9164.5},{"$f":"'Market Data'!D83","v":9169},{"$f":"'Market Data'!E83","v":9009.5},{"$f":"'Market Data'!F83","v":9077},null,79,{"$f":"IF($H97<($J$6+1),\"\",PFE(OFFSET($F97,0,0,-$J$6)))","v":""},null,"",{"$error":"#N/A"},{"$error":"#N/A"},null,null,null,null,null,null,null,null,null,null,null,null,null,null,null,null,null,null,null,null,null,null,null,null,null,null,null,null,{"$f":"IF(NOT($AS97=$AS98),ROW(),\"\")","v":""},{"$f":"IF(NOT(AS97=AS98),AS98,\"\")","v":""},{"$f":"INDEX($AB$15:$AM$15,MATCH($AS97,$AB$11:$AM$11,0))","v":{"$error":"#N/A"}},{"$f":"LEFT(AT97,4)","v":"2000"},{"$f":"LEFT(B97,6)","v":"200004"}]
[null,{"$f":"'Market Data'!B84","v":20000420},{"$f":"'Market Data'!C84","v":9076.5},{"$f":"'Market Data'!D84","v":9101},{"$f":"'Market Data'!E84","v":9036.5},{"$f":"'Market Data'!F84","v":9064.5},null,80,{"$f":"IF($H98<($J$6+1),\"\",PFE(OFFSET($F98,0,0,-$J$6)))","v":""},null,"",{"$error":"#N/A"},{"$error":"#N/A"},null,null,null,null,null,null,null,null,null,null,null,null,null,null,null,null,null,null,null,null,null,null,null,null,null,null,null,null,{"$f":"IF(NOT($AS98=$AS99),ROW(),\"\")","v":""},{"$f":"IF(NOT(AS98=AS99),AS99,\"\")","v":""},{"$f":"INDEX($AB$15:$AM$15,MATCH($AS98,$AB$11:$AM$11,0))","v":{"$error":"#N/A"}},{"$f":"LEFT(AT98,4)","v":"2000"},{"$f":"LEFT(B98,6)","v":"200004"}]
[null,{"$f":"'Market Data'!B85","v":20000425},{"$f":"'Market Data'!C85","v":9035.5},{"$f":"'Market Data'!D85","v":9225},{"$f":"'Market Data'!E85","v":8960.5},{"$f":"'Market Data'!F85","v":9167.5},null,81,{"$f":"IF($H99<($J$6+1),\"\",PFE(OFFSET($F99,0,0,-$J$6)))","v":""},null,"",{"$error":"#N/A"},{"$error":"#N/A"},null,null,null,null,null,null,null,null,null,null,null,null,null,null,null,null,null,null,null,null,null,null,null,null,null,null,null,null,{"$f":"IF(NOT($AS99=$AS100),ROW(),\"\")","v":""},{"$f":"IF(NOT(AS99=AS100),AS100,\"\")","v":""},{"$f":"INDEX($AB$15:$AM$15,MATCH($AS99,$AB$11:$AM$11,0))","v":{"$error":"#N/A"}},{"$f":"LEFT(AT99,4)","v":"2000"},{"$f":"LEFT(B99,6)","v":"200004"}]
[null,{"$f":"'Market Data'!B86","v":20000426},{"$f":"'Market Data'!C86","v":9214.5},{"$f":"'Market Data'!D86","v":9317.5},{"$f":"'Market Data'!E86","v":9178},{"$f":"'Market Data'!F86","v":9245.5},null,82,{"$f":"IF($H100<($J$6+1),\"\",PFE(OFFSET($F100,0,0,-$J$6)))","v":""},null,"",{"$error":"#N/A"},{"$error":"#N/A"},null,null,null,null,null,null,null,null,null,null,null,null,null,null,null,null,null,null,null,null,null,null,null,null,null,null,null,null,{"$f":"IF(NOT($AS100=$AS101),ROW(),\"\")","v":""},{"$f":"IF(NOT(AS100=AS101),AS101,\"\")","v":""},{"$f":"INDEX($AB$15:$AM$15,MATCH($AS100,$AB$11:$AM$11,0))","v":{"$error":"#N/A"}},{"$f":"LEFT(AT100,4)","v":"2000"},{"$f":"LEFT(B100,6)","v":"200004"}]
[null,{"$f":"'Market Data'!B87","v":20000427},{"$f":"'Market Data'!C87","v":9249.5},{"$f":"'Market Data'!D87","v":9289},{"$f":"'Market Data'!E87","v":9017.5},{"$f":"'Market Data'!F87","v":9064.5},null,83,{"$f":"IF($H101<($J$6+1),\"\",PFE(OFFSET($F101,0,0,-$J$6)))","v":""},null,"",{"$error":"#N/A"},{"$error":"#N/A"},null,null,null,null,null,null,null,null,null,null,null,null,null,null,null,null,null,null,null,null,null,null,null,null,null,null,null,null,{"$f":"IF(NOT($AS101=$AS102),ROW(),\"\")","v":""},{"$f":"IF(NOT(AS101=AS102),AS102,\"\")","v":""},{"$f":"INDEX($AB$15:$AM$15,MATCH($AS101,$AB$11:$AM$11,0))","v":{"$error":"#N/A"}},{"$f":"LEFT(AT101,4)","v":"2000"},{"$f":"LEFT(B101,6)","v":"200004"}]
[null,{"$f":"'Market Data'!B88","v":20000428},{"$f":"'Market Data'!C88","v":9164.5},{"$f":"'Market Data'!D88","v":9305.5},{"$f":"'Market Data'!E88","v":9135.5},{"$f":"'Market Data'!F88","v":9305.5},null,84,{"$f":"IF($H102<($J$6+1),\"\",PFE(OFFSET($F102,0,0,-$J$6)))","v":""},null,"",{"$error":"#N/A"},{"$error":"#N/A"},null,null,null,null,null,null,null,null,null,null,null,null,null,null,null,null,null,null,null,null,null,null,null,null,null,null,null,null,{"$f":"IF(NOT($AS102=$AS103),ROW(),\"\")","v":""},{"$f":"IF(NOT(AS102=AS103),AS103,\"\")","v":""},{"$f":"INDEX($AB$15:$AM$15,MATCH($AS102,$AB$11:$AM$11,0))","v":{"$error":"#N/A"}},{"$f":"LEFT(AT102,4)","v":"2000"},{"$f":"LEFT(B102,6)","v":"200004"}]
[null,{"$f":"'Market Data'!B89","v":20000502},{"$f":"'Market Data'!C89","v":9339.5},{"$f":"'Market Data'!D89","v":9436},{"$f":"'Market Data'!E89","v":9334.5},{"$f":"'Market Data'!F89","v":9424.5},null,85,{"$f":"IF($H103<($J$6+1),\"\",PFE(OFFSET($F103,0,0,-$J$6)))","v":8.5753784827630825E-2},null,"Long",9424.5,{"$error":"#N/A"},null,null,null,null,null,null,null,null,null,null,null,null,null,null,null,null,null,null,null,null,null,null,null,null,null,null,null,null,{"$f":"IF(NOT($AS103=$AS104),ROW(),\"\")","v":""},{"$f":"IF(NOT(AS103=AS104),AS104,\"\")","v":""},{"$f":"INDEX($AB$15:$AM$15,MATCH($AS103,$AB$11:$AM$11,0))","v":{"$error":"#N/A"}},{"$f":"LEFT(AT103,4)","v":"2000"},{"$f":"LEFT(B103,6)","v":"200005"}]
[null,{"$f":"'Market Data'!B90","v":20000503},{"$f":"'Market Data'!C90","v":9367.5},{"$f":"'Market Data'!D90","v":9443},{"$f":"'Market Data'!E90","v":9219.5},{"$f":"'Market Data'!F90","v":9224.5},null,86,{"$f":"IF($H104<($J$6+1),\"\",PFE(OFFSET($F104,0,0,-$J$6)))","v":8.2492895213678516E-2},null,{"$f":"IF($I104=\"\",\"\",IF($I104>$J$4,\"Long\",IF($I104<$J$5,\"Short\",\"\")))","v":"Long"},{"$error":"#N/A"},{"$error":"#N/A"},null,null,null,null,null,null,null,null,null,null,null,null,null,null,null,null,null,null,null,null,null,null,null,null,null,null,null,null,{"$f":"IF(NOT($AS104=$AS105),ROW(),\"\")","v":""},{"$f":"IF(NOT(AS104=AS105),AS105,\"\")","v":""},{"$f":"INDEX($AB$15:$AM$15,MATCH($AS104,$AB$11:$AM$11,0))","v":{"$error":"#N/A"}},{"$f":"LEFT(AT104,4)","v":"2000"},{"$f":"LEFT(B104,6)","v":"200005"}]
[null,{"$f":"'Market Data'!B91","v":20000504},{"$f":"'Market Data'!C91","v":9229.5},{"$f":"'Market Data'!D91","v":9293.5},{"$f":"'Market Data'!E91","v":9185.5},{"$f":"'Market Data'!F91","v":9253},null,87,{"$f":"IF($H105<($J$6+1),\"\",PFE(OFFSET($F105,0,0,-$J$6)))","v":9.8205188176882216E-2},null,"Long",{"$error":"#N/A"},{"$error":"#N/A"},null,null,null,null,null,null,null,null,null,null,null,null,null,null,null,null,null,null,null,null,null,null,null,null,null,null,null,null,{"$f":"IF(NOT($AS105=$AS106),ROW(),\"\")","v":""},{"$f":"IF(NOT(AS105=AS106),AS106,\"\")","v":""},{"$f":"INDEX($AB$15:$AM$15,MATCH($AS105,$AB$11:$AM$11,0))","v":{"$error":"#N/A"}},{"$f":"LEFT(AT105,4)","v":"2000"},{"$f":"LEFT(B105,6)","v":"200005"}]
[null,{"$f":"'Market Data'!B92","v":20000505},{"$f":"'Market Data'!C92","v":9274.5},{"$f":"'Market Data'!D92","v":9374},{"$f":"'Market Data'!E92","v":9199.5},{"$f":"'Market Data'!F92","v":9370.5},null,88,{"$f":"IF($H106<($J$6+1),\"\",PFE(OFFSET($F106,0,0,-$J$6)))","v":0.11409959630494497},null,"Long",{"$error":"#N/A"},{"$error":"#N/A"},null,null,null,null,null,null,null,null,null,null,null,null,null,null,null,null,null,null,null,null,null,null,null,null,null,null,null,null,{"$f":"IF(NOT($AS106=$AS107),ROW(),\"\")","v":""},{"$f":"IF(NOT(AS106=AS107),AS107,\"\")","v":""},{"$f":"INDEX($AB$15:$AM$15,MATCH($AS106,$AB$11:$AM$11,0))","v":{"$error":"#N/A"}},{"$f":"LEFT(AT106,4)","v":"2000"},{"$f":"LEFT(B106,6)","v":"200005"}]
[null,{"$f":"'Market Data'!B93","v":20000508},{"$f":"'Market Data'!C93","v":9375.5},{"$f":"'Market Data'!D93","v":9396.5},{"$f":"'Market Data'!E93","v":9247.5},{"$f":"'Market Data'!F93","v":9267},null,89,{"$f":"IF($H107<($J$6+1),\"\",PFE(OFFSET($F107,0,0,-$J$6)))","v":6.5546353660593096E-2},null,"Long",{"$error":"#N/A"},{"$error":"#N/A"},null,null,null,null,null,null,null,null,null,null,null,null,null,null,null,null,null,null,null,null,null,null,null,null,null,null,null,null,{"$f":"IF(NOT($AS107=$AS108),ROW(),\"\")","v":""},{"$f":"IF(NOT(AS107=AS108),AS108,\"\")","v":""},{"$f":"INDEX($AB$15:$AM$15,MATCH($AS107,$AB$11:$AM$11,0))","v":{"$error":"#N/A"}},{"$f":"LEFT(AT107,4)","v":"2000"},{"$f":"LEFT(B107,6)","v":"200005"}]
[null,{"$f":"'Market Data'!B94","v":20000509},{"$f":"'Market Data'!C94","v":9254.5},{"$f":"'Market Data'!D94","v":9270},{"$f":"'Market Data'!E94","v":9092},{"$f":"'Market Data'!F94","v":9121.5},null,90,{"$f":"IF($H108<($J$6+1),\"\",PFE(OFFSET($F108,0,0,-$J$6)))","v":3.28404590826138E-2},null,"Long",{"$error":"#N/A"},{"$error":"#N/A"},null,null,null,null,null,null,null,null,null,null,null,null,null,null,null,null,null,null,null,null,null,null,null,null,null,null,null,null,{"$f":"IF(NOT($AS108=$AS109),ROW(),\"\")","v":""},{"$f":"IF(NOT(AS108=AS109),AS109,\"\")","v":""},{"$f":"INDEX($AB$15:$AM$15,MATCH($AS108,$AB$11:$AM$11,0))","v":{"$error":"#N/A"}},{"$f":"LEFT(AT108,4)","v":"2000"},{"$f":"LEFT(B108,6)","v":"200005"}]
[null,{"$f":"'Market Data'!B95","v":20000510},{"$f":"'Market Data'!C95","v":9094.5},{"$f":"'Market Data'!D95","v":9196.5},{"$f":"'Market Data'!E95","v":8962.5},{"$f":"'Market Data'!F95","v":8986.5},null,91,{"$f":"IF($H109<($J$6+1),\"\",PFE(OFFSET($F109,0,0,-$J$6)))","v":1.9918441233753966E-2},null,"Long",{"$error":"#N/A"},{"$error":"#N/A"},null,null,null,null,null,null,null,null,null,null,null,null,null,null,null,null,null,null,null,null,null,null,null,null,null,null,null,null,{"$f":"IF(NOT($AS109=$AS110),ROW(),\"\")","v":""},{"$f":"IF(NOT(AS109=AS110),AS110,\"\")","v":""},{"$f":"INDEX($AB$15:$AM$15,MATCH($AS109,$AB$11:$AM$11,0))","v":{"$error":"#N/A"}},{"$f":"LEFT(AT109,4)","v":"2000"},{"$f":"LEFT(B109,6)","v":"200005"}]
[null,{"$f":"'Market Data'!B96","v":20000511},{"$f":"'Market Data'!C96","v":8927.5},{"$f":"'Market Data'!D96","v":9143.5},{"$f":"'Market Data'!E96","v":8876},{"$f":"'Market Data'!F96","v":9137.5},null,92,{"$f":"IF($H110<($J$6+1),\"\",PFE(OFFSET($F110,0,0,-$J$6)))","v":3.6098477123200336E-2},null,"Long",{"$error":"#N/A"},{"$error":"#N/A"},null,null,null,null,null,null,null,null,null,null,null,null,null,null,null,null,null,null,null,null,null,null,null,null,null,null,null,null,{"$f":"IF(NOT($AS110=$AS111),ROW(),\"\")","v":""},{"$f":"IF(NOT(AS110=AS111),AS111,\"\")","v":""},{"$f":"INDEX($AB$15:$AM$15,MATCH($AS110,$AB$11:$AM$11,0))","v":{"$error":"#N/A"}},{"$f":"LEFT(AT110,4)","v":"2000"},{"$f":"LEFT(B110,6)","v":"200005"}]
[null,{"$f":"'Market Data'!B97","v":20000512},{"$f":"'Market Data'!C97","v":9135.5},{"$f":"'Market Data'!D97","v":9194.5},{"$f":"'Market Data'!E97","v":9064},{"$f":"'Market Data'!F97","v":9125},null,93,{"$f":"IF($H111<($J$6+1),\"\",PFE(OFFSET($F111,0,0,-$J$6)))","v":2.6973914372612547E-2},null,"Long",{"$error":"#N/A"},{"$error":"#N/A"},null,null,null,null,null,null,null,null,null,null,null,null,null,null,null,null,null,null,null,null,null,null,null,null,null,null,null,null,{"$f":"IF(NOT($AS111=$AS112),ROW(),\"\")","v":""},{"$f":"IF(NOT(AS111=AS112),AS112,\"\")","v":""},{"$f":"INDEX($AB$15:$AM$15,MATCH($AS111,$AB$11:$AM$11,0))","v":{"$error":"#N/A"}},{"$f":"LEFT(AT111,4)","v":"2000"},{"$f":"LEFT(B111,6)","v":"200005"}]
[null,{"$f":"'Market Data'!B98","v":20000515},{"$f":"'Market Data'!C98","v":9138.5},{"$f":"'Market Data'!D98","v":9138.5},{"$f":"'Market Data'!E98","v":9053.5},{"$f":"'Market Data'!F98","v":9064.5},null,94,{"$f":"IF($H112<($J$6+1),\"\",PFE(OFFSET($F112,0,0,-$J$6)))","v":-1.2930515878932014E-2},null,"Short",{"$error":"#N/A"},9064.5,null,null,null,null,null,null,null,null,null,null,null,null,null,null,null,null,null,null,null,null,null,null,null,null,null,null,null,null,{"$f":"IF(NOT($AS112=$AS113),ROW(),\"\")","v":""},{"$f":"IF(NOT(AS112=AS113),AS113,\"\")","v":""},{"$f":"INDEX($AB$15:$AM$15,MATCH($AS112,$AB$11:$AM$11,0))","v":{"$error":"#N/A"}},{"$f":"LEFT(AT112,4)","v":"2000"},{"$f":"LEFT(B112,6)","v":"200005"}]
[null,{"$f":"'Market Data'!B99","v":20000516},{"$f":"'Market Data'!C99","v":9125.5},{"$f":"'Market Data'!D99","v":9264.5},{"$f":"'Market Data'!E99","v":9113},{"$f":"'Market Data'!F99","v":9247.5},null,95,{"$f":"IF($H113<($J$6+1),\"\",PFE(OFFSET($F113,0,0,-$J$6)))","v":1.0814298625923187E-2},null,"Long",9247.5,{"$error":"#N/A"},null,null,null,null,null,null,null,null,null,null,null,null,null,null,null,null,null,null,null,null,null,null,null,null,null,null,null,null,{"$f":"IF(NOT($AS113=$AS114),ROW(),\"\")","v":""},{"$f":"IF(NOT(AS113=AS114),AS114,\"\")","v":""},{"$f":"INDEX($AB$15:$AM$15,MATCH($AS113,$AB$11:$AM$11,0))","v":{"$error":"#N/A"}},{"$f":"LEFT(AT113,4)","v":"2000"},{"$f":"LEFT(B113,6)","v":"200005"}]
[null,{"$f":"'Market Data'!B100","v":20000517},{"$f":"'Market Data'!C100","v":9210.5},{"$f":"'Market Data'!D100","v":9210.5},{"$f":"'Market Data'!E100","v":9054.5},{"$f":"'Market Data'!F100","v":9073.5},null,96,{"$f":"IF($H114<($J$6+1),\"\",PFE(OFFSET($F114,0,0,-$J$6)))","v":1.1364517761043044E-2},null,"Long",{"$error":"#N/A"},{"$error":"#N/A"},null,null,null,null,null,null,null,null,null,null,null,null,null,null,null,null,null,null,null,null,null,null,null,null,null,null,null,null,{"$f":"IF(NOT($AS114=$AS115),ROW(),\"\")","v":""},{"$f":"IF(NOT(AS114=AS115),AS115,\"\")","v":""},{"$f":"INDEX($AB$15:$AM$15,MATCH($AS114,$AB$11:$AM$11,0))","v":{"$error":"#N/A"}},{"$f":"LEFT(AT114,4)","v":"2000"},{"$f":"LEFT(B114,6)","v":"200005"}]
[null,{"$f":"'Market Data'!B101","v":20000518},{"$f":"'Market Data'!C101","v":9049.5},{"$f":"'Market Data'!D101","v":9121.5},{"$f":"'Market Data'!E101","v":9014.5},{"$f":"'Market Data'!F101","v":9019.5},null,97,{"$f":"IF($H115<($J$6+1),\"\",PFE(OFFSET($F115,0,0,-$J$6)))","v":-9.9340164453917117E-3},null,"Short",{"$error":"#N/A"},9019.5,null,null,null,null,null,null,null,null,null,null,null,null,null,null,null,null,null,null,null,null,null,null,null,null,null,null,null,null,{"$f":"IF(NOT($AS115=$AS116),ROW(),\"\")","v":""},{"$f":"IF(NOT(AS115=AS116),AS116,\"\")","v":""},{"$f":"INDEX($AB$15:$AM$15,MATCH($AS115,$AB$11:$AM$11,0))","v":{"$error":"#N/A"}},{"$f":"LEFT(AT115,4)","v":"2000"},{"$f":"LEFT(B115,6)","v":"200005"}]
[null,{"$f":"'Market Data'!B102","v":20000519},{"$f":"'Market Data'!C102","v":9012.5},{"$f":"'Market Data'!D102","v":9012.5},{"$f":"'Market Data'!E102","v":8813},{"$f":"'Market Data'!F102","v":8855},null,98,{"$f":"IF($H116<($J$6+1),\"\",PFE(OFFSET($F116,0,0,-$J$6)))","v":-2.3964754167557441E-2},null,"Short",{"$error":"#N/A"},{"$error":"#N/A"},null,null,null,null,null,null,null,null,null,null,null,null,null,null,null,null,null,null,null,null,null,null,null,null,null,null,null,null,{"$f":"IF(NOT($AS116=$AS117),ROW(),\"\")","v":""},{"$f":"IF(NOT(AS116=AS117),AS117,\"\")","v":""},{"$f":"INDEX($AB$15:$AM$15,MATCH($AS116,$AB$11:$AM$11,0))","v":{"$error":"#N/A"}},{"$f":"LEFT(AT116,4)","v":"2000"},{"$f":"LEFT(B116,6)","v":"200005"}]
[null,{"$f":"'Market Data'!B103","v":20000522},{"$f":"'Market Data'!C103","v":8847.5},{"$f":"'Market Data'!D103","v":8899.5},{"$f":"'Market Data'!E103","v":8680},{"$f":"'Market Data'!F103","v":8780},null,99,{"$f":"IF($H117<($J$6+1),\"\",PFE(OFFSET($F117,0,0,-$J$6)))","v":-1.8652229575225662E-2},null,"Short",{"$error":"#N/A"},{"$error":"#N/A"},null,null,null,null,null,null,null,null,null,null,null,null,null,null,null,null,null,null,null,null,null,null,null,null,null,null,null,null,{"$f":"IF(NOT($AS117=$AS118),ROW(),\"\")","v":""},{"$f":"IF(NOT(AS117=AS118),AS118,\"\")","v":""},{"$f":"INDEX($AB$15:$AM$15,MATCH($AS117,$AB$11:$AM$11,0))","v":{"$error":"#N/A"}},{"$f":"LEFT(AT117,4)","v":"2000"},{"$f":"LEFT(B117,6)","v":"200005"}]
[null,{"$f":"'Market Data'!B104","v":20000523},{"$f":"'Market Data'!C104","v":8836.5},{"$f":"'Market Data'!D104","v":8878},{"$f":"'Market Data'!E104","v":8737.5},{"$f":"'Market Data'!F104","v":8791.5},null,100,{"$f":"IF($H118<($J$6+1),\"\",PFE(OFFSET($F118,0,0,-$J$6)))","v":-1.2201175083307659E-2},null,"Short",{"$error":"#N/A"},{"$error":"#N/A"},null,null,null,null,null,null,null,null,null,null,null,null,null,null,null,null,null,null,null,null,null,null,null,null,null,null,null,null,{"$f":"IF(NOT($AS118=$AS119),ROW(),\"\")","v":""},{"$f":"IF(NOT(AS118=AS119),AS119,\"\")","v":""},{"$f":"INDEX($AB$15:$AM$15,MATCH($AS118,$AB$11:$AM$11,0))","v":{"$error":"#N/A"}},{"$f":"LEFT(AT118,4)","v":"2000"},{"$f":"LEFT(B118,6)","v":"200005"}]
[null,{"$f":"'Market Data'!B105","v":20000524},{"$f":"'Market Data'!C105","v":8675.5},{"$f":"'Market Data'!D105","v":8728.5},{"$f":"'Market Data'!E105","v":8656},{"$f":"'Market Data'!F105","v":8708.5},null,101,{"$f":"IF($H119<($J$6+1),\"\",PFE(OFFSET($F119,0,0,-$J$6)))","v":-1.4036393362105007E-2},null,"Short",{"$error":"#N/A"},{"$error":"#N/A"},null,null,null,null,null,null,null,null,null,null,null,null,null,null,null,null,null,null,null,null,null,null,null,null,null,null,null,null,{"$f":"IF(NOT($AS119=$AS120),ROW(),\"\")","v":""},{"$f":"IF(NOT(AS119=AS120),AS120,\"\")","v":""},{"$f":"INDEX($AB$15:$AM$15,MATCH($AS119,$AB$11:$AM$11,0))","v":{"$error":"#N/A"}},{"$f":"LEFT(AT119,4)","v":"2000"},{"$f":"LEFT(B119,6)","v":"200005"}]
[null,{"$f":"'Market Data'!B106","v":20000525},{"$f":"'Market Data'!C106","v":8757.5},{"$f":"'Market Data'!D106","v":8857},{"$f":"'Market Data'!E106","v":8742.5},{"$f":"'Market Data'!F106","v":8806.5},null,102,{"$f":"IF($H120<($J$6+1),\"\",PFE(OFFSET($F120,0,0,-$J$6)))","v":-1.4079530779499839E-2},null,"Short",{"$error":"#N/A"},{"$error":"#N/A"},null,null,null,null,null,null,null,null,null,null,null,null,null,null,null,null,null,null,null,null,null,null,null,null,null,null,null,null,{"$f":"IF(NOT($AS120=$AS121),ROW(),\"\")","v":""},{"$f":"IF(NOT(AS120=AS121),AS121,\"\")","v":""},{"$f":"INDEX($AB$15:$AM$15,MATCH($AS120,$AB$11:$AM$11,0))","v":{"$error":"#N/A"}},{"$f":"LEFT(AT120,4)","v":"2000"},{"$f":"LEFT(B120,6)","v":"200005"}]
[null,{"$f":"'Market Data'!B107","v":20000526},{"$f":"'Market Data'!C107","v":8726.5},{"$f":"'Market Data'!D107","v":8833},{"$f":"'Market Data'!E107","v":8685.5},{"$f":"'Market Data'!F107","v":8802.5},null,103,{"$f":"IF($H121<($J$6+1),\"\",PFE(OFFSET($F121,0,0,-$J$6)))","v":-3.2925453128595628E-2},null,"Short",{"$error":"#N/A"},{"$error":"#N/A"},null,null,null,null,null,null,null,null,null,null,null,null,null,null,null,null,null,null,null,null,null,null,null,null,null,null,null,null,{"$f":"IF(NOT($AS121=$AS122),ROW(),\"\")","v":""},{"$f":"IF(NOT(AS121=AS122),AS122,\"\")","v":""},{"$f":"INDEX($AB$15:$AM$15,MATCH($AS121,$AB$11:$AM$11,0))","v":{"$error":"#N/A"}},{"$f":"LEFT(AT121,4)","v":"2000"},{"$f":"LEFT(B121,6)","v":"200005"}]
[null,{"$f":"'Market Data'!B108","v":20000529},{"$f":"'Market Data'!C108","v":8858.5},{"$f":"'Market Data'!D108","v":8887},{"$f":"'Market Data'!E108","v":8839},{"$f":"'Market Data'!F108","v":8880.5},null,104,{"$f":"IF($H122<($J$6+1),\"\",PFE(OFFSET($F122,0,0,-$J$6)))","v":-1.725865285209395E-2},null,"Short",{"$error":"#N/A"},{"$error":"#N/A"},null,null,null,null,null,null,null,null,null,null,null,null,null,null,null,null,null,null,null,null,null,null,null,null,null,null,null,null,{"$f":"IF(NOT($AS122=$AS123),ROW(),\"\")","v":""},{"$f":"IF(NOT(AS122=AS123),AS123,\"\")","v":""},{"$f":"INDEX($AB$15:$AM$15,MATCH($AS122,$AB$11:$AM$11,0))","v":{"$error":"#N/A"}},{"$f":"LEFT(AT122,4)","v":"2000"},{"$f":"LEFT(B122,6)","v":"200005"}]
[null,{"$f":"'Market Data'!B109","v":20000530},{"$f":"'Market Data'!C109","v":8896.5},{"$f":"'Market Data'!D109","v":9012},{"$f":"'Market Data'!E109","v":8891.5},{"$f":"'Market Data'!F109","v":8973.5},null,105,{"$f":"IF($H123<($J$6+1),\"\",PFE(OFFSET($F123,0,0,-$J$6)))","v":2.7713361155056803E-2},null,"Long",8973.5,{"$error":"#N/A"},null,null,null,null,null,null,null,null,null,null,null,null,null,null,null,null,null,null,null,null,null,null,null,null,null,null,null,null,{"$f":"IF(NOT($AS123=$AS124),ROW(),\"\")","v":""},{"$f":"IF(NOT(AS123=AS124),AS124,\"\")","v":""},{"$f":"INDEX($AB$15:$AM$15,MATCH($AS123,$AB$11:$AM$11,0))","v":{"$error":"#N/A"}},{"$f":"LEFT(AT123,4)","v":"2000"},{"$f":"LEFT(B123,6)","v":"200005"}]
[null,{"$f":"'Market Data'!B110","v":20000531},{"$f":"'Market Data'!C110","v":9054.5},{"$f":"'Market Data'!D110","v":9059.5},{"$f":"'Market Data'!E110","v":8956.5},{"$f":"'Market Data'!F110","v":8974.5},null,106,{"$f":"IF($H124<($J$6+1),\"\",PFE(OFFSET($F124,0,0,-$J$6)))","v":1.098586583461692E-2},null,"Long",{"$error":"#N/A"},{"$error":"#N/A"},null,null,null,null,null,null,null,null,null,null,null,null,null,null,null,null,null,null,null,null,null,null,null,null,null,null,null,null,{"$f":"IF(NOT($AS124=$AS125),ROW(),\"\")","v":""},{"$f":"IF(NOT(AS124=AS125),AS125,\"\")","v":""},{"$f":"INDEX($AB$15:$AM$15,MATCH($AS124,$AB$11:$AM$11,0))","v":{"$error":"#N/A"}},{"$f":"LEFT(AT124,4)","v":"2000"},{"$f":"LEFT(B124,6)","v":"200005"}]
[null,{"$f":"'Market Data'!B111","v":20000601},{"$f":"'Market Data'!C111","v":9014.5},{"$f":"'Market Data'!D111","v":9134.5},{"$f":"'Market Data'!E111","v":9004},{"$f":"'Market Data'!F111","v":9122.5},null,107,{"$f":"IF($H125<($J$6+1),\"\",PFE(OFFSET($F125,0,0,-$J$6)))","v":1.1428500800943604E-2},null,"Long",{"$error":"#N/A"},{"$error":"#N/A"},null,null,null,null,null,null,null,null,null,null,null,null,null,null,null,null,null,null,null,null,null,null,null,null,null,null,null,null,{"$f":"IF(NOT($AS125=$AS126),ROW(),\"\")","v":""},{"$f":"IF(NOT(AS125=AS126),AS126,\"\")","v":""},{"$f":"INDEX($AB$15:$AM$15,MATCH($AS125,$AB$11:$AM$11,0))","v":{"$error":"#N/A"}},{"$f":"LEFT(AT125,4)","v":"2000"},{"$f":"LEFT(B125,6)","v":"200006"}]
[null,{"$f":"'Market Data'!B112","v":20000602},{"$f":"'Market Data'!C112","v":9110.5},{"$f":"'Market Data'!D112","v":9314.5},{"$f":"'Market Data'!E112","v":9099.5},{"$f":"'Market Data'!F112","v":9289.5},null,108,{"$f":"IF($H126<($J$6+1),\"\",PFE(OFFSET($F126,0,0,-$J$6)))","v":1.0906469119516335E-2},null,"Long",{"$error":"#N/A"},{"$error":"#N/A"},null,null,null,null,null,null,null,null,null,null,null,null,null,null,null,null,null,null,null,null,null,null,null,null,null,null,null,null,{"$f":"IF(NOT($AS126=$AS127),ROW(),\"\")","v":""},{"$f":"IF(NOT(AS126=AS127),AS127,\"\")","v":""},{"$f":"INDEX($AB$15:$AM$15,MATCH($AS126,$AB$11:$AM$11,0))","v":{"$error":"#N/A"}},{"$f":"LEFT(AT126,4)","v":"2000"},{"$f":"LEFT(B126,6)","v":"200006"}]
[null,{"$f":"'Market Data'!B113","v":20000605},{"$f":"'Market Data'!C113","v":9290.5},{"$f":"'Market Data'!D113","v":9300},{"$f":"'Market Data'!E113","v":9205.5},{"$f":"'Market Data'!F113","v":9255.5},null,109,{"$f":"IF($H127<($J$6+1),\"\",PFE(OFFSET($F127,0,0,-$J$6)))","v":-1.1949861132745005E-2},null,"Short",{"$error":"#N/A"},9255.5,null,null,null,null,null,null,null,null,null,null,null,null,null,null,null,null,null,null,null,null,null,null,null,null,null,null,null,null,{"$f":"IF(NOT($AS127=$AS128),ROW(),\"\")","v":""},{"$f":"IF(NOT(AS127=AS128),AS128,\"\")","v":""},{"$f":"INDEX($AB$15:$AM$15,MATCH($AS127,$AB$11:$AM$11,0))","v":{"$error":"#N/A"}},{"$f":"LEFT(AT127,4)","v":"2000"},{"$f":"LEFT(B127,6)","v":"200006"}]
[null,{"$f":"'Market Data'!B114","v":20000606},{"$f":"'Market Data'!C114","v":9264.5},{"$f":"'Market Data'!D114","v":9319.5},{"$f":"'Market Data'!E114","v":9150.5},{"$f":"'Market Data'!F114","v":9206.5},null,110,{"$f":"IF($H128<($J$6+1),\"\",PFE(OFFSET($F128,0,0,-$J$6)))","v":-1.0507707910515645E-2},null,"Short",{"$error":"#N/A"},{"$error":"#N/A"},null,null,null,null,null,null,null,null,null,null,null,null,null,null,null,null,null,null,null,null,null,null,null,null,null,null,null,null,{"$f":"IF(NOT($AS128=$AS129),ROW(),\"\")","v":""},{"$f":"IF(NOT(AS128=AS129),AS129,\"\")","v":""},{"$f":"INDEX($AB$15:$AM$15,MATCH($AS128,$AB$11:$AM$11,0))","v":{"$error":"#N/A"}},{"$f":"LEFT(AT128,4)","v":"2000"},{"$f":"LEFT(B128,6)","v":"200006"}]
[null,{"$f":"'Market Data'!B115","v":20000607},{"$f":"'Market Data'!C115","v":9164.5},{"$f":"'Market Data'!D115","v":9178.5},{"$f":"'Market Data'!E115","v":9096},{"$f":"'Market Data'!F115","v":9141.5},null,111,{"$f":"IF($H129<($J$6+1),\"\",PFE(OFFSET($F129,0,0,-$J$6)))","v":-4.0263865188319863E-2},null,"Short",{"$error":"#N/A"},{"$error":"#N/A"},null,null,null,null,null,null,null,null,null,null,null,null,null,null,null,null,null,null,null,null,null,null,null,null,null,null,null,null,{"$f":"IF(NOT($AS129=$AS130),ROW(),\"\")","v":""},{"$f":"IF(NOT(AS129=AS130),AS130,\"\")","v":""},{"$f":"INDEX($AB$15:$AM$15,MATCH($AS129,$AB$11:$AM$11,0))","v":{"$error":"#N/A"}},{"$f":"LEFT(AT129,4)","v":"2000"},{"$f":"LEFT(B129,6)","v":"200006"}]
[null,{"$f":"'Market Data'!B116","v":20000608},{"$f":"'Market Data'!C116","v":9178.5},{"$f":"'Market Data'!D116","v":9242.5},{"$f":"'Market Data'!E116","v":9060.5},{"$f":"'Market Data'!F116","v":9117.5},null,112,{"$f":"IF($H130<($J$6+1),\"\",PFE(OFFSET($F130,0,0,-$J$6)))","v":-5.8533738234763141E-2},null,"Short",{"$error":"#N/A"},{"$error":"#N/A"},null,null,null,null,null,null,null,null,null,null,null,null,null,null,null,null,null,null,null,null,null,null,null,null,null,null,null,null,{"$f":"IF(NOT($AS130=$AS131),ROW(),\"\")","v":""},{"$f":"IF(NOT(AS130=AS131),AS131,\"\")","v":""},{"$f":"INDEX($AB$15:$AM$15,MATCH($AS130,$AB$11:$AM$11,0))","v":{"$error":"#N/A"}},{"$f":"LEFT(AT130,4)","v":"2000"},{"$f":"LEFT(B130,6)","v":"200006"}]
[null,{"$f":"'Market Data'!B117","v":20000609},{"$f":"'Market Data'!C117","v":9142.5},{"$f":"'Market Data'!D117","v":9209},{"$f":"'Market Data'!E117","v":9077},{"$f":"'Market Data'!F117","v":9081.5},null,113,{"$f":"IF($H131<($J$6+1),\"\",PFE(OFFSET($F131,0,0,-$J$6)))","v":-6.4445479332373365E-2},null,"Short",{"$error":"#N/A"},{"$error":"#N/A"},null,null,null,null,null,null,null,null,null,null,null,null,null,null,null,null,null,null,null,null,null,null,null,null,null,null,null,null,{"$f":"IF(NOT($AS131=$AS132),ROW(),\"\")","v":""},{"$f":"IF(NOT(AS131=AS132),AS132,\"\")","v":""},{"$f":"INDEX($AB$15:$AM$15,MATCH($AS131,$AB$11:$AM$11,0))","v":{"$error":"#N/A"}},{"$f":"LEFT(AT131,4)","v":"2000"},{"$f":"LEFT(B131,6)","v":"200006"}]
[null,{"$f":"'Market Data'!B118","v":20000612},{"$f":"'Market Data'!C118","v":9124.5},{"$f":"'Market Data'!D118","v":9165},{"$f":"'Market Data'!E118","v":9068.5},{"$f":"'Market Data'!F118","v":9085.5},null,114,{"$f":"IF($H132<($J$6+1),\"\",PFE(OFFSET($F132,0,0,-$J$6)))","v":-6.9209955072484564E-2},null,"Short",{"$error":"#N/A"},{"$error":"#N/A"},null,null,null,null,null,null,null,null,null,null,null,null,null,null,null,null,null,null,null,null,null,null,null,null,null,null,null,null,{"$f":"IF(NOT($AS132=$AS133),ROW(),\"\")","v":""},{"$f":"IF(NOT(AS132=AS133),AS133,\"\")","v":""},{"$f":"INDEX($AB$15:$AM$15,MATCH($AS132,$AB$11:$AM$11,0))","v":{"$error":"#N/A"}},{"$f":"LEFT(AT132,4)","v":"2000"},{"$f":"LEFT(B132,6)","v":"200006"}]
[null,{"$f":"'Market Data'!B119","v":20000613},{"$f":"'Market Data'!C119","v":9080.5},{"$f":"'Market Data'!D119","v":9159.5},{"$f":"'Market Data'!E119","v":9017.5},{"$f":"'Market Data'!F119","v":9116.5},null,115,{"$f":"IF($H133<($J$6+1),\"\",PFE(OFFSET($F133,0,0,-$J$6)))","v":-5.7575093667579291E-2},null,"Short",{"$error":"#N/A"},{"$error":"#N/A"},null,null,null,null,null,null,null,null,null,null,null,null,null,null,null,null,null,null,null,null,null,null,null,null,null,null,null,null,{"$f":"IF(NOT($AS133=$AS134),ROW(),\"\")","v":""},{"$f":"IF(NOT(AS133=AS134),AS134,\"\")","v":""},{"$f":"INDEX($AB$15:$AM$15,MATCH($AS133,$AB$11:$AM$11,0))","v":{"$error":"#N/A"}},{"$f":"LEFT(AT133,4)","v":"2000"},{"$f":"LEFT(B133,6)","v":"200006"}]
[null,{"$f":"'Market Data'!B120","v":20000614},{"$f":"'Market Data'!C120","v":9147},{"$f":"'Market Data'!D120","v":9223},{"$f":"'Market Data'!E120","v":9096},{"$f":"'Market Data'!F120","v":9204},null,116,{"$f":"IF($H134<($J$6+1),\"\",PFE(OFFSET($F134,0,0,-$J$6)))","v":-2.1053641315567771E-2},null,"Short",{"$error":"#N/A"},{"$error":"#N/A"},null,null,null,null,null,null,null,null,null,null,null,null,null,null,null,null,null,null,null,null,null,null,null,null,null,null,null,null,{"$f":"IF(NOT($AS134=$AS135),ROW(),\"\")","v":""},{"$f":"IF(NOT(AS134=AS135),AS135,\"\")","v":""},{"$f":"INDEX($AB$15:$AM$15,MATCH($AS134,$AB$11:$AM$11,0))","v":{"$error":"#N/A"}},{"$f":"LEFT(AT134,4)","v":"2000"},{"$f":"LEFT(B134,6)","v":"200006"}]
[null,{"$f":"'Market Data'!B121","v":20000615},{"$f":"'Market Data'!C121","v":9198},{"$f":"'Market Data'!D121","v":9236},{"$f":"'Market Data'!E121","v":9168},{"$f":"'Market Data'!F121","v":9195.5},null,117,{"$f":"IF($H135<($J$6+1),\"\",PFE(OFFSET($F135,0,0,-$J$6)))","v":-3.3228488579417938E-2},null,"Short",{"$error":"#N/A"},{"$error":"#N/A"},null,null,null,null,null,null,null,null,null,null,null,null,null,null,null,null,null,null,null,null,null,null,null,null,null,null,null,null,{"$f":"IF(NOT($AS135=$AS136),ROW(),\"\")","v":""},{"$f":"IF(NOT(AS135=AS136),AS136,\"\")","v":""},{"$f":"INDEX($AB$15:$AM$15,MATCH($AS135,$AB$11:$AM$11,0))","v":{"$error":"#N/A"}},{"$f":"LEFT(AT135,4)","v":"2000"},{"$f":"LEFT(B135,6)","v":"200006"}]
[null,{"$f":"'Market Data'!B122","v":20000616},{"$f":"'Market Data'!C122","v":9224.5},{"$f":"'Market Data'!D122","v":9228},{"$f":"'Market Data'!E122","v":9083},{"$f":"'Market Data'!F122","v":9105.5},null,118,{"$f":"IF($H136<($J$6+1),\"\",PFE(OFFSET($F136,0,0,-$J$6)))","v":-5.9317548712817039E-2},null,"Short",{"$error":"#N/A"},{"$error":"#N/A"},null,null,null,null,null,null,null,null,null,null,null,null,null,null,null,null,null,null,null,null,null,null,null,null,null,null,null,null,{"$f":"IF(NOT($AS136=$AS137),ROW(),\"\")","v":""},{"$f":"IF(NOT(AS136=AS137),AS137,\"\")","v":""},{"$f":"INDEX($AB$15:$AM$15,MATCH($AS136,$AB$11:$AM$11,0))","v":{"$error":"#N/A"}},{"$f":"LEFT(AT136,4)","v":"2000"},{"$f":"LEFT(B136,6)","v":"200006"}]
[null,{"$f":"'Market Data'!B123","v":20000619},{"$f":"'Market Data'!C123","v":9033},{"$f":"'Market Data'!D123","v":9073},{"$f":"'Market Data'!E123","v":8974},{"$f":"'Market Data'!F123","v":9068.5},null,119,{"$f":"IF($H137<($J$6+1),\"\",PFE(OFFSET($F137,0,0,-$J$6)))","v":-5.8822851912270602E-2},null,"Short",{"$error":"#N/A"},{"$error":"#N/A"},null,null,null,null,null,null,null,null,null,null,null,null,null,null,null,null,null,null,null,null,null,null,null,null,null,null,null,null,{"$f":"IF(NOT($AS137=$AS138),ROW(),\"\")","v":""},{"$f":"IF(NOT(AS137=AS138),AS138,\"\")","v":""},{"$f":"INDEX($AB$15:$AM$15,MATCH($AS137,$AB$11:$AM$11,0))","v":{"$error":"#N/A"}},{"$f":"LEFT(AT137,4)","v":"2000"},{"$f":"LEFT(B137,6)","v":"200006"}]
[null,{"$f":"'Market Data'!B124","v":20000620},{"$f":"'Market Data'!C124","v":9079.5},{"$f":"'Market Data'!D124","v":9110},{"$f":"'Market Data'!E124","v":9040.5},{"$f":"'Market Data'!F124","v":9060.5},null,120,{"$f":"IF($H138<($J$6+1),\"\",PFE(OFFSET($F138,0,0,-$J$6)))","v":-5.6219671604799175E-2},null,"Short",{"$error":"#N/A"},{"$error":"#N/A"},null,null,null,null,null,null,null,null,null,null,null,null,null,null,null,null,null,null,null,null,null,null,null,null,null,null,null,null,{"$f":"IF(NOT($AS138=$AS139),ROW(),\"\")","v":""},{"$f":"IF(NOT(AS138=AS139),AS139,\"\")","v":""},{"$f":"INDEX($AB$15:$AM$15,MATCH($AS138,$AB$11:$AM$11,0))","v":{"$error":"#N/A"}},{"$f":"LEFT(AT138,4)","v":"2000"},{"$f":"LEFT(B138,6)","v":"200006"}]
[null,{"$f":"'Market Data'!B125","v":20000621},{"$f":"'Market Data'!C125","v":9043},{"$f":"'Market Data'!D125","v":9081},{"$f":"'Market Data'!E125","v":8929},{"$f":"'Market Data'!F125","v":8976},null,121,{"$f":"IF($H139<($J$6+1),\"\",PFE(OFFSET($F139,0,0,-$J$6)))","v":-7.5461426974338427E-2},null,"Short",{"$error":"#N/A"},{"$error":"#N/A"},null,null,null,null,null,null,null,null,null,null,null,null,null,null,null,null,null,null,null,null,null,null,null,null,null,null,null,null,{"$f":"IF(NOT($AS139=$AS140),ROW(),\"\")","v":""},{"$f":"IF(NOT(AS139=AS140),AS140,\"\")","v":""},{"$f":"INDEX($AB$15:$AM$15,MATCH($AS139,$AB$11:$AM$11,0))","v":{"$error":"#N/A"}},{"$f":"LEFT(AT139,4)","v":"2000"},{"$f":"LEFT(B139,6)","v":"200006"}]
[null,{"$f":"'Market Data'!B126","v":20000622},{"$f":"'Market Data'!C126","v":8988},{"$f":"'Market Data'!D126","v":9013},{"$f":"'Market Data'!E126","v":8859},{"$f":"'Market Data'!F126","v":8898.5},null,122,{"$f":"IF($H140<($J$6+1),\"\",PFE(OFFSET($F140,0,0,-$J$6)))","v":-9.6710481942625645E-2},null,"Short",{"$error":"#N/A"},{"$error":"#N/A"},null,null,null,null,null,null,null,null,null,null,null,null,null,null,null,null,null,null,null,null,null,null,null,null,null,null,null,null,{"$f":"IF(NOT($AS140=$AS141),ROW(),\"\")","v":""},{"$f":"IF(NOT(AS140=AS141),AS141,\"\")","v":""},{"$f":"INDEX($AB$15:$AM$15,MATCH($AS140,$AB$11:$AM$11,0))","v":{"$error":"#N/A"}},{"$f":"LEFT(AT140,4)","v":"2000"},{"$f":"LEFT(B140,6)","v":"200006"}]
[null,{"$f":"'Market Data'!B127","v":20000623},{"$f":"'Market Data'!C127","v":8898},{"$f":"'Market Data'!D127","v":8919},{"$f":"'Market Data'!E127","v":8817},{"$f":"'Market Data'!F127","v":8818},null,123,{"$f":"IF($H141<($J$6+1),\"\",PFE(OFFSET($F141,0,0,-$J$6)))","v":-9.7791285019673185E-2},null,"Short",{"$error":"#N/A"},{"$error":"#N/A"},null,null,null,null,null,null,null,null,null,null,null,null,null,null,null,null,null,null,null,null,null,null,null,null,null,null,null,null,{"$f":"IF(NOT($AS141=$AS142),ROW(),\"\")","v":""},{"$f":"IF(NOT(AS141=AS142),AS142,\"\")","v":""},{"$f":"INDEX($AB$15:$AM$15,MATCH($AS141,$AB$11:$AM$11,0))","v":{"$error":"#N/A"}},{"$f":"LEFT(AT141,4)","v":"2000"},{"$f":"LEFT(B141,6)","v":"200006"}]
[null,{"$f":"'Market Data'!B128","v":20000626},{"$f":"'Market Data'!C128","v":8813},{"$f":"'Market Data'!D128","v":8926.5},{"$f":"'Market Data'!E128","v":8800},{"$f":"'Market Data'!F128","v":8868},null,124,{"$f":"IF($H142<($J$6+1),\"\",PFE(OFFSET($F142,0,0,-$J$6)))","v":-0.11193864267295578},null,"Short",{"$error":"#N/A"},{"$error":"#N/A"},null,null,null,null,null,null,null,null,null,null,null,null,null,null,null,null,null,null,null,null,null,null,null,null,null,null,null,null,{"$f":"IF(NOT($AS142=$AS143),ROW(),\"\")","v":""},{"$f":"IF(NOT(AS142=AS143),AS143,\"\")","v":""},{"$f":"INDEX($AB$15:$AM$15,MATCH($AS142,$AB$11:$AM$11,0))","v":{"$error":"#N/A"}},{"$f":"LEFT(AT142,4)","v":"2000"},{"$f":"LEFT(B142,6)","v":"200006"}]
[null,{"$f":"'Market Data'!B129","v":20000627},{"$f":"'Market Data'!C129","v":8873},{"$f":"'Market Data'!D129","v":8901},{"$f":"'Market Data'!E129","v":8795},{"$f":"'Market Data'!F129","v":8876.5},null,125,{"$f":"IF($H143<($J$6+1),\"\",PFE(OFFSET($F143,0,0,-$J$6)))","v":-8.6649067617725922E-2},null,"Short",{"$error":"#N/A"},{"$error":"#N/A"},null,null,null,null,null,null,null,null,null,null,null,null,null,null,null,null,null,null,null,null,null,null,null,null,null,null,null,null,{"$f":"IF(NOT($AS143=$AS144),ROW(),\"\")","v":""},{"$f":"IF(NOT(AS143=AS144),AS144,\"\")","v":""},{"$f":"INDEX($AB$15:$AM$15,MATCH($AS143,$AB$11:$AM$11,0))","v":{"$error":"#N/A"}},{"$f":"LEFT(AT143,4)","v":"2000"},{"$f":"LEFT(B143,6)","v":"200006"}]
[null,{"$f":"'Market Data'!B130","v":20000628},{"$f":"'Market Data'!C130","v":8901},{"$f":"'Market Data'!D130","v":8904.5},{"$f":"'Market Data'!E130","v":8835},{"$f":"'Market Data'!F130","v":8893},null,126,{"$f":"IF($H144<($J$6+1),\"\",PFE(OFFSET($F144,0,0,-$J$6)))","v":-9.9025790206032444E-2},null,"Short",{"$error":"#N/A"},{"$error":"#N/A"},null,null,null,null,null,null,null,null,null,null,null,null,null,null,null,null,null,null,null,null,null,null,null,null,null,null,null,null,{"$f":"IF(NOT($AS144=$AS145),ROW(),\"\")","v":""},{"$f":"IF(NOT(AS144=AS145),AS145,\"\")","v":""},{"$f":"INDEX($AB$15:$AM$15,MATCH($AS144,$AB$11:$AM$11,0))","v":{"$error":"#N/A"}},{"$f":"LEFT(AT144,4)","v":"2000"},{"$f":"LEFT(B144,6)","v":"200006"}]
[null,{"$f":"'Market Data'!B131","v":20000629},{"$f":"'Market Data'!C131","v":8883},{"$f":"'Market Data'!D131","v":8883},{"$f":"'Market Data'!E131","v":8671},{"$f":"'Market Data'!F131","v":8705},null,127,{"$f":"IF($H145<($J$6+1),\"\",PFE(OFFSET($F145,0,0,-$J$6)))","v":-0.12812629298946188},null,"Short",{"$error":"#N/A"},{"$error":"#N/A"},null,null,null,null,null,null,null,null,null,null,null,null,null,null,null,null,null,null,null,null,null,null,null,null,null,null,null,null,{"$f":"IF(NOT($AS145=$AS146),ROW(),\"\")","v":""},{"$f":"IF(NOT(AS145=AS146),AS146,\"\")","v":""},{"$f":"INDEX($AB$15:$AM$15,MATCH($AS145,$AB$11:$AM$11,0))","v":{"$error":"#N/A"}},{"$f":"LEFT(AT145,4)","v":"2000"},{"$f":"LEFT(B145,6)","v":"200006"}]
[null,{"$f":"'Market Data'!B132","v":20000630},{"$f":"'Market Data'!C132","v":8738},{"$f":"'Market Data'!D132","v":8783},{"$f":"'Market Data'!E132","v":8696.5},{"$f":"'Market Data'!F132","v":8713},null,128,{"$f":"IF($H146<($J$6+1),\"\",PFE(OFFSET($F146,0,0,-$J$6)))","v":-0.163316146095834},null,"Short",{"$error":"#N/A"},{"$error":"#N/A"},null,null,null,null,null,null,null,null,null,null,null,null,null,null,null,null,null,null,null,null,null,null,null,null,null,null,null,null,{"$f":"IF(NOT($AS146=$AS147),ROW(),\"\")","v":""},{"$f":"IF(NOT(AS146=AS147),AS147,\"\")","v":""},{"$f":"INDEX($AB$15:$AM$15,MATCH($AS146,$AB$11:$AM$11,0))","v":{"$error":"#N/A"}},{"$f":"LEFT(AT146,4)","v":"2000"},{"$f":"LEFT(B146,6)","v":"200006"}]
[null,{"$f":"'Market Data'!B133","v":20000703},{"$f":"'Market Data'!C133","v":8733},{"$f":"'Market Data'!D133","v":8791.5},{"$f":"'Market Data'!E133","v":8664},{"$f":"'Market Data'!F133","v":8791.5},null,129,{"$f":"IF($H147<($J$6+1),\"\",PFE(OFFSET($F147,0,0,-$J$6)))","v":-0.15301217806014714},null,"Short",{"$f":"IF(AND($K147=\"Long\",$K146<>\"Long\"),$F147,NA())","v":{"$error":"#N/A"}},{"$f":"IF(AND($K147=\"Short\",$K146<>\"Short\"),$F147,NA())","v":{"$error":"#N/A"}},null,null,null,null,null,null,null,null,null,null,null,null,null,null,null,null,null,null,null,null,null,null,null,null,null,null,null,null,{"$f":"IF(NOT($AS147=$AS148),ROW(),\"\")","v":""},{"$f":"IF(NOT(AS147=AS148),AS148,\"\")","v":""},{"$f":"INDEX($AB$15:$AM$15,MATCH($AS147,$AB$11:$AM$11,0))","v":{"$error":"#N/A"}},{"$f":"LEFT(AT147,4)","v":"2000"},{"$f":"LEFT(B147,6)","v":"200007"}]
[null,{"$f":"'Market Data'!B134","v":20000704},{"$f":"'Market Data'!C134","v":8748},{"$f":"'Market Data'!D134","v":8806},{"$f":"'Market Data'!E134","v":8730.5},{"$f":"'Market Data'!F134","v":8773},null,{"$f":"ROW()-ROW(H$18)","v":130},{"$f":"IF($H148<($J$6+1),\"\",PFE(OFFSET($F148,0,0,-$J$6)))","v":-0.15658662131140691},null,{"$f":"IF($I148=\"\",\"\",IF($I148>$J$4,\"Long\",IF($I148<$J$5,\"Short\",\"\")))","v":"Short"},{"$error":"#N/A"},{"$error":"#N/A"},null,null,null,null,null,null,null,null,null,null,null,null,null,null,null,null,null,null,null,null,null,null,null,null,null,null,null,null,{"$f":"IF(NOT($AS148=$AS149),ROW(),\"\")","v":""},{"$f":"IF(NOT(AS148=AS149),AS149,\"\")","v":""},{"$f":"INDEX($AB$15:$AM$15,MATCH($AS148,$AB$11:$AM$11,0))","v":{"$error":"#N/A"}},{"$f":"LEFT(AT148,4)","v":"2000"},{"$f":"LEFT(B148,6)","v":"200007"}]
[null,{"$f":"'Market Data'!B135","v":20000705},{"$f":"'Market Data'!C135","v":8782},{"$f":"'Market Data'!D135","v":8917.5},{"$f":"'Market Data'!E135","v":8768},{"$f":"'Market Data'!F135","v":8799},null,131,{"$f":"IF($H149<($J$6+1),\"\",PFE(OFFSET($F149,0,0,-$J$6)))","v":-0.16608329110451181},null,"Short",{"$error":"#N/A"},{"$error":"#N/A"},null,null,null,null,null,null,null,null,null,null,null,null,null,null,null,null,null,null,null,null,null,null,null,null,null,null,null,null,{"$f":"IF(NOT($AS149=$AS150),ROW(),\"\")","v":""},{"$f":"IF(NOT(AS149=AS150),AS150,\"\")","v":""},{"$f":"INDEX($AB$15:$AM$15,MATCH($AS149,$AB$11:$AM$11,0))","v":{"$error":"#N/A"}},{"$f":"LEFT(AT149,4)","v":"2000"},{"$f":"LEFT(B149,6)","v":"200007"}]
[null,{"$f":"'Market Data'!B136","v":20000706},{"$f":"'Market Data'!C136","v":8778},{"$f":"'Market Data'!D136","v":8805.5},{"$f":"'Market Data'!E136","v":8718},{"$f":"'Market Data'!F136","v":8783},null,132,{"$f":"IF($H150<($J$6+1),\"\",PFE(OFFSET($F150,0,0,-$J$6)))","v":-0.15810410292226731},null,"Short",{"$error":"#N/A"},{"$error":"#N/A"},null,null,null,null,null,null,null,null,null,null,null,null,null,null,null,null,null,null,null,null,null,null,null,null,null,null,null,null,{"$f":"IF(NOT($AS150=$AS151),ROW(),\"\")","v":""},{"$f":"IF(NOT(AS150=AS151),AS151,\"\")","v":""},{"$f":"INDEX($AB$15:$AM$15,MATCH($AS150,$AB$11:$AM$11,0))","v":{"$error":"#N/A"}},{"$f":"LEFT(AT150,4)","v":"2000"},{"$f":"LEFT(B150,6)","v":"200007"}]
[null,{"$f":"'Market Data'!B137","v":20000707},{"$f":"'Market Data'!C137","v":8804.5},{"$f":"'Market Data'!D137","v":8879.5},{"$f":"'Market Data'!E137","v":8733},{"$f":"'Market Data'!F137","v":8871},null,133,{"$f":"IF($H151<($J$6+1),\"\",PFE(OFFSET($F151,0,0,-$J$6)))","v":-0.14215337044335616},null,"Short",{"$error":"#N/A"},{"$error":"#N/A"},null,null,null,null,null,null,null,null,null,null,null,null,null,null,null,null,null,null,null,null,null,null,null,null,null,null,null,null,{"$f":"IF(NOT($AS151=$AS152),ROW(),\"\")","v":""},{"$f":"IF(NOT(AS151=AS152),AS152,\"\")","v":""},{"$f":"INDEX($AB$15:$AM$15,MATCH($AS151,$AB$11:$AM$11,0))","v":{"$error":"#N/A"}},{"$f":"LEFT(AT151,4)","v":"2000"},{"$f":"LEFT(B151,6)","v":"200007"}]
[null,{"$f":"'Market Data'!B138","v":20000710},{"$f":"'Market Data'!C138","v":8887.5},{"$f":"'Market Data'!D138","v":8951},{"$f":"'Market Data'!E138","v":8851},{"$f":"'Market Data'!F138","v":8889},null,134,{"$f":"IF($H152<($J$6+1),\"\",PFE(OFFSET($F152,0,0,-$J$6)))","v":-0.14279923739438502},null,"Short",{"$error":"#N/A"},{"$error":"#N/A"},null,null,null,null,null,null,null,null,null,null,null,null,null,null,null,null,null,null,null,null,null,null,null,null,null,null,null,null,{"$f":"IF(NOT($AS152=$AS153),ROW(),\"\")","v":""},{"$f":"IF(NOT(AS152=AS153),AS153,\"\")","v":""},{"$f":"INDEX($AB$15:$AM$15,MATCH($AS152,$AB$11:$AM$11,0))","v":{"$error":"#N/A"}},{"$f":"LEFT(AT152,4)","v":"2000"},{"$f":"LEFT(B152,6)","v":"200007"}]
[null,{"$f":"'Market Data'!B139","v":20000711},{"$f":"'Market Data'!C139","v":8873},{"$f":"'Market Data'!D139","v":8884.5},{"$f":"'Market Data'!E139","v":8776.5},{"$f":"'Market Data'!F139","v":8819},null,135,{"$f":"IF($H153<($J$6+1),\"\",PFE(OFFSET($F153,0,0,-$J$6)))","v":-0.1145608159405103},null,"Short",{"$error":"#N/A"},{"$error":"#N/A"},null,null,null,null,null,null,null,null,null,null,null,null,null,null,null,null,null,null,null,null,null,null,null,null,null,null,null,null,{"$f":"IF(NOT($AS153=$AS154),ROW(),\"\")","v":""},{"$f":"IF(NOT(AS153=AS154),AS154,\"\")","v":""},{"$f":"INDEX($AB$15:$AM$15,MATCH($AS153,$AB$11:$AM$11,0))","v":{"$error":"#N/A"}},{"$f":"LEFT(AT153,4)","v":"2000"},{"$f":"LEFT(B153,6)","v":"200007"}]
[null,{"$f":"'Market Data'!B140","v":20000712},{"$f":"'Market Data'!C140","v":8849.5},{"$f":"'Market Data'!D140","v":8922},{"$f":"'Market Data'!E140","v":8836},{"$f":"'Market Data'!F140","v":8888.5},null,136,{"$f":"IF($H154<($J$6+1),\"\",PFE(OFFSET($F154,0,0,-$J$6)))","v":-9.911096838174184E-2},null,"Short",{"$error":"#N/A"},{"$error":"#N/A"},null,null,null,null,null,null,null,null,null,null,null,null,null,null,null,null,null,null,null,null,null,null,null,null,null,null,null,null,{"$f":"IF(NOT($AS154=$AS155),ROW(),\"\")","v":""},{"$f":"IF(NOT(AS154=AS155),AS155,\"\")","v":""},{"$f":"INDEX($AB$15:$AM$15,MATCH($AS154,$AB$11:$AM$11,0))","v":{"$error":"#N/A"}},{"$f":"LEFT(AT154,4)","v":"2000"},{"$f":"LEFT(B154,6)","v":"200007"}]
[null,{"$f":"'Market Data'!B141","v":20000713},{"$f":"'Market Data'!C141","v":8884},{"$f":"'Market Data'!D141","v":9011.5},{"$f":"'Market Data'!E141","v":8823},{"$f":"'Market Data'!F141","v":9007},null,137,{"$f":"IF($H155<($J$6+1),\"\",PFE(OFFSET($F155,0,0,-$J$6)))","v":-5.140340547455334E-2},null,"Short",{"$error":"#N/A"},{"$error":"#N/A"},null,null,null,null,null,null,null,null,null,null,null,null,null,null,null,null,null,null,null,null,null,null,null,null,null,null,null,null,{"$f":"IF(NOT($AS155=$AS156),ROW(),\"\")","v":""},{"$f":"IF(NOT(AS155=AS156),AS156,\"\")","v":""},{"$f":"INDEX($AB$15:$AM$15,MATCH($AS155,$AB$11:$AM$11,0))","v":{"$error":"#N/A"}},{"$f":"LEFT(AT155,4)","v":"2000"},{"$f":"LEFT(B155,6)","v":"200007"}]
[null,{"$f":"'Market Data'!B142","v":20000714},{"$f":"'Market Data'!C142","v":9014},{"$f":"'Market Data'!D142","v":9161},{"$f":"'Market Data'!E142","v":8985},{"$f":"'Market Data'!F142","v":9142},null,138,{"$f":"IF($H156<($J$6+1),\"\",PFE(OFFSET($F156,0,0,-$J$6)))","v":-5.3755542759299245E-2},null,"Short",{"$error":"#N/A"},{"$error":"#N/A"},null,null,null,null,null,null,null,null,null,null,null,null,null,null,null,null,null,null,null,null,null,null,null,null,null,null,null,null,{"$f":"IF(NOT($AS156=$AS157),ROW(),\"\")","v":""},{"$f":"IF(NOT(AS156=AS157),AS157,\"\")","v":""},{"$f":"INDEX($AB$15:$AM$15,MATCH($AS156,$AB$11:$AM$11,0))","v":{"$error":"#N/A"}},{"$f":"LEFT(AT156,4)","v":"2000"},{"$f":"LEFT(B156,6)","v":"200007"}]
[null,{"$f":"'Market Data'!B143","v":20000717},{"$f":"'Market Data'!C143","v":9168.5},{"$f":"'Market Data'!D143","v":9243},{"$f":"'Market Data'!E143","v":9140.5},{"$f":"'Market Data'!F143","v":9236},null,139,{"$f":"IF($H157<($J$6+1),\"\",PFE(OFFSET($F157,0,0,-$J$6)))","v":-5.9047672212569652E-2},null,"Short",{"$error":"#N/A"},{"$error":"#N/A"},null,null,null,null,null,null,null,null,null,null,null,null,null,null,null,null,null,null,null,null,null,null,null,null,null,null,null,null,{"$f":"IF(NOT($AS157=$AS158),ROW(),\"\")","v":""},{"$f":"IF(NOT(AS157=AS158),AS158,\"\")","v":""},{"$f":"INDEX($AB$15:$AM$15,MATCH($AS157,$AB$11:$AM$11,0))","v":{"$error":"#N/A"}},{"$f":"LEFT(AT157,4)","v":"2000"},{"$f":"LEFT(B157,6)","v":"200007"}]
[null,{"$f":"'Market Data'!B144","v":20000718},{"$f":"'Market Data'!C144","v":9208},{"$f":"'Market Data'!D144","v":9273},{"$f":"'Market Data'!E144","v":9173},{"$f":"'Market Data'!F144","v":9207},null,140,{"$f":"IF($H158<($J$6+1),\"\",PFE(OFFSET($F158,0,0,-$J$6)))","v":-8.5246194637690967E-2},null,"Short",{"$error":"#N/A"},{"$error":"#N/A"},null,null,null,null,null,null,null,null,null,null,null,null,null,null,null,null,null,null,null,null,null,null,null,null,null,null,null,null,{"$f":"IF(NOT($AS158=$AS159),ROW(),\"\")","v":""},{"$f":"IF(NOT(AS158=AS159),AS159,\"\")","v":""},{"$f":"INDEX($AB$15:$AM$15,MATCH($AS158,$AB$11:$AM$11,0))","v":{"$error":"#N/A"}},{"$f":"LEFT(AT158,4)","v":"2000"},{"$f":"LEFT(B158,6)","v":"200007"}]
[null,{"$f":"'Market Data'!B145","v":20000719},{"$f":"'Market Data'!C145","v":9207},{"$f":"'Market Data'!D145","v":9213.5},{"$f":"'Market Data'!E145","v":9137},{"$f":"'Market Data'!F145","v":9178},null,141,{"$f":"IF($H159<($J$6+1),\"\",PFE(OFFSET($F159,0,0,-$J$6)))","v":-8.0846041690072395E-2},null,"Short",{"$error":"#N/A"},{"$error":"#N/A"},null,null,null,null,null,null,null,null,null,null,null,null,null,null,null,null,null,null,null,null,null,null,null,null,null,null,null,null,{"$f":"IF(NOT($AS159=$AS160),ROW(),\"\")","v":""},{"$f":"IF(NOT(AS159=AS160),AS160,\"\")","v":""},{"$f":"INDEX($AB$15:$AM$15,MATCH($AS159,$AB$11:$AM$11,0))","v":{"$error":"#N/A"}},{"$f":"LEFT(AT159,4)","v":"2000"},{"$f":"LEFT(B159,6)","v":"200007"}]
[null,{"$f":"'Market Data'!B146","v":20000720},{"$f":"'Market Data'!C146","v":9148},{"$f":"'Market Data'!D146","v":9308},{"$f":"'Market Data'!E146","v":9143},{"$f":"'Market Data'!F146","v":9303},null,142,{"$f":"IF($H160<($J$6+1),\"\",PFE(OFFSET($F160,0,0,-$J$6)))","v":-5.9587907243184121E-2},null,"Short",{"$error":"#N/A"},{"$error":"#N/A"},null,null,null,null,null,null,null,null,null,null,null,null,null,null,null,null,null,null,null,null,null,null,null,null,null,null,null,null,{"$f":"IF(NOT($AS160=$AS161),ROW(),\"\")","v":""},{"$f":"IF(NOT(AS160=AS161),AS161,\"\")","v":""},{"$f":"INDEX($AB$15:$AM$15,MATCH($AS160,$AB$11:$AM$11,0))","v":{"$error":"#N/A"}},{"$f":"LEFT(AT160,4)","v":"2000"},{"$f":"LEFT(B160,6)","v":"200007"}]
[null,{"$f":"'Market Data'!B147","v":20000721},{"$f":"'Market Data'!C147","v":9294},{"$f":"'Market Data'!D147","v":9312.5},{"$f":"'Market Data'!E147","v":9188},{"$f":"'Market Data'!F147","v":9197.5},null,143,{"$f":"IF($H161<($J$6+1),\"\",PFE(OFFSET($F161,0,0,-$J$6)))","v":-6.7581745594214412E-2},null,"Short",{"$error":"#N/A"},{"$error":"#N/A"},null,null,null,null,null,null,null,null,null,null,null,null,null,null,null,null,null,null,null,null,null,null,null,null,null,null,null,null,{"$f":"IF(NOT($AS161=$AS162),ROW(),\"\")","v":""},{"$f":"IF(NOT(AS161=AS162),AS162,\"\")","v":""},{"$f":"INDEX($AB$15:$AM$15,MATCH($AS161,$AB$11:$AM$11,0))","v":{"$error":"#N/A"}},{"$f":"LEFT(AT161,4)","v":"2000"},{"$f":"LEFT(B161,6)","v":"200007"}]
[null,{"$f":"'Market Data'!B148","v":20000724},{"$f":"'Market Data'!C148","v":9168.5},{"$f":"'Market Data'!D148","v":9243.5},{"$f":"'Market Data'!E148","v":9120},{"$f":"'Market Data'!F148","v":9122},null,144,{"$f":"IF($H162<($J$6+1),\"\",PFE(OFFSET($F162,0,0,-$J$6)))","v":-0.10194343306793126},null,"Short",{"$error":"#N/A"},{"$error":"#N/A"},null,null,null,null,null,null,null,null,null,null,null,null,null,null,null,null,null,null,null,null,null,null,null,null,null,null,null,null,{"$f":"IF(NOT($AS162=$AS163),ROW(),\"\")","v":""},{"$f":"IF(NOT(AS162=AS163),AS163,\"\")","v":""},{"$f":"INDEX($AB$15:$AM$15,MATCH($AS162,$AB$11:$AM$11,0))","v":{"$error":"#N/A"}},{"$f":"LEFT(AT162,4)","v":"2000"},{"$f":"LEFT(B162,6)","v":"200007"}]
[null,{"$f":"'Market Data'!B149","v":20000725},{"$f":"'Market Data'!C149","v":9114},{"$f":"'Market Data'!D149","v":9170},{"$f":"'Market Data'!E149","v":9105.5},{"$f":"'Market Data'!F149","v":9148},null,145,{"$f":"IF($H163<($J$6+1),\"\",PFE(OFFSET($F163,0,0,-$J$6)))","v":-9.7025177464584791E-2},null,"Short",{"$error":"#N/A"},{"$error":"#N/A"},null,null,null,null,null,null,null,null,null,null,null,null,null,null,null,null,null,null,null,null,null,null,null,null,null,null,null,null,{"$f":"IF(NOT($AS163=$AS164),ROW(),\"\")","v":""},{"$f":"IF(NOT(AS163=AS164),AS164,\"\")","v":""},{"$f":"INDEX($AB$15:$AM$15,MATCH($AS163,$AB$11:$AM$11,0))","v":{"$error":"#N/A"}},{"$f":"LEFT(AT163,4)","v":"2000"},{"$f":"LEFT(B163,6)","v":"200007"}]
[null,{"$f":"'Market Data'!B150","v":20000726},{"$f":"'Market Data'!C150","v":9159},{"$f":"'Market Data'!D150","v":9168},{"$f":"'Market Data'!E150","v":9061.5},{"$f":"'Market Data'!F150","v":9083},null,146,{"$f":"IF($H164<($J$6+1),\"\",PFE(OFFSET($F164,0,0,-$J$6)))","v":-0.10989437495638592},null,"Short",{"$error":"#N/A"},{"$error":"#N/A"},null,null,null,null,null,null,null,null,null,null,null,null,null,null,null,null,null,null,null,null,null,null,null,null,null,null,null,null,{"$f":"IF(NOT($AS164=$AS165),ROW(),\"\")","v":""},{"$f":"IF(NOT(AS164=AS165),AS165,\"\")","v":""},{"$f":"INDEX($AB$15:$AM$15,MATCH($AS164,$AB$11:$AM$11,0))","v":{"$error":"#N/A"}},{"$f":"LEFT(AT164,4)","v":"2000"},{"$f":"LEFT(B164,6)","v":"200007"}]
[null,{"$f":"'Market Data'!B151","v":20000727},{"$f":"'Market Data'!C151","v":9082},{"$f":"'Market Data'!D151","v":9141},{"$f":"'Market Data'!E151","v":8975.5},{"$f":"'Market Data'!F151","v":8990.5},null,147,{"$f":"IF($H165<($J$6+1),\"\",PFE(OFFSET($F165,0,0,-$J$6)))","v":-0.11713076922660631},null,"Short",{"$error":"#N/A"},{"$error":"#N/A"},null,null,null,null,null,null,null,null,null,null,null,null,null,null,null,null,null,null,null,null,null,null,null,null,null,null,null,null,{"$f":"IF(NOT($AS165=$AS166),ROW(),\"\")","v":""},{"$f":"IF(NOT(AS165=AS166),AS166,\"\")","v":""},{"$f":"INDEX($AB$15:$AM$15,MATCH($AS165,$AB$11:$AM$11,0))","v":{"$error":"#N/A"}},{"$f":"LEFT(AT165,4)","v":"2000"},{"$f":"LEFT(B165,6)","v":"200007"}]
[null,{"$f":"'Market Data'!B152","v":20000728},{"$f":"'Market Data'!C152","v":8994},{"$f":"'Market Data'!D152","v":9034},{"$f":"'Market Data'!E152","v":8878},{"$f":"'Market Data'!F152","v":8933},null,148,{"$f":"IF($H166<($J$6+1),\"\",PFE(OFFSET($F166,0,0,-$J$6)))","v":-9.3183489639625736E-2},null,"Short",{"$error":"#N/A"},{"$error":"#N/A"},null,null,null,null,null,null,null,null,null,null,null,null,null,null,null,null,null,null,null,null,null,null,null,null,null,null,null,null,{"$f":"IF(NOT($AS166=$AS167),ROW(),\"\")","v":""},{"$f":"IF(NOT(AS166=AS167),AS167,\"\")","v":""},{"$f":"INDEX($AB$15:$AM$15,MATCH($AS166,$AB$11:$AM$11,0))","v":{"$error":"#N/A"}},{"$f":"LEFT(AT166,4)","v":"2000"},{"$f":"LEFT(B166,6)","v":"200007"}]
[null,{"$f":"'Market Data'!B153","v":20000731},{"$f":"'Market Data'!C153","v":8933},{"$f":"'Market Data'!D153","v":9060},{"$f":"'Market Data'!E153","v":8914},{"$f":"'Market Data'!F153","v":9035},null,149,{"$f":"IF($H167<($J$6+1),\"\",PFE(OFFSET($F167,0,0,-$J$6)))","v":-6.3950656034033604E-2},null,"Short",{"$error":"#N/A"},{"$error":"#N/A"},null,null,null,null,null,null,null,null,null,null,null,null,null,null,null,null,null,null,null,null,null,null,null,null,null,null,null,null,{"$f":"IF(NOT($AS167=$AS168),ROW(),\"\")","v":""},{"$f":"IF(NOT(AS167=AS168),AS168,\"\")","v":""},{"$f":"INDEX($AB$15:$AM$15,MATCH($AS167,$AB$11:$AM$11,0))","v":{"$error":"#N/A"}},{"$f":"LEFT(AT167,4)","v":"2000"},{"$f":"LEFT(B167,6)","v":"200007"}]
[null,{"$f":"'Market Data'!B154","v":20000801},{"$f":"'Market Data'!C154","v":9034},{"$f":"'Market Data'!D154","v":9039},{"$f":"'Market Data'!E154","v":8898.5},{"$f":"'Market Data'!F154","v":8957},null,150,{"$f":"IF($H168<($J$6+1),\"\",PFE(OFFSET($F168,0,0,-$J$6)))","v":-5.6634438663276263E-2},null,"Short",{"$error":"#N/A"},{"$error":"#N/A"},null,null,null,null,null,null,null,null,null,null,null,null,null,null,null,null,null,null,null,null,null,null,null,null,null,null,null,null,{"$f":"IF(NOT($AS168=$AS169),ROW(),\"\")","v":""},{"$f":"IF(NOT(AS168=AS169),AS169,\"\")","v":""},{"$f":"INDEX($AB$15:$AM$15,MATCH($AS168,$AB$11:$AM$11,0))","v":{"$error":"#N/A"}},{"$f":"LEFT(AT168,4)","v":"2000"},{"$f":"LEFT(B168,6)","v":"200008"}]
[null,{"$f":"'Market Data'!B155","v":20000802},{"$f":"'Market Data'!C155","v":8978},{"$f":"'Market Data'!D155","v":9004},{"$f":"'Market Data'!E155","v":8872},{"$f":"'Market Data'!F155","v":8926},null,151,{"$f":"IF($H169<($J$6+1),\"\",PFE(OFFSET($F169,0,0,-$J$6)))","v":-7.827751699466845E-2},null,"Short",{"$error":"#N/A"},{"$error":"#N/A"},null,null,null,null,null,null,null,null,null,null,null,null,null,null,null,null,null,null,null,null,null,null,null,null,null,null,null,null,{"$f":"IF(NOT($AS169=$AS170),ROW(),\"\")","v":""},{"$f":"IF(NOT(AS169=AS170),AS170,\"\")","v":""},{"$f":"INDEX($AB$15:$AM$15,MATCH($AS169,$AB$11:$AM$11,0))","v":{"$error":"#N/A"}},{"$f":"LEFT(AT169,4)","v":"2000"},{"$f":"LEFT(B169,6)","v":"200008"}]
[null,{"$f":"'Market Data'!B156","v":20000803},{"$f":"'Market Data'!C156","v":8879},{"$f":"'Market Data'!D156","v":8898.5},{"$f":"'Market Data'!E156","v":8757},{"$f":"'Market Data'!F156","v":8803},null,152,{"$f":"IF($H170<($J$6+1),\"\",PFE(OFFSET($F170,0,0,-$J$6)))","v":-6.2228995284844657E-2},null,"Short",{"$error":"#N/A"},{"$error":"#N/A"},null,null,null,null,null,null,null,null,null,null,null,null,null,null,null,null,null,null,null,null,null,null,null,null,null,null,null,null,{"$f":"IF(NOT($AS170=$AS171),ROW(),\"\")","v":""},{"$f":"IF(NOT(AS170=AS171),AS171,\"\")","v":""},{"$f":"INDEX($AB$15:$AM$15,MATCH($AS170,$AB$11:$AM$11,0))","v":{"$error":"#N/A"}},{"$f":"LEFT(AT170,4)","v":"2000"},{"$f":"LEFT(B170,6)","v":"200008"}]
[null,{"$f":"'Market Data'!B157","v":20000804},{"$f":"'Market Data'!C157","v":8834},{"$f":"'Market Data'!D157","v":8908},{"$f":"'Market Data'!E157","v":8805},{"$f":"'Market Data'!F157","v":8823},null,153,{"$f":"IF($H171<($J$6+1),\"\",PFE(OFFSET($F171,0,0,-$J$6)))","v":-8.2216090931186481E-2},null,"Short",{"$error":"#N/A"},{"$error":"#N/A"},null,null,null,null,null,null,null,null,null,null,null,null,null,null,null,null,null,null,null,null,null,null,null,null,null,null,null,null,{"$f":"IF(NOT($AS171=$AS172),ROW(),\"\")","v":""},{"$f":"IF(NOT(AS171=AS172),AS172,\"\")","v":""},{"$f":"INDEX($AB$15:$AM$15,MATCH($AS171,$AB$11:$AM$11,0))","v":{"$error":"#N/A"}},{"$f":"LEFT(AT171,4)","v":"2000"},{"$f":"LEFT(B171,6)","v":"200008"}]
[null,{"$f":"'Market Data'!B158","v":20000807},{"$f":"'Market Data'!C158","v":8848},{"$f":"'Market Data'!D158","v":8937},{"$f":"'Market Data'!E158","v":8837},{"$f":"'Market Data'!F158","v":8933},null,154,{"$f":"IF($H172<($J$6+1),\"\",PFE(OFFSET($F172,0,0,-$J$6)))","v":-7.4076817885031704E-2},null,"Short",{"$error":"#N/A"},{"$error":"#N/A"},null,null,null,null,null,null,null,null,null,null,null,null,null,null,null,null,null,null,null,null,null,null,null,null,null,null,null,null,{"$f":"IF(NOT($AS172=$AS173),ROW(),\"\")","v":""},{"$f":"IF(NOT(AS172=AS173),AS173,\"\")","v":""},{"$f":"INDEX($AB$15:$AM$15,MATCH($AS172,$AB$11:$AM$11,0))","v":{"$error":"#N/A"}},{"$f":"LEFT(AT172,4)","v":"2000"},{"$f":"LEFT(B172,6)","v":"200008"}]
[null,{"$f":"'Market Data'!B159","v":20000808},{"$f":"'Market Data'!C159","v":8918},{"$f":"'Market Data'!D159","v":8992.5},{"$f":"'Market Data'!E159","v":8883},{"$f":"'Market Data'!F159","v":8944},null,155,{"$f":"IF($H173<($J$6+1),\"\",PFE(OFFSET($F173,0,0,-$J$6)))","v":-7.5170240994829662E-2},null,"Short",{"$error":"#N/A"},{"$error":"#N/A"},null,null,null,null,null,null,null,null,null,null,null,null,null,null,null,null,null,null,null,null,null,null,null,null,null,null,null,null,{"$f":"IF(NOT($AS173=$AS174),ROW(),\"\")","v":""},{"$f":"IF(NOT(AS173=AS174),AS174,\"\")","v":""},{"$f":"INDEX($AB$15:$AM$15,MATCH($AS173,$AB$11:$AM$11,0))","v":{"$error":"#N/A"}},{"$f":"LEFT(AT173,4)","v":"2000"},{"$f":"LEFT(B173,6)","v":"200008"}]
[null,{"$f":"'Market Data'!B160","v":20000809},{"$f":"'Market Data'!C160","v":8972},{"$f":"'Market Data'!D160","v":9063.5},{"$f":"'Market Data'!E160","v":8971},{"$f":"'Market Data'!F160","v":9038},null,156,{"$f":"IF($H174<($J$6+1),\"\",PFE(OFFSET($F174,0,0,-$J$6)))","v":-4.6626681329412924E-2},null,"Short",{"$error":"#N/A"},{"$error":"#N/A"},null,null,null,null,null,null,null,null,null,null,null,null,null,null,null,null,null,null,null,null,null,null,null,null,null,null,null,null,{"$f":"IF(NOT($AS174=$AS175),ROW(),\"\")","v":""},{"$f":"IF(NOT(AS174=AS175),AS175,\"\")","v":""},{"$f":"INDEX($AB$15:$AM$15,MATCH($AS174,$AB$11:$AM$11,0))","v":{"$error":"#N/A"}},{"$f":"LEFT(AT174,4)","v":"2000"},{"$f":"LEFT(B174,6)","v":"200008"}]
[null,{"$f":"'Market Data'!B161","v":20000810},{"$f":"'Market Data'!C161","v":9013},{"$f":"'Market Data'!D161","v":9108.5},{"$f":"'Market Data'!E161","v":9010},{"$f":"'Market Data'!F161","v":9069.5},null,157,{"$f":"IF($H175<($J$6+1),\"\",PFE(OFFSET($F175,0,0,-$J$6)))","v":-3.8062117323172308E-2},null,"Short",{"$error":"#N/A"},{"$error":"#N/A"},null,null,null,null,null,null,null,null,null,null,null,null,null,null,null,null,null,null,null,null,null,null,null,null,null,null,null,null,{"$f":"IF(NOT($AS175=$AS176),ROW(),\"\")","v":""},{"$f":"IF(NOT(AS175=AS176),AS176,\"\")","v":""},{"$f":"INDEX($AB$15:$AM$15,MATCH($AS175,$AB$11:$AM$11,0))","v":{"$error":"#N/A"}},{"$f":"LEFT(AT175,4)","v":"2000"},{"$f":"LEFT(B175,6)","v":"200008"}]
[null,{"$f":"'Market Data'!B162","v":20000811},{"$f":"'Market Data'!C162","v":9063},{"$f":"'Market Data'!D162","v":9125},{"$f":"'Market Data'!E162","v":9019},{"$f":"'Market Data'!F162","v":9114},null,158,{"$f":"IF($H176<($J$6+1),\"\",PFE(OFFSET($F176,0,0,-$J$6)))","v":-3.4914178170528193E-2},null,"Short",{"$error":"#N/A"},{"$error":"#N/A"},null,null,null,null,null,null,null,null,null,null,null,null,null,null,null,null,null,null,null,null,null,null,null,null,null,null,null,null,{"$f":"IF(NOT($AS176=$AS177),ROW(),\"\")","v":""},{"$f":"IF(NOT(AS176=AS177),AS177,\"\")","v":""},{"$f":"INDEX($AB$15:$AM$15,MATCH($AS176,$AB$11:$AM$11,0))","v":{"$error":"#N/A"}},{"$f":"LEFT(AT176,4)","v":"2000"},{"$f":"LEFT(B176,6)","v":"200008"}]
[null,{"$f":"'Market Data'!B163","v":20000814},{"$f":"'Market Data'!C163","v":9129},{"$f":"'Market Data'!D163","v":9162},{"$f":"'Market Data'!E163","v":9090},{"$f":"'Market Data'!F163","v":9111},null,159,{"$f":"IF($H177<($J$6+1),\"\",PFE(OFFSET($F177,0,0,-$J$6)))","v":1.5274131294768435E-2},null,"Long",9111,{"$error":"#N/A"},null,null,null,null,null,null,null,null,null,null,null,null,null,null,null,null,null,null,null,null,null,null,null,null,null,null,null,null,{"$f":"IF(NOT($AS177=$AS178),ROW(),\"\")","v":""},{"$f":"IF(NOT(AS177=AS178),AS178,\"\")","v":""},{"$f":"INDEX($AB$15:$AM$15,MATCH($AS177,$AB$11:$AM$11,0))","v":{"$error":"#N/A"}},{"$f":"LEFT(AT177,4)","v":"2000"},{"$f":"LEFT(B177,6)","v":"200008"}]
[null,{"$f":"'Market Data'!B164","v":20000815},{"$f":"'Market Data'!C164","v":9157},{"$f":"'Market Data'!D164","v":9167.5},{"$f":"'Market Data'!E164","v":9071},{"$f":"'Market Data'!F164","v":9083},null,160,{"$f":"IF($H178<($J$6+1),\"\",PFE(OFFSET($F178,0,0,-$J$6)))","v":1.4777782482532762E-2},null,"Long",{"$error":"#N/A"},{"$error":"#N/A"},null,null,null,null,null,null,null,null,null,null,null,null,null,null,null,null,null,null,null,null,null,null,null,null,null,null,null,null,{"$f":"IF(NOT($AS178=$AS179),ROW(),\"\")","v":""},{"$f":"IF(NOT(AS178=AS179),AS179,\"\")","v":""},{"$f":"INDEX($AB$15:$AM$15,MATCH($AS178,$AB$11:$AM$11,0))","v":{"$error":"#N/A"}},{"$f":"LEFT(AT178,4)","v":"2000"},{"$f":"LEFT(B178,6)","v":"200008"}]
[null,{"$f":"'Market Data'!B165","v":20000816},{"$f":"'Market Data'!C165","v":9103},{"$f":"'Market Data'!D165","v":9156},{"$f":"'Market Data'!E165","v":9082.5},{"$f":"'Market Data'!F165","v":9119},null,161,{"$f":"IF($H179<($J$6+1),\"\",PFE(OFFSET($F179,0,0,-$J$6)))","v":1.4391946292862829E-2},null,"Long",{"$error":"#N/A"},{"$error":"#N/A"},null,null,null,null,null,null,null,null,null,null,null,null,null,null,null,null,null,null,null,null,null,null,null,null,null,null,null,null,{"$f":"IF(NOT($AS179=$AS180),ROW(),\"\")","v":""},{"$f":"IF(NOT(AS179=AS180),AS180,\"\")","v":""},{"$f":"INDEX($AB$15:$AM$15,MATCH($AS179,$AB$11:$AM$11,0))","v":{"$error":"#N/A"}},{"$f":"LEFT(AT179,4)","v":"2000"},{"$f":"LEFT(B179,6)","v":"200008"}]
[null,{"$f":"'Market Data'!B166","v":20000817},{"$f":"'Market Data'!C166","v":9118},{"$f":"'Market Data'!D166","v":9126},{"$f":"'Market Data'!E166","v":8998},{"$f":"'Market Data'!F166","v":9060},null,162,{"$f":"IF($H180<($J$6+1),\"\",PFE(OFFSET($F180,0,0,-$J$6)))","v":-1.3843879654003454E-2},null,"Short",{"$error":"#N/A"},9060,null,null,null,null,null,null,null,null,null,null,null,null,null,null,null,null,null,null,null,null,null,null,null,null,null,null,null,null,{"$f":"IF(NOT($AS180=$AS181),ROW(),\"\")","v":""},{"$f":"IF(NOT(AS180=AS181),AS181,\"\")","v":""},{"$f":"INDEX($AB$15:$AM$15,MATCH($AS180,$AB$11:$AM$11,0))","v":{"$error":"#N/A"}},{"$f":"LEFT(AT180,4)","v":"2000"},{"$f":"LEFT(B180,6)","v":"200008"}]
[null,{"$f":"'Market Data'!B167","v":20000818},{"$f":"'Market Data'!C167","v":9063},{"$f":"'Market Data'!D167","v":9112},{"$f":"'Market Data'!E167","v":9007},{"$f":"'Market Data'!F167","v":9010.5},null,163,{"$f":"IF($H181<($J$6+1),\"\",PFE(OFFSET($F181,0,0,-$J$6)))","v":-1.6082894581823211E-2},null,"Short",{"$error":"#N/A"},{"$error":"#N/A"},null,null,null,null,null,null,null,null,null,null,null,null,null,null,null,null,null,null,null,null,null,null,null,null,null,null,null,null,{"$f":"IF(NOT($AS181=$AS182),ROW(),\"\")","v":""},{"$f":"IF(NOT(AS181=AS182),AS182,\"\")","v":""},{"$f":"INDEX($AB$15:$AM$15,MATCH($AS181,$AB$11:$AM$11,0))","v":{"$error":"#N/A"}},{"$f":"LEFT(AT181,4)","v":"2000"},{"$f":"LEFT(B181,6)","v":"200008"}]
[null,{"$f":"'Market Data'!B168","v":20000821},{"$f":"'Market Data'!C168","v":9038},{"$f":"'Market Data'!D168","v":9038},{"$f":"'Market Data'!E168","v":8933.5},{"$f":"'Market Data'!F168","v":8976},null,164,{"$f":"IF($H182<($J$6+1),\"\",PFE(OFFSET($F182,0,0,-$J$6)))","v":-3.4280634098035875E-2},null,"Short",{"$error":"#N/A"},{"$error":"#N/A"},null,null,null,null,null,null,null,null,null,null,null,null,null,null,null,null,null,null,null,null,null,null,null,null,null,null,null,null,{"$f":"IF(NOT($AS182=$AS183),ROW(),\"\")","v":""},{"$f":"IF(NOT(AS182=AS183),AS183,\"\")","v":""},{"$f":"INDEX($AB$15:$AM$15,MATCH($AS182,$AB$11:$AM$11,0))","v":{"$error":"#N/A"}},{"$f":"LEFT(AT182,4)","v":"2000"},{"$f":"LEFT(B182,6)","v":"200008"}]
[null,{"$f":"'Market Data'!B169","v":20000822},{"$f":"'Market Data'!C169","v":8998},{"$f":"'Market Data'!D169","v":9074},{"$f":"'Market Data'!E169","v":8991.5},{"$f":"'Market Data'!F169","v":9037},null,165,{"$f":"IF($H183<($J$6+1),\"\",PFE(OFFSET($F183,0,0,-$J$6)))","v":-3.6962483087177138E-2},null,"Short",{"$error":"#N/A"},{"$error":"#N/A"},null,null,null,null,null,null,null,null,null,null,null,null,null,null,null,null,null,null,null,null,null,null,null,null,null,null,null,null,{"$f":"IF(NOT($AS183=$AS184),ROW(),\"\")","v":""},{"$f":"IF(NOT(AS183=AS184),AS184,\"\")","v":""},{"$f":"INDEX($AB$15:$AM$15,MATCH($AS183,$AB$11:$AM$11,0))","v":{"$error":"#N/A"}},{"$f":"LEFT(AT183,4)","v":"2000"},{"$f":"LEFT(B183,6)","v":"200008"}]
[null,{"$f":"'Market Data'!B170","v":20000823},{"$f":"'Market Data'!C170","v":9043},{"$f":"'Market Data'!D170","v":9043},{"$f":"'Market Data'!E170","v":8938},{"$f":"'Market Data'!F170","v":9002},null,166,{"$f":"IF($H184<($J$6+1),\"\",PFE(OFFSET($F184,0,0,-$J$6)))","v":-1.7534751356935687E-2},null,"Short",{"$error":"#N/A"},{"$error":"#N/A"},null,null,null,null,null,null,null,null,null,null,null,null,null,null,null,null,null,null,null,null,null,null,null,null,null,null,null,null,{"$f":"IF(NOT($AS184=$AS185),ROW(),\"\")","v":""},{"$f":"IF(NOT(AS184=AS185),AS185,\"\")","v":""},{"$f":"INDEX($AB$15:$AM$15,MATCH($AS184,$AB$11:$AM$11,0))","v":{"$error":"#N/A"}},{"$f":"LEFT(AT184,4)","v":"2000"},{"$f":"LEFT(B184,6)","v":"200008"}]
[null,{"$f":"'Market Data'!B171","v":20000824},{"$f":"'Market Data'!C171","v":9058},{"$f":"'Market Data'!D171","v":9063.5},{"$f":"'Market Data'!E171","v":8994},{"$f":"'Market Data'!F171","v":8998},null,167,{"$f":"IF($H185<($J$6+1),\"\",PFE(OFFSET($F185,0,0,-$J$6)))","v":-5.5990901766949368E-2},null,"Short",{"$error":"#N/A"},{"$error":"#N/A"},null,null,null,null,null,null,null,null,null,null,null,null,null,null,null,null,null,null,null,null,null,null,null,null,null,null,null,null,{"$f":"IF(NOT($AS185=$AS186),ROW(),\"\")","v":""},{"$f":"IF(NOT(AS185=AS186),AS186,\"\")","v":""},{"$f":"INDEX($AB$15:$AM$15,MATCH($AS185,$AB$11:$AM$11,0))","v":{"$error":"#N/A"}},{"$f":"LEFT(AT185,4)","v":"2000"},{"$f":"LEFT(B185,6)","v":"200008"}]
[null,{"$f":"'Market Data'!B172","v":20000825},{"$f":"'Market Data'!C172","v":9024},{"$f":"'Market Data'!D172","v":9120},{"$f":"'Market Data'!E172","v":9015},{"$f":"'Market Data'!F172","v":9108},null,168,{"$f":"IF($H186<($J$6+1),\"\",PFE(OFFSET($F186,0,0,-$J$6)))","v":-5.7610996838490025E-2},null,"Short",{"$error":"#N/A"},{"$error":"#N/A"},null,null,null,null,null,null,null,null,null,null,null,null,null,null,null,null,null,null,null,null,null,null,null,null,null,null,null,null,{"$f":"IF(NOT($AS186=$AS187),ROW(),\"\")","v":""},{"$f":"IF(NOT(AS186=AS187),AS187,\"\")","v":""},{"$f":"INDEX($AB$15:$AM$15,MATCH($AS186,$AB$11:$AM$11,0))","v":{"$error":"#N/A"}},{"$f":"LEFT(AT186,4)","v":"2000"},{"$f":"LEFT(B186,6)","v":"200008"}]
[null,{"$f":"'Market Data'!B173","v":20000828},{"$f":"'Market Data'!C173","v":9119},{"$f":"'Market Data'!D173","v":9182},{"$f":"'Market Data'!E173","v":9088.5},{"$f":"'Market Data'!F173","v":9126},null,169,{"$f":"IF($H187<($J$6+1),\"\",PFE(OFFSET($F187,0,0,-$J$6)))","v":-2.3429964870989698E-2},null,"Short",{"$error":"#N/A"},{"$error":"#N/A"},null,null,null,null,null,null,null,null,null,null,null,null,null,null,null,null,null,null,null,null,null,null,null,null,null,null,null,null,{"$f":"IF(NOT($AS187=$AS188),ROW(),\"\")","v":""},{"$f":"IF(NOT(AS187=AS188),AS188,\"\")","v":""},{"$f":"INDEX($AB$15:$AM$15,MATCH($AS187,$AB$11:$AM$11,0))","v":{"$error":"#N/A"}},{"$f":"LEFT(AT187,4)","v":"2000"},{"$f":"LEFT(B187,6)","v":"200008"}]
[null,{"$f":"'Market Data'!B174","v":20000829},{"$f":"'Market Data'!C174","v":9105.5},{"$f":"'Market Data'!D174","v":9109.5},{"$f":"'Market Data'!E174","v":9049},{"$f":"'Market Data'!F174","v":9068},null,170,{"$f":"IF($H188<($J$6+1),\"\",PFE(OFFSET($F188,0,0,-$J$6)))","v":-3.6686259865905076E-2},null,"Short",{"$error":"#N/A"},{"$error":"#N/A"},null,null,null,null,null,null,null,null,null,null,null,null,null,null,null,null,null,null,null,null,null,null,null,null,null,null,null,null,{"$f":"IF(NOT($AS188=$AS189),ROW(),\"\")","v":""},{"$f":"IF(NOT(AS188=AS189),AS189,\"\")","v":""},{"$f":"INDEX($AB$15:$AM$15,MATCH($AS188,$AB$11:$AM$11,0))","v":{"$error":"#N/A"}},{"$f":"LEFT(AT188,4)","v":"2000"},{"$f":"LEFT(B188,6)","v":"200008"}]
[null,{"$f":"'Market Data'!B175","v":20000830},{"$f":"'Market Data'!C175","v":9055},{"$f":"'Market Data'!D175","v":9057},{"$f":"'Market Data'!E175","v":8954},{"$f":"'Market Data'!F175","v":8959},null,171,{"$f":"IF($H189<($J$6+1),\"\",PFE(OFFSET($F189,0,0,-$J$6)))","v":-7.6068718441458225E-2},null,"Short",{"$error":"#N/A"},{"$error":"#N/A"},null,null,null,null,null,null,null,null,null,null,null,null,null,null,null,null,null,null,null,null,null,null,null,null,null,null,null,null,{"$f":"IF(NOT($AS189=$AS190),ROW(),\"\")","v":""},{"$f":"IF(NOT(AS189=AS190),AS190,\"\")","v":""},{"$f":"INDEX($AB$15:$AM$15,MATCH($AS189,$AB$11:$AM$11,0))","v":{"$error":"#N/A"}},{"$f":"LEFT(AT189,4)","v":"2000"},{"$f":"LEFT(B189,6)","v":"200008"}]
[null,{"$f":"'Market Data'!B176","v":20000831},{"$f":"'Market Data'!C176","v":8976},{"$f":"'Market Data'!D176","v":9031},{"$f":"'Market Data'!E176","v":8943},{"$f":"'Market Data'!F176","v":9023},null,172,{"$f":"IF($H190<($J$6+1),\"\",PFE(OFFSET($F190,0,0,-$J$6)))","v":-4.7039450321185249E-2},null,"Short",{"$error":"#N/A"},{"$error":"#N/A"},null,null,null,null,null,null,null,null,null,null,null,null,null,null,null,null,null,null,null,null,null,null,null,null,null,null,null,null,{"$f":"IF(NOT($AS190=$AS191),ROW(),\"\")","v":""},{"$f":"IF(NOT(AS190=AS191),AS191,\"\")","v":""},{"$f":"INDEX($AB$15:$AM$15,MATCH($AS190,$AB$11:$AM$11,0))","v":{"$error":"#N/A"}},{"$f":"LEFT(AT190,4)","v":"2000"},{"$f":"LEFT(B190,6)","v":"200008"}]
[null,{"$f":"'Market Data'!B177","v":20000901},{"$f":"'Market Data'!C177","v":9005},{"$f":"'Market Data'!D177","v":9175.5},{"$f":"'Market Data'!E177","v":9005},{"$f":"'Market Data'!F177","v":9133.5},null,173,{"$f":"IF($H191<($J$6+1),\"\",PFE(OFFSET($F191,0,0,-$J$6)))","v":1.5404579504712211E-2},null,"Long",9133.5,{"$error":"#N/A"},null,null,null,null,null,null,null,null,null,null,null,null,null,null,null,null,null,null,null,null,null,null,null,null,null,null,null,null,{"$f":"IF(NOT($AS191=$AS192),ROW(),\"\")","v":""},{"$f":"IF(NOT(AS191=AS192),AS192,\"\")","v":""},{"$f":"INDEX($AB$15:$AM$15,MATCH($AS191,$AB$11:$AM$11,0))","v":{"$error":"#N/A"}},{"$f":"LEFT(AT191,4)","v":"2000"},{"$f":"LEFT(B191,6)","v":"200009"}]
[null,{"$f":"'Market Data'!B178","v":20000904},{"$f":"'Market Data'!C178","v":9138},{"$f":"'Market Data'!D178","v":9231},{"$f":"'Market Data'!E178","v":9137},{"$f":"'Market Data'!F178","v":9222},null,174,{"$f":"IF($H192<($J$6+1),\"\",PFE(OFFSET($F192,0,0,-$J$6)))","v":4.6261578239670635E-2},null,"Long",{"$error":"#N/A"},{"$error":"#N/A"},null,null,null,null,null,null,null,null,null,null,null,null,null,null,null,null,null,null,null,null,null,null,null,null,null,null,null,null,{"$f":"IF(NOT($AS192=$AS193),ROW(),\"\")","v":""},{"$f":"IF(NOT(AS192=AS193),AS193,\"\")","v":""},{"$f":"INDEX($AB$15:$AM$15,MATCH($AS192,$AB$11:$AM$11,0))","v":{"$error":"#N/A"}},{"$f":"LEFT(AT192,4)","v":"2000"},{"$f":"LEFT(B192,6)","v":"200009"}]
[null,{"$f":"'Market Data'!B179","v":20000905},{"$f":"'Market Data'!C179","v":9221.5},{"$f":"'Market Data'!D179","v":9221.5},{"$f":"'Market Data'!E179","v":9146},{"$f":"'Market Data'!F179","v":9169},null,175,{"$f":"IF($H193<($J$6+1),\"\",PFE(OFFSET($F193,0,0,-$J$6)))","v":1.6751726978009338E-2},null,"Long",{"$error":"#N/A"},{"$error":"#N/A"},null,null,null,null,null,null,null,null,null,null,null,null,null,null,null,null,null,null,null,null,null,null,null,null,null,null,null,null,{"$f":"IF(NOT($AS193=$AS194),ROW(),\"\")","v":""},{"$f":"IF(NOT(AS193=AS194),AS194,\"\")","v":""},{"$f":"INDEX($AB$15:$AM$15,MATCH($AS193,$AB$11:$AM$11,0))","v":{"$error":"#N/A"}},{"$f":"LEFT(AT193,4)","v":"2000"},{"$f":"LEFT(B193,6)","v":"200009"}]
[null,{"$f":"'Market Data'!B180","v":20000906},{"$f":"'Market Data'!C180","v":9163},{"$f":"'Market Data'!D180","v":9209},{"$f":"'Market Data'!E180","v":9088},{"$f":"'Market Data'!F180","v":9091},null,176,{"$f":"IF($H194<($J$6+1),\"\",PFE(OFFSET($F194,0,0,-$J$6)))","v":-1.6718333333861104E-2},null,"Short",{"$error":"#N/A"},9091,null,null,null,null,null,null,null,null,null,null,null,null,null,null,null,null,null,null,null,null,null,null,null,null,null,null,null,null,{"$f":"IF(NOT($AS194=$AS195),ROW(),\"\")","v":""},{"$f":"IF(NOT(AS194=AS195),AS195,\"\")","v":""},{"$f":"INDEX($AB$15:$AM$15,MATCH($AS194,$AB$11:$AM$11,0))","v":{"$error":"#N/A"}},{"$f":"LEFT(AT194,4)","v":"2000"},{"$f":"LEFT(B194,6)","v":"200009"}]
[null,{"$f":"'Market Data'!B181","v":20000907},{"$f":"'Market Data'!C181","v":9070},{"$f":"'Market Data'!D181","v":9157},{"$f":"'Market Data'!E181","v":9059.5},{"$f":"'Market Data'!F181","v":9143},null,177,{"$f":"IF($H195<($J$6+1),\"\",PFE(OFFSET($F195,0,0,-$J$6)))","v":2.1327724260828566E-2},null,"Long",9143,{"$error":"#N/A"},null,null,null,null,null,null,null,null,null,null,null,null,null,null,null,null,null,null,null,null,null,null,null,null,null,null,null,null,{"$f":"IF(NOT($AS195=$AS196),ROW(),\"\")","v":""},{"$f":"IF(NOT(AS195=AS196),AS196,\"\")","v":""},{"$f":"INDEX($AB$15:$AM$15,MATCH($AS195,$AB$11:$AM$11,0))","v":{"$error":"#N/A"}},{"$f":"LEFT(AT195,4)","v":"2000"},{"$f":"LEFT(B195,6)","v":"200009"}]
[null,{"$f":"'Market Data'!B182","v":20000908},{"$f":"'Market Data'!C182","v":9151.5},{"$f":"'Market Data'!D182","v":9163},{"$f":"'Market Data'!E182","v":9019},{"$f":"'Market Data'!F182","v":9029.5},null,178,{"$f":"IF($H196<($J$6+1),\"\",PFE(OFFSET($F196,0,0,-$J$6)))","v":-4.4120604500399986E-2},null,"Short",{"$error":"#N/A"},9029.5,null,null,null,null,null,null,null,null,null,null,null,null,null,null,null,null,null,null,null,null,null,null,null,null,null,null,null,null,{"$f":"IF(NOT($AS196=$AS197),ROW(),\"\")","v":""},{"$f":"IF(NOT(AS196=AS197),AS197,\"\")","v":""},{"$f":"INDEX($AB$15:$AM$15,MATCH($AS196,$AB$11:$AM$11,0))","v":{"$error":"#N/A"}},{"$f":"LEFT(AT196,4)","v":"2000"},{"$f":"LEFT(B196,6)","v":"200009"}]
[null,{"$f":"'Market Data'!B183","v":20000911},{"$f":"'Market Data'!C183","v":9022},{"$f":"'Market Data'!D183","v":9041},{"$f":"'Market Data'!E183","v":8964.5},{"$f":"'Market Data'!F183","v":8987.5},null,179,{"$f":"IF($H197<($J$6+1),\"\",PFE(OFFSET($F197,0,0,-$J$6)))","v":-2.3185160490271851E-2},null,"Short",{"$error":"#N/A"},{"$error":"#N/A"},null,null,null,null,null,null,null,null,null,null,null,null,null,null,null,null,null,null,null,null,null,null,null,null,null,null,null,null,{"$f":"IF(NOT($AS197=$AS198),ROW(),\"\")","v":""},{"$f":"IF(NOT(AS197=AS198),AS198,\"\")","v":""},{"$f":"INDEX($AB$15:$AM$15,MATCH($AS197,$AB$11:$AM$11,0))","v":{"$error":"#N/A"}},{"$f":"LEFT(AT197,4)","v":"2000"},{"$f":"LEFT(B197,6)","v":"200009"}]
[null,{"$f":"'Market Data'!B184","v":20000912},{"$f":"'Market Data'!C184","v":8948},{"$f":"'Market Data'!D184","v":8970},{"$f":"'Market Data'!E184","v":8896},{"$f":"'Market Data'!F184","v":8908.5},null,180,{"$f":"IF($H198<($J$6+1),\"\",PFE(OFFSET($F198,0,0,-$J$6)))","v":-2.6756717203909468E-2},null,"Short",{"$error":"#N/A"},{"$error":"#N/A"},null,null,null,null,null,null,null,null,null,null,null,null,null,null,null,null,null,null,null,null,null,null,null,null,null,null,null,null,{"$f":"IF(NOT($AS198=$AS199),ROW(),\"\")","v":""},{"$f":"IF(NOT(AS198=AS199),AS199,\"\")","v":""},{"$f":"INDEX($AB$15:$AM$15,MATCH($AS198,$AB$11:$AM$11,0))","v":{"$error":"#N/A"}},{"$f":"LEFT(AT198,4)","v":"2000"},{"$f":"LEFT(B198,6)","v":"200009"}]
[null,{"$f":"'Market Data'!B185","v":20000913},{"$f":"'Market Data'!C185","v":8919.5},{"$f":"'Market Data'!D185","v":8930},{"$f":"'Market Data'!E185","v":8757},{"$f":"'Market Data'!F185","v":8773},null,181,{"$f":"IF($H199<($J$6+1),\"\",PFE(OFFSET($F199,0,0,-$J$6)))","v":-2.2650835039566448E-2},null,"Short",{"$error":"#N/A"},{"$error":"#N/A"},null,null,null,null,null,null,null,null,null,null,null,null,null,null,null,null,null,null,null,null,null,null,null,null,null,null,null,null,{"$f":"IF(NOT($AS199=$AS200),ROW(),\"\")","v":""},{"$f":"IF(NOT(AS199=AS200),AS200,\"\")","v":""},{"$f":"INDEX($AB$15:$AM$15,MATCH($AS199,$AB$11:$AM$11,0))","v":{"$error":"#N/A"}},{"$f":"LEFT(AT199,4)","v":"2000"},{"$f":"LEFT(B199,6)","v":"200009"}]
[null,{"$f":"'Market Data'!B186","v":20000914},{"$f":"'Market Data'!C186","v":8788.5},{"$f":"'Market Data'!D186","v":8859},{"$f":"'Market Data'!E186","v":8762},{"$f":"'Market Data'!F186","v":8811.5},null,182,{"$f":"IF($H200<($J$6+1),\"\",PFE(OFFSET($F200,0,0,-$J$6)))","v":1.7357719627298124E-2},null,"Long",8811.5,{"$error":"#N/A"},null,null,null,null,null,null,null,null,null,null,null,null,null,null,null,null,null,null,null,null,null,null,null,null,null,null,null,null,{"$f":"IF(NOT($AS200=$AS201),ROW(),\"\")","v":""},{"$f":"IF(NOT(AS200=AS201),AS201,\"\")","v":""},{"$f":"INDEX($AB$15:$AM$15,MATCH($AS200,$AB$11:$AM$11,0))","v":{"$error":"#N/A"}},{"$f":"LEFT(AT200,4)","v":"2000"},{"$f":"LEFT(B200,6)","v":"200009"}]
[null,{"$f":"'Market Data'!B187","v":20000915},{"$f":"'Market Data'!C187","v":8794.5},{"$f":"'Market Data'!D187","v":8837.5},{"$f":"'Market Data'!E187","v":8727.5},{"$f":"'Market Data'!F187","v":8776.5},null,183,{"$f":"IF($H201<($J$6+1),\"\",PFE(OFFSET($F201,0,0,-$J$6)))","v":-1.6415858471512151E-2},null,"Short",{"$error":"#N/A"},8776.5,null,null,null,null,null,null,null,null,null,null,null,null,null,null,null,null,null,null,null,null,null,null,null,null,null,null,null,null,{"$f":"IF(NOT($AS201=$AS202),ROW(),\"\")","v":""},{"$f":"IF(NOT(AS201=AS202),AS202,\"\")","v":""},{"$f":"INDEX($AB$15:$AM$15,MATCH($AS201,$AB$11:$AM$11,0))","v":{"$error":"#N/A"}},{"$f":"LEFT(AT201,4)","v":"2000"},{"$f":"LEFT(B201,6)","v":"200009"}]
[null,{"$f":"'Market Data'!B188","v":20000918},{"$f":"'Market Data'!C188","v":8704.5},{"$f":"'Market Data'!D188","v":8736.5},{"$f":"'Market Data'!E188","v":8625.5},{"$f":"'Market Data'!F188","v":8640},null,184,{"$f":"IF($H202<($J$6+1),\"\",PFE(OFFSET($F202,0,0,-$J$6)))","v":-2.0729356392106862E-2},null,"Short",{"$error":"#N/A"},{"$error":"#N/A"},null,null,null,null,null,null,null,null,null,null,null,null,null,null,null,null,null,null,null,null,null,null,null,null,null,null,null,null,{"$f":"IF(NOT($AS202=$AS203),ROW(),\"\")","v":""},{"$f":"IF(NOT(AS202=AS203),AS203,\"\")","v":""},{"$f":"INDEX($AB$15:$AM$15,MATCH($AS202,$AB$11:$AM$11,0))","v":{"$error":"#N/A"}},{"$f":"LEFT(AT202,4)","v":"2000"},{"$f":"LEFT(B202,6)","v":"200009"}]
[null,{"$f":"'Market Data'!B189","v":20000919},{"$f":"'Market Data'!C189","v":8629.5},{"$f":"'Market Data'!D189","v":8685},{"$f":"'Market Data'!E189","v":8601},{"$f":"'Market Data'!F189","v":8683.5},null,185,{"$f":"IF($H203<($J$6+1),\"\",PFE(OFFSET($F203,0,0,-$J$6)))","v":-2.8885493792269248E-2},null,"Short",{"$error":"#N/A"},{"$error":"#N/A"},null,null,null,null,null,null,null,null,null,null,null,null,null,null,null,null,null,null,null,null,null,null,null,null,null,null,null,null,{"$f":"IF(NOT($AS203=$AS204),ROW(),\"\")","v":""},{"$f":"IF(NOT(AS203=AS204),AS204,\"\")","v":""},{"$f":"INDEX($AB$15:$AM$15,MATCH($AS203,$AB$11:$AM$11,0))","v":{"$error":"#N/A"}},{"$f":"LEFT(AT203,4)","v":"2000"},{"$f":"LEFT(B203,6)","v":"200009"}]
[null,{"$f":"'Market Data'!B190","v":20000920},{"$f":"'Market Data'!C190","v":8710.5},{"$f":"'Market Data'!D190","v":8719},{"$f":"'Market Data'!E190","v":8475.5},{"$f":"'Market Data'!F190","v":8498},null,186,{"$f":"IF($H204<($J$6+1),\"\",PFE(OFFSET($F204,0,0,-$J$6)))","v":-5.934319401323309E-2},null,"Short",{"$error":"#N/A"},{"$error":"#N/A"},null,null,null,null,null,null,null,null,null,null,null,null,null,null,null,null,null,null,null,null,null,null,null,null,null,null,null,null,{"$f":"IF(NOT($AS204=$AS205),ROW(),\"\")","v":""},{"$f":"IF(NOT(AS204=AS205),AS205,\"\")","v":""},{"$f":"INDEX($AB$15:$AM$15,MATCH($AS204,$AB$11:$AM$11,0))","v":{"$error":"#N/A"}},{"$f":"LEFT(AT204,4)","v":"2000"},{"$f":"LEFT(B204,6)","v":"200009"}]
[null,{"$f":"'Market Data'!B191","v":20000921},{"$f":"'Market Data'!C191","v":8552.5},{"$f":"'Market Data'!D191","v":8563},{"$f":"'Market Data'!E191","v":8330},{"$f":"'Market Data'!F191","v":8413.5},null,187,{"$f":"IF($H205<($J$6+1),\"\",PFE(OFFSET($F205,0,0,-$J$6)))","v":-8.9075996078430003E-2},null,"Short",{"$error":"#N/A"},{"$error":"#N/A"},null,null,null,null,null,null,null,null,null,null,null,null,null,null,null,null,null,null,null,null,null,null,null,null,null,null,null,null,{"$f":"IF(NOT($AS205=$AS206),ROW(),\"\")","v":""},{"$f":"IF(NOT(AS205=AS206),AS206,\"\")","v":""},{"$f":"INDEX($AB$15:$AM$15,MATCH($AS205,$AB$11:$AM$11,0))","v":{"$error":"#N/A"}},{"$f":"LEFT(AT205,4)","v":"2000"},{"$f":"LEFT(B205,6)","v":"200009"}]
[null,{"$f":"'Market Data'!B192","v":20000922},{"$f":"'Market Data'!C192","v":8239.5},{"$f":"'Market Data'!D192","v":8481},{"$f":"'Market Data'!E192","v":8239},{"$f":"'Market Data'!F192","v":8466.5},null,188,{"$f":"IF($H206<($J$6+1),\"\",PFE(OFFSET($F206,0,0,-$J$6)))","v":-9.7211129047442127E-2},null,"Short",{"$error":"#N/A"},{"$error":"#N/A"},null,null,null,null,null,null,null,null,null,null,null,null,null,null,null,null,null,null,null,null,null,null,null,null,null,null,null,null,{"$f":"IF(NOT($AS206=$AS207),ROW(),\"\")","v":""},{"$f":"IF(NOT(AS206=AS207),AS207,\"\")","v":""},{"$f":"INDEX($AB$15:$AM$15,MATCH($AS206,$AB$11:$AM$11,0))","v":{"$error":"#N/A"}},{"$f":"LEFT(AT206,4)","v":"2000"},{"$f":"LEFT(B206,6)","v":"200009"}]
[null,{"$f":"'Market Data'!B193","v":20000925},{"$f":"'Market Data'!C193","v":8519.5},{"$f":"'Market Data'!D193","v":8569.5},{"$f":"'Market Data'!E193","v":8489.5},{"$f":"'Market Data'!F193","v":8519.5},null,189,{"$f":"IF($H207<($J$6+1),\"\",PFE(OFFSET($F207,0,0,-$J$6)))","v":-8.66692947826527E-2},null,"Short",{"$error":"#N/A"},{"$error":"#N/A"},null,null,null,null,null,null,null,null,null,null,null,null,null,null,null,null,null,null,null,null,null,null,null,null,null,null,null,null,{"$f":"IF(NOT($AS207=$AS208),ROW(),\"\")","v":""},{"$f":"IF(NOT(AS207=AS208),AS208,\"\")","v":""},{"$f":"INDEX($AB$15:$AM$15,MATCH($AS207,$AB$11:$AM$11,0))","v":{"$error":"#N/A"}},{"$f":"LEFT(AT207,4)","v":"2000"},{"$f":"LEFT(B207,6)","v":"200009"}]
[null,{"$f":"'Market Data'!B194","v":20000926},{"$f":"'Market Data'!C194","v":8499},{"$f":"'Market Data'!D194","v":8589.5},{"$f":"'Market Data'!E194","v":8475.5},{"$f":"'Market Data'!F194","v":8499},null,190,{"$f":"IF($H208<($J$6+1),\"\",PFE(OFFSET($F208,0,0,-$J$6)))","v":-0.12075271381554983},null,"Short",{"$error":"#N/A"},{"$error":"#N/A"},null,null,null,null,null,null,null,null,null,null,null,null,null,null,null,null,null,null,null,null,null,null,null,null,null,null,null,null,{"$f":"IF(NOT($AS208=$AS209),ROW(),\"\")","v":""},{"$f":"IF(NOT(AS208=AS209),AS209,\"\")","v":""},{"$f":"INDEX($AB$15:$AM$15,MATCH($AS208,$AB$11:$AM$11,0))","v":{"$error":"#N/A"}},{"$f":"LEFT(AT208,4)","v":"2000"},{"$f":"LEFT(B208,6)","v":"200009"}]
[null,{"$f":"'Market Data'!B195","v":20000927},{"$f":"'Market Data'!C195","v":8469.5},{"$f":"'Market Data'!D195","v":8607},{"$f":"'Market Data'!E195","v":8460.5},{"$f":"'Market Data'!F195","v":8526.5},null,191,{"$f":"IF($H209<($J$6+1),\"\",PFE(OFFSET($F209,0,0,-$J$6)))","v":-0.15139554267945016},null,"Short",{"$error":"#N/A"},{"$error":"#N/A"},null,null,null,null,null,null,null,null,null,null,null,null,null,null,null,null,null,null,null,null,null,null,null,null,null,null,null,null,{"$f":"IF(NOT($AS209=$AS210),ROW(),\"\")","v":""},{"$f":"IF(NOT(AS209=AS210),AS210,\"\")","v":""},{"$f":"INDEX($AB$15:$AM$15,MATCH($AS209,$AB$11:$AM$11,0))","v":{"$error":"#N/A"}},{"$f":"LEFT(AT209,4)","v":"2000"},{"$f":"LEFT(B209,6)","v":"200009"}]
[null,{"$f":"'Market Data'!B196","v":20000928},{"$f":"'Market Data'!C196","v":8536.5},{"$f":"'Market Data'!D196","v":8594.5},{"$f":"'Market Data'!E196","v":8462},{"$f":"'Market Data'!F196","v":8587.5},null,192,{"$f":"IF($H210<($J$6+1),\"\",PFE(OFFSET($F210,0,0,-$J$6)))","v":-0.13207815042896681},null,"Short",{"$error":"#N/A"},{"$error":"#N/A"},null,null,null,null,null,null,null,null,null,null,null,null,null,null,null,null,null,null,null,null,null,null,null,null,null,null,null,null,{"$f":"IF(NOT($AS210=$AS211),ROW(),\"\")","v":""},{"$f":"IF(NOT(AS210=AS211),AS211,\"\")","v":""},{"$f":"INDEX($AB$15:$AM$15,MATCH($AS210,$AB$11:$AM$11,0))","v":{"$error":"#N/A"}},{"$f":"LEFT(AT210,4)","v":"2000"},{"$f":"LEFT(B210,6)","v":"200009"}]
[null,{"$f":"'Market Data'!B197","v":20000929},{"$f":"'Market Data'!C197","v":8569.5},{"$f":"'Market Data'!D197","v":8630.5},{"$f":"'Market Data'!E197","v":8516},{"$f":"'Market Data'!F197","v":8548.5},null,193,{"$f":"IF($H211<($J$6+1),\"\",PFE(OFFSET($F211,0,0,-$J$6)))","v":-0.1303869878364555},null,"Short",{"$f":"IF(AND($K211=\"Long\",$K210<>\"Long\"),$F211,NA())","v":{"$error":"#N/A"}},{"$f":"IF(AND($K211=\"Short\",$K210<>\"Short\"),$F211,NA())","v":{"$error":"#N/A"}},null,null,null,null,null,null,null,null,null,null,null,null,null,null,null,null,null,null,null,null,null,null,null,null,null,null,null,null,{"$f":"IF(NOT($AS211=$AS212),ROW(),\"\")","v":""},{"$f":"IF(NOT(AS211=AS212),AS212,\"\")","v":""},{"$f":"INDEX($AB$15:$AM$15,MATCH($AS211,$AB$11:$AM$11,0))","v":{"$error":"#N/A"}},{"$f":"LEFT(AT211,4)","v":"2000"},{"$f":"LEFT(B211,6)","v":"200009"}]
[null,{"$f":"'Market Data'!B198","v":20001002},{"$f":"'Market Data'!C198","v":8524.5},{"$f":"'Market Data'!D198","v":8651.5},{"$f":"'Market Data'!E198","v":8510},{"$f":"'Market Data'!F198","v":8619.5},null,{"$f":"ROW()-ROW(H$18)","v":194},{"$f":"IF($H212<($J$6+1),\"\",PFE(OFFSET($F212,0,0,-$J$6)))","v":-0.10379125329520282},null,{"$f":"IF($I212=\"\",\"\",IF($I212>$J$4,\"Long\",IF($I212<$J$5,\"Short\",\"\")))","v":"Short"},{"$error":"#N/A"},{"$error":"#N/A"},null,null,null,null,null,null,null,null,null,null,null,null,null,null,null,null,null,null,null,null,null,null,null,null,null,null,null,null,{"$f":"IF(NOT($AS212=$AS213),ROW(),\"\")","v":""},{"$f":"IF(NOT(AS212=AS213),AS213,\"\")","v":""},{"$f":"INDEX($AB$15:$AM$15,MATCH($AS212,$AB$11:$AM$11,0))","v":{"$error":"#N/A"}},{"$f":"LEFT(AT212,4)","v":"2000"},{"$f":"LEFT(B212,6)","v":"200010"}]
[null,{"$f":"'Market Data'!B199","v":20001004},{"$f":"'Market Data'!C199","v":8599.5},{"$f":"'Market Data'!D199","v":8636},{"$f":"'Market Data'!E199","v":8497},{"$f":"'Market Data'!F199","v":8568},null,195,{"$f":"IF($H213<($J$6+1),\"\",PFE(OFFSET($F213,0,0,-$J$6)))","v":-0.1085417468876826},null,"Short",{"$error":"#N/A"},{"$error":"#N/A"},null,null,null,null,null,null,null,null,null,null,null,null,null,null,null,null,null,null,null,null,null,null,null,null,null,null,null,null,{"$f":"IF(NOT($AS213=$AS214),ROW(),\"\")","v":""},{"$f":"IF(NOT(AS213=AS214),AS214,\"\")","v":""},{"$f":"INDEX($AB$15:$AM$15,MATCH($AS213,$AB$11:$AM$11,0))","v":{"$error":"#N/A"}},{"$f":"LEFT(AT213,4)","v":"2000"},{"$f":"LEFT(B213,6)","v":"200010"}]
[null,{"$f":"'Market Data'!B200","v":20001005},{"$f":"'Market Data'!C200","v":8583.5},{"$f":"'Market Data'!D200","v":8652.5},{"$f":"'Market Data'!E200","v":8570},{"$f":"'Market Data'!F200","v":8615},null,196,{"$f":"IF($H214<($J$6+1),\"\",PFE(OFFSET($F214,0,0,-$J$6)))","v":-9.2345946400590948E-2},null,"Short",{"$error":"#N/A"},{"$error":"#N/A"},null,null,null,null,null,null,null,null,null,null,null,null,null,null,null,null,null,null,null,null,null,null,null,null,null,null,null,null,{"$f":"IF(NOT($AS214=$AS215),ROW(),\"\")","v":""},{"$f":"IF(NOT(AS214=AS215),AS215,\"\")","v":""},{"$f":"INDEX($AB$15:$AM$15,MATCH($AS214,$AB$11:$AM$11,0))","v":{"$error":"#N/A"}},{"$f":"LEFT(AT214,4)","v":"2000"},{"$f":"LEFT(B214,6)","v":"200010"}]
[null,{"$f":"'Market Data'!B201","v":20001006},{"$f":"'Market Data'!C201","v":8634.5},{"$f":"'Market Data'!D201","v":8661.5},{"$f":"'Market Data'!E201","v":8444.5},{"$f":"'Market Data'!F201","v":8468},null,197,{"$f":"IF($H215<($J$6+1),\"\",PFE(OFFSET($F215,0,0,-$J$6)))","v":-0.11813963261485343},null,"Short",{"$error":"#N/A"},{"$error":"#N/A"},null,null,null,null,null,null,null,null,null,null,null,null,null,null,null,null,null,null,null,null,null,null,null,null,null,null,null,null,{"$f":"IF(NOT($AS215=$AS216),ROW(),\"\")","v":""},{"$f":"IF(NOT(AS215=AS216),AS216,\"\")","v":""},{"$f":"INDEX($AB$15:$AM$15,MATCH($AS215,$AB$11:$AM$11,0))","v":{"$error":"#N/A"}},{"$f":"LEFT(AT215,4)","v":"2000"},{"$f":"LEFT(B215,6)","v":"200010"}]
[null,{"$f":"'Market Data'!B202","v":20001009},{"$f":"'Market Data'!C202","v":8471.5},{"$f":"'Market Data'!D202","v":8492.5},{"$f":"'Market Data'!E202","v":8357.5},{"$f":"'Market Data'!F202","v":8419},null,198,{"$f":"IF($H216<($J$6+1),\"\",PFE(OFFSET($F216,0,0,-$J$6)))","v":-0.13273600100108959},null,"Short",{"$error":"#N/A"},{"$error":"#N/A"},null,null,null,null,null,null,null,null,null,null,null,null,null,null,null,null,null,null,null,null,null,null,null,null,null,null,null,null,{"$f":"IF(NOT($AS216=$AS217),ROW(),\"\")","v":""},{"$f":"IF(NOT(AS216=AS217),AS217,\"\")","v":""},{"$f":"INDEX($AB$15:$AM$15,MATCH($AS216,$AB$11:$AM$11,0))","v":{"$error":"#N/A"}},{"$f":"LEFT(AT216,4)","v":"2000"},{"$f":"LEFT(B216,6)","v":"200010"}]
[null,{"$f":"'Market Data'!B203","v":20001010},{"$f":"'Market Data'!C203","v":8448.5},{"$f":"'Market Data'!D203","v":8466},{"$f":"'Market Data'!E203","v":8394.5},{"$f":"'Market Data'!F203","v":8414.5},null,199,{"$f":"IF($H217<($J$6+1),\"\",PFE(OFFSET($F217,0,0,-$J$6)))","v":-0.15240077202589863},null,"Short",{"$error":"#N/A"},{"$error":"#N/A"},null,null,null,null,null,null,null,null,null,null,null,null,null,null,null,null,null,null,null,null,null,null,null,null,null,null,null,null,{"$f":"IF(NOT($AS217=$AS218),ROW(),\"\")","v":""},{"$f":"IF(NOT(AS217=AS218),AS218,\"\")","v":""},{"$f":"INDEX($AB$15:$AM$15,MATCH($AS217,$AB$11:$AM$11,0))","v":{"$error":"#N/A"}},{"$f":"LEFT(AT217,4)","v":"2000"},{"$f":"LEFT(B217,6)","v":"200010"}]
[null,{"$f":"'Market Data'!B204","v":20001011},{"$f":"'Market Data'!C204","v":8334.5},{"$f":"'Market Data'!D204","v":8375.5},{"$f":"'Market Data'!E204","v":8200},{"$f":"'Market Data'!F204","v":8297},null,200,{"$f":"IF($H218<($J$6+1),\"\",PFE(OFFSET($F218,0,0,-$J$6)))","v":-0.16967656078426699},null,"Short",{"$error":"#N/A"},{"$error":"#N/A"},null,null,null,null,null,null,null,null,null,null,null,null,null,null,null,null,null,null,null,null,null,null,null,null,null,null,null,null,{"$f":"IF(NOT($AS218=$AS219),ROW(),\"\")","v":""},{"$f":"IF(NOT(AS218=AS219),AS219,\"\")","v":""},{"$f":"INDEX($AB$15:$AM$15,MATCH($AS218,$AB$11:$AM$11,0))","v":{"$error":"#N/A"}},{"$f":"LEFT(AT218,4)","v":"2000"},{"$f":"LEFT(B218,6)","v":"200010"}]
[null,{"$f":"'Market Data'!B205","v":20001012},{"$f":"'Market Data'!C205","v":8324.5},{"$f":"'Market Data'!D205","v":8379.5},{"$f":"'Market Data'!E205","v":8099.5},{"$f":"'Market Data'!F205","v":8175.5},null,201,{"$f":"IF($H219<($J$6+1),\"\",PFE(OFFSET($F219,0,0,-$J$6)))","v":-0.17454183876608215},null,"Short",{"$error":"#N/A"},{"$error":"#N/A"},null,null,null,null,null,null,null,null,null,null,null,null,null,null,null,null,null,null,null,null,null,null,null,null,null,null,null,null,{"$f":"IF(NOT($AS219=$AS220),ROW(),\"\")","v":""},{"$f":"IF(NOT(AS219=AS220),AS220,\"\")","v":""},{"$f":"INDEX($AB$15:$AM$15,MATCH($AS219,$AB$11:$AM$11,0))","v":{"$error":"#N/A"}},{"$f":"LEFT(AT219,4)","v":"2000"},{"$f":"LEFT(B219,6)","v":"200010"}]
[null,{"$f":"'Market Data'!B206","v":20001013},{"$f":"'Market Data'!C206","v":8144.5},{"$f":"'Market Data'!D206","v":8374.5},{"$f":"'Market Data'!E206","v":8109.5},{"$f":"'Market Data'!F206","v":8361.5},null,202,{"$f":"IF($H220<($J$6+1),\"\",PFE(OFFSET($F220,0,0,-$J$6)))","v":-0.12946584710410922},null,"Short",{"$error":"#N/A"},{"$error":"#N/A"},null,null,null,null,null,null,null,null,null,null,null,null,null,null,null,null,null,null,null,null,null,null,null,null,null,null,null,null,{"$f":"IF(NOT($AS220=$AS221),ROW(),\"\")","v":""},{"$f":"IF(NOT(AS220=AS221),AS221,\"\")","v":""},{"$f":"INDEX($AB$15:$AM$15,MATCH($AS220,$AB$11:$AM$11,0))","v":{"$error":"#N/A"}},{"$f":"LEFT(AT220,4)","v":"2000"},{"$f":"LEFT(B220,6)","v":"200010"}]
[null,{"$f":"'Market Data'!B207","v":20001016},{"$f":"'Market Data'!C207","v":8414.5},{"$f":"'Market Data'!D207","v":8418.5},{"$f":"'Market Data'!E207","v":8306},{"$f":"'Market Data'!F207","v":8352.5},null,203,{"$f":"IF($H221<($J$6+1),\"\",PFE(OFFSET($F221,0,0,-$J$6)))","v":-0.12962306671051343},null,"Short",{"$error":"#N/A"},{"$error":"#N/A"},null,null,null,null,null,null,null,null,null,null,null,null,null,null,null,null,null,null,null,null,null,null,null,null,null,null,null,null,{"$f":"IF(NOT($AS221=$AS222),ROW(),\"\")","v":""},{"$f":"IF(NOT(AS221=AS222),AS222,\"\")","v":""},{"$f":"INDEX($AB$15:$AM$15,MATCH($AS221,$AB$11:$AM$11,0))","v":{"$error":"#N/A"}},{"$f":"LEFT(AT221,4)","v":"2000"},{"$f":"LEFT(B221,6)","v":"200010"}]
[null,{"$f":"'Market Data'!B208","v":20001017},{"$f":"'Market Data'!C208","v":8350},{"$f":"'Market Data'!D208","v":8397},{"$f":"'Market Data'!E208","v":8257},{"$f":"'Market Data'!F208","v":8263.5},null,204,{"$f":"IF($H222<($J$6+1),\"\",PFE(OFFSET($F222,0,0,-$J$6)))","v":-0.13032917011164979},null,"Short",{"$error":"#N/A"},{"$error":"#N/A"},null,null,null,null,null,null,null,null,null,null,null,null,null,null,null,null,null,null,null,null,null,null,null,null,null,null,null,null,{"$f":"IF(NOT($AS222=$AS223),ROW(),\"\")","v":""},{"$f":"IF(NOT(AS222=AS223),AS223,\"\")","v":""},{"$f":"INDEX($AB$15:$AM$15,MATCH($AS222,$AB$11:$AM$11,0))","v":{"$error":"#N/A"}},{"$f":"LEFT(AT222,4)","v":"2000"},{"$f":"LEFT(B222,6)","v":"200010"}]
[null,{"$f":"'Market Data'!B209","v":20001018},{"$f":"'Market Data'!C209","v":8219},{"$f":"'Market Data'!D209","v":8243.5},{"$f":"'Market Data'!E209","v":8015.5},{"$f":"'Market Data'!F209","v":8209},null,205,{"$f":"IF($H223<($J$6+1),\"\",PFE(OFFSET($F223,0,0,-$J$6)))","v":-0.12670874183745467},null,"Short",{"$error":"#N/A"},{"$error":"#N/A"},null,null,null,null,null,null,null,null,null,null,null,null,null,null,null,null,null,null,null,null,null,null,null,null,null,null,null,null,{"$f":"IF(NOT($AS223=$AS224),ROW(),\"\")","v":""},{"$f":"IF(NOT(AS223=AS224),AS224,\"\")","v":""},{"$f":"INDEX($AB$15:$AM$15,MATCH($AS223,$AB$11:$AM$11,0))","v":{"$error":"#N/A"}},{"$f":"LEFT(AT223,4)","v":"2000"},{"$f":"LEFT(B223,6)","v":"200010"}]
[null,{"$f":"'Market Data'!B210","v":20001019},{"$f":"'Market Data'!C210","v":8234.5},{"$f":"'Market Data'!D210","v":8347},{"$f":"'Market Data'!E210","v":8222},{"$f":"'Market Data'!F210","v":8314.5},null,206,{"$f":"IF($H224<($J$6+1),\"\",PFE(OFFSET($F224,0,0,-$J$6)))","v":-9.2681593472242071E-2},null,"Short",{"$error":"#N/A"},{"$error":"#N/A"},null,null,null,null,null,null,null,null,null,null,null,null,null,null,null,null,null,null,null,null,null,null,null,null,null,null,null,null,{"$f":"IF(NOT($AS224=$AS225),ROW(),\"\")","v":""},{"$f":"IF(NOT(AS224=AS225),AS225,\"\")","v":""},{"$f":"INDEX($AB$15:$AM$15,MATCH($AS224,$AB$11:$AM$11,0))","v":{"$error":"#N/A"}},{"$f":"LEFT(AT224,4)","v":"2000"},{"$f":"LEFT(B224,6)","v":"200010"}]
[null,{"$f":"'Market Data'!B211","v":20001020},{"$f":"'Market Data'!C211","v":8350.5},{"$f":"'Market Data'!D211","v":8382},{"$f":"'Market Data'!E211","v":8258},{"$f":"'Market Data'!F211","v":8338.5},null,207,{"$f":"IF($H225<($J$6+1),\"\",PFE(OFFSET($F225,0,0,-$J$6)))","v":-9.7805617687540966E-2},null,"Short",{"$error":"#N/A"},{"$error":"#N/A"},null,null,null,null,null,null,null,null,null,null,null,null,null,null,null,null,null,null,null,null,null,null,null,null,null,null,null,null,{"$f":"IF(NOT($AS225=$AS226),ROW(),\"\")","v":""},{"$f":"IF(NOT(AS225=AS226),AS226,\"\")","v":""},{"$f":"INDEX($AB$15:$AM$15,MATCH($AS225,$AB$11:$AM$11,0))","v":{"$error":"#N/A"}},{"$f":"LEFT(AT225,4)","v":"2000"},{"$f":"LEFT(B225,6)","v":"200010"}]
[null,{"$f":"'Market Data'!B212","v":20001023},{"$f":"'Market Data'!C212","v":8367.5},{"$f":"'Market Data'!D212","v":8372},{"$f":"'Market Data'!E212","v":8260},{"$f":"'Market Data'!F212","v":8357},null,208,{"$f":"IF($H226<($J$6+1),\"\",PFE(OFFSET($F226,0,0,-$J$6)))","v":-9.5828879277096699E-2},null,"Short",{"$error":"#N/A"},{"$error":"#N/A"},null,null,null,null,null,null,null,null,null,null,null,null,null,null,null,null,null,null,null,null,null,null,null,null,null,null,null,null,{"$f":"IF(NOT($AS226=$AS227),ROW(),\"\")","v":""},{"$f":"IF(NOT(AS226=AS227),AS227,\"\")","v":""},{"$f":"INDEX($AB$15:$AM$15,MATCH($AS226,$AB$11:$AM$11,0))","v":{"$error":"#N/A"}},{"$f":"LEFT(AT226,4)","v":"2000"},{"$f":"LEFT(B226,6)","v":"200010"}]
[null,{"$f":"'Market Data'!B213","v":20001024},{"$f":"'Market Data'!C213","v":8361.5},{"$f":"'Market Data'!D213","v":8558.5},{"$f":"'Market Data'!E213","v":8326.5},{"$f":"'Market Data'!F213","v":8541},null,209,{"$f":"IF($H227<($J$6+1),\"\",PFE(OFFSET($F227,0,0,-$J$6)))","v":-6.3926267452778754E-2},null,"Short",{"$error":"#N/A"},{"$error":"#N/A"},null,null,null,null,null,null,null,null,null,null,null,null,null,null,null,null,null,null,null,null,null,null,null,null,null,null,null,null,{"$f":"IF(NOT($AS227=$AS228),ROW(),\"\")","v":""},{"$f":"IF(NOT(AS227=AS228),AS228,\"\")","v":""},{"$f":"INDEX($AB$15:$AM$15,MATCH($AS227,$AB$11:$AM$11,0))","v":{"$error":"#N/A"}},{"$f":"LEFT(AT227,4)","v":"2000"},{"$f":"LEFT(B227,6)","v":"200010"}]
[null,{"$f":"'Market Data'!B214","v":20001025},{"$f":"'Market Data'!C214","v":8481},{"$f":"'Market Data'!D214","v":8529.5},{"$f":"'Market Data'!E214","v":8414.5},{"$f":"'Market Data'!F214","v":8478},null,210,{"$f":"IF($H228<($J$6+1),\"\",PFE(OFFSET($F228,0,0,-$J$6)))","v":-4.3688127224329347E-2},null,"Short",{"$error":"#N/A"},{"$error":"#N/A"},null,null,null,null,null,null,null,null,null,null,null,null,null,null,null,null,null,null,null,null,null,null,null,null,null,null,null,null,{"$f":"IF(NOT($AS228=$AS229),ROW(),\"\")","v":""},{"$f":"IF(NOT(AS228=AS229),AS229,\"\")","v":""},{"$f":"INDEX($AB$15:$AM$15,MATCH($AS228,$AB$11:$AM$11,0))","v":{"$error":"#N/A"}},{"$f":"LEFT(AT228,4)","v":"2000"},{"$f":"LEFT(B228,6)","v":"200010"}]
[null,{"$f":"'Market Data'!B215","v":20001026},{"$f":"'Market Data'!C215","v":8454.5},{"$f":"'Market Data'!D215","v":8573.5},{"$f":"'Market Data'!E215","v":8449.5},{"$f":"'Market Data'!F215","v":8458},null,211,{"$f":"IF($H229<($J$6+1),\"\",PFE(OFFSET($F229,0,0,-$J$6)))","v":-4.8368067785175439E-2},null,"Short",{"$error":"#N/A"},{"$error":"#N/A"},null,null,null,null,null,null,null,null,null,null,null,null,null,null,null,null,null,null,null,null,null,null,null,null,null,null,null,null,{"$f":"IF(NOT($AS229=$AS230),ROW(),\"\")","v":""},{"$f":"IF(NOT(AS229=AS230),AS230,\"\")","v":""},{"$f":"INDEX($AB$15:$AM$15,MATCH($AS229,$AB$11:$AM$11,0))","v":{"$error":"#N/A"}},{"$f":"LEFT(AT229,4)","v":"2000"},{"$f":"LEFT(B229,6)","v":"200010"}]
[null,{"$f":"'Market Data'!B216","v":20001027},{"$f":"'Market Data'!C216","v":8559.5},{"$f":"'Market Data'!D216","v":8652.5},{"$f":"'Market Data'!E216","v":8546},{"$f":"'Market Data'!F216","v":8645.5},null,212,{"$f":"IF($H230<($J$6+1),\"\",PFE(OFFSET($F230,0,0,-$J$6)))","v":-2.9707086833360534E-2},null,"Short",{"$error":"#N/A"},{"$error":"#N/A"},null,null,null,null,null,null,null,null,null,null,null,null,null,null,null,null,null,null,null,null,null,null,null,null,null,null,null,null,{"$f":"IF(NOT($AS230=$AS231),ROW(),\"\")","v":""},{"$f":"IF(NOT(AS230=AS231),AS231,\"\")","v":""},{"$f":"INDEX($AB$15:$AM$15,MATCH($AS230,$AB$11:$AM$11,0))","v":{"$error":"#N/A"}},{"$f":"LEFT(AT230,4)","v":"2000"},{"$f":"LEFT(B230,6)","v":"200010"}]
[null,{"$f":"'Market Data'!B217","v":20001030},{"$f":"'Market Data'!C217","v":8633.5},{"$f":"'Market Data'!D217","v":8672.5},{"$f":"'Market Data'!E217","v":8595.5},{"$f":"'Market Data'!F217","v":8667.5},null,213,{"$f":"IF($H231<($J$6+1),\"\",PFE(OFFSET($F231,0,0,-$J$6)))","v":-2.3729954601198665E-2},null,"Short",{"$error":"#N/A"},{"$error":"#N/A"},null,null,null,null,null,null,null,null,null,null,null,null,null,null,null,null,null,null,null,null,null,null,null,null,null,null,null,null,{"$f":"IF(NOT($AS231=$AS232),ROW(),\"\")","v":""},{"$f":"IF(NOT(AS231=AS232),AS232,\"\")","v":""},{"$f":"INDEX($AB$15:$AM$15,MATCH($AS231,$AB$11:$AM$11,0))","v":{"$error":"#N/A"}},{"$f":"LEFT(AT231,4)","v":"2000"},{"$f":"LEFT(B231,6)","v":"200010"}]
[null,{"$f":"'Market Data'!B218","v":20001031},{"$f":"'Market Data'!C218","v":8673.5},{"$f":"'Market Data'!D218","v":8810.5},{"$f":"'Market Data'!E218","v":8669.5},{"$f":"'Market Data'!F218","v":8798.5},null,214,{"$f":"IF($H232<($J$6+1),\"\",PFE(OFFSET($F232,0,0,-$J$6)))","v":-1.4405500175331426E-2},null,"Short",{"$error":"#N/A"},{"$error":"#N/A"},null,null,null,null,null,null,null,null,null,null,null,null,null,null,null,null,null,null,null,null,null,null,null,null,null,null,null,null,{"$f":"IF(NOT($AS232=$AS233),ROW(),\"\")","v":""},{"$f":"IF(NOT(AS232=AS233),AS233,\"\")","v":""},{"$f":"INDEX($AB$15:$AM$15,MATCH($AS232,$AB$11:$AM$11,0))","v":{"$error":"#N/A"}},{"$f":"LEFT(AT232,4)","v":"2000"},{"$f":"LEFT(B232,6)","v":"200010"}]
[null,{"$f":"'Market Data'!B219","v":20001101},{"$f":"'Market Data'!C219","v":8807.5},{"$f":"'Market Data'!D219","v":8818.5},{"$f":"'Market Data'!E219","v":8728},{"$f":"'Market Data'!F219","v":8779.5},null,215,{"$f":"IF($H233<($J$6+1),\"\",PFE(OFFSET($F233,0,0,-$J$6)))","v":-1.441054993561852E-2},null,"Short",{"$error":"#N/A"},{"$error":"#N/A"},null,null,null,null,null,null,null,null,null,null,null,null,null,null,null,null,null,null,null,null,null,null,null,null,null,null,null,null,{"$f":"IF(NOT($AS233=$AS234),ROW(),\"\")","v":""},{"$f":"IF(NOT(AS233=AS234),AS234,\"\")","v":""},{"$f":"INDEX($AB$15:$AM$15,MATCH($AS233,$AB$11:$AM$11,0))","v":{"$error":"#N/A"}},{"$f":"LEFT(AT233,4)","v":"2000"},{"$f":"LEFT(B233,6)","v":"200011"}]
[null,{"$f":"'Market Data'!B220","v":20001102},{"$f":"'Market Data'!C220","v":8791.5},{"$f":"'Market Data'!D220","v":8858.5},{"$f":"'Market Data'!E220","v":8775.5},{"$f":"'Market Data'!F220","v":8802.5},null,216,{"$f":"IF($H234<($J$6+1),\"\",PFE(OFFSET($F234,0,0,-$J$6)))","v":-1.8880687688162746E-2},null,"Short",{"$error":"#N/A"},{"$error":"#N/A"},null,null,null,null,null,null,null,null,null,null,null,null,null,null,null,null,null,null,null,null,null,null,null,null,null,null,null,null,{"$f":"IF(NOT($AS234=$AS235),ROW(),\"\")","v":""},{"$f":"IF(NOT(AS234=AS235),AS235,\"\")","v":""},{"$f":"INDEX($AB$15:$AM$15,MATCH($AS234,$AB$11:$AM$11,0))","v":{"$error":"#N/A"}},{"$f":"LEFT(AT234,4)","v":"2000"},{"$f":"LEFT(B234,6)","v":"200011"}]
[null,{"$f":"'Market Data'!B221","v":20001103},{"$f":"'Market Data'!C221","v":8824.5},{"$f":"'Market Data'!D221","v":8869.5},{"$f":"'Market Data'!E221","v":8788},{"$f":"'Market Data'!F221","v":8848},null,217,{"$f":"IF($H235<($J$6+1),\"\",PFE(OFFSET($F235,0,0,-$J$6)))","v":-1.6163725212560029E-2},null,"Short",{"$error":"#N/A"},{"$error":"#N/A"},null,null,null,null,null,null,null,null,null,null,null,null,null,null,null,null,null,null,null,null,null,null,null,null,null,null,null,null,{"$f":"IF(NOT($AS235=$AS236),ROW(),\"\")","v":""},{"$f":"IF(NOT(AS235=AS236),AS236,\"\")","v":""},{"$f":"INDEX($AB$15:$AM$15,MATCH($AS235,$AB$11:$AM$11,0))","v":{"$error":"#N/A"}},{"$f":"LEFT(AT235,4)","v":"2000"},{"$f":"LEFT(B235,6)","v":"200011"}]
[null,{"$f":"'Market Data'!B222","v":20001106},{"$f":"'Market Data'!C222","v":8870.5},{"$f":"'Market Data'!D222","v":8898},{"$f":"'Market Data'!E222","v":8822.5},{"$f":"'Market Data'!F222","v":8851.5},null,218,{"$f":"IF($H236<($J$6+1),\"\",PFE(OFFSET($F236,0,0,-$J$6)))","v":1.5745873823742183E-2},null,"Long",8851.5,{"$error":"#N/A"},null,null,null,null,null,null,null,null,null,null,null,null,null,null,null,null,null,null,null,null,null,null,null,null,null,null,null,null,{"$f":"IF(NOT($AS236=$AS237),ROW(),\"\")","v":""},{"$f":"IF(NOT(AS236=AS237),AS237,\"\")","v":""},{"$f":"INDEX($AB$15:$AM$15,MATCH($AS236,$AB$11:$AM$11,0))","v":{"$error":"#N/A"}},{"$f":"LEFT(AT236,4)","v":"2000"},{"$f":"LEFT(B236,6)","v":"200011"}]
[null,{"$f":"'Market Data'!B223","v":20001107},{"$f":"'Market Data'!C223","v":8852.5},{"$f":"'Market Data'!D223","v":8852.5},{"$f":"'Market Data'!E223","v":8742},{"$f":"'Market Data'!F223","v":8792},null,219,{"$f":"IF($H237<($J$6+1),\"\",PFE(OFFSET($F237,0,0,-$J$6)))","v":-2.2524492302692892E-2},null,"Short",{"$error":"#N/A"},8792,null,null,null,null,null,null,null,null,null,null,null,null,null,null,null,null,null,null,null,null,null,null,null,null,null,null,null,null,{"$f":"IF(NOT($AS237=$AS238),ROW(),\"\")","v":""},{"$f":"IF(NOT(AS237=AS238),AS238,\"\")","v":""},{"$f":"INDEX($AB$15:$AM$15,MATCH($AS237,$AB$11:$AM$11,0))","v":{"$error":"#N/A"}},{"$f":"LEFT(AT237,4)","v":"2000"},{"$f":"LEFT(B237,6)","v":"200011"}]
[null,{"$f":"'Market Data'!B224","v":20001108},{"$f":"'Market Data'!C224","v":8828.5},{"$f":"'Market Data'!D224","v":8844},{"$f":"'Market Data'!E224","v":8709.5},{"$f":"'Market Data'!F224","v":8729},null,220,{"$f":"IF($H238<($J$6+1),\"\",PFE(OFFSET($F238,0,0,-$J$6)))","v":-5.1850545632505123E-2},null,"Short",{"$error":"#N/A"},{"$error":"#N/A"},null,null,null,null,null,null,null,null,null,null,null,null,null,null,null,null,null,null,null,null,null,null,null,null,null,null,null,null,{"$f":"IF(NOT($AS238=$AS239),ROW(),\"\")","v":""},{"$f":"IF(NOT(AS238=AS239),AS239,\"\")","v":""},{"$f":"INDEX($AB$15:$AM$15,MATCH($AS238,$AB$11:$AM$11,0))","v":{"$error":"#N/A"}},{"$f":"LEFT(AT238,4)","v":"2000"},{"$f":"LEFT(B238,6)","v":"200011"}]
[null,{"$f":"'Market Data'!B225","v":20001109},{"$f":"'Market Data'!C225","v":8689.5},{"$f":"'Market Data'!D225","v":8733},{"$f":"'Market Data'!E225","v":8637.5},{"$f":"'Market Data'!F225","v":8643},null,221,{"$f":"IF($H239<($J$6+1),\"\",PFE(OFFSET($F239,0,0,-$J$6)))","v":-9.1203888300438393E-2},null,"Short",{"$error":"#N/A"},{"$error":"#N/A"},null,null,null,null,null,null,null,null,null,null,null,null,null,null,null,null,null,null,null,null,null,null,null,null,null,null,null,null,{"$f":"IF(NOT($AS239=$AS240),ROW(),\"\")","v":""},{"$f":"IF(NOT(AS239=AS240),AS240,\"\")","v":""},{"$f":"INDEX($AB$15:$AM$15,MATCH($AS239,$AB$11:$AM$11,0))","v":{"$error":"#N/A"}},{"$f":"LEFT(AT239,4)","v":"2000"},{"$f":"LEFT(B239,6)","v":"200011"}]
[null,{"$f":"'Market Data'!B226","v":20001110},{"$f":"'Market Data'!C226","v":8669.5},{"$f":"'Market Data'!D226","v":8718.5},{"$f":"'Market Data'!E226","v":8536},{"$f":"'Market Data'!F226","v":8542.5},null,222,{"$f":"IF($H240<($J$6+1),\"\",PFE(OFFSET($F240,0,0,-$J$6)))","v":-0.12578037048935711},null,"Short",{"$error":"#N/A"},{"$error":"#N/A"},null,null,null,null,null,null,null,null,null,null,null,null,null,null,null,null,null,null,null,null,null,null,null,null,null,null,null,null,{"$f":"IF(NOT($AS240=$AS241),ROW(),\"\")","v":""},{"$f":"IF(NOT(AS240=AS241),AS241,\"\")","v":""},{"$f":"INDEX($AB$15:$AM$15,MATCH($AS240,$AB$11:$AM$11,0))","v":{"$error":"#N/A"}},{"$f":"LEFT(AT240,4)","v":"2000"},{"$f":"LEFT(B240,6)","v":"200011"}]
[null,{"$f":"'Market Data'!B227","v":20001113},{"$f":"'Market Data'!C227","v":8514},{"$f":"'Market Data'!D227","v":8532},{"$f":"'Market Data'!E227","v":8394.5},{"$f":"'Market Data'!F227","v":8451.5},null,223,{"$f":"IF($H241<($J$6+1),\"\",PFE(OFFSET($F241,0,0,-$J$6)))","v":-0.1353619006503583},null,"Short",{"$error":"#N/A"},{"$error":"#N/A"},null,null,null,null,null,null,null,null,null,null,null,null,null,null,null,null,null,null,null,null,null,null,null,null,null,null,null,null,{"$f":"IF(NOT($AS241=$AS242),ROW(),\"\")","v":""},{"$f":"IF(NOT(AS241=AS242),AS242,\"\")","v":""},{"$f":"INDEX($AB$15:$AM$15,MATCH($AS241,$AB$11:$AM$11,0))","v":{"$error":"#N/A"}},{"$f":"LEFT(AT241,4)","v":"2000"},{"$f":"LEFT(B241,6)","v":"200011"}]
[null,{"$f":"'Market Data'!B228","v":20001114},{"$f":"'Market Data'!C228","v":8488.5},{"$f":"'Market Data'!D228","v":8661.5},{"$f":"'Market Data'!E228","v":8485.5},{"$f":"'Market Data'!F228","v":8659.5},null,224,{"$f":"IF($H242<($J$6+1),\"\",PFE(OFFSET($F242,0,0,-$J$6)))","v":-9.0630002461230458E-2},null,"Short",{"$error":"#N/A"},{"$error":"#N/A"},null,null,null,null,null,null,null,null,null,null,null,null,null,null,null,null,null,null,null,null,null,null,null,null,null,null,null,null,{"$f":"IF(NOT($AS242=$AS243),ROW(),\"\")","v":""},{"$f":"IF(NOT(AS242=AS243),AS243,\"\")","v":""},{"$f":"INDEX($AB$15:$AM$15,MATCH($AS242,$AB$11:$AM$11,0))","v":{"$error":"#N/A"}},{"$f":"LEFT(AT242,4)","v":"2000"},{"$f":"LEFT(B242,6)","v":"200011"}]
[null,{"$f":"'Market Data'!B229","v":20001115},{"$f":"'Market Data'!C229","v":8635.5},{"$f":"'Market Data'!D229","v":8663.5},{"$f":"'Market Data'!E229","v":8583},{"$f":"'Market Data'!F229","v":8646.5},null,225,{"$f":"IF($H243<($J$6+1),\"\",PFE(OFFSET($F243,0,0,-$J$6)))","v":-0.11646138508506299},null,"Short",{"$error":"#N/A"},{"$error":"#N/A"},null,null,null,null,null,null,null,null,null,null,null,null,null,null,null,null,null,null,null,null,null,null,null,null,null,null,null,null,{"$f":"IF(NOT($AS243=$AS244),ROW(),\"\")","v":""},{"$f":"IF(NOT(AS243=AS244),AS244,\"\")","v":""},{"$f":"INDEX($AB$15:$AM$15,MATCH($AS243,$AB$11:$AM$11,0))","v":{"$error":"#N/A"}},{"$f":"LEFT(AT243,4)","v":"2000"},{"$f":"LEFT(B243,6)","v":"200011"}]
[null,{"$f":"'Market Data'!B230","v":20001116},{"$f":"'Market Data'!C230","v":8619.5},{"$f":"'Market Data'!D230","v":8621},{"$f":"'Market Data'!E230","v":8505},{"$f":"'Market Data'!F230","v":8512.5},null,226,{"$f":"IF($H244<($J$6+1),\"\",PFE(OFFSET($F244,0,0,-$J$6)))","v":-0.12083323353400156},null,"Short",{"$error":"#N/A"},{"$error":"#N/A"},null,null,null,null,null,null,null,null,null,null,null,null,null,null,null,null,null,null,null,null,null,null,null,null,null,null,null,null,{"$f":"IF(NOT($AS244=$AS245),ROW(),\"\")","v":""},{"$f":"IF(NOT(AS244=AS245),AS245,\"\")","v":""},{"$f":"INDEX($AB$15:$AM$15,MATCH($AS244,$AB$11:$AM$11,0))","v":{"$error":"#N/A"}},{"$f":"LEFT(AT244,4)","v":"2000"},{"$f":"LEFT(B244,6)","v":"200011"}]
[null,{"$f":"'Market Data'!B231","v":20001117},{"$f":"'Market Data'!C231","v":8484.5},{"$f":"'Market Data'!D231","v":8542.5},{"$f":"'Market Data'!E231","v":8414.5},{"$f":"'Market Data'!F231","v":8434.5},null,227,{"$f":"IF($H245<($J$6+1),\"\",PFE(OFFSET($F245,0,0,-$J$6)))","v":-0.12121479853990624},null,"Short",{"$error":"#N/A"},{"$error":"#N/A"},null,null,null,null,null,null,null,null,null,null,null,null,null,null,null,null,null,null,null,null,null,null,null,null,null,null,null,null,{"$f":"IF(NOT($AS245=$AS246),ROW(),\"\")","v":""},{"$f":"IF(NOT(AS245=AS246),AS246,\"\")","v":""},{"$f":"INDEX($AB$15:$AM$15,MATCH($AS245,$AB$11:$AM$11,0))","v":{"$error":"#N/A"}},{"$f":"LEFT(AT245,4)","v":"2000"},{"$f":"LEFT(B245,6)","v":"200011"}]
[null,{"$f":"'Market Data'!B232","v":20001120},{"$f":"'Market Data'!C232","v":8454.5},{"$f":"'Market Data'!D232","v":8498.5},{"$f":"'Market Data'!E232","v":8289.5},{"$f":"'Market Data'!F232","v":8296},null,228,{"$f":"IF($H246<($J$6+1),\"\",PFE(OFFSET($F246,0,0,-$J$6)))","v":-0.14694796861316542},null,"Short",{"$error":"#N/A"},{"$error":"#N/A"},null,null,null,null,null,null,null,null,null,null,null,null,null,null,null,null,null,null,null,null,null,null,null,null,null,null,null,null,{"$f":"IF(NOT($AS246=$AS247),ROW(),\"\")","v":""},{"$f":"IF(NOT(AS246=AS247),AS247,\"\")","v":""},{"$f":"INDEX($AB$15:$AM$15,MATCH($AS246,$AB$11:$AM$11,0))","v":{"$error":"#N/A"}},{"$f":"LEFT(AT246,4)","v":"2000"},{"$f":"LEFT(B246,6)","v":"200011"}]
[null,{"$f":"'Market Data'!B233","v":20001121},{"$f":"'Market Data'!C233","v":8312.5},{"$f":"'Market Data'!D233","v":8379.5},{"$f":"'Market Data'!E233","v":8287.5},{"$f":"'Market Data'!F233","v":8364.5},null,229,{"$f":"IF($H247<($J$6+1),\"\",PFE(OFFSET($F247,0,0,-$J$6)))","v":-0.12408447274686156},null,"Short",{"$error":"#N/A"},{"$error":"#N/A"},null,null,null,null,null,null,null,null,null,null,null,null,null,null,null,null,null,null,null,null,null,null,null,null,null,null,null,null,{"$f":"IF(NOT($AS247=$AS248),ROW(),\"\")","v":""},{"$f":"IF(NOT(AS247=AS248),AS248,\"\")","v":""},{"$f":"INDEX($AB$15:$AM$15,MATCH($AS247,$AB$11:$AM$11,0))","v":{"$error":"#N/A"}},{"$f":"LEFT(AT247,4)","v":"2000"},{"$f":"LEFT(B247,6)","v":"200011"}]
[null,{"$f":"'Market Data'!B234","v":20001122},{"$f":"'Market Data'!C234","v":8320.5},{"$f":"'Market Data'!D234","v":8329},{"$f":"'Market Data'!E234","v":8170},{"$f":"'Market Data'!F234","v":8205.5},null,230,{"$f":"IF($H248<($J$6+1),\"\",PFE(OFFSET($F248,0,0,-$J$6)))","v":-0.13389654498493039},null,"Short",{"$error":"#N/A"},{"$error":"#N/A"},null,null,null,null,null,null,null,null,null,null,null,null,null,null,null,null,null,null,null,null,null,null,null,null,null,null,null,null,{"$f":"IF(NOT($AS248=$AS249),ROW(),\"\")","v":""},{"$f":"IF(NOT(AS248=AS249),AS249,\"\")","v":""},{"$f":"INDEX($AB$15:$AM$15,MATCH($AS248,$AB$11:$AM$11,0))","v":{"$error":"#N/A"}},{"$f":"LEFT(AT248,4)","v":"2000"},{"$f":"LEFT(B248,6)","v":"200011"}]
[null,{"$f":"'Market Data'!B235","v":20001123},{"$f":"'Market Data'!C235","v":8209.5},{"$f":"'Market Data'!D235","v":8316.5},{"$f":"'Market Data'!E235","v":8156.5},{"$f":"'Market Data'!F235","v":8296.5},null,231,{"$f":"IF($H249<($J$6+1),\"\",PFE(OFFSET($F249,0,0,-$J$6)))","v":-0.10826418636450016},null,"Short",{"$error":"#N/A"},{"$error":"#N/A"},null,null,null,null,null,null,null,null,null,null,null,null,null,null,null,null,null,null,null,null,null,null,null,null,null,null,null,null,{"$f":"IF(NOT($AS249=$AS250),ROW(),\"\")","v":""},{"$f":"IF(NOT(AS249=AS250),AS250,\"\")","v":""},{"$f":"INDEX($AB$15:$AM$15,MATCH($AS249,$AB$11:$AM$11,0))","v":{"$error":"#N/A"}},{"$f":"LEFT(AT249,4)","v":"2000"},{"$f":"LEFT(B249,6)","v":"200011"}]
[null,{"$f":"'Market Data'!B236","v":20001124},{"$f":"'Market Data'!C236","v":8323.5},{"$f":"'Market Data'!D236","v":8404.5},{"$f":"'Market Data'!E236","v":8262.5},{"$f":"'Market Data'!F236","v":8354.5},null,232,{"$f":"IF($H250<($J$6+1),\"\",PFE(OFFSET($F250,0,0,-$J$6)))","v":-0.11649156701213721},null,"Short",{"$error":"#N/A"},{"$error":"#N/A"},null,null,null,null,null,null,null,null,null,null,null,null,null,null,null,null,null,null,null,null,null,null,null,null,null,null,null,null,{"$f":"IF(NOT($AS250=$AS251),ROW(),\"\")","v":""},{"$f":"IF(NOT(AS250=AS251),AS251,\"\")","v":""},{"$f":"INDEX($AB$15:$AM$15,MATCH($AS250,$AB$11:$AM$11,0))","v":{"$error":"#N/A"}},{"$f":"LEFT(AT250,4)","v":"2000"},{"$f":"LEFT(B250,6)","v":"200011"}]
[null,{"$f":"'Market Data'!B237","v":20001127},{"$f":"'Market Data'!C237","v":8410.5},{"$f":"'Market Data'!D237","v":8496.5},{"$f":"'Market Data'!E237","v":8369.5},{"$f":"'Market Data'!F237","v":8382.5},null,233,{"$f":"IF($H251<($J$6+1),\"\",PFE(OFFSET($F251,0,0,-$J$6)))","v":-9.9481053736486427E-2},null,"Short",{"$error":"#N/A"},{"$error":"#N/A"},null,null,null,null,null,null,null,null,null,null,null,null,null,null,null,null,null,null,null,null,null,null,null,null,null,null,null,null,{"$f":"IF(NOT($AS251=$AS252),ROW(),\"\")","v":""},{"$f":"IF(NOT(AS251=AS252),AS252,\"\")","v":""},{"$f":"INDEX($AB$15:$AM$15,MATCH($AS251,$AB$11:$AM$11,0))","v":{"$error":"#N/A"}},{"$f":"LEFT(AT251,4)","v":"2000"},{"$f":"LEFT(B251,6)","v":"200011"}]
[null,{"$f":"'Market Data'!B238","v":20001128},{"$f":"'Market Data'!C238","v":8371.5},{"$f":"'Market Data'!D238","v":8412},{"$f":"'Market Data'!E238","v":8297},{"$f":"'Market Data'!F238","v":8319.5},null,234,{"$f":"IF($H252<($J$6+1),\"\",PFE(OFFSET($F252,0,0,-$J$6)))","v":-0.10433977094268655},null,"Short",{"$error":"#N/A"},{"$error":"#N/A"},null,null,null,null,null,null,null,null,null,null,null,null,null,null,null,null,null,null,null,null,null,null,null,null,null,null,null,null,{"$f":"IF(NOT($AS252=$AS253),ROW(),\"\")","v":""},{"$f":"IF(NOT(AS252=AS253),AS253,\"\")","v":""},{"$f":"INDEX($AB$15:$AM$15,MATCH($AS252,$AB$11:$AM$11,0))","v":{"$error":"#N/A"}},{"$f":"LEFT(AT252,4)","v":"2000"},{"$f":"LEFT(B252,6)","v":"200011"}]
[null,{"$f":"'Market Data'!B239","v":20001129},{"$f":"'Market Data'!C239","v":8273.5},{"$f":"'Market Data'!D239","v":8348},{"$f":"'Market Data'!E239","v":8221.5},{"$f":"'Market Data'!F239","v":8288.5},null,235,{"$f":"IF($H253<($J$6+1),\"\",PFE(OFFSET($F253,0,0,-$J$6)))","v":-9.0243825013440707E-2},null,"Short",{"$error":"#N/A"},{"$error":"#N/A"},null,null,null,null,null,null,null,null,null,null,null,null,null,null,null,null,null,null,null,null,null,null,null,null,null,null,null,null,{"$f":"IF(NOT($AS253=$AS254),ROW(),\"\")","v":""},{"$f":"IF(NOT(AS253=AS254),AS254,\"\")","v":""},{"$f":"INDEX($AB$15:$AM$15,MATCH($AS253,$AB$11:$AM$11,0))","v":{"$error":"#N/A"}},{"$f":"LEFT(AT253,4)","v":"2000"},{"$f":"LEFT(B253,6)","v":"200011"}]
[null,{"$f":"'Market Data'!B240","v":20001130},{"$f":"'Market Data'!C240","v":8234.5},{"$f":"'Market Data'!D240","v":8254.5},{"$f":"'Market Data'!E240","v":8050},{"$f":"'Market Data'!F240","v":8074.5},null,236,{"$f":"IF($H254<($J$6+1),\"\",PFE(OFFSET($F254,0,0,-$J$6)))","v":-0.12616843559020613},null,"Short",{"$error":"#N/A"},{"$error":"#N/A"},null,null,null,null,null,null,null,null,null,null,null,null,null,null,null,null,null,null,null,null,null,null,null,null,null,null,null,null,{"$f":"IF(NOT($AS254=$AS255),ROW(),\"\")","v":""},{"$f":"IF(NOT(AS254=AS255),AS255,\"\")","v":""},{"$f":"INDEX($AB$15:$AM$15,MATCH($AS254,$AB$11:$AM$11,0))","v":{"$error":"#N/A"}},{"$f":"LEFT(AT254,4)","v":"2000"},{"$f":"LEFT(B254,6)","v":"200011"}]
[null,{"$f":"'Market Data'!B241","v":20001201},{"$f":"'Market Data'!C241","v":8159.5},{"$f":"'Market Data'!D241","v":8230.5},{"$f":"'Market Data'!E241","v":8140},{"$f":"'Market Data'!F241","v":8194.5},null,237,{"$f":"IF($H255<($J$6+1),\"\",PFE(OFFSET($F255,0,0,-$J$6)))","v":-0.12429520060382664},null,"Short",{"$error":"#N/A"},{"$error":"#N/A"},null,null,null,null,null,null,null,null,null,null,null,null,null,null,null,null,null,null,null,null,null,null,null,null,null,null,null,null,{"$f":"IF(NOT($AS255=$AS256),ROW(),\"\")","v":""},{"$f":"IF(NOT(AS255=AS256),AS256,\"\")","v":""},{"$f":"INDEX($AB$15:$AM$15,MATCH($AS255,$AB$11:$AM$11,0))","v":{"$error":"#N/A"}},{"$f":"LEFT(AT255,4)","v":"2000"},{"$f":"LEFT(B255,6)","v":"200012"}]
[null,{"$f":"'Market Data'!B242","v":20001204},{"$f":"'Market Data'!C242","v":8184.5},{"$f":"'Market Data'!D242","v":8191.5},{"$f":"'Market Data'!E242","v":8028.5},{"$f":"'Market Data'!F242","v":8114},null,238,{"$f":"IF($H256<($J$6+1),\"\",PFE(OFFSET($F256,0,0,-$J$6)))","v":-0.13791151322733408},null,"Short",{"$error":"#N/A"},{"$error":"#N/A"},null,null,null,null,null,null,null,null,null,null,null,null,null,null,null,null,null,null,null,null,null,null,null,null,null,null,null,null,{"$f":"IF(NOT($AS256=$AS257),ROW(),\"\")","v":""},{"$f":"IF(NOT(AS256=AS257),AS257,\"\")","v":""},{"$f":"INDEX($AB$15:$AM$15,MATCH($AS256,$AB$11:$AM$11,0))","v":{"$error":"#N/A"}},{"$f":"LEFT(AT256,4)","v":"2000"},{"$f":"LEFT(B256,6)","v":"200012"}]
[null,{"$f":"'Market Data'!B243","v":20001205},{"$f":"'Market Data'!C243","v":8156.5},{"$f":"'Market Data'!D243","v":8319},{"$f":"'Market Data'!E243","v":8148.5},{"$f":"'Market Data'!F243","v":8307.5},null,239,{"$f":"IF($H257<($J$6+1),\"\",PFE(OFFSET($F257,0,0,-$J$6)))","v":-0.11958623528463325},null,"Short",{"$error":"#N/A"},{"$error":"#N/A"},null,null,null,null,null,null,null,null,null,null,null,null,null,null,null,null,null,null,null,null,null,null,null,null,null,null,null,null,{"$f":"IF(NOT($AS257=$AS258),ROW(),\"\")","v":""},{"$f":"IF(NOT(AS257=AS258),AS258,\"\")","v":""},{"$f":"INDEX($AB$15:$AM$15,MATCH($AS257,$AB$11:$AM$11,0))","v":{"$error":"#N/A"}},{"$f":"LEFT(AT257,4)","v":"2000"},{"$f":"LEFT(B257,6)","v":"200012"}]
[null,{"$f":"'Market Data'!B244","v":20001206},{"$f":"'Market Data'!C244","v":8374.5},{"$f":"'Market Data'!D244","v":8397},{"$f":"'Market Data'!E244","v":8286.5},{"$f":"'Market Data'!F244","v":8292.5},null,240,{"$f":"IF($H258<($J$6+1),\"\",PFE(OFFSET($F258,0,0,-$J$6)))","v":-0.12744603534894142},null,"Short",{"$error":"#N/A"},{"$error":"#N/A"},null,null,null,null,null,null,null,null,null,null,null,null,null,null,null,null,null,null,null,null,null,null,null,null,null,null,null,null,{"$f":"IF(NOT($AS258=$AS259),ROW(),\"\")","v":""},{"$f":"IF(NOT(AS258=AS259),AS259,\"\")","v":""},{"$f":"INDEX($AB$15:$AM$15,MATCH($AS258,$AB$11:$AM$11,0))","v":{"$error":"#N/A"}},{"$f":"LEFT(AT258,4)","v":"2000"},{"$f":"LEFT(B258,6)","v":"200012"}]
[null,{"$f":"'Market Data'!B245","v":20001207},{"$f":"'Market Data'!C245","v":8255.5},{"$f":"'Market Data'!D245","v":8334},{"$f":"'Market Data'!E245","v":8178.5},{"$f":"'Market Data'!F245","v":8249.5},null,241,{"$f":"IF($H259<($J$6+1),\"\",PFE(OFFSET($F259,0,0,-$J$6)))","v":-0.14167890916395381},null,"Short",{"$error":"#N/A"},{"$error":"#N/A"},null,null,null,null,null,null,null,null,null,null,null,null,null,null,null,null,null,null,null,null,null,null,null,null,null,null,null,null,{"$f":"IF(NOT($AS259=$AS260),ROW(),\"\")","v":""},{"$f":"IF(NOT(AS259=AS260),AS260,\"\")","v":""},{"$f":"INDEX($AB$15:$AM$15,MATCH($AS259,$AB$11:$AM$11,0))","v":{"$error":"#N/A"}},{"$f":"LEFT(AT259,4)","v":"2000"},{"$f":"LEFT(B259,6)","v":"200012"}]
[null,{"$f":"'Market Data'!B246","v":20001208},{"$f":"'Market Data'!C246","v":8279.5},{"$f":"'Market Data'!D246","v":8428.5},{"$f":"'Market Data'!E246","v":8279.5},{"$f":"'Market Data'!F246","v":8356.5},null,242,{"$f":"IF($H260<($J$6+1),\"\",PFE(OFFSET($F260,0,0,-$J$6)))","v":-0.12176530176852775},null,"Short",{"$error":"#N/A"},{"$error":"#N/A"},null,null,null,null,null,null,null,null,null,null,null,null,null,null,null,null,null,null,null,null,null,null,null,null,null,null,null,null,{"$f":"IF(NOT($AS260=$AS261),ROW(),\"\")","v":""},{"$f":"IF(NOT(AS260=AS261),AS261,\"\")","v":""},{"$f":"INDEX($AB$15:$AM$15,MATCH($AS260,$AB$11:$AM$11,0))","v":{"$error":"#N/A"}},{"$f":"LEFT(AT260,4)","v":"2000"},{"$f":"LEFT(B260,6)","v":"200012"}]
[null,{"$f":"'Market Data'!B247","v":20001211},{"$f":"'Market Data'!C247","v":8423.5},{"$f":"'Market Data'!D247","v":8485},{"$f":"'Market Data'!E247","v":8406},{"$f":"'Market Data'!F247","v":8464.5},null,243,{"$f":"IF($H261<($J$6+1),\"\",PFE(OFFSET($F261,0,0,-$J$6)))","v":-9.8839506314535489E-2},null,"Short",{"$error":"#N/A"},{"$error":"#N/A"},null,null,null,null,null,null,null,null,null,null,null,null,null,null,null,null,null,null,null,null,null,null,null,null,null,null,null,null,{"$f":"IF(NOT($AS261=$AS262),ROW(),\"\")","v":""},{"$f":"IF(NOT(AS261=AS262),AS262,\"\")","v":""},{"$f":"INDEX($AB$15:$AM$15,MATCH($AS261,$AB$11:$AM$11,0))","v":{"$error":"#N/A"}},{"$f":"LEFT(AT261,4)","v":"2000"},{"$f":"LEFT(B261,6)","v":"200012"}]
[null,{"$f":"'Market Data'!B248","v":20001212},{"$f":"'Market Data'!C248","v":8463.5},{"$f":"'Market Data'!D248","v":8491},{"$f":"'Market Data'!E248","v":8407.5},{"$f":"'Market Data'!F248","v":8413.5},null,244,{"$f":"IF($H262<($J$6+1),\"\",PFE(OFFSET($F262,0,0,-$J$6)))","v":-0.11224494471357337},null,"Short",{"$error":"#N/A"},{"$error":"#N/A"},null,null,null,null,null,null,null,null,null,null,null,null,null,null,null,null,null,null,null,null,null,null,null,null,null,null,null,null,{"$f":"IF(NOT($AS262=$AS263),ROW(),\"\")","v":""},{"$f":"IF(NOT(AS262=AS263),AS263,\"\")","v":""},{"$f":"INDEX($AB$15:$AM$15,MATCH($AS262,$AB$11:$AM$11,0))","v":{"$error":"#N/A"}},{"$f":"LEFT(AT262,4)","v":"2000"},{"$f":"LEFT(B262,6)","v":"200012"}]
[null,{"$f":"'Market Data'!B249","v":20001213},{"$f":"'Market Data'!C249","v":8464.5},{"$f":"'Market Data'!D249","v":8480.5},{"$f":"'Market Data'!E249","v":8259.5},{"$f":"'Market Data'!F249","v":8286.5},null,245,{"$f":"IF($H263<($J$6+1),\"\",PFE(OFFSET($F263,0,0,-$J$6)))","v":-0.1216158121071743},null,"Short",{"$error":"#N/A"},{"$error":"#N/A"},null,null,null,null,null,null,null,null,null,null,null,null,null,null,null,null,null,null,null,null,null,null,null,null,null,null,null,null,{"$f":"IF(NOT($AS263=$AS264),ROW(),\"\")","v":""},{"$f":"IF(NOT(AS263=AS264),AS264,\"\")","v":""},{"$f":"INDEX($AB$15:$AM$15,MATCH($AS263,$AB$11:$AM$11,0))","v":{"$error":"#N/A"}},{"$f":"LEFT(AT263,4)","v":"2000"},{"$f":"LEFT(B263,6)","v":"200012"}]
[null,{"$f":"'Market Data'!B250","v":20001214},{"$f":"'Market Data'!C250","v":8239.5},{"$f":"'Market Data'!D250","v":8254.5},{"$f":"'Market Data'!E250","v":8122},{"$f":"'Market Data'!F250","v":8149.5},null,246,{"$f":"IF($H264<($J$6+1),\"\",PFE(OFFSET($F264,0,0,-$J$6)))","v":-0.13339989739067851},null,"Short",{"$error":"#N/A"},{"$error":"#N/A"},null,null,null,null,null,null,null,null,null,null,null,null,null,null,null,null,null,null,null,null,null,null,null,null,null,null,null,null,{"$f":"IF(NOT($AS264=$AS265),ROW(),\"\")","v":""},{"$f":"IF(NOT(AS264=AS265),AS265,\"\")","v":""},{"$f":"INDEX($AB$15:$AM$15,MATCH($AS264,$AB$11:$AM$11,0))","v":{"$error":"#N/A"}},{"$f":"LEFT(AT264,4)","v":"2000"},{"$f":"LEFT(B264,6)","v":"200012"}]
[null,{"$f":"'Market Data'!B251","v":20001215},{"$f":"'Market Data'!C251","v":8069.5},{"$f":"'Market Data'!D251","v":8110.5},{"$f":"'Market Data'!E251","v":8015.5},{"$f":"'Market Data'!F251","v":8023},null,247,{"$f":"IF($H265<($J$6+1),\"\",PFE(OFFSET($F265,0,0,-$J$6)))","v":-0.14546537382598634},null,"Short",{"$error":"#N/A"},{"$error":"#N/A"},null,null,null,null,null,null,null,null,null,null,null,null,null,null,null,null,null,null,null,null,null,null,null,null,null,null,null,null,{"$f":"IF(NOT($AS265=$AS266),ROW(),\"\")","v":""},{"$f":"IF(NOT(AS265=AS266),AS266,\"\")","v":""},{"$f":"INDEX($AB$15:$AM$15,MATCH($AS265,$AB$11:$AM$11,0))","v":{"$error":"#N/A"}},{"$f":"LEFT(AT265,4)","v":"2000"},{"$f":"LEFT(B265,6)","v":"200012"}]
[null,{"$f":"'Market Data'!B252","v":20001218},{"$f":"'Market Data'!C252","v":8061.5},{"$f":"'Market Data'!D252","v":8144},{"$f":"'Market Data'!E252","v":8023},{"$f":"'Market Data'!F252","v":8033},null,248,{"$f":"IF($H266<($J$6+1),\"\",PFE(OFFSET($F266,0,0,-$J$6)))","v":-0.15438920757124897},null,"Short",{"$error":"#N/A"},{"$error":"#N/A"},null,null,null,null,null,null,null,null,null,null,null,null,null,null,null,null,null,null,null,null,null,null,null,null,null,null,null,null,{"$f":"IF(NOT($AS266=$AS267),ROW(),\"\")","v":""},{"$f":"IF(NOT(AS266=AS267),AS267,\"\")","v":""},{"$f":"INDEX($AB$15:$AM$15,MATCH($AS266,$AB$11:$AM$11,0))","v":{"$error":"#N/A"}},{"$f":"LEFT(AT266,4)","v":"2000"},{"$f":"LEFT(B266,6)","v":"200012"}]
[null,{"$f":"'Market Data'!B253","v":20001219},{"$f":"'Market Data'!C253","v":8051},{"$f":"'Market Data'!D253","v":8179.5},{"$f":"'Market Data'!E253","v":7973.5},{"$f":"'Market Data'!F253","v":8168.5},null,249,{"$f":"IF($H267<($J$6+1),\"\",PFE(OFFSET($F267,0,0,-$J$6)))","v":-0.12641985776025721},null,"Short",{"$error":"#N/A"},{"$error":"#N/A"},null,null,null,null,null,null,null,null,null,null,null,null,null,null,null,null,null,null,null,null,null,null,null,null,null,null,null,null,{"$f":"IF(NOT($AS267=$AS268),ROW(),\"\")","v":""},{"$f":"IF(NOT(AS267=AS268),AS268,\"\")","v":""},{"$f":"INDEX($AB$15:$AM$15,MATCH($AS267,$AB$11:$AM$11,0))","v":{"$error":"#N/A"}},{"$f":"LEFT(AT267,4)","v":"2000"},{"$f":"LEFT(B267,6)","v":"200012"}]
[null,{"$f":"'Market Data'!B254","v":20001220},{"$f":"'Market Data'!C254","v":8043.5},{"$f":"'Market Data'!D254","v":8098.5},{"$f":"'Market Data'!E254","v":7885.5},{"$f":"'Market Data'!F254","v":7918.5},null,250,{"$f":"IF($H268<($J$6+1),\"\",PFE(OFFSET($F268,0,0,-$J$6)))","v":-0.15755960063169022},null,"Short",{"$error":"#N/A"},{"$error":"#N/A"},null,null,null,null,null,null,null,null,null,null,null,null,null,null,null,null,null,null,null,null,null,null,null,null,null,null,null,null,{"$f":"IF(NOT($AS268=$AS269),ROW(),\"\")","v":""},{"$f":"IF(NOT(AS268=AS269),AS269,\"\")","v":""},{"$f":"INDEX($AB$15:$AM$15,MATCH($AS268,$AB$11:$AM$11,0))","v":{"$error":"#N/A"}},{"$f":"LEFT(AT268,4)","v":"2000"},{"$f":"LEFT(B268,6)","v":"200012"}]
[null,{"$f":"'Market Data'!B255","v":20001221},{"$f":"'Market Data'!C255","v":7888.5},{"$f":"'Market Data'!D255","v":7960.5},{"$f":"'Market Data'!E255","v":7769},{"$f":"'Market Data'!F255","v":7876.5},null,251,{"$f":"IF($H269<($J$6+1),\"\",PFE(OFFSET($F269,0,0,-$J$6)))","v":-0.18141762896437305},null,"Short",{"$error":"#N/A"},{"$error":"#N/A"},null,null,null,null,null,null,null,null,null,null,null,null,null,null,null,null,null,null,null,null,null,null,null,null,null,null,null,null,{"$f":"IF(NOT($AS269=$AS270),ROW(),\"\")","v":""},{"$f":"IF(NOT(AS269=AS270),AS270,\"\")","v":""},{"$f":"INDEX($AB$15:$AM$15,MATCH($AS269,$AB$11:$AM$11,0))","v":{"$error":"#N/A"}},{"$f":"LEFT(AT269,4)","v":"2000"},{"$f":"LEFT(B269,6)","v":"200012"}]
[null,{"$f":"'Market Data'!B256","v":20001222},{"$f":"'Market Data'!C256","v":7917.5},{"$f":"'Market Data'!D256","v":7947.5},{"$f":"'Market Data'!E256","v":7860.5},{"$f":"'Market Data'!F256","v":7932.5},null,252,{"$f":"IF($H270<($J$6+1),\"\",PFE(OFFSET($F270,0,0,-$J$6)))","v":-0.17486918929119771},null,"Short",{"$error":"#N/A"},{"$error":"#N/A"},null,null,null,null,null,null,null,null,null,null,null,null,null,null,null,null,null,null,null,null,null,null,null,null,null,null,null,null,{"$f":"IF(NOT($AS270=$AS271),ROW(),\"\")","v":""},{"$f":"IF(NOT(AS270=AS271),AS271,\"\")","v":""},{"$f":"INDEX($AB$15:$AM$15,MATCH($AS270,$AB$11:$AM$11,0))","v":{"$error":"#N/A"}},{"$f":"LEFT(AT270,4)","v":"2000"},{"$f":"LEFT(B270,6)","v":"200012"}]
[null,{"$f":"'Market Data'!B257","v":20001227},{"$f":"'Market Data'!C257","v":7961.5},{"$f":"'Market Data'!D257","v":8023.5},{"$f":"'Market Data'!E257","v":7930.5},{"$f":"'Market Data'!F257","v":8003.5},null,253,{"$f":"IF($H271<($J$6+1),\"\",PFE(OFFSET($F271,0,0,-$J$6)))","v":-0.15576887647565207},null,"Short",{"$error":"#N/A"},{"$error":"#N/A"},null,null,null,null,null,null,null,null,null,null,null,null,null,null,null,null,null,null,null,null,null,null,null,null,null,null,null,null,{"$f":"IF(NOT($AS271=$AS272),ROW(),\"\")","v":""},{"$f":"IF(NOT(AS271=AS272),AS272,\"\")","v":""},{"$f":"INDEX($AB$15:$AM$15,MATCH($AS271,$AB$11:$AM$11,0))","v":{"$error":"#N/A"}},{"$f":"LEFT(AT271,4)","v":"2000"},{"$f":"LEFT(B271,6)","v":"200012"}]
[null,{"$f":"'Market Data'!B258","v":20001228},{"$f":"'Market Data'!C258","v":8038.5},{"$f":"'Market Data'!D258","v":8058},{"$f":"'Market Data'!E258","v":7985},{"$f":"'Market Data'!F258","v":7993.5},null,254,{"$f":"IF($H272<($J$6+1),\"\",PFE(OFFSET($F272,0,0,-$J$6)))","v":-0.14344496069434065},null,"Short",{"$error":"#N/A"},{"$error":"#N/A"},null,null,null,null,null,null,null,null,null,null,null,null,null,null,null,null,null,null,null,null,null,null,null,null,null,null,null,null,{"$f":"IF(NOT($AS272=$AS273),ROW(),\"\")","v":""},{"$f":"IF(NOT(AS272=AS273),AS273,\"\")","v":""},{"$f":"INDEX($AB$15:$AM$15,MATCH($AS272,$AB$11:$AM$11,0))","v":{"$error":"#N/A"}},{"$f":"LEFT(AT272,4)","v":"2000"},{"$f":"LEFT(B272,6)","v":"200012"}]
["Historical",{"$f":"'Market Data'!B259","v":20001229},{"$f":"'Market Data'!C259","v":8058.5},{"$f":"'Market Data'!D259","v":8133.5},{"$f":"'Market Data'!E259","v":8025},{"$f":"'Market Data'!F259","v":8098.5},null,255,{"$f":"IF($H273<($J$6+1),\"\",PFE(OFFSET($F273,0,0,-$J$6)))","v":-0.13657044725015308},null,"Short",{"$error":"#N/A"},{"$error":"#N/A"},null,{"$f":"IF($K273=\"Short\",-1,IF($K273=\"Long\",1,0))","v":-1},{"$f":"$O273-S273","v":-1},{"$f":"IF(NOT($P273=0),\"Fill\",\"\")","v":"Fill"},null,0,null,null,null,null,null,null,null,null,null,null,null,null,null,null,null,null,null,null,null,null,null,null,{"$f":"IF(NOT($AS273=$AS274),ROW(),\"\")","v":273},{"$f":"IF(NOT(AS273=AS274),AS274,\"\")","v":"2001"},{"$f":"INDEX($AB$15:$AM$15,MATCH($AS273,$AB$11:$AM$11,0))","v":{"$error":"#N/A"}},{"$f":"LEFT(AT273,4)","v":"2000"},{"$f":"LEFT(B273,6)","v":"200012"}]
["Data",{"$f":"'Market Data'!B260","v":20010102},{"$f":"'Market Data'!C260","v":8068.5},{"$f":"'Market Data'!D260","v":8098.5},{"$f":"'Market Data'!E260","v":7929.5},{"$f":"'Market Data'!F260","v":7938.5},null,256,{"$f":"IF($H274<($J$6+1),\"\",PFE(OFFSET($F274,0,0,-$J$6)))","v":-0.17497181868007688},null,"Short",{"$error":"#N/A"},{"$error":"#N/A"},null,{"$f":"IF($K274=\"Short\",-1,IF($K274=\"Long\",1,0))","v":-1},0,{"$f":"IF(NOT($P274=0),\"Fill\",\"\")","v":""},null,{"$f":"IF($Q273=\"Fill\",$O273,$S273)","v":-1},null,{"$f":"IF(OR($S273&$O273=\"01\",$S273&$O273=\"0-1\"),(($F274-$C274)*$V$4*$O273)-(ABS($P273)*$V$5),IF(OR($S273&$O273=\"10\",$S273&$O273=\"-10\"),(($C274-$F273)*$V$4*$S273)-(ABS($P273)*$V$5),IF(OR($S273&$O273=\"1-1\",$S273&$O273=\"-11\"),(($C274-$F273)*$V$4*$S273)-(ABS($P273)*$V$5)+(($F274-$C274)*$V$4*$S274),IF(OR($S273&$O273=\"11\",$S273&$O273=\"-1-1\"),(($F274-$F273)*$V$4*$S274),0))))","v":4459.04},{"$f":"V273+U274","v":4459.04},null,null,null,null,null,null,null,null,null,null,null,null,null,null,null,null,null,null,null,{"$f":"IF(NOT($AS274=$AS275),ROW(),\"\")","v":""},{"$f":"IF(NOT(AS274=AS275),AS275,\"\")","v":""},{"$f":"INDEX($AB$15:$AM$15,MATCH($AS274,$AB$11:$AM$11,0))","v":"in"},{"$f":"LEFT(AT274,4)","v":"2001"},{"$f":"LEFT(B274,6)","v":"200101"}]
[null,{"$f":"'Market Data'!B261","v":20010103},{"$f":"'Market Data'!C261","v":7898.5},{"$f":"'Market Data'!D261","v":8122.5},{"$f":"'Market Data'!E261","v":7825},{"$f":"'Market Data'!F261","v":8087.5},null,257,{"$f":"IF($H275<($J$6+1),\"\",PFE(OFFSET($F275,0,0,-$J$6)))","v":-0.16470163785875885},null,"Short",{"$f":"IF(AND($K275=\"Long\",$K274<>\"Long\"),$F275,NA())","v":{"$error":"#N/A"}},{"$f":"IF(AND($K275=\"Short\",$K274<>\"Short\"),$F275,NA())","v":{"$error":"#N/A"}},null,{"$f":"IF($K275=\"Short\",-1,IF($K275=\"Long\",1,0))","v":-1},0,{"$f":"IF(NOT($P275=0),\"Fill\",\"\")","v":""},null,-1,null,{"$f":"IF(OR($S274&$O274=\"01\",$S274&$O274=\"0-1\"),(($F275-$C275)*$V$4*$O274)-(ABS($P274)*$V$5),IF(OR($S274&$O274=\"10\",$S274&$O274=\"-10\"),(($C275-$F274)*$V$4*$S274)-(ABS($P274)*$V$5),IF(OR($S274&$O274=\"1-1\",$S274&$O274=\"-11\"),(($C275-$F274)*$V$4*$S274)-(ABS($P274)*$V$5)+(($F275-$C275)*$V$4*$S275),IF(OR($S274&$O274=\"11\",$S274&$O274=\"-1-1\"),(($F275-$F274)*$V$4*$S275),0))))","v":-5215},{"$f":"V274+U275","v":-755.96},null,null,null,null,null,null,null,null,null,null,null,null,null,null,null,null,null,null,null,{"$f":"IF(NOT($AS275=$AS276),ROW(),\"\")","v":""},{"$f":"IF(NOT(AS275=AS276),AS276,\"\")","v":""},{"$f":"INDEX($AB$15:$AM$15,MATCH($AS275,$AB$11:$AM$11,0))","v":"in"},{"$f":"LEFT(AT275,4)","v":"2001"},{"$f":"LEFT(B275,6)","v":"200101"}]
[null,{"$f":"'Market Data'!B262","v":20010104},{"$f":"'Market Data'!C262","v":8168.5},{"$f":"'Market Data'!D262","v":8173},{"$f":"'Market Data'!E262","v":8016.5},{"$f":"'Market Data'!F262","v":8033.5},null,{"$f":"ROW()-ROW(H$18)","v":258},{"$f":"IF($H276<($J$6+1),\"\",PFE(OFFSET($F276,0,0,-$J$6)))","v":-0.16482218062945164},null,{"$f":"IF($I276=\"\",\"\",IF($I276>$J$4,\"Long\",IF($I276<$J$5,\"Short\",\"\")))","v":"Short"},{"$error":"#N/A"},{"$error":"#N/A"},null,{"$f":"IF($K276=\"Short\",-1,IF($K276=\"Long\",1,0))","v":-1},0,"",null,-1,null,{"$f":"IF(OR($S275&$O275=\"01\",$S275&$O275=\"0-1\"),(($F276-$C276)*$V$4*$O275)-(ABS($P275)*$V$5),IF(OR($S275&$O275=\"10\",$S275&$O275=\"-10\"),(($C276-$F275)*$V$4*$S275)-(ABS($P275)*$V$5),IF(OR($S275&$O275=\"1-1\",$S275&$O275=\"-11\"),(($C276-$F275)*$V$4*$S275)-(ABS($P275)*$V$5)+(($F276-$C276)*$V$4*$S276),IF(OR($S275&$O275=\"11\",$S275&$O275=\"-1-1\"),(($F276-$F275)*$V$4*$S276),0))))","v":1890},1134.04,null,null,null,null,null,null,null,null,null,null,null,null,null,null,null,null,null,null,null,{"$f":"IF(NOT($AS276=$AS277),ROW(),\"\")","v":""},{"$f":"IF(NOT(AS276=AS277),AS277,\"\")","v":""},{"$f":"INDEX($AB$15:$AM$15,MATCH($AS276,$AB$11:$AM$11,0))","v":"in"},{"$f":"LEFT(AT276,4)","v":"2001"},{"$f":"LEFT(B276,6)","v":"200101"}]
[null,{"$f":"'Market Data'!B263","v":20010105},{"$f":"'Market Data'!C263","v":8068.5},{"$f":"'Market Data'!D263","v":8132.5},{"$f":"'Market Data'!E263","v":7995},{"$f":"'Market Data'!F263","v":8024},null,259,{"$f":"IF($H277<($J$6+1),\"\",PFE(OFFSET($F277,0,0,-$J$6)))","v":-0.15648441902863289},null,"Short",{"$error":"#N/A"},{"$error":"#N/A"},null,-1,0,"",null,-1,null,{"$f":"IF(OR($S276&$O276=\"01\",$S276&$O276=\"0-1\"),(($F277-$C277)*$V$4*$O276)-(ABS($P276)*$V$5),IF(OR($S276&$O276=\"10\",$S276&$O276=\"-10\"),(($C277-$F276)*$V$4*$S276)-(ABS($P276)*$V$5),IF(OR($S276&$O276=\"1-1\",$S276&$O276=\"-11\"),(($C277-$F276)*$V$4*$S276)-(ABS($P276)*$V$5)+(($F277-$C277)*$V$4*$S277),IF(OR($S276&$O276=\"11\",$S276&$O276=\"-1-1\"),(($F277-$F276)*$V$4*$S277),0))))","v":332.5},1466.54,null,null,null,null,null,null,null,null,null,null,null,null,null,null,null,null,null,null,null,{"$f":"IF(NOT($AS277=$AS278),ROW(),\"\")","v":""},{"$f":"IF(NOT(AS277=AS278),AS278,\"\")","v":""},{"$f":"INDEX($AB$15:$AM$15,MATCH($AS277,$AB$11:$AM$11,0))","v":"in"},{"$f":"LEFT(AT277,4)","v":"2001"},{"$f":"LEFT(B277,6)","v":"200101"}]
[null,{"$f":"'Market Data'!B264","v":20010108},{"$f":"'Market Data'!C264","v":8012.5},{"$f":"'Market Data'!D264","v":8082.5},{"$f":"'Market Data'!E264","v":8003.5},{"$f":"'Market Data'!F264","v":8024},null,260,{"$f":"IF($H278<($J$6+1),\"\",PFE(OFFSET($F278,0,0,-$J$6)))","v":-0.16529871470666369},null,"Short",{"$error":"#N/A"},{"$error":"#N/A"},null,-1,0,"",null,-1,null,{"$f":"IF(OR($S277&$O277=\"01\",$S277&$O277=\"0-1\"),(($F278-$C278)*$V$4*$O277)-(ABS($P277)*$V$5),IF(OR($S277&$O277=\"10\",$S277&$O277=\"-10\"),(($C278-$F277)*$V$4*$S277)-(ABS($P277)*$V$5),IF(OR($S277&$O277=\"1-1\",$S277&$O277=\"-11\"),(($C278-$F277)*$V$4*$S277)-(ABS($P277)*$V$5)+(($F278-$C278)*$V$4*$S278),IF(OR($S277&$O277=\"11\",$S277&$O277=\"-1-1\"),(($F278-$F277)*$V$4*$S278),0))))","v":0},1466.54,null,null,null,null,null,null,null,null,null,null,null,null,null,null,null,null,null,null,null,{"$f":"IF(NOT($AS278=$AS279),ROW(),\"\")","v":""},{"$f":"IF(NOT(AS278=AS279),AS279,\"\")","v":""},{"$f":"INDEX($AB$15:$AM$15,MATCH($AS278,$AB$11:$AM$11,0))","v":"in"},{"$f":"LEFT(AT278,4)","v":"2001"},{"$f":"LEFT(B278,6)","v":"200101"}]
[null,{"$f":"'Market Data'!B265","v":20010109},{"$f":"'Market Data'!C265","v":8100.5},{"$f":"'Market Data'!D265","v":8114.5},{"$f":"'Market Data'!E265","v":8005},{"$f":"'Market Data'!F265","v":8028.5},null,261,{"$f":"IF($H279<($J$6+1),\"\",PFE(OFFSET($F279,0,0,-$J$6)))","v":-0.1503811042813305},null,"Short",{"$error":"#N/A"},{"$error":"#N/A"},null,-1,0,"",null,-1,null,-157.5,1309.04,null,null,null,null,null,null,null,null,null,null,null,null,null,null,null,null,null,null,null,{"$f":"IF(NOT($AS279=$AS280),ROW(),\"\")","v":""},{"$f":"IF(NOT(AS279=AS280),AS280,\"\")","v":""},{"$f":"INDEX($AB$15:$AM$15,MATCH($AS279,$AB$11:$AM$11,0))","v":"in"},{"$f":"LEFT(AT279,4)","v":"2001"},{"$f":"LEFT(B279,6)","v":"200101"}]
[null,{"$f":"'Market Data'!B266","v":20010110},{"$f":"'Market Data'!C266","v":8058.5},{"$f":"'Market Data'!D266","v":8063.5},{"$f":"'Market Data'!E266","v":7937},{"$f":"'Market Data'!F266","v":7997},null,262,{"$f":"IF($H280<($J$6+1),\"\",PFE(OFFSET($F280,0,0,-$J$6)))","v":-0.14904872840758124},null,"Short",{"$error":"#N/A"},{"$error":"#N/A"},null,-1,0,"",null,-1,null,1102.5,2411.54,null,null,null,null,null,null,null,null,null,null,null,null,null,null,null,null,null,null,null,{"$f":"IF(NOT($AS280=$AS281),ROW(),\"\")","v":""},{"$f":"IF(NOT(AS280=AS281),AS281,\"\")","v":""},{"$f":"INDEX($AB$15:$AM$15,MATCH($AS280,$AB$11:$AM$11,0))","v":"in"},{"$f":"LEFT(AT280,4)","v":"2001"},{"$f":"LEFT(B280,6)","v":"200101"}]
[null,{"$f":"'Market Data'!B267","v":20010111},{"$f":"'Market Data'!C267","v":7997},{"$f":"'Market Data'!D267","v":8132},{"$f":"'Market Data'!E267","v":7984},{"$f":"'Market Data'!F267","v":8126},null,263,{"$f":"IF($H281<($J$6+1),\"\",PFE(OFFSET($F281,0,0,-$J$6)))","v":-0.11711817443247065},null,"Short",{"$error":"#N/A"},{"$error":"#N/A"},null,-1,0,"",null,-1,null,-4515,-2103.46,null,null,null,null,null,null,null,null,null,null,null,null,null,null,null,null,null,null,null,{"$f":"IF(NOT($AS281=$AS282),ROW(),\"\")","v":""},{"$f":"IF(NOT(AS281=AS282),AS282,\"\")","v":""},{"$f":"INDEX($AB$15:$AM$15,MATCH($AS281,$AB$11:$AM$11,0))","v":"in"},{"$f":"LEFT(AT281,4)","v":"2001"},{"$f":"LEFT(B281,6)","v":"200101"}]
[null,{"$f":"'Market Data'!B268","v":20010112},{"$f":"'Market Data'!C268","v":8128.5},{"$f":"'Market Data'!D268","v":8197.5},{"$f":"'Market Data'!E268","v":8116},{"$f":"'Market Data'!F268","v":8142.5},null,264,{"$f":"IF($H282<($J$6+1),\"\",PFE(OFFSET($F282,0,0,-$J$6)))","v":-9.6357522433241818E-2},null,"Short",{"$error":"#N/A"},{"$error":"#N/A"},null,-1,0,"",null,-1,null,-577.5,-2680.96,null,null,null,null,null,null,null,null,null,null,null,null,null,null,null,null,null,null,null,{"$f":"IF(NOT($AS282=$AS283),ROW(),\"\")","v":""},{"$f":"IF(NOT(AS282=AS283),AS283,\"\")","v":""},{"$f":"INDEX($AB$15:$AM$15,MATCH($AS282,$AB$11:$AM$11,0))","v":"in"},{"$f":"LEFT(AT282,4)","v":"2001"},{"$f":"LEFT(B282,6)","v":"200101"}]
[null,{"$f":"'Market Data'!B269","v":20010115},{"$f":"'Market Data'!C269","v":8166},{"$f":"'Market Data'!D269","v":8202},{"$f":"'Market Data'!E269","v":8136},{"$f":"'Market Data'!F269","v":8175.5},null,265,{"$f":"IF($H283<($J$6+1),\"\",PFE(OFFSET($F283,0,0,-$J$6)))","v":-9.7264839188347663E-2},null,"Short",{"$error":"#N/A"},{"$error":"#N/A"},null,-1,0,"",null,-1,null,-1155,-3835.96,null,null,null,null,null,null,null,null,null,null,null,null,null,null,null,null,null,null,null,{"$f":"IF(NOT($AS283=$AS284),ROW(),\"\")","v":""},{"$f":"IF(NOT(AS283=AS284),AS284,\"\")","v":""},{"$f":"INDEX($AB$15:$AM$15,MATCH($AS283,$AB$11:$AM$11,0))","v":"in"},{"$f":"LEFT(AT283,4)","v":"2001"},{"$f":"LEFT(B283,6)","v":"200101"}]
[null,{"$f":"'Market Data'!B270","v":20010116},{"$f":"'Market Data'!C270","v":8178.5},{"$f":"'Market Data'!D270","v":8182},{"$f":"'Market Data'!E270","v":8094.5},{"$f":"'Market Data'!F270","v":8159.5},null,266,{"$f":"IF($H284<($J$6+1),\"\",PFE(OFFSET($F284,0,0,-$J$6)))","v":-9.4681082906500041E-2},null,"Short",{"$error":"#N/A"},{"$error":"#N/A"},null,-1,0,"",null,-1,null,560,-3275.96,null,null,null,null,null,null,null,null,null,null,null,null,null,null,null,null,null,null,null,{"$f":"IF(NOT($AS284=$AS285),ROW(),\"\")","v":""},{"$f":"IF(NOT(AS284=AS285),AS285,\"\")","v":""},{"$f":"INDEX($AB$15:$AM$15,MATCH($AS284,$AB$11:$AM$11,0))","v":"in"},{"$f":"LEFT(AT284,4)","v":"2001"},{"$f":"LEFT(B284,6)","v":"200101"}]
[null,{"$f":"'Market Data'!B271","v":20010117},{"$f":"'Market Data'!C271","v":8199.5},{"$f":"'Market Data'!D271","v":8315},{"$f":"'Market Data'!E271","v":8199.5},{"$f":"'Market Data'!F271","v":8285.5},null,267,{"$f":"IF($H285<($J$6+1),\"\",PFE(OFFSET($F285,0,0,-$J$6)))","v":-5.5460365621886644E-2},null,"Short",{"$error":"#N/A"},{"$error":"#N/A"},null,-1,0,"",null,-1,null,-4410,-7685.96,null,null,null,null,null,null,null,null,null,null,null,null,null,null,null,null,null,null,null,{"$f":"IF(NOT($AS285=$AS286),ROW(),\"\")","v":""},{"$f":"IF(NOT(AS285=AS286),AS286,\"\")","v":""},{"$f":"INDEX($AB$15:$AM$15,MATCH($AS285,$AB$11:$AM$11,0))","v":"in"},{"$f":"LEFT(AT285,4)","v":"2001"},{"$f":"LEFT(B285,6)","v":"200101"}]
[null,{"$f":"'Market Data'!B272","v":20010118},{"$f":"'Market Data'!C272","v":8263.5},{"$f":"'Market Data'!D272","v":8300},{"$f":"'Market Data'!E272","v":8233.5},{"$f":"'Market Data'!F272","v":8289},null,268,{"$f":"IF($H286<($J$6+1),\"\",PFE(OFFSET($F286,0,0,-$J$6)))","v":-6.1783975204853285E-2},null,"Short",{"$error":"#N/A"},{"$error":"#N/A"},null,-1,0,"",null,-1,null,-122.5,-7808.46,null,null,null,null,null,null,null,null,null,null,null,null,null,null,null,null,null,null,null,{"$f":"IF(NOT($AS286=$AS287),ROW(),\"\")","v":""},{"$f":"IF(NOT(AS286=AS287),AS287,\"\")","v":""},{"$f":"INDEX($AB$15:$AM$15,MATCH($AS286,$AB$11:$AM$11,0))","v":"in"},{"$f":"LEFT(AT286,4)","v":"2001"},{"$f":"LEFT(B286,6)","v":"200101"}]
[null,{"$f":"'Market Data'!B273","v":20010119},{"$f":"'Market Data'!C273","v":8348.5},{"$f":"'Market Data'!D273","v":8378},{"$f":"'Market Data'!E273","v":8274.5},{"$f":"'Market Data'!F273","v":8303},null,269,{"$f":"IF($H287<($J$6+1),\"\",PFE(OFFSET($F287,0,0,-$J$6)))","v":-3.3356436229723584E-2},null,"Short",{"$error":"#N/A"},{"$error":"#N/A"},null,-1,0,"",null,-1,null,-490,-8298.4599999999991,null,null,null,null,null,null,null,null,null,null,null,null,null,null,null,null,null,null,null,{"$f":"IF(NOT($AS287=$AS288),ROW(),\"\")","v":""},{"$f":"IF(NOT(AS287=AS288),AS288,\"\")","v":""},{"$f":"INDEX($AB$15:$AM$15,MATCH($AS287,$AB$11:$AM$11,0))","v":"in"},{"$f":"LEFT(AT287,4)","v":"2001"},{"$f":"LEFT(B287,6)","v":"200101"}]
[null,{"$f":"'Market Data'!B274","v":20010122},{"$f":"'Market Data'!C274","v":8308.5},{"$f":"'Market Data'!D274","v":8332.5},{"$f":"'Market Data'!E274","v":8237.5},{"$f":"'Market Data'!F274","v":8298},null,270,{"$f":"IF($H288<($J$6+1),\"\",PFE(OFFSET($F288,0,0,-$J$6)))","v":-2.2669438671374165E-2},null,"Short",{"$error":"#N/A"},{"$error":"#N/A"},null,-1,0,"",null,-1,null,175,-8123.4599999999991,null,null,null,null,null,null,null,null,null,null,null,null,null,null,null,null,null,null,null,{"$f":"IF(NOT($AS288=$AS289),ROW(),\"\")","v":""},{"$f":"IF(NOT(AS288=AS289),AS289,\"\")","v":""},{"$f":"INDEX($AB$15:$AM$15,MATCH($AS288,$AB$11:$AM$11,0))","v":"in"},{"$f":"LEFT(AT288,4)","v":"2001"},{"$f":"LEFT(B288,6)","v":"200101"}]
[null,{"$f":"'Market Data'!B275","v":20010123},{"$f":"'Market Data'!C275","v":8300.5},{"$f":"'Market Data'!D275","v":8348.5},{"$f":"'Market Data'!E275","v":8244.5},{"$f":"'Market Data'!F275","v":8343.5},null,271,{"$f":"IF($H289<($J$6+1),\"\",PFE(OFFSET($F289,0,0,-$J$6)))","v":-2.36787714937483E-2},null,"Short",{"$error":"#N/A"},{"$error":"#N/A"},null,-1,0,"",null,-1,null,-1592.5,-9715.9599999999991,null,null,null,null,null,null,null,null,null,null,null,null,null,null,null,null,null,null,null,{"$f":"IF(NOT($AS289=$AS290),ROW(),\"\")","v":""},{"$f":"IF(NOT(AS289=AS290),AS290,\"\")","v":""},{"$f":"INDEX($AB$15:$AM$15,MATCH($AS289,$AB$11:$AM$11,0))","v":"in"},{"$f":"LEFT(AT289,4)","v":"2001"},{"$f":"LEFT(B289,6)","v":"200101"}]
[null,{"$f":"'Market Data'!B276","v":20010124},{"$f":"'Market Data'!C276","v":8366},{"$f":"'Market Data'!D276","v":8392},{"$f":"'Market Data'!E276","v":8325.5},{"$f":"'Market Data'!F276","v":8336},null,272,{"$f":"IF($H290<($J$6+1),\"\",PFE(OFFSET($F290,0,0,-$J$6)))","v":-3.2373282059856519E-2},null,"Short",{"$error":"#N/A"},{"$error":"#N/A"},null,-1,0,"",null,-1,null,262.5,-9453.4599999999991,null,null,null,null,null,null,null,null,null,null,null,null,null,null,null,null,null,null,null,{"$f":"IF(NOT($AS290=$AS291),ROW(),\"\")","v":""},{"$f":"IF(NOT(AS290=AS291),AS291,\"\")","v":""},{"$f":"INDEX($AB$15:$AM$15,MATCH($AS290,$AB$11:$AM$11,0))","v":"in"},{"$f":"LEFT(AT290,4)","v":"2001"},{"$f":"LEFT(B290,6)","v":"200101"}]
[null,{"$f":"'Market Data'!B277","v":20010125},{"$f":"'Market Data'!C277","v":8337.5},{"$f":"'Market Data'!D277","v":8415.5},{"$f":"'Market Data'!E277","v":8314.5},{"$f":"'Market Data'!F277","v":8380.5},null,273,{"$f":"IF($H291<($J$6+1),\"\",PFE(OFFSET($F291,0,0,-$J$6)))","v":-2.3166336184827181E-2},null,"Short",{"$error":"#N/A"},{"$error":"#N/A"},null,-1,0,"",null,-1,null,-1557.5,-11010.96,null,null,null,null,null,null,null,null,null,null,null,null,null,null,null,null,null,null,null,{"$f":"IF(NOT($AS291=$AS292),ROW(),\"\")","v":""},{"$f":"IF(NOT(AS291=AS292),AS292,\"\")","v":""},{"$f":"INDEX($AB$15:$AM$15,MATCH($AS291,$AB$11:$AM$11,0))","v":"in"},{"$f":"LEFT(AT291,4)","v":"2001"},{"$f":"LEFT(B291,6)","v":"200101"}]
[null,{"$f":"'Market Data'!B278","v":20010126},{"$f":"'Market Data'!C278","v":8315},{"$f":"'Market Data'!D278","v":8338.5},{"$f":"'Market Data'!E278","v":8290},{"$f":"'Market Data'!F278","v":8331.5},null,274,{"$f":"IF($H292<($J$6+1),\"\",PFE(OFFSET($F292,0,0,-$J$6)))","v":-3.3818833010403719E-2},null,"Short",{"$error":"#N/A"},{"$error":"#N/A"},null,-1,0,"",null,-1,null,1715,-9295.9599999999991,null,null,null,null,null,null,null,null,null,null,null,null,null,null,null,null,null,null,null,{"$f":"IF(NOT($AS292=$AS293),ROW(),\"\")","v":""},{"$f":"IF(NOT(AS292=AS293),AS293,\"\")","v":""},{"$f":"INDEX($AB$15:$AM$15,MATCH($AS292,$AB$11:$AM$11,0))","v":"in"},{"$f":"LEFT(AT292,4)","v":"2001"},{"$f":"LEFT(B292,6)","v":"200101"}]
[null,{"$f":"'Market Data'!B279","v":20010129},{"$f":"'Market Data'!C279","v":8331.5},{"$f":"'Market Data'!D279","v":8388.5},{"$f":"'Market Data'!E279","v":8297},{"$f":"'Market Data'!F279","v":8381.5},null,275,{"$f":"IF($H293<($J$6+1),\"\",PFE(OFFSET($F293,0,0,-$J$6)))","v":-3.5502928242095784E-2},null,"Short",{"$error":"#N/A"},{"$error":"#N/A"},null,-1,0,"",null,-1,null,-1750,-11045.96,null,null,null,null,null,null,null,null,null,null,null,null,null,null,null,null,null,null,null,{"$f":"IF(NOT($AS293=$AS294),ROW(),\"\")","v":""},{"$f":"IF(NOT(AS293=AS294),AS294,\"\")","v":""},{"$f":"INDEX($AB$15:$AM$15,MATCH($AS293,$AB$11:$AM$11,0))","v":"in"},{"$f":"LEFT(AT293,4)","v":"2001"},{"$f":"LEFT(B293,6)","v":"200101"}]
[null,{"$f":"'Market Data'!B280","v":20010130},{"$f":"'Market Data'!C280","v":8382.5},{"$f":"'Market Data'!D280","v":8426.5},{"$f":"'Market Data'!E280","v":8341.5},{"$f":"'Market Data'!F280","v":8364.5},null,276,{"$f":"IF($H294<($J$6+1),\"\",PFE(OFFSET($F294,0,0,-$J$6)))","v":-3.238147842054051E-2},null,"Short",{"$error":"#N/A"},{"$error":"#N/A"},null,-1,0,"",null,-1,null,595,-10450.959999999999,null,null,null,null,null,null,null,null,null,null,null,null,null,null,null,null,null,null,null,{"$f":"IF(NOT($AS294=$AS295),ROW(),\"\")","v":""},{"$f":"IF(NOT(AS294=AS295),AS295,\"\")","v":""},{"$f":"INDEX($AB$15:$AM$15,MATCH($AS294,$AB$11:$AM$11,0))","v":"in"},{"$f":"LEFT(AT294,4)","v":"2001"},{"$f":"LEFT(B294,6)","v":"200101"}]
[null,{"$f":"'Market Data'!B281","v":20010131},{"$f":"'Market Data'!C281","v":8379.5},{"$f":"'Market Data'!D281","v":8423},{"$f":"'Market Data'!E281","v":8354.5},{"$f":"'Market Data'!F281","v":8401},null,277,{"$f":"IF($H295<($J$6+1),\"\",PFE(OFFSET($F295,0,0,-$J$6)))","v":-3.7704214263690132E-2},null,"Short",{"$error":"#N/A"},{"$error":"#N/A"},null,-1,0,"",null,-1,null,-1277.5,-11728.46,null,null,null,null,null,null,null,null,null,null,null,null,null,null,null,null,null,null,null,{"$f":"IF(NOT($AS295=$AS296),ROW(),\"\")","v":""},{"$f":"IF(NOT(AS295=AS296),AS296,\"\")","v":""},{"$f":"INDEX($AB$15:$AM$15,MATCH($AS295,$AB$11:$AM$11,0))","v":"in"},{"$f":"LEFT(AT295,4)","v":"2001"},{"$f":"LEFT(B295,6)","v":"200101"}]
[null,{"$f":"'Market Data'!B282","v":20010201},{"$f":"'Market Data'!C282","v":8377.5},{"$f":"'Market Data'!D282","v":8397},{"$f":"'Market Data'!E282","v":8336.5},{"$f":"'Market Data'!F282","v":8353.5},null,278,{"$f":"IF($H296<($J$6+1),\"\",PFE(OFFSET($F296,0,0,-$J$6)))","v":-3.7125673913956665E-2},null,"Short",{"$error":"#N/A"},{"$error":"#N/A"},null,-1,0,"",null,-1,null,1662.5,-10065.959999999999,null,null,null,null,null,null,null,null,null,null,null,null,null,null,null,null,null,null,null,{"$f":"IF(NOT($AS296=$AS297),ROW(),\"\")","v":""},{"$f":"IF(NOT(AS296=AS297),AS297,\"\")","v":""},{"$f":"INDEX($AB$15:$AM$15,MATCH($AS296,$AB$11:$AM$11,0))","v":"in"},{"$f":"LEFT(AT296,4)","v":"2001"},{"$f":"LEFT(B296,6)","v":"200102"}]
[null,{"$f":"'Market Data'!B283","v":20010202},{"$f":"'Market Data'!C283","v":8383.5},{"$f":"'Market Data'!D283","v":8386.5},{"$f":"'Market Data'!E283","v":8259},{"$f":"'Market Data'!F283","v":8268},null,279,{"$f":"IF($H297<($J$6+1),\"\",PFE(OFFSET($F297,0,0,-$J$6)))","v":-5.7236110764056485E-2},null,"Short",{"$error":"#N/A"},{"$error":"#N/A"},null,-1,0,"",null,-1,null,2992.5,-7073.4599999999991,null,null,null,null,null,null,null,null,null,null,null,null,null,null,null,null,null,null,null,{"$f":"IF(NOT($AS297=$AS298),ROW(),\"\")","v":""},{"$f":"IF(NOT(AS297=AS298),AS298,\"\")","v":""},{"$f":"INDEX($AB$15:$AM$15,MATCH($AS297,$AB$11:$AM$11,0))","v":"in"},{"$f":"LEFT(AT297,4)","v":"2001"},{"$f":"LEFT(B297,6)","v":"200102"}]
[null,{"$f":"'Market Data'!B284","v":20010205},{"$f":"'Market Data'!C284","v":8235.5},{"$f":"'Market Data'!D284","v":8268.5},{"$f":"'Market Data'!E284","v":8229},{"$f":"'Market Data'!F284","v":8263.5},null,280,{"$f":"IF($H298<($J$6+1),\"\",PFE(OFFSET($F298,0,0,-$J$6)))","v":-3.6232693724869196E-2},null,"Short",{"$error":"#N/A"},{"$error":"#N/A"},null,-1,0,"",null,-1,null,157.5,-6915.9599999999991,null,null,null,null,null,null,null,null,null,null,null,null,null,null,null,null,null,null,null,{"$f":"IF(NOT($AS298=$AS299),ROW(),\"\")","v":""},{"$f":"IF(NOT(AS298=AS299),AS299,\"\")","v":""},{"$f":"INDEX($AB$15:$AM$15,MATCH($AS298,$AB$11:$AM$11,0))","v":"in"},{"$f":"LEFT(AT298,4)","v":"2001"},{"$f":"LEFT(B298,6)","v":"200102"}]
[null,{"$f":"'Market Data'!B285","v":20010206},{"$f":"'Market Data'!C285","v":8270.5},{"$f":"'Market Data'!D285","v":8322.5},{"$f":"'Market Data'!E285","v":8250.5},{"$f":"'Market Data'!F285","v":8306.5},null,281,{"$f":"IF($H299<($J$6+1),\"\",PFE(OFFSET($F299,0,0,-$J$6)))","v":-2.2974359660915794E-2},null,"Short",{"$error":"#N/A"},{"$error":"#N/A"},null,-1,0,"",null,-1,null,-1505,-8420.9599999999991,null,null,null,null,null,null,null,null,null,null,null,null,null,null,null,null,null,null,null,{"$f":"IF(NOT($AS299=$AS300),ROW(),\"\")","v":""},{"$f":"IF(NOT(AS299=AS300),AS300,\"\")","v":""},{"$f":"INDEX($AB$15:$AM$15,MATCH($AS299,$AB$11:$AM$11,0))","v":"in"},{"$f":"LEFT(AT299,4)","v":"2001"},{"$f":"LEFT(B299,6)","v":"200102"}]
[null,{"$f":"'Market Data'!B286","v":20010207},{"$f":"'Market Data'!C286","v":8270.5},{"$f":"'Market Data'!D286","v":8278},{"$f":"'Market Data'!E286","v":8217.5},{"$f":"'Market Data'!F286","v":8218.5},null,282,{"$f":"IF($H300<($J$6+1),\"\",PFE(OFFSET($F300,0,0,-$J$6)))","v":-3.4505190926531183E-2},null,"Short",{"$error":"#N/A"},{"$error":"#N/A"},null,-1,0,"",null,-1,null,3080,-5340.9599999999991,null,null,null,null,null,null,null,null,null,null,null,null,null,null,null,null,null,null,null,{"$f":"IF(NOT($AS300=$AS301),ROW(),\"\")","v":""},{"$f":"IF(NOT(AS300=AS301),AS301,\"\")","v":""},{"$f":"INDEX($AB$15:$AM$15,MATCH($AS300,$AB$11:$AM$11,0))","v":"in"},{"$f":"LEFT(AT300,4)","v":"2001"},{"$f":"LEFT(B300,6)","v":"200102"}]
[null,{"$f":"'Market Data'!B287","v":20010208},{"$f":"'Market Data'!C287","v":8232.5},{"$f":"'Market Data'!D287","v":8292},{"$f":"'Market Data'!E287","v":8211},{"$f":"'Market Data'!F287","v":8256.5},null,283,{"$f":"IF($H301<($J$6+1),\"\",PFE(OFFSET($F301,0,0,-$J$6)))","v":-1.5166998066673232E-2},null,"Short",{"$error":"#N/A"},{"$error":"#N/A"},null,-1,0,"",null,-1,null,-1330,-6670.9599999999991,null,null,null,null,null,null,null,null,null,null,null,null,null,null,null,null,null,null,null,{"$f":"IF(NOT($AS301=$AS302),ROW(),\"\")","v":""},{"$f":"IF(NOT(AS301=AS302),AS302,\"\")","v":""},{"$f":"INDEX($AB$15:$AM$15,MATCH($AS301,$AB$11:$AM$11,0))","v":"in"},{"$f":"LEFT(AT301,4)","v":"2001"},{"$f":"LEFT(B301,6)","v":"200102"}]
[null,{"$f":"'Market Data'!B288","v":20010209},{"$f":"'Market Data'!C288","v":8229.5},{"$f":"'Market Data'!D288","v":8238.5},{"$f":"'Market Data'!E288","v":8124.5},{"$f":"'Market Data'!F288","v":8127},null,284,{"$f":"IF($H302<($J$6+1),\"\",PFE(OFFSET($F302,0,0,-$J$6)))","v":-1.5766648258047133E-2},null,"Short",{"$error":"#N/A"},{"$error":"#N/A"},null,-1,0,"",null,-1,null,4532.5,-2138.4599999999991,null,null,null,null,null,null,null,null,null,null,null,null,null,null,null,null,null,null,null,{"$f":"IF(NOT($AS302=$AS303),ROW(),\"\")","v":""},{"$f":"IF(NOT(AS302=AS303),AS303,\"\")","v":""},{"$f":"INDEX($AB$15:$AM$15,MATCH($AS302,$AB$11:$AM$11,0))","v":"in"},{"$f":"LEFT(AT302,4)","v":"2001"},{"$f":"LEFT(B302,6)","v":"200102"}]
[null,{"$f":"'Market Data'!B289","v":20010212},{"$f":"'Market Data'!C289","v":8140.5},{"$f":"'Market Data'!D289","v":8197.5},{"$f":"'Market Data'!E289","v":8129},{"$f":"'Market Data'!F289","v":8190},null,285,{"$f":"IF($H303<($J$6+1),\"\",PFE(OFFSET($F303,0,0,-$J$6)))","v":-3.1892253173588715E-2},null,"Short",{"$error":"#N/A"},{"$error":"#N/A"},null,-1,0,"",null,-1,null,-2205,-4343.4599999999991,null,null,null,null,null,null,null,null,null,null,null,null,null,null,null,null,null,null,null,{"$f":"IF(NOT($AS303=$AS304),ROW(),\"\")","v":""},{"$f":"IF(NOT(AS303=AS304),AS304,\"\")","v":""},{"$f":"INDEX($AB$15:$AM$15,MATCH($AS303,$AB$11:$AM$11,0))","v":"in"},{"$f":"LEFT(AT303,4)","v":"2001"},{"$f":"LEFT(B303,6)","v":"200102"}]
[null,{"$f":"'Market Data'!B290","v":20010213},{"$f":"'Market Data'!C290","v":8206.5},{"$f":"'Market Data'!D290","v":8228.5},{"$f":"'Market Data'!E290","v":8167},{"$f":"'Market Data'!F290","v":8192},null,286,{"$f":"IF($H304<($J$6+1),\"\",PFE(OFFSET($F304,0,0,-$J$6)))","v":-3.0280081238153747E-2},null,"Short",{"$error":"#N/A"},{"$error":"#N/A"},null,-1,0,"",null,-1,null,-70,-4413.4599999999991,null,null,null,null,null,null,null,null,null,null,null,null,null,null,null,null,null,null,null,{"$f":"IF(NOT($AS304=$AS305),ROW(),\"\")","v":""},{"$f":"IF(NOT(AS304=AS305),AS305,\"\")","v":""},{"$f":"INDEX($AB$15:$AM$15,MATCH($AS304,$AB$11:$AM$11,0))","v":"in"},{"$f":"LEFT(AT304,4)","v":"2001"},{"$f":"LEFT(B304,6)","v":"200102"}]
[null,{"$f":"'Market Data'!B291","v":20010214},{"$f":"'Market Data'!C291","v":8153.5},{"$f":"'Market Data'!D291","v":8165.5},{"$f":"'Market Data'!E291","v":8076},{"$f":"'Market Data'!F291","v":8112.5},null,287,{"$f":"IF($H305<($J$6+1),\"\",PFE(OFFSET($F305,0,0,-$J$6)))","v":-2.8921274699263477E-2},null,"Short",{"$error":"#N/A"},{"$error":"#N/A"},null,-1,0,"",null,-1,null,2782.5,-1630.9599999999991,null,null,null,null,null,null,null,null,null,null,null,null,null,null,null,null,null,null,null,{"$f":"IF(NOT($AS305=$AS306),ROW(),\"\")","v":""},{"$f":"IF(NOT(AS305=AS306),AS306,\"\")","v":""},{"$f":"INDEX($AB$15:$AM$15,MATCH($AS305,$AB$11:$AM$11,0))","v":"in"},{"$f":"LEFT(AT305,4)","v":"2001"},{"$f":"LEFT(B305,6)","v":"200102"}]
[null,{"$f":"'Market Data'!B292","v":20010215},{"$f":"'Market Data'!C292","v":8130.5},{"$f":"'Market Data'!D292","v":8200.5},{"$f":"'Market Data'!E292","v":8104.5},{"$f":"'Market Data'!F292","v":8188.5},null,288,{"$f":"IF($H306<($J$6+1),\"\",PFE(OFFSET($F306,0,0,-$J$6)))","v":-1.4298303486778456E-2},null,"Short",{"$error":"#N/A"},{"$error":"#N/A"},null,-1,0,"",null,-1,null,-2660,-4290.9599999999991,null,null,null,null,null,null,null,null,null,null,null,null,null,null,null,null,null,null,null,{"$f":"IF(NOT($AS306=$AS307),ROW(),\"\")","v":""},{"$f":"IF(NOT(AS306=AS307),AS307,\"\")","v":""},{"$f":"INDEX($AB$15:$AM$15,MATCH($AS306,$AB$11:$AM$11,0))","v":"in"},{"$f":"LEFT(AT306,4)","v":"2001"},{"$f":"LEFT(B306,6)","v":"200102"}]
[null,{"$f":"'Market Data'!B293","v":20010216},{"$f":"'Market Data'!C293","v":8138.5},{"$f":"'Market Data'!D293","v":8151},{"$f":"'Market Data'!E293","v":8073.5},{"$f":"'Market Data'!F293","v":8073.5},null,289,{"$f":"IF($H307<($J$6+1),\"\",PFE(OFFSET($F307,0,0,-$J$6)))","v":-4.2561321203067166E-2},null,"Short",{"$error":"#N/A"},{"$error":"#N/A"},null,-1,0,"",null,-1,null,4025,-265.95999999999913,null,null,null,null,null,null,null,null,null,null,null,null,null,null,null,null,null,null,null,{"$f":"IF(NOT($AS307=$AS308),ROW(),\"\")","v":""},{"$f":"IF(NOT(AS307=AS308),AS308,\"\")","v":""},{"$f":"INDEX($AB$15:$AM$15,MATCH($AS307,$AB$11:$AM$11,0))","v":"in"},{"$f":"LEFT(AT307,4)","v":"2001"},{"$f":"LEFT(B307,6)","v":"200102"}]
[null,{"$f":"'Market Data'!B294","v":20010219},{"$f":"'Market Data'!C294","v":8098.5},{"$f":"'Market Data'!D294","v":8111},{"$f":"'Market Data'!E294","v":8068.5},{"$f":"'Market Data'!F294","v":8089.5},null,290,{"$f":"IF($H308<($J$6+1),\"\",PFE(OFFSET($F308,0,0,-$J$6)))","v":-4.3885043502060059E-2},null,"Short",{"$error":"#N/A"},{"$error":"#N/A"},null,-1,0,"",null,-1,null,120,-145.95999999999913,null,null,null,null,null,null,null,null,null,null,null,null,null,null,null,null,null,null,null,{"$f":"IF(NOT($AS308=$AS309),ROW(),\"\")","v":""},{"$f":"IF(NOT(AS308=AS309),AS309,\"\")","v":""},{"$f":"INDEX($AB$15:$AM$15,MATCH($AS308,$AB$11:$AM$11,0))","v":"in"},{"$f":"LEFT(AT308,4)","v":"2001"},{"$f":"LEFT(B308,6)","v":"200102"}]
[null,{"$f":"'Market Data'!B295","v":20010220},{"$f":"'Market Data'!C295","v":8099.5},{"$f":"'Market Data'!D295","v":8149},{"$f":"'Market Data'!E295","v":8042},{"$f":"'Market Data'!F295","v":8063.5},null,291,{"$f":"IF($H309<($J$6+1),\"\",PFE(OFFSET($F309,0,0,-$J$6)))","v":-5.0934162163571224E-2},null,"Short",{"$error":"#N/A"},{"$error":"#N/A"},null,-1,0,"",null,-1,null,910,764.04000000000087,null,null,null,null,null,null,null,null,null,null,null,null,null,null,null,null,null,null,null,{"$f":"IF(NOT($AS309=$AS310),ROW(),\"\")","v":""},{"$f":"IF(NOT(AS309=AS310),AS310,\"\")","v":""},{"$f":"INDEX($AB$15:$AM$15,MATCH($AS309,$AB$11:$AM$11,0))","v":"in"},{"$f":"LEFT(AT309,4)","v":"2001"},{"$f":"LEFT(B309,6)","v":"200102"}]
[null,{"$f":"'Market Data'!B296","v":20010221},{"$f":"'Market Data'!C296","v":8028.5},{"$f":"'Market Data'!D296","v":8034.5},{"$f":"'Market Data'!E296","v":7929},{"$f":"'Market Data'!F296","v":7966.5},null,292,{"$f":"IF($H310<($J$6+1),\"\",PFE(OFFSET($F310,0,0,-$J$6)))","v":-9.8361737704105195E-2},null,"Short",{"$error":"#N/A"},{"$error":"#N/A"},null,-1,0,"",null,-1,null,3395,4159.0400000000009,null,null,null,null,null,null,null,null,null,null,null,null,null,null,null,null,null,null,null,{"$f":"IF(NOT($AS310=$AS311),ROW(),\"\")","v":""},{"$f":"IF(NOT(AS310=AS311),AS311,\"\")","v":""},{"$f":"INDEX($AB$15:$AM$15,MATCH($AS310,$AB$11:$AM$11,0))","v":"in"},{"$f":"LEFT(AT310,4)","v":"2001"},{"$f":"LEFT(B310,6)","v":"200102"}]
[null,{"$f":"'Market Data'!B297","v":20010222},{"$f":"'Market Data'!C297","v":7929.5},{"$f":"'Market Data'!D297","v":7977},{"$f":"'Market Data'!E297","v":7836},{"$f":"'Market Data'!F297","v":7881.5},null,293,{"$f":"IF($H311<($J$6+1),\"\",PFE(OFFSET($F311,0,0,-$J$6)))","v":-0.10167379594325356},null,"Short",{"$error":"#N/A"},{"$error":"#N/A"},null,-1,0,"",null,-1,null,2975,7134.0400000000009,null,null,null,null,null,null,null,null,null,null,null,null,null,null,null,null,null,null,null,{"$f":"IF(NOT($AS311=$AS312),ROW(),\"\")","v":""},{"$f":"IF(NOT(AS311=AS312),AS312,\"\")","v":""},{"$f":"INDEX($AB$15:$AM$15,MATCH($AS311,$AB$11:$AM$11,0))","v":"in"},{"$f":"LEFT(AT311,4)","v":"2001"},{"$f":"LEFT(B311,6)","v":"200102"}]
[null,{"$f":"'Market Data'!B298","v":20010223},{"$f":"'Market Data'!C298","v":7916.5},{"$f":"'Market Data'!D298","v":7933.5},{"$f":"'Market Data'!E298","v":7675.5},{"$f":"'Market Data'!F298","v":7680.5},null,294,{"$f":"IF($H312<($J$6+1),\"\",PFE(OFFSET($F312,0,0,-$J$6)))","v":-0.12809289898765244},null,"Short",{"$error":"#N/A"},{"$error":"#N/A"},null,-1,0,"",null,-1,null,7035,14169.04,null,null,null,null,null,null,null,null,null,null,null,null,null,null,null,null,null,null,null,{"$f":"IF(NOT($AS312=$AS313),ROW(),\"\")","v":""},{"$f":"IF(NOT(AS312=AS313),AS313,\"\")","v":""},{"$f":"INDEX($AB$15:$AM$15,MATCH($AS312,$AB$11:$AM$11,0))","v":"in"},{"$f":"LEFT(AT312,4)","v":"2001"},{"$f":"LEFT(B312,6)","v":"200102"}]
[null,{"$f":"'Market Data'!B299","v":20010226},{"$f":"'Market Data'!C299","v":7772.5},{"$f":"'Market Data'!D299","v":7826.5},{"$f":"'Market Data'!E299","v":7742},{"$f":"'Market Data'!F299","v":7793.5},null,295,{"$f":"IF($H313<($J$6+1),\"\",PFE(OFFSET($F313,0,0,-$J$6)))","v":-0.14196703572667416},null,"Short",{"$error":"#N/A"},{"$error":"#N/A"},null,-1,0,"",null,-1,null,-3955,10214.040000000001,null,null,null,null,null,null,null,null,null,null,null,null,null,null,null,null,null,null,null,{"$f":"IF(NOT($AS313=$AS314),ROW(),\"\")","v":""},{"$f":"IF(NOT(AS313=AS314),AS314,\"\")","v":""},{"$f":"INDEX($AB$15:$AM$15,MATCH($AS313,$AB$11:$AM$11,0))","v":"in"},{"$f":"LEFT(AT313,4)","v":"2001"},{"$f":"LEFT(B313,6)","v":"200102"}]
[null,{"$f":"'Market Data'!B300","v":20010227},{"$f":"'Market Data'!C300","v":7806},{"$f":"'Market Data'!D300","v":7872.5},{"$f":"'Market Data'!E300","v":7771.5},{"$f":"'Market Data'!F300","v":7807.5},null,296,{"$f":"IF($H314<($J$6+1),\"\",PFE(OFFSET($F314,0,0,-$J$6)))","v":-0.14347763524563148},null,"Short",{"$error":"#N/A"},{"$error":"#N/A"},null,-1,0,"",null,-1,null,-490,9724.0400000000009,null,null,null,null,null,null,null,null,null,null,null,null,null,null,null,null,null,null,null,{"$f":"IF(NOT($AS314=$AS315),ROW(),\"\")","v":""},{"$f":"IF(NOT(AS314=AS315),AS315,\"\")","v":""},{"$f":"INDEX($AB$15:$AM$15,MATCH($AS314,$AB$11:$AM$11,0))","v":"in"},{"$f":"LEFT(AT314,4)","v":"2001"},{"$f":"LEFT(B314,6)","v":"200102"}]
[null,{"$f":"'Market Data'!B301","v":20010228},{"$f":"'Market Data'!C301","v":7793.5},{"$f":"'Market Data'!D301","v":7900},{"$f":"'Market Data'!E301","v":7780},{"$f":"'Market Data'!F301","v":7813},null,297,{"$f":"IF($H315<($J$6+1),\"\",PFE(OFFSET($F315,0,0,-$J$6)))","v":-0.16772752438772362},null,"Short",{"$error":"#N/A"},{"$error":"#N/A"},null,-1,0,"",null,-1,null,-192.5,9531.5400000000009,null,null,null,null,null,null,null,null,null,null,null,null,null,null,null,null,null,null,null,{"$f":"IF(NOT($AS315=$AS316),ROW(),\"\")","v":""},{"$f":"IF(NOT(AS315=AS316),AS316,\"\")","v":""},{"$f":"INDEX($AB$15:$AM$15,MATCH($AS315,$AB$11:$AM$11,0))","v":"in"},{"$f":"LEFT(AT315,4)","v":"2001"},{"$f":"LEFT(B315,6)","v":"200102"}]
[null,{"$f":"'Market Data'!B302","v":20010301},{"$f":"'Market Data'!C302","v":7773.5},{"$f":"'Market Data'!D302","v":7786.5},{"$f":"'Market Data'!E302","v":7703.5},{"$f":"'Market Data'!F302","v":7710},null,298,{"$f":"IF($H316<($J$6+1),\"\",PFE(OFFSET($F316,0,0,-$J$6)))","v":-0.1793724861987154},null,"Short",{"$error":"#N/A"},{"$error":"#N/A"},null,-1,0,"",null,-1,null,3605,13136.54,null,null,null,null,null,null,null,null,null,null,null,null,null,null,null,null,null,null,null,{"$f":"IF(NOT($AS316=$AS317),ROW(),\"\")","v":""},{"$f":"IF(NOT(AS316=AS317),AS317,\"\")","v":""},{"$f":"INDEX($AB$15:$AM$15,MATCH($AS316,$AB$11:$AM$11,0))","v":"in"},{"$f":"LEFT(AT316,4)","v":"2001"},{"$f":"LEFT(B316,6)","v":"200103"}]
[null,{"$f":"'Market Data'!B303","v":20010302},{"$f":"'Market Data'!C303","v":7718.5},{"$f":"'Market Data'!D303","v":7793.5},{"$f":"'Market Data'!E303","v":7657},{"$f":"'Market Data'!F303","v":7787.5},null,299,{"$f":"IF($H317<($J$6+1),\"\",PFE(OFFSET($F317,0,0,-$J$6)))","v":-0.16875071776957368},null,"Short",{"$error":"#N/A"},{"$error":"#N/A"},null,-1,0,"",null,-1,null,-2712.5,10424.040000000001,null,null,null,null,null,null,null,null,null,null,null,null,null,null,null,null,null,null,null,{"$f":"IF(NOT($AS317=$AS318),ROW(),\"\")","v":""},{"$f":"IF(NOT(AS317=AS318),AS318,\"\")","v":""},{"$f":"INDEX($AB$15:$AM$15,MATCH($AS317,$AB$11:$AM$11,0))","v":"in"},{"$f":"LEFT(AT317,4)","v":"2001"},{"$f":"LEFT(B317,6)","v":"200103"}]
[null,{"$f":"'Market Data'!B304","v":20010305},{"$f":"'Market Data'!C304","v":7787.5},{"$f":"'Market Data'!D304","v":7822},{"$f":"'Market Data'!E304","v":7739},{"$f":"'Market Data'!F304","v":7796},null,300,{"$f":"IF($H318<($J$6+1),\"\",PFE(OFFSET($F318,0,0,-$J$6)))","v":-0.17593937707911972},null,"Short",{"$error":"#N/A"},{"$error":"#N/A"},null,-1,0,"",null,-1,null,-297.5,10126.540000000001,null,null,null,null,null,null,null,null,null,null,null,null,null,null,null,null,null,null,null,{"$f":"IF(NOT($AS318=$AS319),ROW(),\"\")","v":""},{"$f":"IF(NOT(AS318=AS319),AS319,\"\")","v":""},{"$f":"INDEX($AB$15:$AM$15,MATCH($AS318,$AB$11:$AM$11,0))","v":"in"},{"$f":"LEFT(AT318,4)","v":"2001"},{"$f":"LEFT(B318,6)","v":"200103"}]
[null,{"$f":"'Market Data'!B305","v":20010306},{"$f":"'Market Data'!C305","v":7838.5},{"$f":"'Market Data'!D305","v":7915.5},{"$f":"'Market Data'!E305","v":7835.5},{"$f":"'Market Data'!F305","v":7905.5},null,301,{"$f":"IF($H319<($J$6+1),\"\",PFE(OFFSET($F319,0,0,-$J$6)))","v":-0.15558136989074317},null,"Short",{"$error":"#N/A"},{"$error":"#N/A"},null,-1,0,"",null,-1,null,-3832.5,6294.0400000000009,null,null,null,null,null,null,null,null,null,null,null,null,null,null,null,null,null,null,null,{"$f":"IF(NOT($AS319=$AS320),ROW(),\"\")","v":""},{"$f":"IF(NOT(AS319=AS320),AS320,\"\")","v":""},{"$f":"INDEX($AB$15:$AM$15,MATCH($AS319,$AB$11:$AM$11,0))","v":"in"},{"$f":"LEFT(AT319,4)","v":"2001"},{"$f":"LEFT(B319,6)","v":"200103"}]
[null,{"$f":"'Market Data'!B306","v":20010307},{"$f":"'Market Data'!C306","v":7867.5},{"$f":"'Market Data'!D306","v":7948.5},{"$f":"'Market Data'!E306","v":7859},{"$f":"'Market Data'!F306","v":7923},null,302,{"$f":"IF($H320<($J$6+1),\"\",PFE(OFFSET($F320,0,0,-$J$6)))","v":-0.14400920883342086},null,"Short",{"$error":"#N/A"},{"$error":"#N/A"},null,-1,0,"",null,-1,null,-612.5,5681.5400000000009,null,null,null,null,null,null,null,null,null,null,null,null,null,null,null,null,null,null,null,{"$f":"IF(NOT($AS320=$AS321),ROW(),\"\")","v":""},{"$f":"IF(NOT(AS320=AS321),AS321,\"\")","v":""},{"$f":"INDEX($AB$15:$AM$15,MATCH($AS320,$AB$11:$AM$11,0))","v":"in"},{"$f":"LEFT(AT320,4)","v":"2001"},{"$f":"LEFT(B320,6)","v":"200103"}]
[null,{"$f":"'Market Data'!B307","v":20010308},{"$f":"'Market Data'!C307","v":7933.5},{"$f":"'Market Data'!D307","v":7943.5},{"$f":"'Market Data'!E307","v":7850.5},{"$f":"'Market Data'!F307","v":7864.5},null,303,{"$f":"IF($H321<($J$6+1),\"\",PFE(OFFSET($F321,0,0,-$J$6)))","v":-0.14337665712122957},null,"Short",{"$error":"#N/A"},{"$error":"#N/A"},null,-1,0,"",null,-1,null,2047.5,7729.0400000000009,null,null,null,null,null,null,null,null,null,null,null,null,null,null,null,null,null,null,null,{"$f":"IF(NOT($AS321=$AS322),ROW(),\"\")","v":""},{"$f":"IF(NOT(AS321=AS322),AS322,\"\")","v":""},{"$f":"INDEX($AB$15:$AM$15,MATCH($AS321,$AB$11:$AM$11,0))","v":"in"},{"$f":"LEFT(AT321,4)","v":"2001"},{"$f":"LEFT(B321,6)","v":"200103"}]
[null,{"$f":"'Market Data'!B308","v":20010309},{"$f":"'Market Data'!C308","v":7833.5},{"$f":"'Market Data'!D308","v":7867.5},{"$f":"'Market Data'!E308","v":7793.5},{"$f":"'Market Data'!F308","v":7816.5},null,304,{"$f":"IF($H322<($J$6+1),\"\",PFE(OFFSET($F322,0,0,-$J$6)))","v":-0.13799888000738719},null,"Short",{"$error":"#N/A"},{"$error":"#N/A"},null,-1,0,"",null,-1,null,1680,9409.0400000000009,null,null,null,null,null,null,null,null,null,null,null,null,null,null,null,null,null,null,null,{"$f":"IF(NOT($AS322=$AS323),ROW(),\"\")","v":""},{"$f":"IF(NOT(AS322=AS323),AS323,\"\")","v":""},{"$f":"INDEX($AB$15:$AM$15,MATCH($AS322,$AB$11:$AM$11,0))","v":"in"},{"$f":"LEFT(AT322,4)","v":"2001"},{"$f":"LEFT(B322,6)","v":"200103"}]
[null,{"$f":"'Market Data'!B309","v":20010312},{"$f":"'Market Data'!C309","v":7753.5},{"$f":"'Market Data'!D309","v":7758.5},{"$f":"'Market Data'!E309","v":7643},{"$f":"'Market Data'!F309","v":7645},null,305,{"$f":"IF($H323<($J$6+1),\"\",PFE(OFFSET($F323,0,0,-$J$6)))","v":-0.14799427328686229},null,"Short",{"$error":"#N/A"},{"$error":"#N/A"},null,-1,0,"",null,-1,null,6002.5,15411.54,null,null,null,null,null,null,null,null,null,null,null,null,null,null,null,null,null,null,null,{"$f":"IF(NOT($AS323=$AS324),ROW(),\"\")","v":""},{"$f":"IF(NOT(AS323=AS324),AS324,\"\")","v":""},{"$f":"INDEX($AB$15:$AM$15,MATCH($AS323,$AB$11:$AM$11,0))","v":"in"},{"$f":"LEFT(AT323,4)","v":"2001"},{"$f":"LEFT(B323,6)","v":"200103"}]
[null,{"$f":"'Market Data'!B310","v":20010313},{"$f":"'Market Data'!C310","v":7565.5},{"$f":"'Market Data'!D310","v":7616.5},{"$f":"'Market Data'!E310","v":7531},{"$f":"'Market Data'!F310","v":7566},null,306,{"$f":"IF($H324<($J$6+1),\"\",PFE(OFFSET($F324,0,0,-$J$6)))","v":-0.1463206943751264},null,"Short",{"$error":"#N/A"},{"$error":"#N/A"},null,-1,0,"",null,-1,null,2765,18176.54,null,null,null,null,null,null,null,null,null,null,null,null,null,null,null,null,null,null,null,{"$f":"IF(NOT($AS324=$AS325),ROW(),\"\")","v":""},{"$f":"IF(NOT(AS324=AS325),AS325,\"\")","v":""},{"$f":"INDEX($AB$15:$AM$15,MATCH($AS324,$AB$11:$AM$11,0))","v":"in"},{"$f":"LEFT(AT324,4)","v":"2001"},{"$f":"LEFT(B324,6)","v":"200103"}]
[null,{"$f":"'Market Data'!B311","v":20010314},{"$f":"'Market Data'!C311","v":7603.5},{"$f":"'Market Data'!D311","v":7603.5},{"$f":"'Market Data'!E311","v":7254.5},{"$f":"'Market Data'!F311","v":7385.5},null,307,{"$f":"IF($H325<($J$6+1),\"\",PFE(OFFSET($F325,0,0,-$J$6)))","v":-0.2109969430080178},null,"Short",{"$error":"#N/A"},{"$error":"#N/A"},null,-1,0,"",null,-1,null,6317.5,24494.04,null,null,null,null,null,null,null,null,null,null,null,null,null,null,null,null,null,null,null,{"$f":"IF(NOT($AS325=$AS326),ROW(),\"\")","v":""},{"$f":"IF(NOT(AS325=AS326),AS326,\"\")","v":""},{"$f":"INDEX($AB$15:$AM$15,MATCH($AS325,$AB$11:$AM$11,0))","v":"in"},{"$f":"LEFT(AT325,4)","v":"2001"},{"$f":"LEFT(B325,6)","v":"200103"}]
[null,{"$f":"'Market Data'!B312","v":20010315},{"$f":"'Market Data'!C312","v":7441},{"$f":"'Market Data'!D312","v":7476.5},{"$f":"'Market Data'!E312","v":7357.5},{"$f":"'Market Data'!F312","v":7447},null,308,{"$f":"IF($H326<($J$6+1),\"\",PFE(OFFSET($F326,0,0,-$J$6)))","v":-0.19713305840129713},null,"Short",{"$error":"#N/A"},{"$error":"#N/A"},null,-1,0,"",null,-1,null,-2152.5,22341.54,null,null,null,null,null,null,null,null,null,null,null,null,null,null,null,null,null,null,null,{"$f":"IF(NOT($AS326=$AS327),ROW(),\"\")","v":""},{"$f":"IF(NOT(AS326=AS327),AS327,\"\")","v":""},{"$f":"INDEX($AB$15:$AM$15,MATCH($AS326,$AB$11:$AM$11,0))","v":"in"},{"$f":"LEFT(AT326,4)","v":"2001"},{"$f":"LEFT(B326,6)","v":"200103"}]
[null,{"$f":"'Market Data'!B313","v":20010316},{"$f":"'Market Data'!C313","v":7456},{"$f":"'Market Data'!D313","v":7464.5},{"$f":"'Market Data'!E313","v":7320.5},{"$f":"'Market Data'!F313","v":7334.5},null,309,{"$f":"IF($H327<($J$6+1),\"\",PFE(OFFSET($F327,0,0,-$J$6)))","v":-0.19430150145896463},null,"Short",{"$error":"#N/A"},{"$error":"#N/A"},null,-1,0,"",null,-1,null,3937.5,26279.040000000001,null,null,null,null,null,null,null,null,null,null,null,null,null,null,null,null,null,null,null,{"$f":"IF(NOT($AS327=$AS328),ROW(),\"\")","v":""},{"$f":"IF(NOT(AS327=AS328),AS328,\"\")","v":""},{"$f":"INDEX($AB$15:$AM$15,MATCH($AS327,$AB$11:$AM$11,0))","v":"in"},{"$f":"LEFT(AT327,4)","v":"2001"},{"$f":"LEFT(B327,6)","v":"200103"}]
[null,{"$f":"'Market Data'!B314","v":20010319},{"$f":"'Market Data'!C314","v":7365},{"$f":"'Market Data'!D314","v":7406.5},{"$f":"'Market Data'!E314","v":7238.5},{"$f":"'Market Data'!F314","v":7261.5},null,310,{"$f":"IF($H328<($J$6+1),\"\",PFE(OFFSET($F328,0,0,-$J$6)))","v":-0.1936401627103066},null,"Short",{"$error":"#N/A"},{"$error":"#N/A"},null,-1,0,"",null,-1,null,2555,28834.04,null,null,null,null,null,null,null,null,null,null,null,null,null,null,null,null,null,null,null,{"$f":"IF(NOT($AS328=$AS329),ROW(),\"\")","v":""},{"$f":"IF(NOT(AS328=AS329),AS329,\"\")","v":""},{"$f":"INDEX($AB$15:$AM$15,MATCH($AS328,$AB$11:$AM$11,0))","v":"in"},{"$f":"LEFT(AT328,4)","v":"2001"},{"$f":"LEFT(B328,6)","v":"200103"}]
[null,{"$f":"'Market Data'!B315","v":20010320},{"$f":"'Market Data'!C315","v":7320},{"$f":"'Market Data'!D315","v":7379.5},{"$f":"'Market Data'!E315","v":7300.5},{"$f":"'Market Data'!F315","v":7371.5},null,311,{"$f":"IF($H329<($J$6+1),\"\",PFE(OFFSET($F329,0,0,-$J$6)))","v":-0.15356985390324301},null,"Short",{"$error":"#N/A"},{"$error":"#N/A"},null,-1,0,"",null,-1,null,-3850,24984.04,null,null,null,null,null,null,null,null,null,null,null,null,null,null,null,null,null,null,null,{"$f":"IF(NOT($AS329=$AS330),ROW(),\"\")","v":""},{"$f":"IF(NOT(AS329=AS330),AS330,\"\")","v":""},{"$f":"INDEX($AB$15:$AM$15,MATCH($AS329,$AB$11:$AM$11,0))","v":"in"},{"$f":"LEFT(AT329,4)","v":"2001"},{"$f":"LEFT(B329,6)","v":"200103"}]
[null,{"$f":"'Market Data'!B316","v":20010321},{"$f":"'Market Data'!C316","v":7269.5},{"$f":"'Market Data'!D316","v":7322.5},{"$f":"'Market Data'!E316","v":7188.5},{"$f":"'Market Data'!F316","v":7214.5},null,312,{"$f":"IF($H330<($J$6+1),\"\",PFE(OFFSET($F330,0,0,-$J$6)))","v":-0.18800497869743912},null,"Short",{"$error":"#N/A"},{"$error":"#N/A"},null,-1,0,"",null,-1,null,5495,30479.040000000001,null,null,null,null,null,null,null,null,null,null,null,null,null,null,null,null,null,null,null,{"$f":"IF(NOT($AS330=$AS331),ROW(),\"\")","v":""},{"$f":"IF(NOT(AS330=AS331),AS331,\"\")","v":""},{"$f":"INDEX($AB$15:$AM$15,MATCH($AS330,$AB$11:$AM$11,0))","v":"in"},{"$f":"LEFT(AT330,4)","v":"2001"},{"$f":"LEFT(B330,6)","v":"200103"}]
[null,{"$f":"'Market Data'!B317","v":20010322},{"$f":"'Market Data'!C317","v":7187.5},{"$f":"'Market Data'!D317","v":7201.5},{"$f":"'Market Data'!E317","v":6939},{"$f":"'Market Data'!F317","v":6969.5},null,313,{"$f":"IF($H331<($J$6+1),\"\",PFE(OFFSET($F331,0,0,-$J$6)))","v":-0.19920078436457503},null,"Short",{"$error":"#N/A"},{"$error":"#N/A"},null,-1,0,"",null,-1,null,8575,39054.04,null,null,null,null,null,null,null,null,null,null,null,null,null,null,null,null,null,null,null,{"$f":"IF(NOT($AS331=$AS332),ROW(),\"\")","v":""},{"$f":"IF(NOT(AS331=AS332),AS332,\"\")","v":""},{"$f":"INDEX($AB$15:$AM$15,MATCH($AS331,$AB$11:$AM$11,0))","v":"in"},{"$f":"LEFT(AT331,4)","v":"2001"},{"$f":"LEFT(B331,6)","v":"200103"}]
[null,{"$f":"'Market Data'!B318","v":20010323},{"$f":"'Market Data'!C318","v":7089.5},{"$f":"'Market Data'!D318","v":7161.5},{"$f":"'Market Data'!E318","v":7052.5},{"$f":"'Market Data'!F318","v":7138.5},null,314,{"$f":"IF($H332<($J$6+1),\"\",PFE(OFFSET($F332,0,0,-$J$6)))","v":-0.18437569619067201},null,"Short",{"$error":"#N/A"},{"$error":"#N/A"},null,-1,0,"",null,-1,null,-5915,33139.040000000001,null,null,null,null,null,null,null,null,null,null,null,null,null,null,null,null,null,null,null,{"$f":"IF(NOT($AS332=$AS333),ROW(),\"\")","v":""},{"$f":"IF(NOT(AS332=AS333),AS333,\"\")","v":""},{"$f":"INDEX($AB$15:$AM$15,MATCH($AS332,$AB$11:$AM$11,0))","v":"in"},{"$f":"LEFT(AT332,4)","v":"2001"},{"$f":"LEFT(B332,6)","v":"200103"}]
[null,{"$f":"'Market Data'!B319","v":20010326},{"$f":"'Market Data'!C319","v":7207.5},{"$f":"'Market Data'!D319","v":7343.5},{"$f":"'Market Data'!E319","v":7185},{"$f":"'Market Data'!F319","v":7338},null,315,{"$f":"IF($H333<($J$6+1),\"\",PFE(OFFSET($F333,0,0,-$J$6)))","v":-0.15840970875416469},null,"Short",{"$error":"#N/A"},{"$error":"#N/A"},null,-1,0,"",null,-1,null,-6982.5,26156.54,null,null,null,null,null,null,null,null,null,null,null,null,null,null,null,null,null,null,null,{"$f":"IF(NOT($AS333=$AS334),ROW(),\"\")","v":""},{"$f":"IF(NOT(AS333=AS334),AS334,\"\")","v":""},{"$f":"INDEX($AB$15:$AM$15,MATCH($AS333,$AB$11:$AM$11,0))","v":"in"},{"$f":"LEFT(AT333,4)","v":"2001"},{"$f":"LEFT(B333,6)","v":"200103"}]
[null,{"$f":"'Market Data'!B320","v":20010327},{"$f":"'Market Data'!C320","v":7294.5},{"$f":"'Market Data'!D320","v":7505},{"$f":"'Market Data'!E320","v":7275},{"$f":"'Market Data'!F320","v":7495.5},null,316,{"$f":"IF($H334<($J$6+1),\"\",PFE(OFFSET($F334,0,0,-$J$6)))","v":-0.13564393095365021},null,"Short",{"$error":"#N/A"},{"$error":"#N/A"},null,-1,0,"",null,-1,null,-5512.5,20644.04,null,null,null,null,null,null,null,null,null,null,null,null,null,null,null,null,null,null,null,{"$f":"IF(NOT($AS334=$AS335),ROW(),\"\")","v":""},{"$f":"IF(NOT(AS334=AS335),AS335,\"\")","v":""},{"$f":"INDEX($AB$15:$AM$15,MATCH($AS334,$AB$11:$AM$11,0))","v":"in"},{"$f":"LEFT(AT334,4)","v":"2001"},{"$f":"LEFT(B334,6)","v":"200103"}]
[null,{"$f":"'Market Data'!B321","v":20010328},{"$f":"'Market Data'!C321","v":7454.5},{"$f":"'Market Data'!D321","v":7466.5},{"$f":"'Market Data'!E321","v":7361.5},{"$f":"'Market Data'!F321","v":7381.5},null,317,{"$f":"IF($H335<($J$6+1),\"\",PFE(OFFSET($F335,0,0,-$J$6)))","v":-0.14227250230212729},null,"Short",{"$error":"#N/A"},{"$error":"#N/A"},null,-1,0,"",null,-1,null,3990,24634.04,null,null,null,null,null,null,null,null,null,null,null,null,null,null,null,null,null,null,null,{"$f":"IF(NOT($AS335=$AS336),ROW(),\"\")","v":""},{"$f":"IF(NOT(AS335=AS336),AS336,\"\")","v":""},{"$f":"INDEX($AB$15:$AM$15,MATCH($AS335,$AB$11:$AM$11,0))","v":"in"},{"$f":"LEFT(AT335,4)","v":"2001"},{"$f":"LEFT(B335,6)","v":"200103"}]
[null,{"$f":"'Market Data'!B322","v":20010329},{"$f":"'Market Data'!C322","v":7342.5},{"$f":"'Market Data'!D322","v":7463.5},{"$f":"'Market Data'!E322","v":7293},{"$f":"'Market Data'!F322","v":7454.5},null,318,{"$f":"IF($H336<($J$6+1),\"\",PFE(OFFSET($F336,0,0,-$J$6)))","v":-0.12582998440065324},null,"Short",{"$error":"#N/A"},{"$error":"#N/A"},null,-1,0,"",null,-1,null,-2555,22079.040000000001,null,null,null,null,null,null,null,null,null,null,null,null,null,null,null,null,null,null,null,{"$f":"IF(NOT($AS336=$AS337),ROW(),\"\")","v":""},{"$f":"IF(NOT(AS336=AS337),AS337,\"\")","v":""},{"$f":"INDEX($AB$15:$AM$15,MATCH($AS336,$AB$11:$AM$11,0))","v":"in"},{"$f":"LEFT(AT336,4)","v":"2001"},{"$f":"LEFT(B336,6)","v":"200103"}]
[null,{"$f":"'Market Data'!B323","v":20010330},{"$f":"'Market Data'!C323","v":7424.5},{"$f":"'Market Data'!D323","v":7524.5},{"$f":"'Market Data'!E323","v":7379.5},{"$f":"'Market Data'!F323","v":7390},null,319,{"$f":"IF($H337<($J$6+1),\"\",PFE(OFFSET($F337,0,0,-$J$6)))","v":-0.10589595129939379},null,"Short",{"$error":"#N/A"},{"$error":"#N/A"},null,-1,{"$f":"$O337-S337","v":0},"",null,-1,null,2257.5,24336.54,null,null,null,null,null,null,null,null,null,null,null,null,null,null,null,null,null,null,null,{"$f":"IF(NOT($AS337=$AS338),ROW(),\"\")","v":""},{"$f":"IF(NOT(AS337=AS338),AS338,\"\")","v":""},{"$f":"INDEX($AB$15:$AM$15,MATCH($AS337,$AB$11:$AM$11,0))","v":"in"},{"$f":"LEFT(AT337,4)","v":"2001"},{"$f":"LEFT(B337,6)","v":"200103"}]
[null,{"$f":"'Market Data'!B324","v":20010402},{"$f":"'Market Data'!C324","v":7488.5},{"$f":"'Market Data'!D324","v":7489.5},{"$f":"'Market Data'!E324","v":7276.5},{"$f":"'Market Data'!F324","v":7293.5},null,320,{"$f":"IF($H338<($J$6+1),\"\",PFE(OFFSET($F338,0,0,-$J$6)))","v":-0.13946535903956103},null,"Short",{"$error":"#N/A"},{"$error":"#N/A"},null,-1,0,"",null,{"$f":"IF($Q337=\"Fill\",$O337,$S337)","v":-1},null,3377.5,27714.04,null,null,null,null,null,null,null,null,null,null,null,null,null,null,null,null,null,null,null,{"$f":"IF(NOT($AS338=$AS339),ROW(),\"\")","v":""},{"$f":"IF(NOT(AS338=AS339),AS339,\"\")","v":""},{"$f":"INDEX($AB$15:$AM$15,MATCH($AS338,$AB$11:$AM$11,0))","v":"in"},{"$f":"LEFT(AT338,4)","v":"2001"},{"$f":"LEFT(B338,6)","v":"200104"}]
[null,{"$f":"'Market Data'!B325","v":20010403},{"$f":"'Market Data'!C325","v":7273.5},{"$f":"'Market Data'!D325","v":7284},{"$f":"'Market Data'!E325","v":7091},{"$f":"'Market Data'!F325","v":7115},null,321,{"$f":"IF($H339<($J$6+1),\"\",PFE(OFFSET($F339,0,0,-$J$6)))","v":-0.15221412260551215},null,"Short",{"$f":"IF(AND($K339=\"Long\",$K338<>\"Long\"),$F339,NA())","v":{"$error":"#N/A"}},{"$f":"IF(AND($K339=\"Short\",$K338<>\"Short\"),$F339,NA())","v":{"$error":"#N/A"}},null,-1,0,{"$f":"IF(NOT($P339=0),\"Fill\",\"\")","v":""},null,-1,null,6247.5,{"$f":"V338+U339","v":33961.54},null,null,null,null,null,null,null,null,null,null,null,null,null,null,null,null,null,null,null,{"$f":"IF(NOT($AS339=$AS340),ROW(),\"\")","v":""},{"$f":"IF(NOT(AS339=AS340),AS340,\"\")","v":""},{"$f":"INDEX($AB$15:$AM$15,MATCH($AS339,$AB$11:$AM$11,0))","v":"in"},{"$f":"LEFT(AT339,4)","v":"2001"},{"$f":"LEFT(B339,6)","v":"200104"}]
[null,{"$f":"'Market Data'!B326","v":20010404},{"$f":"'Market Data'!C326","v":7089.5},{"$f":"'Market Data'!D326","v":7213.5},{"$f":"'Market Data'!E326","v":6962.5},{"$f":"'Market Data'!F326","v":7170},null,{"$f":"ROW()-ROW(H$18)","v":322},{"$f":"IF($H340<($J$6+1),\"\",PFE(OFFSET($F340,0,0,-$J$6)))","v":-0.17690107374837827},null,{"$f":"IF($I340=\"\",\"\",IF($I340>$J$4,\"Long\",IF($I340<$J$5,\"Short\",\"\")))","v":"Short"},{"$error":"#N/A"},{"$error":"#N/A"},null,{"$f":"IF($K340=\"Short\",-1,IF($K340=\"Long\",1,0))","v":-1},0,"",null,-1,null,-1925,32036.54,null,null,null,null,null,null,null,null,null,null,null,null,null,null,null,null,null,null,null,{"$f":"IF(NOT($AS340=$AS341),ROW(),\"\")","v":""},{"$f":"IF(NOT(AS340=AS341),AS341,\"\")","v":""},{"$f":"INDEX($AB$15:$AM$15,MATCH($AS340,$AB$11:$AM$11,0))","v":"in"},{"$f":"LEFT(AT340,4)","v":"2001"},{"$f":"LEFT(B340,6)","v":"200104"}]
[null,{"$f":"'Market Data'!B327","v":20010405},{"$f":"'Market Data'!C327","v":7230.5},{"$f":"'Market Data'!D327","v":7367.5},{"$f":"'Market Data'!E327","v":7208.5},{"$f":"'Market Data'!F327","v":7355},null,323,{"$f":"IF($H341<($J$6+1),\"\",PFE(OFFSET($F341,0,0,-$J$6)))","v":-0.14223013897130782},null,"Short",{"$error":"#N/A"},{"$error":"#N/A"},null,-1,0,"",null,-1,null,-6475,25561.54,null,null,null,null,null,null,null,null,null,null,null,null,null,null,null,null,null,null,null,{"$f":"IF(NOT($AS341=$AS342),ROW(),\"\")","v":""},{"$f":"IF(NOT(AS341=AS342),AS342,\"\")","v":""},{"$f":"INDEX($AB$15:$AM$15,MATCH($AS341,$AB$11:$AM$11,0))","v":"in"},{"$f":"LEFT(AT341,4)","v":"2001"},{"$f":"LEFT(B341,6)","v":"200104"}]
[null,{"$f":"'Market Data'!B328","v":20010406},{"$f":"'Market Data'!C328","v":7396.5},{"$f":"'Market Data'!D328","v":7398},{"$f":"'Market Data'!E328","v":7230},{"$f":"'Market Data'!F328","v":7270},null,324,{"$f":"IF($H342<($J$6+1),\"\",PFE(OFFSET($F342,0,0,-$J$6)))","v":-0.14761674043688711},null,"Short",{"$error":"#N/A"},{"$error":"#N/A"},null,-1,0,"",null,-1,null,{"$f":"IF(OR($S341&$O341=\"01\",$S341&$O341=\"0-1\"),(($F342-$C342)*$V$4*$O341)-(ABS($P341)*$V$5),IF(OR($S341&$O341=\"10\",$S341&$O341=\"-10\"),(($C342-$F341)*$V$4*$S341)-(ABS($P341)*$V$5),IF(OR($S341&$O341=\"1-1\",$S341&$O341=\"-11\"),(($C342-$F341)*$V$4*$S341)-(ABS($P341)*$V$5)+(($F342-$C342)*$V$4*$S342),IF(OR($S341&$O341=\"11\",$S341&$O341=\"-1-1\"),(($F342-$F341)*$V$4*$S342),0))))","v":2975},28536.54,null,null,null,null,null,null,null,null,null,null,null,null,null,null,null,null,null,null,null,{"$f":"IF(NOT($AS342=$AS343),ROW(),\"\")","v":""},{"$f":"IF(NOT(AS342=AS343),AS343,\"\")","v":""},{"$f":"INDEX($AB$15:$AM$15,MATCH($AS342,$AB$11:$AM$11,0))","v":"in"},{"$f":"LEFT(AT342,4)","v":"2001"},{"$f":"LEFT(B342,6)","v":"200104"}]
[null,{"$f":"'Market Data'!B329","v":20010409},{"$f":"'Market Data'!C329","v":7254.5},{"$f":"'Market Data'!D329","v":7394},{"$f":"'Market Data'!E329","v":7251.5},{"$f":"'Market Data'!F329","v":7361.5},null,325,{"$f":"IF($H343<($J$6+1),\"\",PFE(OFFSET($F343,0,0,-$J$6)))","v":-0.15028595065063272},null,"Short",{"$error":"#N/A"},{"$error":"#N/A"},null,-1,0,"",null,-1,null,-3202.5,25334.04,null,null,null,null,null,null,null,null,null,null,null,null,null,null,null,null,null,null,null,{"$f":"IF(NOT($AS343=$AS344),ROW(),\"\")","v":""},{"$f":"IF(NOT(AS343=AS344),AS344,\"\")","v":""},{"$f":"INDEX($AB$15:$AM$15,MATCH($AS343,$AB$11:$AM$11,0))","v":"in"},{"$f":"LEFT(AT343,4)","v":"2001"},{"$f":"LEFT(B343,6)","v":"200104"}]
[null,{"$f":"'Market Data'!B330","v":20010410},{"$f":"'Market Data'!C330","v":7372},{"$f":"'Market Data'!D330","v":7494.5},{"$f":"'Market Data'!E330","v":7365.5},{"$f":"'Market Data'!F330","v":7465},null,326,{"$f":"IF($H344<($J$6+1),\"\",PFE(OFFSET($F344,0,0,-$J$6)))","v":-0.15106326502331019},null,"Short",{"$error":"#N/A"},{"$error":"#N/A"},null,-1,0,"",null,-1,null,-3622.5,21711.54,null,null,null,null,null,null,null,null,null,null,null,null,null,null,null,null,null,null,null,{"$f":"IF(NOT($AS344=$AS345),ROW(),\"\")","v":""},{"$f":"IF(NOT(AS344=AS345),AS345,\"\")","v":""},{"$f":"INDEX($AB$15:$AM$15,MATCH($AS344,$AB$11:$AM$11,0))","v":"in"},{"$f":"LEFT(AT344,4)","v":"2001"},{"$f":"LEFT(B344,6)","v":"200104"}]
[null,{"$f":"'Market Data'!B331","v":20010411},{"$f":"'Market Data'!C331","v":7454.5},{"$f":"'Market Data'!D331","v":7594.5},{"$f":"'Market Data'!E331","v":7449.5},{"$f":"'Market Data'!F331","v":7522.5},null,327,{"$f":"IF($H345<($J$6+1),\"\",PFE(OFFSET($F345,0,0,-$J$6)))","v":-0.13465198898104108},null,"Short",{"$error":"#N/A"},{"$error":"#N/A"},null,-1,0,"",null,-1,null,-2012.5,19699.04,null,null,null,null,null,null,null,null,null,null,null,null,null,null,null,null,null,null,null,{"$f":"IF(NOT($AS345=$AS346),ROW(),\"\")","v":""},{"$f":"IF(NOT(AS345=AS346),AS346,\"\")","v":""},{"$f":"INDEX($AB$15:$AM$15,MATCH($AS345,$AB$11:$AM$11,0))","v":"in"},{"$f":"LEFT(AT345,4)","v":"2001"},{"$f":"LEFT(B345,6)","v":"200104"}]
[null,{"$f":"'Market Data'!B332","v":20010412},{"$f":"'Market Data'!C332","v":7543.5},{"$f":"'Market Data'!D332","v":7607.5},{"$f":"'Market Data'!E332","v":7487.5},{"$f":"'Market Data'!F332","v":7599.5},null,328,{"$f":"IF($H346<($J$6+1),\"\",PFE(OFFSET($F346,0,0,-$J$6)))","v":-0.10491604643059615},null,"Short",{"$error":"#N/A"},{"$error":"#N/A"},null,-1,0,"",null,-1,null,-2695,17004.04,null,null,null,null,null,null,null,null,null,null,null,null,null,null,null,null,null,null,null,{"$f":"IF(NOT($AS346=$AS347),ROW(),\"\")","v":""},{"$f":"IF(NOT(AS346=AS347),AS347,\"\")","v":""},{"$f":"INDEX($AB$15:$AM$15,MATCH($AS346,$AB$11:$AM$11,0))","v":"in"},{"$f":"LEFT(AT346,4)","v":"2001"},{"$f":"LEFT(B346,6)","v":"200104"}]
[null,{"$f":"'Market Data'!B333","v":20010417},{"$f":"'Market Data'!C333","v":7502.5},{"$f":"'Market Data'!D333","v":7543},{"$f":"'Market Data'!E333","v":7406.5},{"$f":"'Market Data'!F333","v":7507},null,329,{"$f":"IF($H347<($J$6+1),\"\",PFE(OFFSET($F347,0,0,-$J$6)))","v":-9.8888430836694782E-2},null,"Short",{"$error":"#N/A"},{"$error":"#N/A"},null,-1,0,"",null,-1,null,3237.5,20241.54,null,null,null,null,null,null,null,null,null,null,null,null,null,null,null,null,null,null,null,{"$f":"IF(NOT($AS347=$AS348),ROW(),\"\")","v":""},{"$f":"IF(NOT(AS347=AS348),AS348,\"\")","v":""},{"$f":"INDEX($AB$15:$AM$15,MATCH($AS347,$AB$11:$AM$11,0))","v":"in"},{"$f":"LEFT(AT347,4)","v":"2001"},{"$f":"LEFT(B347,6)","v":"200104"}]
[null,{"$f":"'Market Data'!B334","v":20010418},{"$f":"'Market Data'!C334","v":7622.5},{"$f":"'Market Data'!D334","v":7778.5},{"$f":"'Market Data'!E334","v":7608.5},{"$f":"'Market Data'!F334","v":7752.5},null,330,{"$f":"IF($H348<($J$6+1),\"\",PFE(OFFSET($F348,0,0,-$J$6)))","v":-4.2419579216011742E-2},null,"Short",{"$error":"#N/A"},{"$error":"#N/A"},null,-1,0,"",null,-1,null,-8592.5,11649.04,null,null,null,null,null,null,null,null,null,null,null,null,null,null,null,null,null,null,null,{"$f":"IF(NOT($AS348=$AS349),ROW(),\"\")","v":""},{"$f":"IF(NOT(AS348=AS349),AS349,\"\")","v":""},{"$f":"INDEX($AB$15:$AM$15,MATCH($AS348,$AB$11:$AM$11,0))","v":"in"},{"$f":"LEFT(AT348,4)","v":"2001"},{"$f":"LEFT(B348,6)","v":"200104"}]
[null,{"$f":"'Market Data'!B335","v":20010419},{"$f":"'Market Data'!C335","v":7759.5},{"$f":"'Market Data'!D335","v":7767.5},{"$f":"'Market Data'!E335","v":7686},{"$f":"'Market Data'!F335","v":7760.5},null,331,{"$f":"IF($H349<($J$6+1),\"\",PFE(OFFSET($F349,0,0,-$J$6)))","v":-4.2719049503584502E-2},null,"Short",{"$error":"#N/A"},{"$error":"#N/A"},null,-1,0,"",null,-1,null,-280,11369.04,null,null,null,null,null,null,null,null,null,null,null,null,null,null,null,null,null,null,null,{"$f":"IF(NOT($AS349=$AS350),ROW(),\"\")","v":""},{"$f":"IF(NOT(AS349=AS350),AS350,\"\")","v":""},{"$f":"INDEX($AB$15:$AM$15,MATCH($AS349,$AB$11:$AM$11,0))","v":"in"},{"$f":"LEFT(AT349,4)","v":"2001"},{"$f":"LEFT(B349,6)","v":"200104"}]
[null,{"$f":"'Market Data'!B336","v":20010420},{"$f":"'Market Data'!C336","v":7776.5},{"$f":"'Market Data'!D336","v":7783.5},{"$f":"'Market Data'!E336","v":7679},{"$f":"'Market Data'!F336","v":7698.5},null,332,{"$f":"IF($H350<($J$6+1),\"\",PFE(OFFSET($F350,0,0,-$J$6)))","v":-7.2371849946574196E-2},null,"Short",{"$error":"#N/A"},{"$error":"#N/A"},null,-1,0,"",null,-1,null,2170,13539.04,null,null,null,null,null,null,null,null,null,null,null,null,null,null,null,null,null,null,null,{"$f":"IF(NOT($AS350=$AS351),ROW(),\"\")","v":""},{"$f":"IF(NOT(AS350=AS351),AS351,\"\")","v":""},{"$f":"INDEX($AB$15:$AM$15,MATCH($AS350,$AB$11:$AM$11,0))","v":"in"},{"$f":"LEFT(AT350,4)","v":"2001"},{"$f":"LEFT(B350,6)","v":"200104"}]
[null,{"$f":"'Market Data'!B337","v":20010423},{"$f":"'Market Data'!C337","v":7694.5},{"$f":"'Market Data'!D337","v":7696.5},{"$f":"'Market Data'!E337","v":7610},{"$f":"'Market Data'!F337","v":7631.5},null,333,{"$f":"IF($H351<($J$6+1),\"\",PFE(OFFSET($F351,0,0,-$J$6)))","v":-4.6595964803889264E-2},null,"Short",{"$error":"#N/A"},{"$error":"#N/A"},null,-1,0,"",null,-1,null,2345,15884.04,null,null,null,null,null,null,null,null,null,null,null,null,null,null,null,null,null,null,null,{"$f":"IF(NOT($AS351=$AS352),ROW(),\"\")","v":""},{"$f":"IF(NOT(AS351=AS352),AS352,\"\")","v":""},{"$f":"INDEX($AB$15:$AM$15,MATCH($AS351,$AB$11:$AM$11,0))","v":"in"},{"$f":"LEFT(AT351,4)","v":"2001"},{"$f":"LEFT(B351,6)","v":"200104"}]
[null,{"$f":"'Market Data'!B338","v":20010424},{"$f":"'Market Data'!C338","v":7639.5},{"$f":"'Market Data'!D338","v":7745},{"$f":"'Market Data'!E338","v":7634.5},{"$f":"'Market Data'!F338","v":7716.5},null,334,{"$f":"IF($H352<($J$6+1),\"\",PFE(OFFSET($F352,0,0,-$J$6)))","v":-2.7924824704119004E-2},null,"Short",{"$error":"#N/A"},{"$error":"#N/A"},null,-1,0,"",null,-1,null,-2975,12909.04,null,null,null,null,null,null,null,null,null,null,null,null,null,null,null,null,null,null,null,{"$f":"IF(NOT($AS352=$AS353),ROW(),\"\")","v":""},{"$f":"IF(NOT(AS352=AS353),AS353,\"\")","v":""},{"$f":"INDEX($AB$15:$AM$15,MATCH($AS352,$AB$11:$AM$11,0))","v":"in"},{"$f":"LEFT(AT352,4)","v":"2001"},{"$f":"LEFT(B352,6)","v":"200104"}]
[null,{"$f":"'Market Data'!B339","v":20010425},{"$f":"'Market Data'!C339","v":7665.5},{"$f":"'Market Data'!D339","v":7726.5},{"$f":"'Market Data'!E339","v":7641.5},{"$f":"'Market Data'!F339","v":7720},null,335,{"$f":"IF($H353<($J$6+1),\"\",PFE(OFFSET($F353,0,0,-$J$6)))","v":-3.5632865577177403E-2},null,"Short",{"$error":"#N/A"},{"$error":"#N/A"},null,-1,0,"",null,-1,null,-122.5,12786.54,null,null,null,null,null,null,null,null,null,null,null,null,null,null,null,null,null,null,null,{"$f":"IF(NOT($AS353=$AS354),ROW(),\"\")","v":""},{"$f":"IF(NOT(AS353=AS354),AS354,\"\")","v":""},{"$f":"INDEX($AB$15:$AM$15,MATCH($AS353,$AB$11:$AM$11,0))","v":"in"},{"$f":"LEFT(AT353,4)","v":"2001"},{"$f":"LEFT(B353,6)","v":"200104"}]
[null,{"$f":"'Market Data'!B340","v":20010426},{"$f":"'Market Data'!C340","v":7722.5},{"$f":"'Market Data'!D340","v":7749.5},{"$f":"'Market Data'!E340","v":7637.5},{"$f":"'Market Data'!F340","v":7731.5},null,336,{"$f":"IF($H354<($J$6+1),\"\",PFE(OFFSET($F354,0,0,-$J$6)))","v":-4.4834719310807604E-2},null,"Short",{"$error":"#N/A"},{"$error":"#N/A"},null,-1,0,"",null,-1,null,-402.5,12384.04,null,null,null,null,null,null,null,null,null,null,null,null,null,null,null,null,null,null,null,{"$f":"IF(NOT($AS354=$AS355),ROW(),\"\")","v":""},{"$f":"IF(NOT(AS354=AS355),AS355,\"\")","v":""},{"$f":"INDEX($AB$15:$AM$15,MATCH($AS354,$AB$11:$AM$11,0))","v":"in"},{"$f":"LEFT(AT354,4)","v":"2001"},{"$f":"LEFT(B354,6)","v":"200104"}]
[null,{"$f":"'Market Data'!B341","v":20010427},{"$f":"'Market Data'!C341","v":7680.5},{"$f":"'Market Data'!D341","v":7777.5},{"$f":"'Market Data'!E341","v":7654.5},{"$f":"'Market Data'!F341","v":7758.5},null,337,{"$f":"IF($H355<($J$6+1),\"\",PFE(OFFSET($F355,0,0,-$J$6)))","v":-3.9187462711432072E-2},null,"Short",{"$error":"#N/A"},{"$error":"#N/A"},null,-1,0,"",null,-1,null,-945,11439.04,null,null,null,null,null,null,null,null,null,null,null,null,null,null,null,null,null,null,null,{"$f":"IF(NOT($AS355=$AS356),ROW(),\"\")","v":""},{"$f":"IF(NOT(AS355=AS356),AS356,\"\")","v":""},{"$f":"INDEX($AB$15:$AM$15,MATCH($AS355,$AB$11:$AM$11,0))","v":"in"},{"$f":"LEFT(AT355,4)","v":"2001"},{"$f":"LEFT(B355,6)","v":"200104"}]
[null,{"$f":"'Market Data'!B342","v":20010430},{"$f":"'Market Data'!C342","v":7774.5},{"$f":"'Market Data'!D342","v":7860},{"$f":"'Market Data'!E342","v":7764.5},{"$f":"'Market Data'!F342","v":7844.5},null,338,{"$f":"IF($H356<($J$6+1),\"\",PFE(OFFSET($F356,0,0,-$J$6)))","v":-4.2142085775229557E-2},null,"Short",{"$error":"#N/A"},{"$error":"#N/A"},null,-1,0,"",null,-1,null,-3010,8429.0400000000009,null,null,null,null,null,null,null,null,null,null,null,null,null,null,null,null,null,null,null,{"$f":"IF(NOT($AS356=$AS357),ROW(),\"\")","v":""},{"$f":"IF(NOT(AS356=AS357),AS357,\"\")","v":""},{"$f":"INDEX($AB$15:$AM$15,MATCH($AS356,$AB$11:$AM$11,0))","v":"in"},{"$f":"LEFT(AT356,4)","v":"2001"},{"$f":"LEFT(B356,6)","v":"200104"}]
[null,{"$f":"'Market Data'!B343","v":20010502},{"$f":"'Market Data'!C343","v":7859.5},{"$f":"'Market Data'!D343","v":7868},{"$f":"'Market Data'!E343","v":7771},{"$f":"'Market Data'!F343","v":7809},null,339,{"$f":"IF($H357<($J$6+1),\"\",PFE(OFFSET($F357,0,0,-$J$6)))","v":-2.4743631601727906E-2},null,"Short",{"$error":"#N/A"},{"$error":"#N/A"},null,-1,0,"",null,-1,null,1242.5,9671.5400000000009,null,null,null,null,null,null,null,null,null,null,null,null,null,null,null,null,null,null,null,{"$f":"IF(NOT($AS357=$AS358),ROW(),\"\")","v":""},{"$f":"IF(NOT(AS357=AS358),AS358,\"\")","v":""},{"$f":"INDEX($AB$15:$AM$15,MATCH($AS357,$AB$11:$AM$11,0))","v":"in"},{"$f":"LEFT(AT357,4)","v":"2001"},{"$f":"LEFT(B357,6)","v":"200105"}]
[null,{"$f":"'Market Data'!B344","v":20010503},{"$f":"'Market Data'!C344","v":7819.5},{"$f":"'Market Data'!D344","v":7828.5},{"$f":"'Market Data'!E344","v":7643.5},{"$f":"'Market Data'!F344","v":7655.5},null,340,{"$f":"IF($H358<($J$6+1),\"\",PFE(OFFSET($F358,0,0,-$J$6)))","v":-7.0713732985285327E-2},null,"Short",{"$error":"#N/A"},{"$error":"#N/A"},null,-1,0,"",null,-1,null,5372.5,15044.04,null,null,null,null,null,null,null,null,null,null,null,null,null,null,null,null,null,null,null,{"$f":"IF(NOT($AS358=$AS359),ROW(),\"\")","v":""},{"$f":"IF(NOT(AS358=AS359),AS359,\"\")","v":""},{"$f":"INDEX($AB$15:$AM$15,MATCH($AS358,$AB$11:$AM$11,0))","v":"in"},{"$f":"LEFT(AT358,4)","v":"2001"},{"$f":"LEFT(B358,6)","v":"200105"}]
[null,{"$f":"'Market Data'!B345","v":20010504},{"$f":"'Market Data'!C345","v":7664.5},{"$f":"'Market Data'!D345","v":7727},{"$f":"'Market Data'!E345","v":7585},{"$f":"'Market Data'!F345","v":7724},null,341,{"$f":"IF($H359<($J$6+1),\"\",PFE(OFFSET($F359,0,0,-$J$6)))","v":-5.1390053391331673E-2},null,"Short",{"$error":"#N/A"},{"$error":"#N/A"},null,-1,0,"",null,-1,null,-2397.5,12646.54,null,null,null,null,null,null,null,null,null,null,null,null,null,null,null,null,null,null,null,{"$f":"IF(NOT($AS359=$AS360),ROW(),\"\")","v":""},{"$f":"IF(NOT(AS359=AS360),AS360,\"\")","v":""},{"$f":"INDEX($AB$15:$AM$15,MATCH($AS359,$AB$11:$AM$11,0))","v":"in"},{"$f":"LEFT(AT359,4)","v":"2001"},{"$f":"LEFT(B359,6)","v":"200105"}]
[null,{"$f":"'Market Data'!B346","v":20010507},{"$f":"'Market Data'!C346","v":7738.5},{"$f":"'Market Data'!D346","v":7777.5},{"$f":"'Market Data'!E346","v":7678},{"$f":"'Market Data'!F346","v":7703.5},null,342,{"$f":"IF($H360<($J$6+1),\"\",PFE(OFFSET($F360,0,0,-$J$6)))","v":-5.3002677109770802E-2},null,"Short",{"$error":"#N/A"},{"$error":"#N/A"},null,-1,0,"",null,-1,null,717.5,13364.04,null,null,null,null,null,null,null,null,null,null,null,null,null,null,null,null,null,null,null,{"$f":"IF(NOT($AS360=$AS361),ROW(),\"\")","v":""},{"$f":"IF(NOT(AS360=AS361),AS361,\"\")","v":""},{"$f":"INDEX($AB$15:$AM$15,MATCH($AS360,$AB$11:$AM$11,0))","v":"in"},{"$f":"LEFT(AT360,4)","v":"2001"},{"$f":"LEFT(B360,6)","v":"200105"}]
[null,{"$f":"'Market Data'!B347","v":20010508},{"$f":"'Market Data'!C347","v":7684.5},{"$f":"'Market Data'!D347","v":7758.5},{"$f":"'Market Data'!E347","v":7653},{"$f":"'Market Data'!F347","v":7689.5},null,343,{"$f":"IF($H361<($J$6+1),\"\",PFE(OFFSET($F361,0,0,-$J$6)))","v":-5.50603661618978E-2},null,"Short",{"$error":"#N/A"},{"$error":"#N/A"},null,-1,0,"",null,-1,null,490,13854.04,null,null,null,null,null,null,null,null,null,null,null,null,null,null,null,null,null,null,null,{"$f":"IF(NOT($AS361=$AS362),ROW(),\"\")","v":""},{"$f":"IF(NOT(AS361=AS362),AS362,\"\")","v":""},{"$f":"INDEX($AB$15:$AM$15,MATCH($AS361,$AB$11:$AM$11,0))","v":"in"},{"$f":"LEFT(AT361,4)","v":"2001"},{"$f":"LEFT(B361,6)","v":"200105"}]
[null,{"$f":"'Market Data'!B348","v":20010509},{"$f":"'Market Data'!C348","v":7659.5},{"$f":"'Market Data'!D348","v":7678.5},{"$f":"'Market Data'!E348","v":7604.5},{"$f":"'Market Data'!F348","v":7642.5},null,344,{"$f":"IF($H362<($J$6+1),\"\",PFE(OFFSET($F362,0,0,-$J$6)))","v":-6.265258428407508E-2},null,"Short",{"$error":"#N/A"},{"$error":"#N/A"},null,-1,0,"",null,-1,null,1645,15499.04,null,null,null,null,null,null,null,null,null,null,null,null,null,null,null,null,null,null,null,{"$f":"IF(NOT($AS362=$AS363),ROW(),\"\")","v":""},{"$f":"IF(NOT(AS362=AS363),AS363,\"\")","v":""},{"$f":"INDEX($AB$15:$AM$15,MATCH($AS362,$AB$11:$AM$11,0))","v":"in"},{"$f":"LEFT(AT362,4)","v":"2001"},{"$f":"LEFT(B362,6)","v":"200105"}]
[null,{"$f":"'Market Data'!B349","v":20010510},{"$f":"'Market Data'!C349","v":7655},{"$f":"'Market Data'!D349","v":7800.5},{"$f":"'Market Data'!E349","v":7655},{"$f":"'Market Data'!F349","v":7756.5},null,345,{"$f":"IF($H363<($J$6+1),\"\",PFE(OFFSET($F363,0,0,-$J$6)))","v":-3.9850998291278583E-2},null,"Short",{"$error":"#N/A"},{"$error":"#N/A"},null,-1,0,"",null,-1,null,-3990,11509.04,null,null,null,null,null,null,null,null,null,null,null,null,null,null,null,null,null,null,null,{"$f":"IF(NOT($AS363=$AS364),ROW(),\"\")","v":""},{"$f":"IF(NOT(AS363=AS364),AS364,\"\")","v":""},{"$f":"INDEX($AB$15:$AM$15,MATCH($AS363,$AB$11:$AM$11,0))","v":"in"},{"$f":"LEFT(AT363,4)","v":"2001"},{"$f":"LEFT(B363,6)","v":"200105"}]
[null,{"$f":"'Market Data'!B350","v":20010511},{"$f":"'Market Data'!C350","v":7714.5},{"$f":"'Market Data'!D350","v":7770.5},{"$f":"'Market Data'!E350","v":7697},{"$f":"'Market Data'!F350","v":7710.5},null,346,{"$f":"IF($H364<($J$6+1),\"\",PFE(OFFSET($F364,0,0,-$J$6)))","v":-6.7241780248823477E-2},null,"Short",{"$error":"#N/A"},{"$error":"#N/A"},null,-1,0,"",null,-1,null,1610,13119.04,null,null,null,null,null,null,null,null,null,null,null,null,null,null,null,null,null,null,null,{"$f":"IF(NOT($AS364=$AS365),ROW(),\"\")","v":""},{"$f":"IF(NOT(AS364=AS365),AS365,\"\")","v":""},{"$f":"INDEX($AB$15:$AM$15,MATCH($AS364,$AB$11:$AM$11,0))","v":"in"},{"$f":"LEFT(AT364,4)","v":"2001"},{"$f":"LEFT(B364,6)","v":"200105"}]
[null,{"$f":"'Market Data'!B351","v":20010514},{"$f":"'Market Data'!C351","v":7684.5},{"$f":"'Market Data'!D351","v":7689},{"$f":"'Market Data'!E351","v":7615.5},{"$f":"'Market Data'!F351","v":7627.5},null,347,{"$f":"IF($H365<($J$6+1),\"\",PFE(OFFSET($F365,0,0,-$J$6)))","v":-8.1919900386132297E-2},null,"Short",{"$error":"#N/A"},{"$error":"#N/A"},null,-1,0,"",null,-1,null,2905,16024.04,null,null,null,null,null,null,null,null,null,null,null,null,null,null,null,null,null,null,null,{"$f":"IF(NOT($AS365=$AS366),ROW(),\"\")","v":""},{"$f":"IF(NOT(AS365=AS366),AS366,\"\")","v":""},{"$f":"INDEX($AB$15:$AM$15,MATCH($AS365,$AB$11:$AM$11,0))","v":"in"},{"$f":"LEFT(AT365,4)","v":"2001"},{"$f":"LEFT(B365,6)","v":"200105"}]
[null,{"$f":"'Market Data'!B352","v":20010515},{"$f":"'Market Data'!C352","v":7670.5},{"$f":"'Market Data'!D352","v":7675.5},{"$f":"'Market Data'!E352","v":7597.5},{"$f":"'Market Data'!F352","v":7624.5},null,348,{"$f":"IF($H366<($J$6+1),\"\",PFE(OFFSET($F366,0,0,-$J$6)))","v":-8.7918161860457908E-2},null,"Short",{"$error":"#N/A"},{"$error":"#N/A"},null,-1,0,"",null,-1,null,105,16129.04,null,null,null,null,null,null,null,null,null,null,null,null,null,null,null,null,null,null,null,{"$f":"IF(NOT($AS366=$AS367),ROW(),\"\")","v":""},{"$f":"IF(NOT(AS366=AS367),AS367,\"\")","v":""},{"$f":"INDEX($AB$15:$AM$15,MATCH($AS366,$AB$11:$AM$11,0))","v":"in"},{"$f":"LEFT(AT366,4)","v":"2001"},{"$f":"LEFT(B366,6)","v":"200105"}]
[null,{"$f":"'Market Data'!B353","v":20010516},{"$f":"'Market Data'!C353","v":7614.5},{"$f":"'Market Data'!D353","v":7754.5},{"$f":"'Market Data'!E353","v":7531},{"$f":"'Market Data'!F353","v":7748.5},null,349,{"$f":"IF($H367<($J$6+1),\"\",PFE(OFFSET($F367,0,0,-$J$6)))","v":-6.5048940242371775E-2},null,"Short",{"$error":"#N/A"},{"$error":"#N/A"},null,-1,0,"",null,-1,null,-4340,11789.04,null,null,null,null,null,null,null,null,null,null,null,null,null,null,null,null,null,null,null,{"$f":"IF(NOT($AS367=$AS368),ROW(),\"\")","v":""},{"$f":"IF(NOT(AS367=AS368),AS368,\"\")","v":""},{"$f":"INDEX($AB$15:$AM$15,MATCH($AS367,$AB$11:$AM$11,0))","v":"in"},{"$f":"LEFT(AT367,4)","v":"2001"},{"$f":"LEFT(B367,6)","v":"200105"}]
[null,{"$f":"'Market Data'!B354","v":20010517},{"$f":"'Market Data'!C354","v":7801.5},{"$f":"'Market Data'!D354","v":7809.5},{"$f":"'Market Data'!E354","v":7712},{"$f":"'Market Data'!F354","v":7738.5},null,350,{"$f":"IF($H368<($J$6+1),\"\",PFE(OFFSET($F368,0,0,-$J$6)))","v":-8.7404196795863615E-2},null,"Short",{"$error":"#N/A"},{"$error":"#N/A"},null,-1,0,"",null,-1,null,350,12139.04,null,null,null,null,null,null,null,null,null,null,null,null,null,null,null,null,null,null,null,{"$f":"IF(NOT($AS368=$AS369),ROW(),\"\")","v":""},{"$f":"IF(NOT(AS368=AS369),AS369,\"\")","v":""},{"$f":"INDEX($AB$15:$AM$15,MATCH($AS368,$AB$11:$AM$11,0))","v":"in"},{"$f":"LEFT(AT368,4)","v":"2001"},{"$f":"LEFT(B368,6)","v":"200105"}]
[null,{"$f":"'Market Data'!B355","v":20010518},{"$f":"'Market Data'!C355","v":7709.5},{"$f":"'Market Data'!D355","v":7793.5},{"$f":"'Market Data'!E355","v":7696.5},{"$f":"'Market Data'!F355","v":7762.5},null,351,{"$f":"IF($H369<($J$6+1),\"\",PFE(OFFSET($F369,0,0,-$J$6)))","v":-8.3933415112180651E-2},null,"Short",{"$error":"#N/A"},{"$error":"#N/A"},null,-1,0,"",null,-1,null,-840,11299.04,null,null,null,null,null,null,null,null,null,null,null,null,null,null,null,null,null,null,null,{"$f":"IF(NOT($AS369=$AS370),ROW(),\"\")","v":""},{"$f":"IF(NOT(AS369=AS370),AS370,\"\")","v":""},{"$f":"INDEX($AB$15:$AM$15,MATCH($AS369,$AB$11:$AM$11,0))","v":"in"},{"$f":"LEFT(AT369,4)","v":"2001"},{"$f":"LEFT(B369,6)","v":"200105"}]
[null,{"$f":"'Market Data'!B356","v":20010521},{"$f":"'Market Data'!C356","v":7789.5},{"$f":"'Market Data'!D356","v":7841.5},{"$f":"'Market Data'!E356","v":7709.5},{"$f":"'Market Data'!F356","v":7817.5},null,352,{"$f":"IF($H370<($J$6+1),\"\",PFE(OFFSET($F370,0,0,-$J$6)))","v":-7.7065062754340899E-2},null,"Short",{"$error":"#N/A"},{"$error":"#N/A"},null,-1,0,"",null,-1,null,-1925,9374.0400000000009,null,null,null,null,null,null,null,null,null,null,null,null,null,null,null,null,null,null,null,{"$f":"IF(NOT($AS370=$AS371),ROW(),\"\")","v":""},{"$f":"IF(NOT(AS370=AS371),AS371,\"\")","v":""},{"$f":"INDEX($AB$15:$AM$15,MATCH($AS370,$AB$11:$AM$11,0))","v":"in"},{"$f":"LEFT(AT370,4)","v":"2001"},{"$f":"LEFT(B370,6)","v":"200105"}]
[null,{"$f":"'Market Data'!B357","v":20010522},{"$f":"'Market Data'!C357","v":7843.5},{"$f":"'Market Data'!D357","v":7917},{"$f":"'Market Data'!E357","v":7820.5},{"$f":"'Market Data'!F357","v":7841.5},null,353,{"$f":"IF($H371<($J$6+1),\"\",PFE(OFFSET($F371,0,0,-$J$6)))","v":-7.2382245645888882E-2},null,"Short",{"$error":"#N/A"},{"$error":"#N/A"},null,-1,0,"",null,-1,null,-840,8534.0400000000009,null,null,null,null,null,null,null,null,null,null,null,null,null,null,null,null,null,null,null,{"$f":"IF(NOT($AS371=$AS372),ROW(),\"\")","v":""},{"$f":"IF(NOT(AS371=AS372),AS372,\"\")","v":""},{"$f":"INDEX($AB$15:$AM$15,MATCH($AS371,$AB$11:$AM$11,0))","v":"in"},{"$f":"LEFT(AT371,4)","v":"2001"},{"$f":"LEFT(B371,6)","v":"200105"}]
[null,{"$f":"'Market Data'!B358","v":20010523},{"$f":"'Market Data'!C358","v":7817.5},{"$f":"'Market Data'!D358","v":7867.5},{"$f":"'Market Data'!E358","v":7786},{"$f":"'Market Data'!F358","v":7814.5},null,354,{"$f":"IF($H372<($J$6+1),\"\",PFE(OFFSET($F372,0,0,-$J$6)))","v":-8.3776112616224349E-2},null,"Short",{"$error":"#N/A"},{"$error":"#N/A"},null,-1,0,"",null,-1,null,945,9479.0400000000009,null,null,null,null,null,null,null,null,null,null,null,null,null,null,null,null,null,null,null,{"$f":"IF(NOT($AS372=$AS373),ROW(),\"\")","v":""},{"$f":"IF(NOT(AS372=AS373),AS373,\"\")","v":""},{"$f":"INDEX($AB$15:$AM$15,MATCH($AS372,$AB$11:$AM$11,0))","v":"in"},{"$f":"LEFT(AT372,4)","v":"2001"},{"$f":"LEFT(B372,6)","v":"200105"}]
[null,{"$f":"'Market Data'!B359","v":20010524},{"$f":"'Market Data'!C359","v":7785.5},{"$f":"'Market Data'!D359","v":7887.5},{"$f":"'Market Data'!E359","v":7774.5},{"$f":"'Market Data'!F359","v":7851.5},null,355,{"$f":"IF($H373<($J$6+1),\"\",PFE(OFFSET($F373,0,0,-$J$6)))","v":-7.6552988749634801E-2},null,"Short",{"$error":"#N/A"},{"$error":"#N/A"},null,-1,0,"",null,-1,null,-1295,8184.0400000000009,null,null,null,null,null,null,null,null,null,null,null,null,null,null,null,null,null,null,null,{"$f":"IF(NOT($AS373=$AS374),ROW(),\"\")","v":""},{"$f":"IF(NOT(AS373=AS374),AS374,\"\")","v":""},{"$f":"INDEX($AB$15:$AM$15,MATCH($AS373,$AB$11:$AM$11,0))","v":"in"},{"$f":"LEFT(AT373,4)","v":"2001"},{"$f":"LEFT(B373,6)","v":"200105"}]
[null,{"$f":"'Market Data'!B360","v":20010525},{"$f":"'Market Data'!C360","v":7851.5},{"$f":"'Market Data'!D360","v":7879.5},{"$f":"'Market Data'!E360","v":7779},{"$f":"'Market Data'!F360","v":7799.5},null,356,{"$f":"IF($H374<($J$6+1),\"\",PFE(OFFSET($F374,0,0,-$J$6)))","v":-9.129429415766549E-2},null,"Short",{"$error":"#N/A"},{"$error":"#N/A"},null,-1,0,"",null,-1,null,1820,10004.040000000001,null,null,null,null,null,null,null,null,null,null,null,null,null,null,null,null,null,null,null,{"$f":"IF(NOT($AS374=$AS375),ROW(),\"\")","v":""},{"$f":"IF(NOT(AS374=AS375),AS375,\"\")","v":""},{"$f":"INDEX($AB$15:$AM$15,MATCH($AS374,$AB$11:$AM$11,0))","v":"in"},{"$f":"LEFT(AT374,4)","v":"2001"},{"$f":"LEFT(B374,6)","v":"200105"}]
[null,{"$f":"'Market Data'!B361","v":20010528},{"$f":"'Market Data'!C361","v":7779.5},{"$f":"'Market Data'!D361","v":7849.5},{"$f":"'Market Data'!E361","v":7760},{"$f":"'Market Data'!F361","v":7788.5},null,357,{"$f":"IF($H375<($J$6+1),\"\",PFE(OFFSET($F375,0,0,-$J$6)))","v":-8.5954358979359297E-2},null,"Short",{"$error":"#N/A"},{"$error":"#N/A"},null,-1,0,"",null,-1,null,385,10389.040000000001,null,null,null,null,null,null,null,null,null,null,null,null,null,null,null,null,null,null,null,{"$f":"IF(NOT($AS375=$AS376),ROW(),\"\")","v":""},{"$f":"IF(NOT(AS375=AS376),AS376,\"\")","v":""},{"$f":"INDEX($AB$15:$AM$15,MATCH($AS375,$AB$11:$AM$11,0))","v":"in"},{"$f":"LEFT(AT375,4)","v":"2001"},{"$f":"LEFT(B375,6)","v":"200105"}]
[null,{"$f":"'Market Data'!B362","v":20010529},{"$f":"'Market Data'!C362","v":7793.5},{"$f":"'Market Data'!D362","v":7816},{"$f":"'Market Data'!E362","v":7686.5},{"$f":"'Market Data'!F362","v":7694},null,358,{"$f":"IF($H376<($J$6+1),\"\",PFE(OFFSET($F376,0,0,-$J$6)))","v":-0.10761043559568632},null,"Short",{"$error":"#N/A"},{"$error":"#N/A"},null,-1,0,"",null,-1,null,3307.5,13696.54,null,null,null,null,null,null,null,null,null,null,null,null,null,null,null,null,null,null,null,{"$f":"IF(NOT($AS376=$AS377),ROW(),\"\")","v":""},{"$f":"IF(NOT(AS376=AS377),AS377,\"\")","v":""},{"$f":"INDEX($AB$15:$AM$15,MATCH($AS376,$AB$11:$AM$11,0))","v":"in"},{"$f":"LEFT(AT376,4)","v":"2001"},{"$f":"LEFT(B376,6)","v":"200105"}]
[null,{"$f":"'Market Data'!B363","v":20010530},{"$f":"'Market Data'!C363","v":7664.5},{"$f":"'Market Data'!D363","v":7682.5},{"$f":"'Market Data'!E363","v":7616.5},{"$f":"'Market Data'!F363","v":7619.5},null,359,{"$f":"IF($H377<($J$6+1),\"\",PFE(OFFSET($F377,0,0,-$J$6)))","v":-0.11545499680244008},null,"Short",{"$error":"#N/A"},{"$error":"#N/A"},null,-1,0,"",null,-1,null,2607.5,16304.04,null,null,null,null,null,null,null,null,null,null,null,null,null,null,null,null,null,null,null,{"$f":"IF(NOT($AS377=$AS378),ROW(),\"\")","v":""},{"$f":"IF(NOT(AS377=AS378),AS378,\"\")","v":""},{"$f":"INDEX($AB$15:$AM$15,MATCH($AS377,$AB$11:$AM$11,0))","v":"in"},{"$f":"LEFT(AT377,4)","v":"2001"},{"$f":"LEFT(B377,6)","v":"200105"}]
[null,{"$f":"'Market Data'!B364","v":20010531},{"$f":"'Market Data'!C364","v":7594.5},{"$f":"'Market Data'!D364","v":7727.5},{"$f":"'Market Data'!E364","v":7563},{"$f":"'Market Data'!F364","v":7717},null,360,{"$f":"IF($H378<($J$6+1),\"\",PFE(OFFSET($F378,0,0,-$J$6)))","v":-0.10513500134326262},null,"Short",{"$error":"#N/A"},{"$error":"#N/A"},null,-1,0,"",null,-1,null,-3412.5,12891.54,null,null,null,null,null,null,null,null,null,null,null,null,null,null,null,null,null,null,null,{"$f":"IF(NOT($AS378=$AS379),ROW(),\"\")","v":""},{"$f":"IF(NOT(AS378=AS379),AS379,\"\")","v":""},{"$f":"INDEX($AB$15:$AM$15,MATCH($AS378,$AB$11:$AM$11,0))","v":"in"},{"$f":"LEFT(AT378,4)","v":"2001"},{"$f":"LEFT(B378,6)","v":"200105"}]
[null,{"$f":"'Market Data'!B365","v":20010601},{"$f":"'Market Data'!C365","v":7679.5},{"$f":"'Market Data'!D365","v":7750},{"$f":"'Market Data'!E365","v":7624.5},{"$f":"'Market Data'!F365","v":7708},null,361,{"$f":"IF($H379<($J$6+1),\"\",PFE(OFFSET($F379,0,0,-$J$6)))","v":-9.9891847850797258E-2},null,"Short",{"$error":"#N/A"},{"$error":"#N/A"},null,-1,0,"",null,-1,null,315,13206.54,null,null,null,null,null,null,null,null,null,null,null,null,null,null,null,null,null,null,null,{"$f":"IF(NOT($AS379=$AS380),ROW(),\"\")","v":""},{"$f":"IF(NOT(AS379=AS380),AS380,\"\")","v":""},{"$f":"INDEX($AB$15:$AM$15,MATCH($AS379,$AB$11:$AM$11,0))","v":"in"},{"$f":"LEFT(AT379,4)","v":"2001"},{"$f":"LEFT(B379,6)","v":"200106"}]
[null,{"$f":"'Market Data'!B366","v":20010604},{"$f":"'Market Data'!C366","v":7714.5},{"$f":"'Market Data'!D366","v":7760.5},{"$f":"'Market Data'!E366","v":7708.5},{"$f":"'Market Data'!F366","v":7736.5},null,362,{"$f":"IF($H380<($J$6+1),\"\",PFE(OFFSET($F380,0,0,-$J$6)))","v":-8.3295902420232548E-2},null,"Short",{"$error":"#N/A"},{"$error":"#N/A"},null,-1,0,"",null,-1,null,-997.5,12209.04,null,null,null,null,null,null,null,null,null,null,null,null,null,null,null,null,null,null,null,{"$f":"IF(NOT($AS380=$AS381),ROW(),\"\")","v":""},{"$f":"IF(NOT(AS380=AS381),AS381,\"\")","v":""},{"$f":"INDEX($AB$15:$AM$15,MATCH($AS380,$AB$11:$AM$11,0))","v":"in"},{"$f":"LEFT(AT380,4)","v":"2001"},{"$f":"LEFT(B380,6)","v":"200106"}]
[null,{"$f":"'Market Data'!B367","v":20010605},{"$f":"'Market Data'!C367","v":7774.5},{"$f":"'Market Data'!D367","v":7833.5},{"$f":"'Market Data'!E367","v":7723},{"$f":"'Market Data'!F367","v":7828.5},null,363,{"$f":"IF($H381<($J$6+1),\"\",PFE(OFFSET($F381,0,0,-$J$6)))","v":-6.7655803968675446E-2},null,"Short",{"$error":"#N/A"},{"$error":"#N/A"},null,-1,0,"",null,-1,null,-3220,8989.0400000000009,null,null,null,null,null,null,null,null,null,null,null,null,null,null,null,null,null,null,null,{"$f":"IF(NOT($AS381=$AS382),ROW(),\"\")","v":""},{"$f":"IF(NOT(AS381=AS382),AS382,\"\")","v":""},{"$f":"INDEX($AB$15:$AM$15,MATCH($AS381,$AB$11:$AM$11,0))","v":"in"},{"$f":"LEFT(AT381,4)","v":"2001"},{"$f":"LEFT(B381,6)","v":"200106"}]
[null,{"$f":"'Market Data'!B368","v":20010606},{"$f":"'Market Data'!C368","v":7840.5},{"$f":"'Market Data'!D368","v":7844.5},{"$f":"'Market Data'!E368","v":7742},{"$f":"'Market Data'!F368","v":7772.5},null,364,{"$f":"IF($H382<($J$6+1),\"\",PFE(OFFSET($F382,0,0,-$J$6)))","v":-8.2397520600966848E-2},null,"Short",{"$error":"#N/A"},{"$error":"#N/A"},null,-1,0,"",null,-1,null,1960,10949.04,null,null,null,null,null,null,null,null,null,null,null,null,null,null,null,null,null,null,null,{"$f":"IF(NOT($AS382=$AS383),ROW(),\"\")","v":""},{"$f":"IF(NOT(AS382=AS383),AS383,\"\")","v":""},{"$f":"INDEX($AB$15:$AM$15,MATCH($AS382,$AB$11:$AM$11,0))","v":"in"},{"$f":"LEFT(AT382,4)","v":"2001"},{"$f":"LEFT(B382,6)","v":"200106"}]
[null,{"$f":"'Market Data'!B369","v":20010607},{"$f":"'Market Data'!C369","v":7769.5},{"$f":"'Market Data'!D369","v":7791.5},{"$f":"'Market Data'!E369","v":7725.5},{"$f":"'Market Data'!F369","v":7782.5},null,365,{"$f":"IF($H383<($J$6+1),\"\",PFE(OFFSET($F383,0,0,-$J$6)))","v":-6.8485527604549581E-2},null,"Short",{"$error":"#N/A"},{"$error":"#N/A"},null,-1,0,"",null,-1,null,-350,10599.04,null,null,null,null,null,null,null,null,null,null,null,null,null,null,null,null,null,null,null,{"$f":"IF(NOT($AS383=$AS384),ROW(),\"\")","v":""},{"$f":"IF(NOT(AS383=AS384),AS384,\"\")","v":""},{"$f":"INDEX($AB$15:$AM$15,MATCH($AS383,$AB$11:$AM$11,0))","v":"in"},{"$f":"LEFT(AT383,4)","v":"2001"},{"$f":"LEFT(B383,6)","v":"200106"}]
[null,{"$f":"'Market Data'!B370","v":20010608},{"$f":"'Market Data'!C370","v":7799.5},{"$f":"'Market Data'!D370","v":7837},{"$f":"'Market Data'!E370","v":7737},{"$f":"'Market Data'!F370","v":7746.5},null,366,{"$f":"IF($H384<($J$6+1),\"\",PFE(OFFSET($F384,0,0,-$J$6)))","v":-7.9755916836180746E-2},null,"Short",{"$error":"#N/A"},{"$error":"#N/A"},null,-1,0,"",null,-1,null,1260,11859.04,null,null,null,null,null,null,null,null,null,null,null,null,null,null,null,null,null,null,null,{"$f":"IF(NOT($AS384=$AS385),ROW(),\"\")","v":""},{"$f":"IF(NOT(AS384=AS385),AS385,\"\")","v":""},{"$f":"INDEX($AB$15:$AM$15,MATCH($AS384,$AB$11:$AM$11,0))","v":"in"},{"$f":"LEFT(AT384,4)","v":"2001"},{"$f":"LEFT(B384,6)","v":"200106"}]
[null,{"$f":"'Market Data'!B371","v":20010611},{"$f":"'Market Data'!C371","v":7746.5},{"$f":"'Market Data'!D371","v":7797.5},{"$f":"'Market Data'!E371","v":7704.5},{"$f":"'Market Data'!F371","v":7735.5},null,367,{"$f":"IF($H385<($J$6+1),\"\",PFE(OFFSET($F385,0,0,-$J$6)))","v":-6.2922981469375763E-2},null,"Short",{"$error":"#N/A"},{"$error":"#N/A"},null,-1,0,"",null,-1,null,385,12244.04,null,null,null,null,null,null,null,null,null,null,null,null,null,null,null,null,null,null,null,{"$f":"IF(NOT($AS385=$AS386),ROW(),\"\")","v":""},{"$f":"IF(NOT(AS385=AS386),AS386,\"\")","v":""},{"$f":"INDEX($AB$15:$AM$15,MATCH($AS385,$AB$11:$AM$11,0))","v":"in"},{"$f":"LEFT(AT385,4)","v":"2001"},{"$f":"LEFT(B385,6)","v":"200106"}]
[null,{"$f":"'Market Data'!B372","v":20010612},{"$f":"'Market Data'!C372","v":7729.5},{"$f":"'Market Data'!D372","v":7739},{"$f":"'Market Data'!E372","v":7593.5},{"$f":"'Market Data'!F372","v":7628.5},null,368,{"$f":"IF($H386<($J$6+1),\"\",PFE(OFFSET($F386,0,0,-$J$6)))","v":-8.8629858735550168E-2},null,"Short",{"$error":"#N/A"},{"$error":"#N/A"},null,-1,0,"",null,-1,null,3745,15989.04,null,null,null,null,null,null,null,null,null,null,null,null,null,null,null,null,null,null,null,{"$f":"IF(NOT($AS386=$AS387),ROW(),\"\")","v":""},{"$f":"IF(NOT(AS386=AS387),AS387,\"\")","v":""},{"$f":"INDEX($AB$15:$AM$15,MATCH($AS386,$AB$11:$AM$11,0))","v":"in"},{"$f":"LEFT(AT386,4)","v":"2001"},{"$f":"LEFT(B386,6)","v":"200106"}]
[null,{"$f":"'Market Data'!B373","v":20010613},{"$f":"'Market Data'!C373","v":7664},{"$f":"'Market Data'!D373","v":7713.5},{"$f":"'Market Data'!E373","v":7644},{"$f":"'Market Data'!F373","v":7688},null,369,{"$f":"IF($H387<($J$6+1),\"\",PFE(OFFSET($F387,0,0,-$J$6)))","v":-7.9051706645066236E-2},null,"Short",{"$error":"#N/A"},{"$error":"#N/A"},null,-1,0,"",null,-1,null,-2082.5,13906.54,null,null,null,null,null,null,null,null,null,null,null,null,null,null,null,null,null,null,null,{"$f":"IF(NOT($AS387=$AS388),ROW(),\"\")","v":""},{"$f":"IF(NOT(AS387=AS388),AS388,\"\")","v":""},{"$f":"INDEX($AB$15:$AM$15,MATCH($AS387,$AB$11:$AM$11,0))","v":"in"},{"$f":"LEFT(AT387,4)","v":"2001"},{"$f":"LEFT(B387,6)","v":"200106"}]
[null,{"$f":"'Market Data'!B374","v":20010614},{"$f":"'Market Data'!C374","v":7659},{"$f":"'Market Data'!D374","v":7663},{"$f":"'Market Data'!E374","v":7582},{"$f":"'Market Data'!F374","v":7589.5},null,370,{"$f":"IF($H388<($J$6+1),\"\",PFE(OFFSET($F388,0,0,-$J$6)))","v":-8.1714268655886879E-2},null,"Short",{"$error":"#N/A"},{"$error":"#N/A"},null,-1,0,"",null,-1,null,3447.5,17354.04,null,null,null,null,null,null,null,null,null,null,null,null,null,null,null,null,null,null,null,{"$f":"IF(NOT($AS388=$AS389),ROW(),\"\")","v":""},{"$f":"IF(NOT(AS388=AS389),AS389,\"\")","v":""},{"$f":"INDEX($AB$15:$AM$15,MATCH($AS388,$AB$11:$AM$11,0))","v":"in"},{"$f":"LEFT(AT388,4)","v":"2001"},{"$f":"LEFT(B388,6)","v":"200106"}]
[null,{"$f":"'Market Data'!B375","v":20010615},{"$f":"'Market Data'!C375","v":7554},{"$f":"'Market Data'!D375","v":7589},{"$f":"'Market Data'!E375","v":7451},{"$f":"'Market Data'!F375","v":7495},null,371,{"$f":"IF($H389<($J$6+1),\"\",PFE(OFFSET($F389,0,0,-$J$6)))","v":-0.10747113048082976},null,"Short",{"$error":"#N/A"},{"$error":"#N/A"},null,-1,0,"",null,-1,null,3307.5,20661.54,null,null,null,null,null,null,null,null,null,null,null,null,null,null,null,null,null,null,null,{"$f":"IF(NOT($AS389=$AS390),ROW(),\"\")","v":""},{"$f":"IF(NOT(AS389=AS390),AS390,\"\")","v":""},{"$f":"INDEX($AB$15:$AM$15,MATCH($AS389,$AB$11:$AM$11,0))","v":"in"},{"$f":"LEFT(AT389,4)","v":"2001"},{"$f":"LEFT(B389,6)","v":"200106"}]
[null,{"$f":"'Market Data'!B376","v":20010618},{"$f":"'Market Data'!C376","v":7514},{"$f":"'Market Data'!D376","v":7514},{"$f":"'Market Data'!E376","v":7412},{"$f":"'Market Data'!F376","v":7433.5},null,372,{"$f":"IF($H390<($J$6+1),\"\",PFE(OFFSET($F390,0,0,-$J$6)))","v":-0.10012637085998384},null,"Short",{"$error":"#N/A"},{"$error":"#N/A"},null,-1,0,"",null,-1,null,2152.5,22814.04,null,null,null,null,null,null,null,null,null,null,null,null,null,null,null,null,null,null,null,{"$f":"IF(NOT($AS390=$AS391),ROW(),\"\")","v":""},{"$f":"IF(NOT(AS390=AS391),AS391,\"\")","v":""},{"$f":"INDEX($AB$15:$AM$15,MATCH($AS390,$AB$11:$AM$11,0))","v":"in"},{"$f":"LEFT(AT390,4)","v":"2001"},{"$f":"LEFT(B390,6)","v":"200106"}]
[null,{"$f":"'Market Data'!B377","v":20010619},{"$f":"'Market Data'!C377","v":7454},{"$f":"'Market Data'!D377","v":7542},{"$f":"'Market Data'!E377","v":7449},{"$f":"'Market Data'!F377","v":7490},null,373,{"$f":"IF($H391<($J$6+1),\"\",PFE(OFFSET($F391,0,0,-$J$6)))","v":-9.3312524581271108E-2},null,"Short",{"$error":"#N/A"},{"$error":"#N/A"},null,-1,0,"",null,-1,null,-1977.5,20836.54,null,null,null,null,null,null,null,null,null,null,null,null,null,null,null,null,null,null,null,{"$f":"IF(NOT($AS391=$AS392),ROW(),\"\")","v":""},{"$f":"IF(NOT(AS391=AS392),AS392,\"\")","v":""},{"$f":"INDEX($AB$15:$AM$15,MATCH($AS391,$AB$11:$AM$11,0))","v":"in"},{"$f":"LEFT(AT391,4)","v":"2001"},{"$f":"LEFT(B391,6)","v":"200106"}]
[null,{"$f":"'Market Data'!B378","v":20010620},{"$f":"'Market Data'!C378","v":7425},{"$f":"'Market Data'!D378","v":7454},{"$f":"'Market Data'!E378","v":7374},{"$f":"'Market Data'!F378","v":7432},null,374,{"$f":"IF($H392<($J$6+1),\"\",PFE(OFFSET($F392,0,0,-$J$6)))","v":-9.7720030084940818E-2},null,"Short",{"$error":"#N/A"},{"$error":"#N/A"},null,-1,0,"",null,-1,null,2030,22866.54,null,null,null,null,null,null,null,null,null,null,null,null,null,null,null,null,null,null,null,{"$f":"IF(NOT($AS392=$AS393),ROW(),\"\")","v":""},{"$f":"IF(NOT(AS392=AS393),AS393,\"\")","v":""},{"$f":"INDEX($AB$15:$AM$15,MATCH($AS392,$AB$11:$AM$11,0))","v":"in"},{"$f":"LEFT(AT392,4)","v":"2001"},{"$f":"LEFT(B392,6)","v":"200106"}]
[null,{"$f":"'Market Data'!B379","v":20010621},{"$f":"'Market Data'!C379","v":7478.5},{"$f":"'Market Data'!D379","v":7486},{"$f":"'Market Data'!E379","v":7392},{"$f":"'Market Data'!F379","v":7476},null,375,{"$f":"IF($H393<($J$6+1),\"\",PFE(OFFSET($F393,0,0,-$J$6)))","v":-7.6949530537007177E-2},null,"Short",{"$error":"#N/A"},{"$error":"#N/A"},null,-1,0,"",null,-1,null,-1540,21326.54,null,null,null,null,null,null,null,null,null,null,null,null,null,null,null,null,null,null,null,{"$f":"IF(NOT($AS393=$AS394),ROW(),\"\")","v":""},{"$f":"IF(NOT(AS393=AS394),AS394,\"\")","v":""},{"$f":"INDEX($AB$15:$AM$15,MATCH($AS393,$AB$11:$AM$11,0))","v":"in"},{"$f":"LEFT(AT393,4)","v":"2001"},{"$f":"LEFT(B393,6)","v":"200106"}]
[null,{"$f":"'Market Data'!B380","v":20010622},{"$f":"'Market Data'!C380","v":7472},{"$f":"'Market Data'!D380","v":7512},{"$f":"'Market Data'!E380","v":7428},{"$f":"'Market Data'!F380","v":7462},null,376,{"$f":"IF($H394<($J$6+1),\"\",PFE(OFFSET($F394,0,0,-$J$6)))","v":-6.6880706421344582E-2},null,"Short",{"$error":"#N/A"},{"$error":"#N/A"},null,-1,0,"",null,-1,null,490,21816.54,null,null,null,null,null,null,null,null,null,null,null,null,null,null,null,null,null,null,null,{"$f":"IF(NOT($AS394=$AS395),ROW(),\"\")","v":""},{"$f":"IF(NOT(AS394=AS395),AS395,\"\")","v":""},{"$f":"INDEX($AB$15:$AM$15,MATCH($AS394,$AB$11:$AM$11,0))","v":"in"},{"$f":"LEFT(AT394,4)","v":"2001"},{"$f":"LEFT(B394,6)","v":"200106"}]
[null,{"$f":"'Market Data'!B381","v":20010625},{"$f":"'Market Data'!C381","v":7434},{"$f":"'Market Data'!D381","v":7508},{"$f":"'Market Data'!E381","v":7425},{"$f":"'Market Data'!F381","v":7458},null,377,{"$f":"IF($H395<($J$6+1),\"\",PFE(OFFSET($F395,0,0,-$J$6)))","v":-3.832079898454431E-2},null,"Short",{"$error":"#N/A"},{"$error":"#N/A"},null,-1,0,"",null,-1,null,140,21956.54,null,null,null,null,null,null,null,null,null,null,null,null,null,null,null,null,null,null,null,{"$f":"IF(NOT($AS395=$AS396),ROW(),\"\")","v":""},{"$f":"IF(NOT(AS395=AS396),AS396,\"\")","v":""},{"$f":"INDEX($AB$15:$AM$15,MATCH($AS395,$AB$11:$AM$11,0))","v":"in"},{"$f":"LEFT(AT395,4)","v":"2001"},{"$f":"LEFT(B395,6)","v":"200106"}]
[null,{"$f":"'Market Data'!B382","v":20010626},{"$f":"'Market Data'!C382","v":7427},{"$f":"'Market Data'!D382","v":7435.5},{"$f":"'Market Data'!E382","v":7319},{"$f":"'Market Data'!F382","v":7401},null,378,{"$f":"IF($H396<($J$6+1),\"\",PFE(OFFSET($F396,0,0,-$J$6)))","v":-6.5327256246667409E-2},null,"Short",{"$error":"#N/A"},{"$error":"#N/A"},null,-1,0,"",null,-1,null,1995,23951.54,null,null,null,null,null,null,null,null,null,null,null,null,null,null,null,null,null,null,null,{"$f":"IF(NOT($AS396=$AS397),ROW(),\"\")","v":""},{"$f":"IF(NOT(AS396=AS397),AS397,\"\")","v":""},{"$f":"INDEX($AB$15:$AM$15,MATCH($AS396,$AB$11:$AM$11,0))","v":"in"},{"$f":"LEFT(AT396,4)","v":"2001"},{"$f":"LEFT(B396,6)","v":"200106"}]
[null,{"$f":"'Market Data'!B383","v":20010627},{"$f":"'Market Data'!C383","v":7394},{"$f":"'Market Data'!D383","v":7408},{"$f":"'Market Data'!E383","v":7366.5},{"$f":"'Market Data'!F383","v":7390},null,379,{"$f":"IF($H397<($J$6+1),\"\",PFE(OFFSET($F397,0,0,-$J$6)))","v":-6.9349009949492474E-2},null,"Short",{"$error":"#N/A"},{"$error":"#N/A"},null,-1,0,"",null,-1,null,385,24336.54,null,null,null,null,null,null,null,null,null,null,null,null,null,null,null,null,null,null,null,{"$f":"IF(NOT($AS397=$AS398),ROW(),\"\")","v":""},{"$f":"IF(NOT(AS397=AS398),AS398,\"\")","v":""},{"$f":"INDEX($AB$15:$AM$15,MATCH($AS397,$AB$11:$AM$11,0))","v":"in"},{"$f":"LEFT(AT397,4)","v":"2001"},{"$f":"LEFT(B397,6)","v":"200106"}]
[null,{"$f":"'Market Data'!B384","v":20010628},{"$f":"'Market Data'!C384","v":7373},{"$f":"'Market Data'!D384","v":7529},{"$f":"'Market Data'!E384","v":7308},{"$f":"'Market Data'!F384","v":7527},null,380,{"$f":"IF($H398<($J$6+1),\"\",PFE(OFFSET($F398,0,0,-$J$6)))","v":-4.7499829212472082E-2},null,"Short",{"$error":"#N/A"},{"$error":"#N/A"},null,-1,0,"",null,-1,null,-4795,19541.54,null,null,null,null,null,null,null,null,null,null,null,null,null,null,null,null,null,null,null,{"$f":"IF(NOT($AS398=$AS399),ROW(),\"\")","v":""},{"$f":"IF(NOT(AS398=AS399),AS399,\"\")","v":""},{"$f":"INDEX($AB$15:$AM$15,MATCH($AS398,$AB$11:$AM$11,0))","v":"in"},{"$f":"LEFT(AT398,4)","v":"2001"},{"$f":"LEFT(B398,6)","v":"200106"}]
[null,{"$f":"'Market Data'!B385","v":20010629},{"$f":"'Market Data'!C385","v":7524},{"$f":"'Market Data'!D385","v":7617.5},{"$f":"'Market Data'!E385","v":7508},{"$f":"'Market Data'!F385","v":7609},null,381,{"$f":"IF($H399<($J$6+1),\"\",PFE(OFFSET($F399,0,0,-$J$6)))","v":-2.0921607006436627E-2},null,"Short",{"$error":"#N/A"},{"$error":"#N/A"},null,-1,0,"",null,-1,null,-2870,16671.54,null,null,null,null,null,null,null,null,null,null,null,null,null,null,null,null,null,null,null,{"$f":"IF(NOT($AS399=$AS400),ROW(),\"\")","v":""},{"$f":"IF(NOT(AS399=AS400),AS400,\"\")","v":""},{"$f":"INDEX($AB$15:$AM$15,MATCH($AS399,$AB$11:$AM$11,0))","v":"in"},{"$f":"LEFT(AT399,4)","v":"2001"},{"$f":"LEFT(B399,6)","v":"200106"}]
[null,{"$f":"'Market Data'!B386","v":20010702},{"$f":"'Market Data'!C386","v":7567.5},{"$f":"'Market Data'!D386","v":7684.5},{"$f":"'Market Data'!E386","v":7552},{"$f":"'Market Data'!F386","v":7661.5},null,382,{"$f":"IF($H400<($J$6+1),\"\",PFE(OFFSET($F400,0,0,-$J$6)))","v":-2.424368882215102E-2},null,"Short",{"$error":"#N/A"},{"$error":"#N/A"},null,-1,0,"",null,-1,null,-1837.5,14834.04,null,null,null,null,null,null,null,null,null,null,null,null,null,null,null,null,null,null,null,{"$f":"IF(NOT($AS400=$AS401),ROW(),\"\")","v":""},{"$f":"IF(NOT(AS400=AS401),AS401,\"\")","v":""},{"$f":"INDEX($AB$15:$AM$15,MATCH($AS400,$AB$11:$AM$11,0))","v":"in"},{"$f":"LEFT(AT400,4)","v":"2001"},{"$f":"LEFT(B400,6)","v":"200107"}]
[null,{"$f":"'Market Data'!B387","v":20010703},{"$f":"'Market Data'!C387","v":7644},{"$f":"'Market Data'!D387","v":7661},{"$f":"'Market Data'!E387","v":7588.5},{"$f":"'Market Data'!F387","v":7617},null,383,{"$f":"IF($H401<($J$6+1),\"\",PFE(OFFSET($F401,0,0,-$J$6)))","v":-3.1521394036245071E-2},null,"Short",{"$error":"#N/A"},{"$error":"#N/A"},null,-1,{"$f":"$O401-S401","v":0},"",null,-1,null,1557.5,16391.54,null,null,null,null,null,null,null,null,null,null,null,null,null,null,null,null,null,null,null,{"$f":"IF(NOT($AS401=$AS402),ROW(),\"\")","v":""},{"$f":"IF(NOT(AS401=AS402),AS402,\"\")","v":""},{"$f":"INDEX($AB$15:$AM$15,MATCH($AS401,$AB$11:$AM$11,0))","v":"in"},{"$f":"LEFT(AT401,4)","v":"2001"},{"$f":"LEFT(B401,6)","v":"200107"}]
[null,{"$f":"'Market Data'!B388","v":20010704},{"$f":"'Market Data'!C388","v":7616},{"$f":"'Market Data'!D388","v":7633},{"$f":"'Market Data'!E388","v":7546.5},{"$f":"'Market Data'!F388","v":7555},null,384,{"$f":"IF($H402<($J$6+1),\"\",PFE(OFFSET($F402,0,0,-$J$6)))","v":-5.7983827495972078E-2},null,"Short",{"$error":"#N/A"},{"$error":"#N/A"},null,-1,0,"",null,{"$f":"IF($Q401=\"Fill\",$O401,$S401)","v":-1},null,2170,18561.54,null,null,null,null,null,null,null,null,null,null,null,null,null,null,null,null,null,null,null,{"$f":"IF(NOT($AS402=$AS403),ROW(),\"\")","v":""},{"$f":"IF(NOT(AS402=AS403),AS403,\"\")","v":""},{"$f":"INDEX($AB$15:$AM$15,MATCH($AS402,$AB$11:$AM$11,0))","v":"in"},{"$f":"LEFT(AT402,4)","v":"2001"},{"$f":"LEFT(B402,6)","v":"200107"}]
[null,{"$f":"'Market Data'!B389","v":20010705},{"$f":"'Market Data'!C389","v":7494.5},{"$f":"'Market Data'!D389","v":7594.5},{"$f":"'Market Data'!E389","v":7484},{"$f":"'Market Data'!F389","v":7538},null,385,{"$f":"IF($H403<($J$6+1),\"\",PFE(OFFSET($F403,0,0,-$J$6)))","v":-6.340617950856961E-2},null,"Short",{"$f":"IF(AND($K403=\"Long\",$K402<>\"Long\"),$F403,NA())","v":{"$error":"#N/A"}},{"$f":"IF(AND($K403=\"Short\",$K402<>\"Short\"),$F403,NA())","v":{"$error":"#N/A"}},null,-1,0,{"$f":"IF(NOT($P403=0),\"Fill\",\"\")","v":""},null,-1,null,595,{"$f":"V402+U403","v":19156.54},null,null,null,null,null,null,null,null,null,null,null,null,null,null,null,null,null,null,null,{"$f":"IF(NOT($AS403=$AS404),ROW(),\"\")","v":""},{"$f":"IF(NOT(AS403=AS404),AS404,\"\")","v":""},{"$f":"INDEX($AB$15:$AM$15,MATCH($AS403,$AB$11:$AM$11,0))","v":"in"},{"$f":"LEFT(AT403,4)","v":"2001"},{"$f":"LEFT(B403,6)","v":"200107"}]
[null,{"$f":"'Market Data'!B390","v":20010706},{"$f":"'Market Data'!C390","v":7482},{"$f":"'Market Data'!D390","v":7495},{"$f":"'Market Data'!E390","v":7391},{"$f":"'Market Data'!F390","v":7408.5},null,{"$f":"ROW()-ROW(H$18)","v":386},{"$f":"IF($H404<($J$6+1),\"\",PFE(OFFSET($F404,0,0,-$J$6)))","v":-7.3775605828456936E-2},null,{"$f":"IF($I404=\"\",\"\",IF($I404>$J$4,\"Long\",IF($I404<$J$5,\"Short\",\"\")))","v":"Short"},{"$error":"#N/A"},{"$error":"#N/A"},null,{"$f":"IF($K404=\"Short\",-1,IF($K404=\"Long\",1,0))","v":-1},0,"",null,-1,null,4532.5,23689.040000000001,null,null,null,null,null,null,null,null,null,null,null,null,null,null,null,null,null,null,null,{"$f":"IF(NOT($AS404=$AS405),ROW(),\"\")","v":""},{"$f":"IF(NOT(AS404=AS405),AS405,\"\")","v":""},{"$f":"INDEX($AB$15:$AM$15,MATCH($AS404,$AB$11:$AM$11,0))","v":"in"},{"$f":"LEFT(AT404,4)","v":"2001"},{"$f":"LEFT(B404,6)","v":"200107"}]
[null,{"$f":"'Market Data'!B391","v":20010709},{"$f":"'Market Data'!C391","v":7424},{"$f":"'Market Data'!D391","v":7443},{"$f":"'Market Data'!E391","v":7332},{"$f":"'Market Data'!F391","v":7421},null,387,{"$f":"IF($H405<($J$6+1),\"\",PFE(OFFSET($F405,0,0,-$J$6)))","v":-6.4689638136469121E-2},null,"Short",{"$error":"#N/A"},{"$error":"#N/A"},null,-1,0,"",null,-1,null,-437.5,23251.54,null,null,null,null,null,null,null,null,null,null,null,null,null,null,null,null,null,null,null,{"$f":"IF(NOT($AS405=$AS406),ROW(),\"\")","v":""},{"$f":"IF(NOT(AS405=AS406),AS406,\"\")","v":""},{"$f":"INDEX($AB$15:$AM$15,MATCH($AS405,$AB$11:$AM$11,0))","v":"in"},{"$f":"LEFT(AT405,4)","v":"2001"},{"$f":"LEFT(B405,6)","v":"200107"}]
[null,{"$f":"'Market Data'!B392","v":20010710},{"$f":"'Market Data'!C392","v":7426},{"$f":"'Market Data'!D392","v":7470},{"$f":"'Market Data'!E392","v":7346},{"$f":"'Market Data'!F392","v":7346},null,388,{"$f":"IF($H406<($J$6+1),\"\",PFE(OFFSET($F406,0,0,-$J$6)))","v":-5.0452275007017724E-2},null,"Short",{"$error":"#N/A"},{"$error":"#N/A"},null,-1,0,"",null,-1,null,{"$f":"IF(OR($S405&$O405=\"01\",$S405&$O405=\"0-1\"),(($F406-$C406)*$V$4*$O405)-(ABS($P405)*$V$5),IF(OR($S405&$O405=\"10\",$S405&$O405=\"-10\"),(($C406-$F405)*$V$4*$S405)-(ABS($P405)*$V$5),IF(OR($S405&$O405=\"1-1\",$S405&$O405=\"-11\"),(($C406-$F405)*$V$4*$S405)-(ABS($P405)*$V$5)+(($F406-$C406)*$V$4*$S406),IF(OR($S405&$O405=\"11\",$S405&$O405=\"-1-1\"),(($F406-$F405)*$V$4*$S406),0))))","v":2625},25876.54,null,null,null,null,null,null,null,null,null,null,null,null,null,null,null,null,null,null,null,{"$f":"IF(NOT($AS406=$AS407),ROW(),\"\")","v":""},{"$f":"IF(NOT(AS406=AS407),AS407,\"\")","v":""},{"$f":"INDEX($AB$15:$AM$15,MATCH($AS406,$AB$11:$AM$11,0))","v":"in"},{"$f":"LEFT(AT406,4)","v":"2001"},{"$f":"LEFT(B406,6)","v":"200107"}]
[null,{"$f":"'Market Data'!B393","v":20010711},{"$f":"'Market Data'!C393","v":7294},{"$f":"'Market Data'!D393","v":7355.5},{"$f":"'Market Data'!E393","v":7274},{"$f":"'Market Data'!F393","v":7344.5},null,389,{"$f":"IF($H407<($J$6+1),\"\",PFE(OFFSET($F407,0,0,-$J$6)))","v":-3.8947627505898391E-2},null,"Short",{"$error":"#N/A"},{"$error":"#N/A"},null,-1,0,"",null,-1,null,52.5,25929.040000000001,null,null,null,null,null,null,null,null,null,null,null,null,null,null,null,null,null,null,null,{"$f":"IF(NOT($AS407=$AS408),ROW(),\"\")","v":""},{"$f":"IF(NOT(AS407=AS408),AS408,\"\")","v":""},{"$f":"INDEX($AB$15:$AM$15,MATCH($AS407,$AB$11:$AM$11,0))","v":"in"},{"$f":"LEFT(AT407,4)","v":"2001"},{"$f":"LEFT(B407,6)","v":"200107"}]
[null,{"$f":"'Market Data'!B394","v":20010712},{"$f":"'Market Data'!C394","v":7434},{"$f":"'Market Data'!D394","v":7466},{"$f":"'Market Data'!E394","v":7401.5},{"$f":"'Market Data'!F394","v":7434},null,390,{"$f":"IF($H408<($J$6+1),\"\",PFE(OFFSET($F408,0,0,-$J$6)))","v":1.6069332056935285E-2},null,"Long",7434,{"$error":"#N/A"},null,1,2,"Fill",null,-1,null,-3132.5,22796.54,null,null,null,null,null,null,null,null,null,null,null,null,null,null,null,null,null,null,null,{"$f":"IF(NOT($AS408=$AS409),ROW(),\"\")","v":""},{"$f":"IF(NOT(AS408=AS409),AS409,\"\")","v":""},{"$f":"INDEX($AB$15:$AM$15,MATCH($AS408,$AB$11:$AM$11,0))","v":"in"},{"$f":"LEFT(AT408,4)","v":"2001"},{"$f":"LEFT(B408,6)","v":"200107"}]
[null,{"$f":"'Market Data'!B395","v":20010713},{"$f":"'Market Data'!C395","v":7435},{"$f":"'Market Data'!D395","v":7489.5},{"$f":"'Market Data'!E395","v":7387},{"$f":"'Market Data'!F395","v":7475},null,391,{"$f":"IF($H409<($J$6+1),\"\",PFE(OFFSET($F409,0,0,-$J$6)))","v":1.4692833471777309E-2},null,"Long",{"$error":"#N/A"},{"$error":"#N/A"},null,1,0,"",null,1,null,1183.08,23979.620000000003,null,null,null,null,null,null,null,null,null,null,null,null,null,null,null,null,null,null,null,{"$f":"IF(NOT($AS409=$AS410),ROW(),\"\")","v":""},{"$f":"IF(NOT(AS409=AS410),AS410,\"\")","v":""},{"$f":"INDEX($AB$15:$AM$15,MATCH($AS409,$AB$11:$AM$11,0))","v":"in"},{"$f":"LEFT(AT409,4)","v":"2001"},{"$f":"LEFT(B409,6)","v":"200107"}]
[null,{"$f":"'Market Data'!B396","v":20010716},{"$f":"'Market Data'!C396","v":7469},{"$f":"'Market Data'!D396","v":7469},{"$f":"'Market Data'!E396","v":7374},{"$f":"'Market Data'!F396","v":7384},null,392,{"$f":"IF($H410<($J$6+1),\"\",PFE(OFFSET($F410,0,0,-$J$6)))","v":1.6268514791952165E-2},null,"Long",{"$error":"#N/A"},{"$error":"#N/A"},null,1,0,"",null,1,null,-3185,20794.620000000003,null,null,null,null,null,null,null,null,null,null,null,null,null,null,null,null,null,null,null,{"$f":"IF(NOT($AS410=$AS411),ROW(),\"\")","v":""},{"$f":"IF(NOT(AS410=AS411),AS411,\"\")","v":""},{"$f":"INDEX($AB$15:$AM$15,MATCH($AS410,$AB$11:$AM$11,0))","v":"in"},{"$f":"LEFT(AT410,4)","v":"2001"},{"$f":"LEFT(B410,6)","v":"200107"}]
[null,{"$f":"'Market Data'!B397","v":20010717},{"$f":"'Market Data'!C397","v":7364},{"$f":"'Market Data'!D397","v":7390},{"$f":"'Market Data'!E397","v":7324},{"$f":"'Market Data'!F397","v":7389},null,393,{"$f":"IF($H411<($J$6+1),\"\",PFE(OFFSET($F411,0,0,-$J$6)))","v":2.5906943314996791E-2},null,"Long",{"$error":"#N/A"},{"$error":"#N/A"},null,1,0,"",null,1,null,175,20969.620000000003,null,null,null,null,null,null,null,null,null,null,null,null,null,null,null,null,null,null,null,{"$f":"IF(NOT($AS411=$AS412),ROW(),\"\")","v":""},{"$f":"IF(NOT(AS411=AS412),AS412,\"\")","v":""},{"$f":"INDEX($AB$15:$AM$15,MATCH($AS411,$AB$11:$AM$11,0))","v":"in"},{"$f":"LEFT(AT411,4)","v":"2001"},{"$f":"LEFT(B411,6)","v":"200107"}]
[null,{"$f":"'Market Data'!B398","v":20010718},{"$f":"'Market Data'!C398","v":7352},{"$f":"'Market Data'!D398","v":7357.5},{"$f":"'Market Data'!E398","v":7246.5},{"$f":"'Market Data'!F398","v":7259},null,394,{"$f":"IF($H412<($J$6+1),\"\",PFE(OFFSET($F412,0,0,-$J$6)))","v":-2.3726261323253565E-2},null,"Short",{"$error":"#N/A"},7259,null,-1,-2,"Fill",null,1,null,-4550,16419.620000000003,null,null,null,null,null,null,null,null,null,null,null,null,null,null,null,null,null,null,null,{"$f":"IF(NOT($AS412=$AS413),ROW(),\"\")","v":""},{"$f":"IF(NOT(AS412=AS413),AS413,\"\")","v":""},{"$f":"INDEX($AB$15:$AM$15,MATCH($AS412,$AB$11:$AM$11,0))","v":"in"},{"$f":"LEFT(AT412,4)","v":"2001"},{"$f":"LEFT(B412,6)","v":"200107"}]
[null,{"$f":"'Market Data'!B399","v":20010719},{"$f":"'Market Data'!C399","v":7290},{"$f":"'Market Data'!D399","v":7358},{"$f":"'Market Data'!E399","v":7240.5},{"$f":"'Market Data'!F399","v":7334},null,395,{"$f":"IF($H413<($J$6+1),\"\",PFE(OFFSET($F413,0,0,-$J$6)))","v":2.5040752332411664E-2},null,"Long",7334,{"$error":"#N/A"},null,1,2,"Fill",null,-1,null,-636.91999999999996,15782.700000000003,null,null,null,null,null,null,null,null,null,null,null,null,null,null,null,null,null,null,null,{"$f":"IF(NOT($AS413=$AS414),ROW(),\"\")","v":""},{"$f":"IF(NOT(AS413=AS414),AS414,\"\")","v":""},{"$f":"INDEX($AB$15:$AM$15,MATCH($AS413,$AB$11:$AM$11,0))","v":"in"},{"$f":"LEFT(AT413,4)","v":"2001"},{"$f":"LEFT(B413,6)","v":"200107"}]
[null,{"$f":"'Market Data'!B400","v":20010720},{"$f":"'Market Data'!C400","v":7294},{"$f":"'Market Data'!D400","v":7316.5},{"$f":"'Market Data'!E400","v":7244},{"$f":"'Market Data'!F400","v":7284.5},null,396,{"$f":"IF($H414<($J$6+1),\"\",PFE(OFFSET($F414,0,0,-$J$6)))","v":5.801554613267474E-2},null,"Long",{"$error":"#N/A"},{"$error":"#N/A"},null,1,0,"",null,1,null,885.57999999999993,16668.280000000002,null,null,null,null,null,null,null,null,null,null,null,null,null,null,null,null,null,null,null,{"$f":"IF(NOT($AS414=$AS415),ROW(),\"\")","v":""},{"$f":"IF(NOT(AS414=AS415),AS415,\"\")","v":""},{"$f":"INDEX($AB$15:$AM$15,MATCH($AS414,$AB$11:$AM$11,0))","v":"in"},{"$f":"LEFT(AT414,4)","v":"2001"},{"$f":"LEFT(B414,6)","v":"200107"}]
[null,{"$f":"'Market Data'!B401","v":20010723},{"$f":"'Market Data'!C401","v":7264},{"$f":"'Market Data'!D401","v":7381.5},{"$f":"'Market Data'!E401","v":7235.5},{"$f":"'Market Data'!F401","v":7334},null,397,{"$f":"IF($H415<($J$6+1),\"\",PFE(OFFSET($F415,0,0,-$J$6)))","v":3.8648531670282656E-2},null,"Long",{"$error":"#N/A"},{"$error":"#N/A"},null,1,0,"",null,1,null,1732.5,18400.780000000002,null,null,null,null,null,null,null,null,null,null,null,null,null,null,null,null,null,null,null,{"$f":"IF(NOT($AS415=$AS416),ROW(),\"\")","v":""},{"$f":"IF(NOT(AS415=AS416),AS416,\"\")","v":""},{"$f":"INDEX($AB$15:$AM$15,MATCH($AS415,$AB$11:$AM$11,0))","v":"in"},{"$f":"LEFT(AT415,4)","v":"2001"},{"$f":"LEFT(B415,6)","v":"200107"}]
[null,{"$f":"'Market Data'!B402","v":20010724},{"$f":"'Market Data'!C402","v":7274},{"$f":"'Market Data'!D402","v":7319.5},{"$f":"'Market Data'!E402","v":7193},{"$f":"'Market Data'!F402","v":7193.5},null,398,{"$f":"IF($H416<($J$6+1),\"\",PFE(OFFSET($F416,0,0,-$J$6)))","v":-3.0652795443566808E-2},null,"Short",{"$error":"#N/A"},7193.5,null,-1,-2,"Fill",null,1,null,-4917.5,13483.280000000002,null,null,null,null,null,null,null,null,null,null,null,null,null,null,null,null,null,null,null,{"$f":"IF(NOT($AS416=$AS417),ROW(),\"\")","v":""},{"$f":"IF(NOT(AS416=AS417),AS417,\"\")","v":""},{"$f":"INDEX($AB$15:$AM$15,MATCH($AS416,$AB$11:$AM$11,0))","v":"in"},{"$f":"LEFT(AT416,4)","v":"2001"},{"$f":"LEFT(B416,6)","v":"200107"}]
[null,{"$f":"'Market Data'!B403","v":20010725},{"$f":"'Market Data'!C403","v":7211},{"$f":"'Market Data'!D403","v":7264},{"$f":"'Market Data'!E403","v":7080.5},{"$f":"'Market Data'!F403","v":7104},null,399,{"$f":"IF($H417<($J$6+1),\"\",PFE(OFFSET($F417,0,0,-$J$6)))","v":-7.4547497697932993E-2},null,"Short",{"$error":"#N/A"},{"$error":"#N/A"},null,-1,0,"",null,-1,null,4175.58,17658.86,null,null,null,null,null,null,null,null,null,null,null,null,null,null,null,null,null,null,null,{"$f":"IF(NOT($AS417=$AS418),ROW(),\"\")","v":""},{"$f":"IF(NOT(AS417=AS418),AS418,\"\")","v":""},{"$f":"INDEX($AB$15:$AM$15,MATCH($AS417,$AB$11:$AM$11,0))","v":"in"},{"$f":"LEFT(AT417,4)","v":"2001"},{"$f":"LEFT(B417,6)","v":"200107"}]
[null,{"$f":"'Market Data'!B404","v":20010726},{"$f":"'Market Data'!C404","v":7154},{"$f":"'Market Data'!D404","v":7203.5},{"$f":"'Market Data'!E404","v":7105.5},{"$f":"'Market Data'!F404","v":7199},null,400,{"$f":"IF($H418<($J$6+1),\"\",PFE(OFFSET($F418,0,0,-$J$6)))","v":-3.7478433725290611E-2},null,"Short",{"$error":"#N/A"},{"$error":"#N/A"},null,-1,0,"",null,-1,null,-3325,14333.86,null,null,null,null,null,null,null,null,null,null,null,null,null,null,null,null,null,null,null,{"$f":"IF(NOT($AS418=$AS419),ROW(),\"\")","v":""},{"$f":"IF(NOT(AS418=AS419),AS419,\"\")","v":""},{"$f":"INDEX($AB$15:$AM$15,MATCH($AS418,$AB$11:$AM$11,0))","v":"in"},{"$f":"LEFT(AT418,4)","v":"2001"},{"$f":"LEFT(B418,6)","v":"200107"}]
[null,{"$f":"'Market Data'!B405","v":20010727},{"$f":"'Market Data'!C405","v":7224},{"$f":"'Market Data'!D405","v":7311},{"$f":"'Market Data'!E405","v":7218},{"$f":"'Market Data'!F405","v":7290},null,401,{"$f":"IF($H419<($J$6+1),\"\",PFE(OFFSET($F419,0,0,-$J$6)))","v":-3.4328148636043179E-2},null,"Short",{"$error":"#N/A"},{"$error":"#N/A"},null,-1,0,"",null,-1,null,-3185,11148.86,null,null,null,null,null,null,null,null,null,null,null,null,null,null,null,null,null,null,null,{"$f":"IF(NOT($AS419=$AS420),ROW(),\"\")","v":""},{"$f":"IF(NOT(AS419=AS420),AS420,\"\")","v":""},{"$f":"INDEX($AB$15:$AM$15,MATCH($AS419,$AB$11:$AM$11,0))","v":"in"},{"$f":"LEFT(AT419,4)","v":"2001"},{"$f":"LEFT(B419,6)","v":"200107"}]
[null,{"$f":"'Market Data'!B406","v":20010730},{"$f":"'Market Data'!C406","v":7254},{"$f":"'Market Data'!D406","v":7364},{"$f":"'Market Data'!E406","v":7244},{"$f":"'Market Data'!F406","v":7322},null,402,{"$f":"IF($H420<($J$6+1),\"\",PFE(OFFSET($F420,0,0,-$J$6)))","v":-2.0112524009146954E-2},null,"Short",{"$error":"#N/A"},{"$error":"#N/A"},null,-1,0,"",null,-1,null,-1120,10028.86,null,null,null,null,null,null,null,null,null,null,null,null,null,null,null,null,null,null,null,{"$f":"IF(NOT($AS420=$AS421),ROW(),\"\")","v":""},{"$f":"IF(NOT(AS420=AS421),AS421,\"\")","v":""},{"$f":"INDEX($AB$15:$AM$15,MATCH($AS420,$AB$11:$AM$11,0))","v":"in"},{"$f":"LEFT(AT420,4)","v":"2001"},{"$f":"LEFT(B420,6)","v":"200107"}]
[null,{"$f":"'Market Data'!B407","v":20010731},{"$f":"'Market Data'!C407","v":7324},{"$f":"'Market Data'!D407","v":7393},{"$f":"'Market Data'!E407","v":7287.5},{"$f":"'Market Data'!F407","v":7382.5},null,403,{"$f":"IF($H421<($J$6+1),\"\",PFE(OFFSET($F421,0,0,-$J$6)))","v":2.2966253271130554E-2},null,"Long",7382.5,{"$error":"#N/A"},null,1,2,"Fill",null,-1,null,-2117.5,7911.3600000000006,null,null,null,null,null,null,null,null,null,null,null,null,null,null,null,null,null,null,null,{"$f":"IF(NOT($AS421=$AS422),ROW(),\"\")","v":""},{"$f":"IF(NOT(AS421=AS422),AS422,\"\")","v":""},{"$f":"INDEX($AB$15:$AM$15,MATCH($AS421,$AB$11:$AM$11,0))","v":"in"},{"$f":"LEFT(AT421,4)","v":"2001"},{"$f":"LEFT(B421,6)","v":"200107"}]
[null,{"$f":"'Market Data'!B408","v":20010801},{"$f":"'Market Data'!C408","v":7356},{"$f":"'Market Data'!D408","v":7394},{"$f":"'Market Data'!E408","v":7342.5},{"$f":"'Market Data'!F408","v":7371},null,404,{"$f":"IF($H422<($J$6+1),\"\",PFE(OFFSET($F422,0,0,-$J$6)))","v":5.2439787338474562E-2},null,"Long",{"$error":"#N/A"},{"$error":"#N/A"},null,1,0,"",null,1,null,1270.58,9181.94,null,null,null,null,null,null,null,null,null,null,null,null,null,null,null,null,null,null,null,{"$f":"IF(NOT($AS422=$AS423),ROW(),\"\")","v":""},{"$f":"IF(NOT(AS422=AS423),AS423,\"\")","v":""},{"$f":"INDEX($AB$15:$AM$15,MATCH($AS422,$AB$11:$AM$11,0))","v":"in"},{"$f":"LEFT(AT422,4)","v":"2001"},{"$f":"LEFT(B422,6)","v":"200108"}]
[null,{"$f":"'Market Data'!B409","v":20010802},{"$f":"'Market Data'!C409","v":7379},{"$f":"'Market Data'!D409","v":7462},{"$f":"'Market Data'!E409","v":7289},{"$f":"'Market Data'!F409","v":7304.5},null,405,{"$f":"IF($H423<($J$6+1),\"\",PFE(OFFSET($F423,0,0,-$J$6)))","v":3.0728007204900022E-2},null,"Long",{"$error":"#N/A"},{"$error":"#N/A"},null,1,0,"",null,1,null,-2327.5,6854.4400000000005,null,null,null,null,null,null,null,null,null,null,null,null,null,null,null,null,null,null,null,{"$f":"IF(NOT($AS423=$AS424),ROW(),\"\")","v":""},{"$f":"IF(NOT(AS423=AS424),AS424,\"\")","v":""},{"$f":"INDEX($AB$15:$AM$15,MATCH($AS423,$AB$11:$AM$11,0))","v":"in"},{"$f":"LEFT(AT423,4)","v":"2001"},{"$f":"LEFT(B423,6)","v":"200108"}]
[null,{"$f":"'Market Data'!B410","v":20010803},{"$f":"'Market Data'!C410","v":7327},{"$f":"'Market Data'!D410","v":7337.5},{"$f":"'Market Data'!E410","v":7267.5},{"$f":"'Market Data'!F410","v":7282},null,406,{"$f":"IF($H424<($J$6+1),\"\",PFE(OFFSET($F424,0,0,-$J$6)))","v":-2.2191434298673325E-2},null,"Short",{"$error":"#N/A"},7282,null,-1,-2,"Fill",null,1,null,-787.5,6066.9400000000005,null,null,null,null,null,null,null,null,null,null,null,null,null,null,null,null,null,null,null,{"$f":"IF(NOT($AS424=$AS425),ROW(),\"\")","v":""},{"$f":"IF(NOT(AS424=AS425),AS425,\"\")","v":""},{"$f":"INDEX($AB$15:$AM$15,MATCH($AS424,$AB$11:$AM$11,0))","v":"in"},{"$f":"LEFT(AT424,4)","v":"2001"},{"$f":"LEFT(B424,6)","v":"200108"}]
[null,{"$f":"'Market Data'!B411","v":20010806},{"$f":"'Market Data'!C411","v":7282},{"$f":"'Market Data'!D411","v":7331},{"$f":"'Market Data'!E411","v":7235},{"$f":"'Market Data'!F411","v":7288},null,407,{"$f":"IF($H425<($J$6+1),\"\",PFE(OFFSET($F425,0,0,-$J$6)))","v":1.7325258854164669E-2},null,"Long",7288,{"$error":"#N/A"},null,1,2,"Fill",null,-1,null,-391.91999999999996,5675.02,null,null,null,null,null,null,null,null,null,null,null,null,null,null,null,null,null,null,null,{"$f":"IF(NOT($AS425=$AS426),ROW(),\"\")","v":""},{"$f":"IF(NOT(AS425=AS426),AS426,\"\")","v":""},{"$f":"INDEX($AB$15:$AM$15,MATCH($AS425,$AB$11:$AM$11,0))","v":"in"},{"$f":"LEFT(AT425,4)","v":"2001"},{"$f":"LEFT(B425,6)","v":"200108"}]
[null,{"$f":"'Market Data'!B412","v":20010807},{"$f":"'Market Data'!C412","v":7259},{"$f":"'Market Data'!D412","v":7313},{"$f":"'Market Data'!E412","v":7217.5},{"$f":"'Market Data'!F412","v":7278},null,408,{"$f":"IF($H426<($J$6+1),\"\",PFE(OFFSET($F426,0,0,-$J$6)))","v":-2.4423061301274033E-2},null,"Short",{"$error":"#N/A"},7278,null,-1,-2,"Fill",null,1,null,1498.08,7173.1,null,null,null,null,null,null,null,null,null,null,null,null,null,null,null,null,null,null,null,{"$f":"IF(NOT($AS426=$AS427),ROW(),\"\")","v":""},{"$f":"IF(NOT(AS426=AS427),AS427,\"\")","v":""},{"$f":"INDEX($AB$15:$AM$15,MATCH($AS426,$AB$11:$AM$11,0))","v":"in"},{"$f":"LEFT(AT426,4)","v":"2001"},{"$f":"LEFT(B426,6)","v":"200108"}]
[null,{"$f":"'Market Data'!B413","v":20010808},{"$f":"'Market Data'!C413","v":7236.5},{"$f":"'Market Data'!D413","v":7258},{"$f":"'Market Data'!E413","v":7136.5},{"$f":"'Market Data'!F413","v":7146},null,409,{"$f":"IF($H427<($J$6+1),\"\",PFE(OFFSET($F427,0,0,-$J$6)))","v":-6.797571995900642E-2},null,"Short",{"$error":"#N/A"},{"$error":"#N/A"},null,-1,0,"",null,-1,null,1533.08,8706.18,null,null,null,null,null,null,null,null,null,null,null,null,null,null,null,null,null,null,null,{"$f":"IF(NOT($AS427=$AS428),ROW(),\"\")","v":""},{"$f":"IF(NOT(AS427=AS428),AS428,\"\")","v":""},{"$f":"INDEX($AB$15:$AM$15,MATCH($AS427,$AB$11:$AM$11,0))","v":"in"},{"$f":"LEFT(AT427,4)","v":"2001"},{"$f":"LEFT(B427,6)","v":"200108"}]
[null,{"$f":"'Market Data'!B414","v":20010809},{"$f":"'Market Data'!C414","v":7089},{"$f":"'Market Data'!D414","v":7111},{"$f":"'Market Data'!E414","v":6992},{"$f":"'Market Data'!F414","v":7034},null,410,{"$f":"IF($H428<($J$6+1),\"\",PFE(OFFSET($F428,0,0,-$J$6)))","v":-0.10104852341743305},null,"Short",{"$error":"#N/A"},{"$error":"#N/A"},null,-1,0,"",null,-1,null,3920,12626.18,null,null,null,null,null,null,null,null,null,null,null,null,null,null,null,null,null,null,null,{"$f":"IF(NOT($AS428=$AS429),ROW(),\"\")","v":""},{"$f":"IF(NOT(AS428=AS429),AS429,\"\")","v":""},{"$f":"INDEX($AB$15:$AM$15,MATCH($AS428,$AB$11:$AM$11,0))","v":"in"},{"$f":"LEFT(AT428,4)","v":"2001"},{"$f":"LEFT(B428,6)","v":"200108"}]
[null,{"$f":"'Market Data'!B415","v":20010810},{"$f":"'Market Data'!C415","v":7059},{"$f":"'Market Data'!D415","v":7095.5},{"$f":"'Market Data'!E415","v":6907},{"$f":"'Market Data'!F415","v":6965.5},null,411,{"$f":"IF($H429<($J$6+1),\"\",PFE(OFFSET($F429,0,0,-$J$6)))","v":-0.13062255408905574},null,"Short",{"$error":"#N/A"},{"$error":"#N/A"},null,-1,0,"",null,-1,null,2397.5,15023.68,null,null,null,null,null,null,null,null,null,null,null,null,null,null,null,null,null,null,null,{"$f":"IF(NOT($AS429=$AS430),ROW(),\"\")","v":""},{"$f":"IF(NOT(AS429=AS430),AS430,\"\")","v":""},{"$f":"INDEX($AB$15:$AM$15,MATCH($AS429,$AB$11:$AM$11,0))","v":"in"},{"$f":"LEFT(AT429,4)","v":"2001"},{"$f":"LEFT(B429,6)","v":"200108"}]
[null,{"$f":"'Market Data'!B416","v":20010813},{"$f":"'Market Data'!C416","v":6961.5},{"$f":"'Market Data'!D416","v":7023.5},{"$f":"'Market Data'!E416","v":6921.5},{"$f":"'Market Data'!F416","v":6996},null,412,{"$f":"IF($H430<($J$6+1),\"\",PFE(OFFSET($F430,0,0,-$J$6)))","v":-0.10711471350457302},null,"Short",{"$error":"#N/A"},{"$error":"#N/A"},null,-1,0,"",null,-1,null,-1067.5,13956.18,null,null,null,null,null,null,null,null,null,null,null,null,null,null,null,null,null,null,null,{"$f":"IF(NOT($AS430=$AS431),ROW(),\"\")","v":""},{"$f":"IF(NOT(AS430=AS431),AS431,\"\")","v":""},{"$f":"INDEX($AB$15:$AM$15,MATCH($AS430,$AB$11:$AM$11,0))","v":"in"},{"$f":"LEFT(AT430,4)","v":"2001"},{"$f":"LEFT(B430,6)","v":"200108"}]
[null,{"$f":"'Market Data'!B417","v":20010814},{"$f":"'Market Data'!C417","v":7031},{"$f":"'Market Data'!D417","v":7092},{"$f":"'Market Data'!E417","v":7011.5},{"$f":"'Market Data'!F417","v":7044},null,413,{"$f":"IF($H431<($J$6+1),\"\",PFE(OFFSET($F431,0,0,-$J$6)))","v":-0.15388360016142155},null,"Short",{"$error":"#N/A"},{"$error":"#N/A"},null,-1,0,"",null,-1,null,-1680,12276.18,null,null,null,null,null,null,null,null,null,null,null,null,null,null,null,null,null,null,null,{"$f":"IF(NOT($AS431=$AS432),ROW(),\"\")","v":""},{"$f":"IF(NOT(AS431=AS432),AS432,\"\")","v":""},{"$f":"INDEX($AB$15:$AM$15,MATCH($AS431,$AB$11:$AM$11,0))","v":"in"},{"$f":"LEFT(AT431,4)","v":"2001"},{"$f":"LEFT(B431,6)","v":"200108"}]
[null,{"$f":"'Market Data'!B418","v":20010815},{"$f":"'Market Data'!C418","v":7021},{"$f":"'Market Data'!D418","v":7053},{"$f":"'Market Data'!E418","v":6945},{"$f":"'Market Data'!F418","v":6974.5},null,414,{"$f":"IF($H432<($J$6+1),\"\",PFE(OFFSET($F432,0,0,-$J$6)))","v":-0.16826912806592526},null,"Short",{"$error":"#N/A"},{"$error":"#N/A"},null,-1,0,"",null,-1,null,2432.5,14708.68,null,null,null,null,null,null,null,null,null,null,null,null,null,null,null,null,null,null,null,{"$f":"IF(NOT($AS432=$AS433),ROW(),\"\")","v":""},{"$f":"IF(NOT(AS432=AS433),AS433,\"\")","v":""},{"$f":"INDEX($AB$15:$AM$15,MATCH($AS432,$AB$11:$AM$11,0))","v":"in"},{"$f":"LEFT(AT432,4)","v":"2001"},{"$f":"LEFT(B432,6)","v":"200108"}]
[null,{"$f":"'Market Data'!B419","v":20010816},{"$f":"'Market Data'!C419","v":6924},{"$f":"'Market Data'!D419","v":6932},{"$f":"'Market Data'!E419","v":6850.5},{"$f":"'Market Data'!F419","v":6884},null,415,{"$f":"IF($H433<($J$6+1),\"\",PFE(OFFSET($F433,0,0,-$J$6)))","v":-0.1732532266447914},null,"Short",{"$error":"#N/A"},{"$error":"#N/A"},null,-1,0,"",null,-1,null,3167.5,17876.18,null,null,null,null,null,null,null,null,null,null,null,null,null,null,null,null,null,null,null,{"$f":"IF(NOT($AS433=$AS434),ROW(),\"\")","v":""},{"$f":"IF(NOT(AS433=AS434),AS434,\"\")","v":""},{"$f":"INDEX($AB$15:$AM$15,MATCH($AS433,$AB$11:$AM$11,0))","v":"in"},{"$f":"LEFT(AT433,4)","v":"2001"},{"$f":"LEFT(B433,6)","v":"200108"}]
[null,{"$f":"'Market Data'!B420","v":20010817},{"$f":"'Market Data'!C420","v":6902.5},{"$f":"'Market Data'!D420","v":6932},{"$f":"'Market Data'!E420","v":6688},{"$f":"'Market Data'!F420","v":6730},null,416,{"$f":"IF($H434<($J$6+1),\"\",PFE(OFFSET($F434,0,0,-$J$6)))","v":-0.18811486797621446},null,"Short",{"$error":"#N/A"},{"$error":"#N/A"},null,-1,0,"",null,-1,null,5390,23266.18,null,null,null,null,null,null,null,null,null,null,null,null,null,null,null,null,null,null,null,{"$f":"IF(NOT($AS434=$AS435),ROW(),\"\")","v":""},{"$f":"IF(NOT(AS434=AS435),AS435,\"\")","v":""},{"$f":"INDEX($AB$15:$AM$15,MATCH($AS434,$AB$11:$AM$11,0))","v":"in"},{"$f":"LEFT(AT434,4)","v":"2001"},{"$f":"LEFT(B434,6)","v":"200108"}]
[null,{"$f":"'Market Data'!B421","v":20010820},{"$f":"'Market Data'!C421","v":6724},{"$f":"'Market Data'!D421","v":6781.5},{"$f":"'Market Data'!E421","v":6640},{"$f":"'Market Data'!F421","v":6704.5},null,417,{"$f":"IF($H435<($J$6+1),\"\",PFE(OFFSET($F435,0,0,-$J$6)))","v":-0.21363006036877211},null,"Short",{"$error":"#N/A"},{"$error":"#N/A"},null,-1,0,"",null,-1,null,892.5,24158.68,null,null,null,null,null,null,null,null,null,null,null,null,null,null,null,null,null,null,null,{"$f":"IF(NOT($AS435=$AS436),ROW(),\"\")","v":""},{"$f":"IF(NOT(AS435=AS436),AS436,\"\")","v":""},{"$f":"INDEX($AB$15:$AM$15,MATCH($AS435,$AB$11:$AM$11,0))","v":"in"},{"$f":"LEFT(AT435,4)","v":"2001"},{"$f":"LEFT(B435,6)","v":"200108"}]
[null,{"$f":"'Market Data'!B422","v":20010821},{"$f":"'Market Data'!C422","v":6734},{"$f":"'Market Data'!D422","v":6768},{"$f":"'Market Data'!E422","v":6684},{"$f":"'Market Data'!F422","v":6744.5},null,418,{"$f":"IF($H436<($J$6+1),\"\",PFE(OFFSET($F436,0,0,-$J$6)))","v":-0.20441320758931392},null,"Short",{"$error":"#N/A"},{"$error":"#N/A"},null,-1,0,"",null,-1,null,-1400,22758.68,null,null,null,null,null,null,null,null,null,null,null,null,null,null,null,null,null,null,null,{"$f":"IF(NOT($AS436=$AS437),ROW(),\"\")","v":""},{"$f":"IF(NOT(AS436=AS437),AS437,\"\")","v":""},{"$f":"INDEX($AB$15:$AM$15,MATCH($AS436,$AB$11:$AM$11,0))","v":"in"},{"$f":"LEFT(AT436,4)","v":"2001"},{"$f":"LEFT(B436,6)","v":"200108"}]
[null,{"$f":"'Market Data'!B423","v":20010822},{"$f":"'Market Data'!C423","v":6672},{"$f":"'Market Data'!D423","v":6839},{"$f":"'Market Data'!E423","v":6658.5},{"$f":"'Market Data'!F423","v":6737.5},null,419,{"$f":"IF($H437<($J$6+1),\"\",PFE(OFFSET($F437,0,0,-$J$6)))","v":-0.20845687883406441},null,"Short",{"$error":"#N/A"},{"$error":"#N/A"},null,-1,0,"",null,-1,null,245,23003.68,null,null,null,null,null,null,null,null,null,null,null,null,null,null,null,null,null,null,null,{"$f":"IF(NOT($AS437=$AS438),ROW(),\"\")","v":""},{"$f":"IF(NOT(AS437=AS438),AS438,\"\")","v":""},{"$f":"INDEX($AB$15:$AM$15,MATCH($AS437,$AB$11:$AM$11,0))","v":"in"},{"$f":"LEFT(AT437,4)","v":"2001"},{"$f":"LEFT(B437,6)","v":"200108"}]
[null,{"$f":"'Market Data'!B424","v":20010823},{"$f":"'Market Data'!C424","v":6760},{"$f":"'Market Data'!D424","v":6794},{"$f":"'Market Data'!E424","v":6697.5},{"$f":"'Market Data'!F424","v":6765.5},null,420,{"$f":"IF($H438<($J$6+1),\"\",PFE(OFFSET($F438,0,0,-$J$6)))","v":-0.20820513289180567},null,"Short",{"$error":"#N/A"},{"$error":"#N/A"},null,-1,0,"",null,-1,null,-980,22023.68,null,null,null,null,null,null,null,null,null,null,null,null,null,null,null,null,null,null,null,{"$f":"IF(NOT($AS438=$AS439),ROW(),\"\")","v":""},{"$f":"IF(NOT(AS438=AS439),AS439,\"\")","v":""},{"$f":"INDEX($AB$15:$AM$15,MATCH($AS438,$AB$11:$AM$11,0))","v":"in"},{"$f":"LEFT(AT438,4)","v":"2001"},{"$f":"LEFT(B438,6)","v":"200108"}]
[null,{"$f":"'Market Data'!B425","v":20010824},{"$f":"'Market Data'!C425","v":6797},{"$f":"'Market Data'!D425","v":6942},{"$f":"'Market Data'!E425","v":6791},{"$f":"'Market Data'!F425","v":6924},null,421,{"$f":"IF($H439<($J$6+1),\"\",PFE(OFFSET($F439,0,0,-$J$6)))","v":-0.19023182766291266},null,"Short",{"$error":"#N/A"},{"$error":"#N/A"},null,-1,0,"",null,-1,null,-5547.5,16476.18,null,null,null,null,null,null,null,null,null,null,null,null,null,null,null,null,null,null,null,{"$f":"IF(NOT($AS439=$AS440),ROW(),\"\")","v":""},{"$f":"IF(NOT(AS439=AS440),AS440,\"\")","v":""},{"$f":"INDEX($AB$15:$AM$15,MATCH($AS439,$AB$11:$AM$11,0))","v":"in"},{"$f":"LEFT(AT439,4)","v":"2001"},{"$f":"LEFT(B439,6)","v":"200108"}]
[null,{"$f":"'Market Data'!B426","v":20010827},{"$f":"'Market Data'!C426","v":6930},{"$f":"'Market Data'!D426","v":6968},{"$f":"'Market Data'!E426","v":6892},{"$f":"'Market Data'!F426","v":6920},null,422,{"$f":"IF($H440<($J$6+1),\"\",PFE(OFFSET($F440,0,0,-$J$6)))","v":-0.18497052735206784},null,"Short",{"$error":"#N/A"},{"$error":"#N/A"},null,-1,0,"",null,-1,null,140,16616.18,null,null,null,null,null,null,null,null,null,null,null,null,null,null,null,null,null,null,null,{"$f":"IF(NOT($AS440=$AS441),ROW(),\"\")","v":""},{"$f":"IF(NOT(AS440=AS441),AS441,\"\")","v":""},{"$f":"INDEX($AB$15:$AM$15,MATCH($AS440,$AB$11:$AM$11,0))","v":"in"},{"$f":"LEFT(AT440,4)","v":"2001"},{"$f":"LEFT(B440,6)","v":"200108"}]
[null,{"$f":"'Market Data'!B427","v":20010828},{"$f":"'Market Data'!C427","v":6919},{"$f":"'Market Data'!D427","v":6966},{"$f":"'Market Data'!E427","v":6794.5},{"$f":"'Market Data'!F427","v":6820},null,423,{"$f":"IF($H441<($J$6+1),\"\",PFE(OFFSET($F441,0,0,-$J$6)))","v":-0.17588760382719443},null,"Short",{"$error":"#N/A"},{"$error":"#N/A"},null,-1,0,"",null,-1,null,3500,20116.18,null,null,null,null,null,null,null,null,null,null,null,null,null,null,null,null,null,null,null,{"$f":"IF(NOT($AS441=$AS442),ROW(),\"\")","v":""},{"$f":"IF(NOT(AS441=AS442),AS442,\"\")","v":""},{"$f":"INDEX($AB$15:$AM$15,MATCH($AS441,$AB$11:$AM$11,0))","v":"in"},{"$f":"LEFT(AT441,4)","v":"2001"},{"$f":"LEFT(B441,6)","v":"200108"}]
[null,{"$f":"'Market Data'!B428","v":20010829},{"$f":"'Market Data'!C428","v":6789},{"$f":"'Market Data'!D428","v":6859},{"$f":"'Market Data'!E428","v":6751},{"$f":"'Market Data'!F428","v":6809},null,424,{"$f":"IF($H442<($J$6+1),\"\",PFE(OFFSET($F442,0,0,-$J$6)))","v":-0.19481231202151983},null,"Short",{"$error":"#N/A"},{"$error":"#N/A"},null,-1,0,"",null,-1,null,385,20501.18,null,null,null,null,null,null,null,null,null,null,null,null,null,null,null,null,null,null,null,{"$f":"IF(NOT($AS442=$AS443),ROW(),\"\")","v":""},{"$f":"IF(NOT(AS442=AS443),AS443,\"\")","v":""},{"$f":"INDEX($AB$15:$AM$15,MATCH($AS442,$AB$11:$AM$11,0))","v":"in"},{"$f":"LEFT(AT442,4)","v":"2001"},{"$f":"LEFT(B442,6)","v":"200108"}]
[null,{"$f":"'Market Data'!B429","v":20010830},{"$f":"'Market Data'!C429","v":6825},{"$f":"'Market Data'!D429","v":6844.5},{"$f":"'Market Data'!E429","v":6661.5},{"$f":"'Market Data'!F429","v":6673},null,425,{"$f":"IF($H443<($J$6+1),\"\",PFE(OFFSET($F443,0,0,-$J$6)))","v":-0.21397444230255194},null,"Short",{"$error":"#N/A"},{"$error":"#N/A"},null,-1,0,"",null,-1,null,4760,25261.18,null,null,null,null,null,null,null,null,null,null,null,null,null,null,null,null,null,null,null,{"$f":"IF(NOT($AS443=$AS444),ROW(),\"\")","v":""},{"$f":"IF(NOT(AS443=AS444),AS444,\"\")","v":""},{"$f":"INDEX($AB$15:$AM$15,MATCH($AS443,$AB$11:$AM$11,0))","v":"in"},{"$f":"LEFT(AT443,4)","v":"2001"},{"$f":"LEFT(B443,6)","v":"200108"}]
[null,{"$f":"'Market Data'!B430","v":20010831},{"$f":"'Market Data'!C430","v":6679},{"$f":"'Market Data'!D430","v":6737},{"$f":"'Market Data'!E430","v":6641},{"$f":"'Market Data'!F430","v":6691},null,426,{"$f":"IF($H444<($J$6+1),\"\",PFE(OFFSET($F444,0,0,-$J$6)))","v":-0.20720222645679195},null,"Short",{"$error":"#N/A"},{"$error":"#N/A"},null,-1,0,"",null,-1,null,-630,24631.18,null,null,null,null,null,null,null,null,null,null,null,null,null,null,null,null,null,null,null,{"$f":"IF(NOT($AS444=$AS445),ROW(),\"\")","v":""},{"$f":"IF(NOT(AS444=AS445),AS445,\"\")","v":""},{"$f":"INDEX($AB$15:$AM$15,MATCH($AS444,$AB$11:$AM$11,0))","v":"in"},{"$f":"LEFT(AT444,4)","v":"2001"},{"$f":"LEFT(B444,6)","v":"200108"}]
[null,{"$f":"'Market Data'!B431","v":20010903},{"$f":"'Market Data'!C431","v":6669},{"$f":"'Market Data'!D431","v":6680.5},{"$f":"'Market Data'!E431","v":6569.5},{"$f":"'Market Data'!F431","v":6605},null,427,{"$f":"IF($H445<($J$6+1),\"\",PFE(OFFSET($F445,0,0,-$J$6)))","v":-0.21351889124222845},null,"Short",{"$error":"#N/A"},{"$error":"#N/A"},null,-1,0,"",null,-1,null,3010,27641.18,null,null,null,null,null,null,null,null,null,null,null,null,null,null,null,null,null,null,null,{"$f":"IF(NOT($AS445=$AS446),ROW(),\"\")","v":""},{"$f":"IF(NOT(AS445=AS446),AS446,\"\")","v":""},{"$f":"INDEX($AB$15:$AM$15,MATCH($AS445,$AB$11:$AM$11,0))","v":"in"},{"$f":"LEFT(AT445,4)","v":"2001"},{"$f":"LEFT(B445,6)","v":"200109"}]
[null,{"$f":"'Market Data'!B432","v":20010904},{"$f":"'Market Data'!C432","v":6672},{"$f":"'Market Data'!D432","v":6732},{"$f":"'Market Data'!E432","v":6538.5},{"$f":"'Market Data'!F432","v":6712},null,428,{"$f":"IF($H446<($J$6+1),\"\",PFE(OFFSET($F446,0,0,-$J$6)))","v":-0.21525947441731208},null,"Short",{"$error":"#N/A"},{"$error":"#N/A"},null,-1,0,"",null,-1,null,-3745,23896.18,null,null,null,null,null,null,null,null,null,null,null,null,null,null,null,null,null,null,null,{"$f":"IF(NOT($AS446=$AS447),ROW(),\"\")","v":""},{"$f":"IF(NOT(AS446=AS447),AS447,\"\")","v":""},{"$f":"INDEX($AB$15:$AM$15,MATCH($AS446,$AB$11:$AM$11,0))","v":"in"},{"$f":"LEFT(AT446,4)","v":"2001"},{"$f":"LEFT(B446,6)","v":"200109"}]
[null,{"$f":"'Market Data'!B433","v":20010905},{"$f":"'Market Data'!C433","v":6634},{"$f":"'Market Data'!D433","v":6658},{"$f":"'Market Data'!E433","v":6527},{"$f":"'Market Data'!F433","v":6560},null,429,{"$f":"IF($H447<($J$6+1),\"\",PFE(OFFSET($F447,0,0,-$J$6)))","v":-0.23192387609759735},null,"Short",{"$error":"#N/A"},{"$error":"#N/A"},null,-1,0,"",null,-1,null,5320,29216.18,null,null,null,null,null,null,null,null,null,null,null,null,null,null,null,null,null,null,null,{"$f":"IF(NOT($AS447=$AS448),ROW(),\"\")","v":""},{"$f":"IF(NOT(AS447=AS448),AS448,\"\")","v":""},{"$f":"INDEX($AB$15:$AM$15,MATCH($AS447,$AB$11:$AM$11,0))","v":"in"},{"$f":"LEFT(AT447,4)","v":"2001"},{"$f":"LEFT(B447,6)","v":"200109"}]
[null,{"$f":"'Market Data'!B434","v":20010906},{"$f":"'Market Data'!C434","v":6609},{"$f":"'Market Data'!D434","v":6614},{"$f":"'Market Data'!E434","v":6350.5},{"$f":"'Market Data'!F434","v":6381},null,430,{"$f":"IF($H448<($J$6+1),\"\",PFE(OFFSET($F448,0,0,-$J$6)))","v":-0.2464233957697945},null,"Short",{"$error":"#N/A"},{"$error":"#N/A"},null,-1,0,"",null,-1,null,6265,35481.18,null,null,null,null,null,null,null,null,null,null,null,null,null,null,null,null,null,null,null,{"$f":"IF(NOT($AS448=$AS449),ROW(),\"\")","v":""},{"$f":"IF(NOT(AS448=AS449),AS449,\"\")","v":""},{"$f":"INDEX($AB$15:$AM$15,MATCH($AS448,$AB$11:$AM$11,0))","v":"in"},{"$f":"LEFT(AT448,4)","v":"2001"},{"$f":"LEFT(B448,6)","v":"200109"}]
[null,{"$f":"'Market Data'!B435","v":20010907},{"$f":"'Market Data'!C435","v":6404},{"$f":"'Market Data'!D435","v":6416},{"$f":"'Market Data'!E435","v":6207},{"$f":"'Market Data'!F435","v":6220},null,431,{"$f":"IF($H449<($J$6+1),\"\",PFE(OFFSET($F449,0,0,-$J$6)))","v":-0.26914868389725743},null,"Short",{"$error":"#N/A"},{"$error":"#N/A"},null,-1,0,"",null,-1,null,5635,41116.18,null,null,null,null,null,null,null,null,null,null,null,null,null,null,null,null,null,null,null,{"$f":"IF(NOT($AS449=$AS450),ROW(),\"\")","v":""},{"$f":"IF(NOT(AS449=AS450),AS450,\"\")","v":""},{"$f":"INDEX($AB$15:$AM$15,MATCH($AS449,$AB$11:$AM$11,0))","v":"in"},{"$f":"LEFT(AT449,4)","v":"2001"},{"$f":"LEFT(B449,6)","v":"200109"}]
[null,{"$f":"'Market Data'!B436","v":20010910},{"$f":"'Market Data'!C436","v":6207},{"$f":"'Market Data'!D436","v":6261},{"$f":"'Market Data'!E436","v":6029},{"$f":"'Market Data'!F436","v":6179.5},null,432,{"$f":"IF($H450<($J$6+1),\"\",PFE(OFFSET($F450,0,0,-$J$6)))","v":-0.30544692360381925},null,"Short",{"$error":"#N/A"},{"$error":"#N/A"},null,-1,0,"",null,-1,null,1417.5,42533.68,null,null,null,null,null,null,null,null,null,null,null,null,null,null,null,null,null,null,null,{"$f":"IF(NOT($AS450=$AS451),ROW(),\"\")","v":""},{"$f":"IF(NOT(AS450=AS451),AS451,\"\")","v":""},{"$f":"INDEX($AB$15:$AM$15,MATCH($AS450,$AB$11:$AM$11,0))","v":"in"},{"$f":"LEFT(AT450,4)","v":"2001"},{"$f":"LEFT(B450,6)","v":"200109"}]
[null,{"$f":"'Market Data'!B437","v":20010911},{"$f":"'Market Data'!C437","v":6219},{"$f":"'Market Data'!D437","v":6287},{"$f":"'Market Data'!E437","v":5617},{"$f":"'Market Data'!F437","v":5763},null,433,{"$f":"IF($H451<($J$6+1),\"\",PFE(OFFSET($F451,0,0,-$J$6)))","v":-0.35623628960726672},null,"Short",{"$error":"#N/A"},{"$error":"#N/A"},null,-1,0,"",null,-1,null,14577.5,57111.18,null,null,null,null,null,null,null,null,null,null,null,null,null,null,null,null,null,null,null,{"$f":"IF(NOT($AS451=$AS452),ROW(),\"\")","v":""},{"$f":"IF(NOT(AS451=AS452),AS452,\"\")","v":""},{"$f":"INDEX($AB$15:$AM$15,MATCH($AS451,$AB$11:$AM$11,0))","v":"in"},{"$f":"LEFT(AT451,4)","v":"2001"},{"$f":"LEFT(B451,6)","v":"200109"}]
[null,{"$f":"'Market Data'!B438","v":20010912},{"$f":"'Market Data'!C438","v":5674},{"$f":"'Market Data'!D438","v":5904},{"$f":"'Market Data'!E438","v":5647},{"$f":"'Market Data'!F438","v":5829},null,434,{"$f":"IF($H452<($J$6+1),\"\",PFE(OFFSET($F452,0,0,-$J$6)))","v":-0.34605822092378852},null,"Short",{"$error":"#N/A"},{"$error":"#N/A"},null,-1,0,"",null,-1,null,-2310,54801.18,null,null,null,null,null,null,null,null,null,null,null,null,null,null,null,null,null,null,null,{"$f":"IF(NOT($AS452=$AS453),ROW(),\"\")","v":""},{"$f":"IF(NOT(AS452=AS453),AS453,\"\")","v":""},{"$f":"INDEX($AB$15:$AM$15,MATCH($AS452,$AB$11:$AM$11,0))","v":"in"},{"$f":"LEFT(AT452,4)","v":"2001"},{"$f":"LEFT(B452,6)","v":"200109"}]
[null,{"$f":"'Market Data'!B439","v":20010913},{"$f":"'Market Data'!C439","v":5881},{"$f":"'Market Data'!D439","v":5896},{"$f":"'Market Data'!E439","v":5774},{"$f":"'Market Data'!F439","v":5864.5},null,435,{"$f":"IF($H453<($J$6+1),\"\",PFE(OFFSET($F453,0,0,-$J$6)))","v":-0.35076471660225128},null,"Short",{"$error":"#N/A"},{"$error":"#N/A"},null,-1,0,"",null,-1,null,-1242.5,53558.68,null,null,null,null,null,null,null,null,null,null,null,null,null,null,null,null,null,null,null,{"$f":"IF(NOT($AS453=$AS454),ROW(),\"\")","v":""},{"$f":"IF(NOT(AS453=AS454),AS454,\"\")","v":""},{"$f":"INDEX($AB$15:$AM$15,MATCH($AS453,$AB$11:$AM$11,0))","v":"in"},{"$f":"LEFT(AT453,4)","v":"2001"},{"$f":"LEFT(B453,6)","v":"200109"}]
[null,{"$f":"'Market Data'!B440","v":20010914},{"$f":"'Market Data'!C440","v":5893},{"$f":"'Market Data'!D440","v":5938},{"$f":"'Market Data'!E440","v":5620},{"$f":"'Market Data'!F440","v":5644},null,436,{"$f":"IF($H454<($J$6+1),\"\",PFE(OFFSET($F454,0,0,-$J$6)))","v":-0.38116423899154855},null,"Short",{"$error":"#N/A"},{"$error":"#N/A"},null,-1,0,"",null,-1,null,7717.5,61276.18,null,null,null,null,null,null,null,null,null,null,null,null,null,null,null,null,null,null,null,{"$f":"IF(NOT($AS454=$AS455),ROW(),\"\")","v":""},{"$f":"IF(NOT(AS454=AS455),AS455,\"\")","v":""},{"$f":"INDEX($AB$15:$AM$15,MATCH($AS454,$AB$11:$AM$11,0))","v":"in"},{"$f":"LEFT(AT454,4)","v":"2001"},{"$f":"LEFT(B454,6)","v":"200109"}]
[null,{"$f":"'Market Data'!B441","v":20010917},{"$f":"'Market Data'!C441","v":5658.5},{"$f":"'Market Data'!D441","v":5840.5},{"$f":"'Market Data'!E441","v":5481},{"$f":"'Market Data'!F441","v":5718.5},null,437,{"$f":"IF($H455<($J$6+1),\"\",PFE(OFFSET($F455,0,0,-$J$6)))","v":-0.36061610948546818},null,"Short",{"$error":"#N/A"},{"$error":"#N/A"},null,-1,0,"",null,-1,null,-2607.5,58668.68,null,null,null,null,null,null,null,null,null,null,null,null,null,null,null,null,null,null,null,{"$f":"IF(NOT($AS455=$AS456),ROW(),\"\")","v":""},{"$f":"IF(NOT(AS455=AS456),AS456,\"\")","v":""},{"$f":"INDEX($AB$15:$AM$15,MATCH($AS455,$AB$11:$AM$11,0))","v":"in"},{"$f":"LEFT(AT455,4)","v":"2001"},{"$f":"LEFT(B455,6)","v":"200109"}]
[null,{"$f":"'Market Data'!B442","v":20010918},{"$f":"'Market Data'!C442","v":5658.5},{"$f":"'Market Data'!D442","v":5714},{"$f":"'Market Data'!E442","v":5618},{"$f":"'Market Data'!F442","v":5688},null,438,{"$f":"IF($H456<($J$6+1),\"\",PFE(OFFSET($F456,0,0,-$J$6)))","v":-0.37262777052088092},null,"Short",{"$error":"#N/A"},{"$error":"#N/A"},null,-1,0,"",null,-1,null,1067.5,59736.18,null,null,null,null,null,null,null,null,null,null,null,null,null,null,null,null,null,null,null,{"$f":"IF(NOT($AS456=$AS457),ROW(),\"\")","v":""},{"$f":"IF(NOT(AS456=AS457),AS457,\"\")","v":""},{"$f":"INDEX($AB$15:$AM$15,MATCH($AS456,$AB$11:$AM$11,0))","v":"in"},{"$f":"LEFT(AT456,4)","v":"2001"},{"$f":"LEFT(B456,6)","v":"200109"}]
[null,{"$f":"'Market Data'!B443","v":20010919},{"$f":"'Market Data'!C443","v":5692},{"$f":"'Market Data'!D443","v":5779},{"$f":"'Market Data'!E443","v":5508},{"$f":"'Market Data'!F443","v":5525.5},null,439,{"$f":"IF($H457<($J$6+1),\"\",PFE(OFFSET($F457,0,0,-$J$6)))","v":-0.38432373598102315},null,"Short",{"$error":"#N/A"},{"$error":"#N/A"},null,-1,0,"",null,-1,null,5687.5,65423.68,null,null,null,null,null,null,null,null,null,null,null,null,null,null,null,null,null,null,null,{"$f":"IF(NOT($AS457=$AS458),ROW(),\"\")","v":""},{"$f":"IF(NOT(AS457=AS458),AS458,\"\")","v":""},{"$f":"INDEX($AB$15:$AM$15,MATCH($AS457,$AB$11:$AM$11,0))","v":"in"},{"$f":"LEFT(AT457,4)","v":"2001"},{"$f":"LEFT(B457,6)","v":"200109"}]
[null,{"$f":"'Market Data'!B444","v":20010920},{"$f":"'Market Data'!C444","v":5599.5},{"$f":"'Market Data'!D444","v":5601},{"$f":"'Market Data'!E444","v":5263},{"$f":"'Market Data'!F444","v":5272.5},null,440,{"$f":"IF($H458<($J$6+1),\"\",PFE(OFFSET($F458,0,0,-$J$6)))","v":-0.40847918019716734},null,"Short",{"$error":"#N/A"},{"$error":"#N/A"},null,-1,0,"",null,-1,null,8855,74278.679999999993,null,null,null,null,null,null,null,null,null,null,null,null,null,null,null,null,null,null,null,{"$f":"IF(NOT($AS458=$AS459),ROW(),\"\")","v":""},{"$f":"IF(NOT(AS458=AS459),AS459,\"\")","v":""},{"$f":"INDEX($AB$15:$AM$15,MATCH($AS458,$AB$11:$AM$11,0))","v":"in"},{"$f":"LEFT(AT458,4)","v":"2001"},{"$f":"LEFT(B458,6)","v":"200109"}]
[null,{"$f":"'Market Data'!B445","v":20010921},{"$f":"'Market Data'!C445","v":5214},{"$f":"'Market Data'!D445","v":5322},{"$f":"'Market Data'!E445","v":5024},{"$f":"'Market Data'!F445","v":5297.5},null,441,{"$f":"IF($H459<($J$6+1),\"\",PFE(OFFSET($F459,0,0,-$J$6)))","v":-0.39353678045430901},null,"Short",{"$error":"#N/A"},{"$error":"#N/A"},null,-1,0,"",null,-1,null,-875,73403.679999999993,null,null,null,null,null,null,null,null,null,null,null,null,null,null,null,null,null,null,null,{"$f":"IF(NOT($AS459=$AS460),ROW(),\"\")","v":""},{"$f":"IF(NOT(AS459=AS460),AS460,\"\")","v":""},{"$f":"INDEX($AB$15:$AM$15,MATCH($AS459,$AB$11:$AM$11,0))","v":"in"},{"$f":"LEFT(AT459,4)","v":"2001"},{"$f":"LEFT(B459,6)","v":"200109"}]
[null,{"$f":"'Market Data'!B446","v":20010924},{"$f":"'Market Data'!C446","v":5404},{"$f":"'Market Data'!D446","v":5547},{"$f":"'Market Data'!E446","v":5357},{"$f":"'Market Data'!F446","v":5540},null,442,{"$f":"IF($H460<($J$6+1),\"\",PFE(OFFSET($F460,0,0,-$J$6)))","v":-0.33238432302950838},null,"Short",{"$error":"#N/A"},{"$error":"#N/A"},null,-1,0,"",null,-1,null,-8487.5,64916.179999999993,null,null,null,null,null,null,null,null,null,null,null,null,null,null,null,null,null,null,null,{"$f":"IF(NOT($AS460=$AS461),ROW(),\"\")","v":""},{"$f":"IF(NOT(AS460=AS461),AS461,\"\")","v":""},{"$f":"INDEX($AB$15:$AM$15,MATCH($AS460,$AB$11:$AM$11,0))","v":"in"},{"$f":"LEFT(AT460,4)","v":"2001"},{"$f":"LEFT(B460,6)","v":"200109"}]
[null,{"$f":"'Market Data'!B447","v":20010925},{"$f":"'Market Data'!C447","v":5466},{"$f":"'Market Data'!D447","v":5624},{"$f":"'Market Data'!E447","v":5437.5},{"$f":"'Market Data'!F447","v":5507},null,443,{"$f":"IF($H461<($J$6+1),\"\",PFE(OFFSET($F461,0,0,-$J$6)))","v":-0.35688691718239413},null,"Short",{"$error":"#N/A"},{"$error":"#N/A"},null,-1,0,"",null,-1,null,1155,66071.179999999993,null,null,null,null,null,null,null,null,null,null,null,null,null,null,null,null,null,null,null,{"$f":"IF(NOT($AS461=$AS462),ROW(),\"\")","v":""},{"$f":"IF(NOT(AS461=AS462),AS462,\"\")","v":""},{"$f":"INDEX($AB$15:$AM$15,MATCH($AS461,$AB$11:$AM$11,0))","v":"in"},{"$f":"LEFT(AT461,4)","v":"2001"},{"$f":"LEFT(B461,6)","v":"200109"}]
[null,{"$f":"'Market Data'!B448","v":20010926},{"$f":"'Market Data'!C448","v":5562},{"$f":"'Market Data'!D448","v":5675},{"$f":"'Market Data'!E448","v":5519},{"$f":"'Market Data'!F448","v":5544},null,444,{"$f":"IF($H462<($J$6+1),\"\",PFE(OFFSET($F462,0,0,-$J$6)))","v":-0.34789945730323341},null,"Short",{"$error":"#N/A"},{"$error":"#N/A"},null,-1,0,"",null,-1,null,-1295,64776.179999999993,null,null,null,null,null,null,null,null,null,null,null,null,null,null,null,null,null,null,null,{"$f":"IF(NOT($AS462=$AS463),ROW(),\"\")","v":""},{"$f":"IF(NOT(AS462=AS463),AS463,\"\")","v":""},{"$f":"INDEX($AB$15:$AM$15,MATCH($AS462,$AB$11:$AM$11,0))","v":"in"},{"$f":"LEFT(AT462,4)","v":"2001"},{"$f":"LEFT(B462,6)","v":"200109"}]
[null,{"$f":"'Market Data'!B449","v":20010927},{"$f":"'Market Data'!C449","v":5554},{"$f":"'Market Data'!D449","v":5662},{"$f":"'Market Data'!E449","v":5535.5},{"$f":"'Market Data'!F449","v":5655},null,445,{"$f":"IF($H463<($J$6+1),\"\",PFE(OFFSET($F463,0,0,-$J$6)))","v":-0.3302793879715083},null,"Short",{"$error":"#N/A"},{"$error":"#N/A"},null,-1,0,"",null,-1,null,-3885,60891.179999999993,null,null,null,null,null,null,null,null,null,null,null,null,null,null,null,null,null,null,null,{"$f":"IF(NOT($AS463=$AS464),ROW(),\"\")","v":""},{"$f":"IF(NOT(AS463=AS464),AS464,\"\")","v":""},{"$f":"INDEX($AB$15:$AM$15,MATCH($AS463,$AB$11:$AM$11,0))","v":"in"},{"$f":"LEFT(AT463,4)","v":"2001"},{"$f":"LEFT(B463,6)","v":"200109"}]
[null,{"$f":"'Market Data'!B450","v":20010928},{"$f":"'Market Data'!C450","v":5739},{"$f":"'Market Data'!D450","v":5813},{"$f":"'Market Data'!E450","v":5729.5},{"$f":"'Market Data'!F450","v":5765.5},null,446,{"$f":"IF($H464<($J$6+1),\"\",PFE(OFFSET($F464,0,0,-$J$6)))","v":-0.32639130261244242},null,"Short",{"$error":"#N/A"},{"$error":"#N/A"},null,-1,0,"",null,-1,null,-3867.5,57023.679999999993,null,null,null,null,null,null,null,null,null,null,null,null,null,null,null,null,null,null,null,{"$f":"IF(NOT($AS464=$AS465),ROW(),\"\")","v":""},{"$f":"IF(NOT(AS464=AS465),AS465,\"\")","v":""},{"$f":"INDEX($AB$15:$AM$15,MATCH($AS464,$AB$11:$AM$11,0))","v":"in"},{"$f":"LEFT(AT464,4)","v":"2001"},{"$f":"LEFT(B464,6)","v":"200109"}]
[null,{"$f":"'Market Data'!B451","v":20011001},{"$f":"'Market Data'!C451","v":5779},{"$f":"'Market Data'!D451","v":5779},{"$f":"'Market Data'!E451","v":5667.5},{"$f":"'Market Data'!F451","v":5753},null,447,{"$f":"IF($H465<($J$6+1),\"\",PFE(OFFSET($F465,0,0,-$J$6)))","v":-0.32173118142663276},null,"Short",{"$error":"#N/A"},{"$error":"#N/A"},null,-1,{"$f":"$O465-S465","v":0},"",null,-1,null,437.5,57461.179999999993,null,null,null,null,null,null,null,null,null,null,null,null,null,null,null,null,null,null,null,{"$f":"IF(NOT($AS465=$AS466),ROW(),\"\")","v":""},{"$f":"IF(NOT(AS465=AS466),AS466,\"\")","v":""},{"$f":"INDEX($AB$15:$AM$15,MATCH($AS465,$AB$11:$AM$11,0))","v":"in"},{"$f":"LEFT(AT465,4)","v":"2001"},{"$f":"LEFT(B465,6)","v":"200110"}]
[null,{"$f":"'Market Data'!B452","v":20011002},{"$f":"'Market Data'!C452","v":5734},{"$f":"'Market Data'!D452","v":5789},{"$f":"'Market Data'!E452","v":5644},{"$f":"'Market Data'!F452","v":5762.5},null,448,{"$f":"IF($H466<($J$6+1),\"\",PFE(OFFSET($F466,0,0,-$J$6)))","v":-0.32183618411538228},null,"Short",{"$error":"#N/A"},{"$error":"#N/A"},null,-1,0,"",null,{"$f":"IF($Q465=\"Fill\",$O465,$S465)","v":-1},null,-332.5,57128.679999999993,null,null,null,null,null,null,null,null,null,null,null,null,null,null,null,null,null,null,null,{"$f":"IF(NOT($AS466=$AS467),ROW(),\"\")","v":""},{"$f":"IF(NOT(AS466=AS467),AS467,\"\")","v":""},{"$f":"INDEX($AB$15:$AM$15,MATCH($AS466,$AB$11:$AM$11,0))","v":"in"},{"$f":"LEFT(AT466,4)","v":"2001"},{"$f":"LEFT(B466,6)","v":"200110"}]
[null,{"$f":"'Market Data'!B453","v":20011003},{"$f":"'Market Data'!C453","v":5764},{"$f":"'Market Data'!D453","v":5932.5},{"$f":"'Market Data'!E453","v":5667.5},{"$f":"'Market Data'!F453","v":5915},null,449,{"$f":"IF($H467<($J$6+1),\"\",PFE(OFFSET($F467,0,0,-$J$6)))","v":-0.28654301477534194},null,"Short",{"$f":"IF(AND($K467=\"Long\",$K466<>\"Long\"),$F467,NA())","v":{"$error":"#N/A"}},{"$f":"IF(AND($K467=\"Short\",$K466<>\"Short\"),$F467,NA())","v":{"$error":"#N/A"}},null,-1,0,{"$f":"IF(NOT($P467=0),\"Fill\",\"\")","v":""},null,-1,null,-5337.5,{"$f":"V466+U467","v":51791.179999999993},null,null,null,null,null,null,null,null,null,null,null,null,null,null,null,null,null,null,null,{"$f":"IF(NOT($AS467=$AS468),ROW(),\"\")","v":""},{"$f":"IF(NOT(AS467=AS468),AS468,\"\")","v":""},{"$f":"INDEX($AB$15:$AM$15,MATCH($AS467,$AB$11:$AM$11,0))","v":"in"},{"$f":"LEFT(AT467,4)","v":"2001"},{"$f":"LEFT(B467,6)","v":"200110"}]
[null,{"$f":"'Market Data'!B454","v":20011004},{"$f":"'Market Data'!C454","v":5935.5},{"$f":"'Market Data'!D454","v":6047},{"$f":"'Market Data'!E454","v":5901},{"$f":"'Market Data'!F454","v":6039},null,{"$f":"ROW()-ROW(H$18)","v":450},{"$f":"IF($H468<($J$6+1),\"\",PFE(OFFSET($F468,0,0,-$J$6)))","v":-0.26086151846840377},null,{"$f":"IF($I468=\"\",\"\",IF($I468>$J$4,\"Long\",IF($I468<$J$5,\"Short\",\"\")))","v":"Short"},{"$error":"#N/A"},{"$error":"#N/A"},null,{"$f":"IF($K468=\"Short\",-1,IF($K468=\"Long\",1,0))","v":-1},0,"",null,-1,null,-4340,47451.179999999993,null,null,null,null,null,null,null,null,null,null,null,null,null,null,null,null,null,null,null,{"$f":"IF(NOT($AS468=$AS469),ROW(),\"\")","v":""},{"$f":"IF(NOT(AS468=AS469),AS469,\"\")","v":""},{"$f":"INDEX($AB$15:$AM$15,MATCH($AS468,$AB$11:$AM$11,0))","v":"in"},{"$f":"LEFT(AT468,4)","v":"2001"},{"$f":"LEFT(B468,6)","v":"200110"}]
[null,{"$f":"'Market Data'!B455","v":20011005},{"$f":"'Market Data'!C455","v":5974},{"$f":"'Market Data'!D455","v":6083},{"$f":"'Market Data'!E455","v":5931.5},{"$f":"'Market Data'!F455","v":5973},null,451,{"$f":"IF($H469<($J$6+1),\"\",PFE(OFFSET($F469,0,0,-$J$6)))","v":-0.25618545075431537},null,"Short",{"$error":"#N/A"},{"$error":"#N/A"},null,-1,0,"",null,-1,null,2310,49761.179999999993,null,null,null,null,null,null,null,null,null,null,null,null,null,null,null,null,null,null,null,{"$f":"IF(NOT($AS469=$AS470),ROW(),\"\")","v":""},{"$f":"IF(NOT(AS469=AS470),AS470,\"\")","v":""},{"$f":"INDEX($AB$15:$AM$15,MATCH($AS469,$AB$11:$AM$11,0))","v":"in"},{"$f":"LEFT(AT469,4)","v":"2001"},{"$f":"LEFT(B469,6)","v":"200110"}]
[null,{"$f":"'Market Data'!B456","v":20011008},{"$f":"'Market Data'!C456","v":5865.5},{"$f":"'Market Data'!D456","v":5997},{"$f":"'Market Data'!E456","v":5817},{"$f":"'Market Data'!F456","v":5967},null,452,{"$f":"IF($H470<($J$6+1),\"\",PFE(OFFSET($F470,0,0,-$J$6)))","v":-0.26851367470885762},null,"Short",{"$error":"#N/A"},{"$error":"#N/A"},null,-1,0,"",null,-1,null,{"$f":"IF(OR($S469&$O469=\"01\",$S469&$O469=\"0-1\"),(($F470-$C470)*$V$4*$O469)-(ABS($P469)*$V$5),IF(OR($S469&$O469=\"10\",$S469&$O469=\"-10\"),(($C470-$F469)*$V$4*$S469)-(ABS($P469)*$V$5),IF(OR($S469&$O469=\"1-1\",$S469&$O469=\"-11\"),(($C470-$F469)*$V$4*$S469)-(ABS($P469)*$V$5)+(($F470-$C470)*$V$4*$S470),IF(OR($S469&$O469=\"11\",$S469&$O469=\"-1-1\"),(($F470-$F469)*$V$4*$S470),0))))","v":210},49971.179999999993,null,null,null,null,null,null,null,null,null,null,null,null,null,null,null,null,null,null,null,{"$f":"IF(NOT($AS470=$AS471),ROW(),\"\")","v":""},{"$f":"IF(NOT(AS470=AS471),AS471,\"\")","v":""},{"$f":"INDEX($AB$15:$AM$15,MATCH($AS470,$AB$11:$AM$11,0))","v":"in"},{"$f":"LEFT(AT470,4)","v":"2001"},{"$f":"LEFT(B470,6)","v":"200110"}]
[null,{"$f":"'Market Data'!B457","v":20011009},{"$f":"'Market Data'!C457","v":5949},{"$f":"'Market Data'!D457","v":6032.5},{"$f":"'Market Data'!E457","v":5920.5},{"$f":"'Market Data'!F457","v":5965.5},null,453,{"$f":"IF($H471<($J$6+1),\"\",PFE(OFFSET($F471,0,0,-$J$6)))","v":-0.25729316571801242},null,"Short",{"$error":"#N/A"},{"$error":"#N/A"},null,-1,0,"",null,-1,null,52.5,50023.679999999993,null,null,null,null,null,null,null,null,null,null,null,null,null,null,null,null,null,null,null,{"$f":"IF(NOT($AS471=$AS472),ROW(),\"\")","v":""},{"$f":"IF(NOT(AS471=AS472),AS472,\"\")","v":""},{"$f":"INDEX($AB$15:$AM$15,MATCH($AS471,$AB$11:$AM$11,0))","v":"in"},{"$f":"LEFT(AT471,4)","v":"2001"},{"$f":"LEFT(B471,6)","v":"200110"}]
[null,{"$f":"'Market Data'!B458","v":20011010},{"$f":"'Market Data'!C458","v":5934},{"$f":"'Market Data'!D458","v":6117},{"$f":"'Market Data'!E458","v":5909.5},{"$f":"'Market Data'!F458","v":6097},null,454,{"$f":"IF($H472<($J$6+1),\"\",PFE(OFFSET($F472,0,0,-$J$6)))","v":-0.22029873917796305},null,"Short",{"$error":"#N/A"},{"$error":"#N/A"},null,-1,0,"",null,-1,null,-4602.5,45421.179999999993,null,null,null,null,null,null,null,null,null,null,null,null,null,null,null,null,null,null,null,{"$f":"IF(NOT($AS472=$AS473),ROW(),\"\")","v":""},{"$f":"IF(NOT(AS472=AS473),AS473,\"\")","v":""},{"$f":"INDEX($AB$15:$AM$15,MATCH($AS472,$AB$11:$AM$11,0))","v":"in"},{"$f":"LEFT(AT472,4)","v":"2001"},{"$f":"LEFT(B472,6)","v":"200110"}]
[null,{"$f":"'Market Data'!B459","v":20011011},{"$f":"'Market Data'!C459","v":6130},{"$f":"'Market Data'!D459","v":6226},{"$f":"'Market Data'!E459","v":6105},{"$f":"'Market Data'!F459","v":6184},null,455,{"$f":"IF($H473<($J$6+1),\"\",PFE(OFFSET($F473,0,0,-$J$6)))","v":-0.1961980393833927},null,"Short",{"$error":"#N/A"},{"$error":"#N/A"},null,-1,0,"",null,-1,null,-3045,42376.179999999993,null,null,null,null,null,null,null,null,null,null,null,null,null,null,null,null,null,null,null,{"$f":"IF(NOT($AS473=$AS474),ROW(),\"\")","v":""},{"$f":"IF(NOT(AS473=AS474),AS474,\"\")","v":""},{"$f":"INDEX($AB$15:$AM$15,MATCH($AS473,$AB$11:$AM$11,0))","v":"in"},{"$f":"LEFT(AT473,4)","v":"2001"},{"$f":"LEFT(B473,6)","v":"200110"}]
[null,{"$f":"'Market Data'!B460","v":20011012},{"$f":"'Market Data'!C460","v":6194},{"$f":"'Market Data'!D460","v":6204},{"$f":"'Market Data'!E460","v":6067.5},{"$f":"'Market Data'!F460","v":6078},null,456,{"$f":"IF($H474<($J$6+1),\"\",PFE(OFFSET($F474,0,0,-$J$6)))","v":-0.21990301501216772},null,"Short",{"$error":"#N/A"},{"$error":"#N/A"},null,-1,0,"",null,-1,null,3710,46086.179999999993,null,null,null,null,null,null,null,null,null,null,null,null,null,null,null,null,null,null,null,{"$f":"IF(NOT($AS474=$AS475),ROW(),\"\")","v":""},{"$f":"IF(NOT(AS474=AS475),AS475,\"\")","v":""},{"$f":"INDEX($AB$15:$AM$15,MATCH($AS474,$AB$11:$AM$11,0))","v":"in"},{"$f":"LEFT(AT474,4)","v":"2001"},{"$f":"LEFT(B474,6)","v":"200110"}]
[null,{"$f":"'Market Data'!B461","v":20011015},{"$f":"'Market Data'!C461","v":6079},{"$f":"'Market Data'!D461","v":6112},{"$f":"'Market Data'!E461","v":5984},{"$f":"'Market Data'!F461","v":6036},null,457,{"$f":"IF($H475<($J$6+1),\"\",PFE(OFFSET($F475,0,0,-$J$6)))","v":-0.21796189992177059},null,"Short",{"$error":"#N/A"},{"$error":"#N/A"},null,-1,0,"",null,-1,null,1470,47556.179999999993,null,null,null,null,null,null,null,null,null,null,null,null,null,null,null,null,null,null,null,{"$f":"IF(NOT($AS475=$AS476),ROW(),\"\")","v":""},{"$f":"IF(NOT(AS475=AS476),AS476,\"\")","v":""},{"$f":"INDEX($AB$15:$AM$15,MATCH($AS475,$AB$11:$AM$11,0))","v":"in"},{"$f":"LEFT(AT475,4)","v":"2001"},{"$f":"LEFT(B475,6)","v":"200110"}]
[null,{"$f":"'Market Data'!B462","v":20011016},{"$f":"'Market Data'!C462","v":6041.5},{"$f":"'Market Data'!D462","v":6133},{"$f":"'Market Data'!E462","v":5997.5},{"$f":"'Market Data'!F462","v":6129},null,458,{"$f":"IF($H476<($J$6+1),\"\",PFE(OFFSET($F476,0,0,-$J$6)))","v":-0.20874481476599577},null,"Short",{"$error":"#N/A"},{"$error":"#N/A"},null,-1,0,"",null,-1,null,-3255,44301.179999999993,null,null,null,null,null,null,null,null,null,null,null,null,null,null,null,null,null,null,null,{"$f":"IF(NOT($AS476=$AS477),ROW(),\"\")","v":""},{"$f":"IF(NOT(AS476=AS477),AS477,\"\")","v":""},{"$f":"INDEX($AB$15:$AM$15,MATCH($AS476,$AB$11:$AM$11,0))","v":"in"},{"$f":"LEFT(AT476,4)","v":"2001"},{"$f":"LEFT(B476,6)","v":"200110"}]
[null,{"$f":"'Market Data'!B463","v":20011017},{"$f":"'Market Data'!C463","v":6174},{"$f":"'Market Data'!D463","v":6269},{"$f":"'Market Data'!E463","v":6092},{"$f":"'Market Data'!F463","v":6114},null,459,{"$f":"IF($H477<($J$6+1),\"\",PFE(OFFSET($F477,0,0,-$J$6)))","v":-0.20886696875167832},null,"Short",{"$error":"#N/A"},{"$error":"#N/A"},null,-1,0,"",null,-1,null,525,44826.179999999993,null,null,null,null,null,null,null,null,null,null,null,null,null,null,null,null,null,null,null,{"$f":"IF(NOT($AS477=$AS478),ROW(),\"\")","v":""},{"$f":"IF(NOT(AS477=AS478),AS478,\"\")","v":""},{"$f":"INDEX($AB$15:$AM$15,MATCH($AS477,$AB$11:$AM$11,0))","v":"in"},{"$f":"LEFT(AT477,4)","v":"2001"},{"$f":"LEFT(B477,6)","v":"200110"}]
[null,{"$f":"'Market Data'!B464","v":20011018},{"$f":"'Market Data'!C464","v":6009},{"$f":"'Market Data'!D464","v":6094},{"$f":"'Market Data'!E464","v":5995.5},{"$f":"'Market Data'!F464","v":6033.5},null,460,{"$f":"IF($H478<($J$6+1),\"\",PFE(OFFSET($F478,0,0,-$J$6)))","v":-0.21810036168581431},null,"Short",{"$error":"#N/A"},{"$error":"#N/A"},null,-1,0,"",null,-1,null,2817.5,47643.679999999993,null,null,null,null,null,null,null,null,null,null,null,null,null,null,null,null,null,null,null,{"$f":"IF(NOT($AS478=$AS479),ROW(),\"\")","v":""},{"$f":"IF(NOT(AS478=AS479),AS479,\"\")","v":""},{"$f":"INDEX($AB$15:$AM$15,MATCH($AS478,$AB$11:$AM$11,0))","v":"in"},{"$f":"LEFT(AT478,4)","v":"2001"},{"$f":"LEFT(B478,6)","v":"200110"}]
[null,{"$f":"'Market Data'!B465","v":20011019},{"$f":"'Market Data'!C465","v":6038},{"$f":"'Market Data'!D465","v":6078},{"$f":"'Market Data'!E465","v":5925},{"$f":"'Market Data'!F465","v":5992.5},null,461,{"$f":"IF($H479<($J$6+1),\"\",PFE(OFFSET($F479,0,0,-$J$6)))","v":-0.21618757751586679},null,"Short",{"$error":"#N/A"},{"$error":"#N/A"},null,-1,0,"",null,-1,null,1435,49078.679999999993,null,null,null,null,null,null,null,null,null,null,null,null,null,null,null,null,null,null,null,{"$f":"IF(NOT($AS479=$AS480),ROW(),\"\")","v":""},{"$f":"IF(NOT(AS479=AS480),AS480,\"\")","v":""},{"$f":"INDEX($AB$15:$AM$15,MATCH($AS479,$AB$11:$AM$11,0))","v":"in"},{"$f":"LEFT(AT479,4)","v":"2001"},{"$f":"LEFT(B479,6)","v":"200110"}]
[null,{"$f":"'Market Data'!B466","v":20011022},{"$f":"'Market Data'!C466","v":6014},{"$f":"'Market Data'!D466","v":6121},{"$f":"'Market Data'!E466","v":5960},{"$f":"'Market Data'!F466","v":6080},null,462,{"$f":"IF($H480<($J$6+1),\"\",PFE(OFFSET($F480,0,0,-$J$6)))","v":-0.19879434847572458},null,"Short",{"$error":"#N/A"},{"$error":"#N/A"},null,-1,0,"",null,-1,null,-3062.5,46016.179999999993,null,null,null,null,null,null,null,null,null,null,null,null,null,null,null,null,null,null,null,{"$f":"IF(NOT($AS480=$AS481),ROW(),\"\")","v":""},{"$f":"IF(NOT(AS480=AS481),AS481,\"\")","v":""},{"$f":"INDEX($AB$15:$AM$15,MATCH($AS480,$AB$11:$AM$11,0))","v":"in"},{"$f":"LEFT(AT480,4)","v":"2001"},{"$f":"LEFT(B480,6)","v":"200110"}]
[null,{"$f":"'Market Data'!B467","v":20011023},{"$f":"'Market Data'!C467","v":6119},{"$f":"'Market Data'!D467","v":6220},{"$f":"'Market Data'!E467","v":6114},{"$f":"'Market Data'!F467","v":6193.5},null,463,{"$f":"IF($H481<($J$6+1),\"\",PFE(OFFSET($F481,0,0,-$J$6)))","v":-0.20306907729167986},null,"Short",{"$error":"#N/A"},{"$error":"#N/A"},null,-1,0,"",null,-1,null,-3972.5,42043.679999999993,null,null,null,null,null,null,null,null,null,null,null,null,null,null,null,null,null,null,null,{"$f":"IF(NOT($AS481=$AS482),ROW(),\"\")","v":""},{"$f":"IF(NOT(AS481=AS482),AS482,\"\")","v":""},{"$f":"INDEX($AB$15:$AM$15,MATCH($AS481,$AB$11:$AM$11,0))","v":"in"},{"$f":"LEFT(AT481,4)","v":"2001"},{"$f":"LEFT(B481,6)","v":"200110"}]
[null,{"$f":"'Market Data'!B468","v":20011024},{"$f":"'Market Data'!C468","v":6161},{"$f":"'Market Data'!D468","v":6325},{"$f":"'Market Data'!E468","v":6137},{"$f":"'Market Data'!F468","v":6275},null,464,{"$f":"IF($H482<($J$6+1),\"\",PFE(OFFSET($F482,0,0,-$J$6)))","v":-0.20316036277180138},null,"Short",{"$error":"#N/A"},{"$error":"#N/A"},null,-1,0,"",null,-1,null,-2852.5,39191.179999999993,null,null,null,null,null,null,null,null,null,null,null,null,null,null,null,null,null,null,null,{"$f":"IF(NOT($AS482=$AS483),ROW(),\"\")","v":""},{"$f":"IF(NOT(AS482=AS483),AS483,\"\")","v":""},{"$f":"INDEX($AB$15:$AM$15,MATCH($AS482,$AB$11:$AM$11,0))","v":"in"},{"$f":"LEFT(AT482,4)","v":"2001"},{"$f":"LEFT(B482,6)","v":"200110"}]
[null,{"$f":"'Market Data'!B469","v":20011025},{"$f":"'Market Data'!C469","v":6274.5},{"$f":"'Market Data'!D469","v":6359.5},{"$f":"'Market Data'!E469","v":6135},{"$f":"'Market Data'!F469","v":6180.5},null,465,{"$f":"IF($H483<($J$6+1),\"\",PFE(OFFSET($F483,0,0,-$J$6)))","v":-0.22403543767980988},null,"Short",{"$error":"#N/A"},{"$error":"#N/A"},null,-1,0,"",null,-1,null,3307.5,42498.679999999993,null,null,null,null,null,null,null,null,null,null,null,null,null,null,null,null,null,null,null,{"$f":"IF(NOT($AS483=$AS484),ROW(),\"\")","v":""},{"$f":"IF(NOT(AS483=AS484),AS484,\"\")","v":""},{"$f":"INDEX($AB$15:$AM$15,MATCH($AS483,$AB$11:$AM$11,0))","v":"in"},{"$f":"LEFT(AT483,4)","v":"2001"},{"$f":"LEFT(B483,6)","v":"200110"}]
[null,{"$f":"'Market Data'!B470","v":20011026},{"$f":"'Market Data'!C470","v":6256},{"$f":"'Market Data'!D470","v":6298.5},{"$f":"'Market Data'!E470","v":6206},{"$f":"'Market Data'!F470","v":6293.5},null,466,{"$f":"IF($H484<($J$6+1),\"\",PFE(OFFSET($F484,0,0,-$J$6)))","v":-0.19823818514414146},null,"Short",{"$error":"#N/A"},{"$error":"#N/A"},null,-1,0,"",null,-1,null,-3955,38543.679999999993,null,null,null,null,null,null,null,null,null,null,null,null,null,null,null,null,null,null,null,{"$f":"IF(NOT($AS484=$AS485),ROW(),\"\")","v":""},{"$f":"IF(NOT(AS484=AS485),AS485,\"\")","v":""},{"$f":"INDEX($AB$15:$AM$15,MATCH($AS484,$AB$11:$AM$11,0))","v":"in"},{"$f":"LEFT(AT484,4)","v":"2001"},{"$f":"LEFT(B484,6)","v":"200110"}]
[null,{"$f":"'Market Data'!B471","v":20011029},{"$f":"'Market Data'!C471","v":6254},{"$f":"'Market Data'!D471","v":6258},{"$f":"'Market Data'!E471","v":6141.5},{"$f":"'Market Data'!F471","v":6154},null,467,{"$f":"IF($H485<($J$6+1),\"\",PFE(OFFSET($F485,0,0,-$J$6)))","v":-0.20739949209751349},null,"Short",{"$error":"#N/A"},{"$error":"#N/A"},null,-1,0,"",null,-1,null,4882.5,43426.179999999993,null,null,null,null,null,null,null,null,null,null,null,null,null,null,null,null,null,null,null,{"$f":"IF(NOT($AS485=$AS486),ROW(),\"\")","v":""},{"$f":"IF(NOT(AS485=AS486),AS486,\"\")","v":""},{"$f":"INDEX($AB$15:$AM$15,MATCH($AS485,$AB$11:$AM$11,0))","v":"in"},{"$f":"LEFT(AT485,4)","v":"2001"},{"$f":"LEFT(B485,6)","v":"200110"}]
[null,{"$f":"'Market Data'!B472","v":20011030},{"$f":"'Market Data'!C472","v":6078.5},{"$f":"'Market Data'!D472","v":6093.5},{"$f":"'Market Data'!E472","v":5956.5},{"$f":"'Market Data'!F472","v":6042},null,468,{"$f":"IF($H486<($J$6+1),\"\",PFE(OFFSET($F486,0,0,-$J$6)))","v":-0.21835075806240212},null,"Short",{"$error":"#N/A"},{"$error":"#N/A"},null,-1,0,"",null,-1,null,3920,47346.179999999993,null,null,null,null,null,null,null,null,null,null,null,null,null,null,null,null,null,null,null,{"$f":"IF(NOT($AS486=$AS487),ROW(),\"\")","v":""},{"$f":"IF(NOT(AS486=AS487),AS487,\"\")","v":""},{"$f":"INDEX($AB$15:$AM$15,MATCH($AS486,$AB$11:$AM$11,0))","v":"in"},{"$f":"LEFT(AT486,4)","v":"2001"},{"$f":"LEFT(B486,6)","v":"200110"}]
[null,{"$f":"'Market Data'!B473","v":20011031},{"$f":"'Market Data'!C473","v":6011},{"$f":"'Market Data'!D473","v":6109},{"$f":"'Market Data'!E473","v":5934},{"$f":"'Market Data'!F473","v":6032.5},null,469,{"$f":"IF($H487<($J$6+1),\"\",PFE(OFFSET($F487,0,0,-$J$6)))","v":-0.20446630693344431},null,"Short",{"$error":"#N/A"},{"$error":"#N/A"},null,-1,0,"",null,-1,null,332.5,47678.679999999993,null,null,null,null,null,null,null,null,null,null,null,null,null,null,null,null,null,null,null,{"$f":"IF(NOT($AS487=$AS488),ROW(),\"\")","v":""},{"$f":"IF(NOT(AS487=AS488),AS488,\"\")","v":""},{"$f":"INDEX($AB$15:$AM$15,MATCH($AS487,$AB$11:$AM$11,0))","v":"in"},{"$f":"LEFT(AT487,4)","v":"2001"},{"$f":"LEFT(B487,6)","v":"200110"}]
[null,{"$f":"'Market Data'!B474","v":20011101},{"$f":"'Market Data'!C474","v":6032},{"$f":"'Market Data'!D474","v":6118},{"$f":"'Market Data'!E474","v":5955.5},{"$f":"'Market Data'!F474","v":6103.5},null,470,{"$f":"IF($H488<($J$6+1),\"\",PFE(OFFSET($F488,0,0,-$J$6)))","v":-0.19412227236058513},null,"Short",{"$error":"#N/A"},{"$error":"#N/A"},null,-1,0,"",null,-1,null,-2485,45193.679999999993,null,null,null,null,null,null,null,null,null,null,null,null,null,null,null,null,null,null,null,{"$f":"IF(NOT($AS488=$AS489),ROW(),\"\")","v":""},{"$f":"IF(NOT(AS488=AS489),AS489,\"\")","v":""},{"$f":"INDEX($AB$15:$AM$15,MATCH($AS488,$AB$11:$AM$11,0))","v":"in"},{"$f":"LEFT(AT488,4)","v":"2001"},{"$f":"LEFT(B488,6)","v":"200111"}]
[null,{"$f":"'Market Data'!B475","v":20011102},{"$f":"'Market Data'!C475","v":6120},{"$f":"'Market Data'!D475","v":6131},{"$f":"'Market Data'!E475","v":6041.5},{"$f":"'Market Data'!F475","v":6047.5},null,471,{"$f":"IF($H489<($J$6+1),\"\",PFE(OFFSET($F489,0,0,-$J$6)))","v":-0.19186994403764543},null,"Short",{"$error":"#N/A"},{"$error":"#N/A"},null,-1,0,"",null,-1,null,1960,47153.679999999993,null,null,null,null,null,null,null,null,null,null,null,null,null,null,null,null,null,null,null,{"$f":"IF(NOT($AS489=$AS490),ROW(),\"\")","v":""},{"$f":"IF(NOT(AS489=AS490),AS490,\"\")","v":""},{"$f":"INDEX($AB$15:$AM$15,MATCH($AS489,$AB$11:$AM$11,0))","v":"in"},{"$f":"LEFT(AT489,4)","v":"2001"},{"$f":"LEFT(B489,6)","v":"200111"}]
[null,{"$f":"'Market Data'!B476","v":20011105},{"$f":"'Market Data'!C476","v":6089},{"$f":"'Market Data'!D476","v":6237},{"$f":"'Market Data'!E476","v":6084},{"$f":"'Market Data'!F476","v":6233.5},null,472,{"$f":"IF($H490<($J$6+1),\"\",PFE(OFFSET($F490,0,0,-$J$6)))","v":-0.15994220855718658},null,"Short",{"$error":"#N/A"},{"$error":"#N/A"},null,-1,0,"",null,-1,null,-6510,40643.679999999993,null,null,null,null,null,null,null,null,null,null,null,null,null,null,null,null,null,null,null,{"$f":"IF(NOT($AS490=$AS491),ROW(),\"\")","v":""},{"$f":"IF(NOT(AS490=AS491),AS491,\"\")","v":""},{"$f":"INDEX($AB$15:$AM$15,MATCH($AS490,$AB$11:$AM$11,0))","v":"in"},{"$f":"LEFT(AT490,4)","v":"2001"},{"$f":"LEFT(B490,6)","v":"200111"}]
[null,{"$f":"'Market Data'!B477","v":20011106},{"$f":"'Market Data'!C477","v":6249},{"$f":"'Market Data'!D477","v":6296},{"$f":"'Market Data'!E477","v":6189},{"$f":"'Market Data'!F477","v":6196},null,473,{"$f":"IF($H491<($J$6+1),\"\",PFE(OFFSET($F491,0,0,-$J$6)))","v":-0.17946871172219375},null,"Short",{"$error":"#N/A"},{"$error":"#N/A"},null,-1,0,"",null,-1,null,1312.5,41956.179999999993,null,null,null,null,null,null,null,null,null,null,null,null,null,null,null,null,null,null,null,{"$f":"IF(NOT($AS491=$AS492),ROW(),\"\")","v":""},{"$f":"IF(NOT(AS491=AS492),AS492,\"\")","v":""},{"$f":"INDEX($AB$15:$AM$15,MATCH($AS491,$AB$11:$AM$11,0))","v":"in"},{"$f":"LEFT(AT491,4)","v":"2001"},{"$f":"LEFT(B491,6)","v":"200111"}]
[null,{"$f":"'Market Data'!B478","v":20011107},{"$f":"'Market Data'!C478","v":6227},{"$f":"'Market Data'!D478","v":6341},{"$f":"'Market Data'!E478","v":6151},{"$f":"'Market Data'!F478","v":6337},null,474,{"$f":"IF($H492<($J$6+1),\"\",PFE(OFFSET($F492,0,0,-$J$6)))","v":-0.16268682144290064},null,"Short",{"$error":"#N/A"},{"$error":"#N/A"},null,-1,0,"",null,-1,null,-4935,37021.179999999993,null,null,null,null,null,null,null,null,null,null,null,null,null,null,null,null,null,null,null,{"$f":"IF(NOT($AS492=$AS493),ROW(),\"\")","v":""},{"$f":"IF(NOT(AS492=AS493),AS493,\"\")","v":""},{"$f":"INDEX($AB$15:$AM$15,MATCH($AS492,$AB$11:$AM$11,0))","v":"in"},{"$f":"LEFT(AT492,4)","v":"2001"},{"$f":"LEFT(B492,6)","v":"200111"}]
[null,{"$f":"'Market Data'!B479","v":20011108},{"$f":"'Market Data'!C479","v":6310.5},{"$f":"'Market Data'!D479","v":6485},{"$f":"'Market Data'!E479","v":6309},{"$f":"'Market Data'!F479","v":6436},null,475,{"$f":"IF($H493<($J$6+1),\"\",PFE(OFFSET($F493,0,0,-$J$6)))","v":-0.13552815359314002},null,"Short",{"$error":"#N/A"},{"$error":"#N/A"},null,-1,0,"",null,-1,null,-3465,33556.179999999993,null,null,null,null,null,null,null,null,null,null,null,null,null,null,null,null,null,null,null,{"$f":"IF(NOT($AS493=$AS494),ROW(),\"\")","v":""},{"$f":"IF(NOT(AS493=AS494),AS494,\"\")","v":""},{"$f":"INDEX($AB$15:$AM$15,MATCH($AS493,$AB$11:$AM$11,0))","v":"in"},{"$f":"LEFT(AT493,4)","v":"2001"},{"$f":"LEFT(B493,6)","v":"200111"}]
[null,{"$f":"'Market Data'!B480","v":20011109},{"$f":"'Market Data'!C480","v":6387.5},{"$f":"'Market Data'!D480","v":6434},{"$f":"'Market Data'!E480","v":6362},{"$f":"'Market Data'!F480","v":6385.5},null,476,{"$f":"IF($H494<($J$6+1),\"\",PFE(OFFSET($F494,0,0,-$J$6)))","v":-0.14248237765389635},null,"Short",{"$error":"#N/A"},{"$error":"#N/A"},null,-1,0,"",null,-1,null,1767.5,35323.679999999993,null,null,null,null,null,null,null,null,null,null,null,null,null,null,null,null,null,null,null,{"$f":"IF(NOT($AS494=$AS495),ROW(),\"\")","v":""},{"$f":"IF(NOT(AS494=AS495),AS495,\"\")","v":""},{"$f":"INDEX($AB$15:$AM$15,MATCH($AS494,$AB$11:$AM$11,0))","v":"in"},{"$f":"LEFT(AT494,4)","v":"2001"},{"$f":"LEFT(B494,6)","v":"200111"}]
[null,{"$f":"'Market Data'!B481","v":20011112},{"$f":"'Market Data'!C481","v":6377},{"$f":"'Market Data'!D481","v":6380.5},{"$f":"'Market Data'!E481","v":6122},{"$f":"'Market Data'!F481","v":6306},null,477,{"$f":"IF($H495<($J$6+1),\"\",PFE(OFFSET($F495,0,0,-$J$6)))","v":-0.13633630726552648},null,"Short",{"$error":"#N/A"},{"$error":"#N/A"},null,-1,0,"",null,-1,null,2782.5,38106.179999999993,null,null,null,null,null,null,null,null,null,null,null,null,null,null,null,null,null,null,null,{"$f":"IF(NOT($AS495=$AS496),ROW(),\"\")","v":""},{"$f":"IF(NOT(AS495=AS496),AS496,\"\")","v":""},{"$f":"INDEX($AB$15:$AM$15,MATCH($AS495,$AB$11:$AM$11,0))","v":"in"},{"$f":"LEFT(AT495,4)","v":"2001"},{"$f":"LEFT(B495,6)","v":"200111"}]
[null,{"$f":"'Market Data'!B482","v":20011113},{"$f":"'Market Data'!C482","v":6328.5},{"$f":"'Market Data'!D482","v":6451},{"$f":"'Market Data'!E482","v":6317.5},{"$f":"'Market Data'!F482","v":6427},null,478,{"$f":"IF($H496<($J$6+1),\"\",PFE(OFFSET($F496,0,0,-$J$6)))","v":-0.12896091391607928},null,"Short",{"$error":"#N/A"},{"$error":"#N/A"},null,-1,0,"",null,-1,null,-4235,33871.179999999993,null,null,null,null,null,null,null,null,null,null,null,null,null,null,null,null,null,null,null,{"$f":"IF(NOT($AS496=$AS497),ROW(),\"\")","v":""},{"$f":"IF(NOT(AS496=AS497),AS497,\"\")","v":""},{"$f":"INDEX($AB$15:$AM$15,MATCH($AS496,$AB$11:$AM$11,0))","v":"in"},{"$f":"LEFT(AT496,4)","v":"2001"},{"$f":"LEFT(B496,6)","v":"200111"}]
[null,{"$f":"'Market Data'!B483","v":20011114},{"$f":"'Market Data'!C483","v":6430},{"$f":"'Market Data'!D483","v":6521.5},{"$f":"'Market Data'!E483","v":6411},{"$f":"'Market Data'!F483","v":6423},null,479,{"$f":"IF($H497<($J$6+1),\"\",PFE(OFFSET($F497,0,0,-$J$6)))","v":-0.12333930701635229},null,"Short",{"$error":"#N/A"},{"$error":"#N/A"},null,-1,0,"",null,-1,null,140,34011.179999999993,null,null,null,null,null,null,null,null,null,null,null,null,null,null,null,null,null,null,null,{"$f":"IF(NOT($AS497=$AS498),ROW(),\"\")","v":""},{"$f":"IF(NOT(AS497=AS498),AS498,\"\")","v":""},{"$f":"INDEX($AB$15:$AM$15,MATCH($AS497,$AB$11:$AM$11,0))","v":"in"},{"$f":"LEFT(AT497,4)","v":"2001"},{"$f":"LEFT(B497,6)","v":"200111"}]
[null,{"$f":"'Market Data'!B484","v":20011115},{"$f":"'Market Data'!C484","v":6504},{"$f":"'Market Data'!D484","v":6550.5},{"$f":"'Market Data'!E484","v":6438},{"$f":"'Market Data'!F484","v":6500.5},null,480,{"$f":"IF($H498<($J$6+1),\"\",PFE(OFFSET($F498,0,0,-$J$6)))","v":-0.11889372934078307},null,"Short",{"$error":"#N/A"},{"$error":"#N/A"},null,-1,0,"",null,-1,null,-2712.5,31298.679999999993,null,null,null,null,null,null,null,null,null,null,null,null,null,null,null,null,null,null,null,{"$f":"IF(NOT($AS498=$AS499),ROW(),\"\")","v":""},{"$f":"IF(NOT(AS498=AS499),AS499,\"\")","v":""},{"$f":"INDEX($AB$15:$AM$15,MATCH($AS498,$AB$11:$AM$11,0))","v":"in"},{"$f":"LEFT(AT498,4)","v":"2001"},{"$f":"LEFT(B498,6)","v":"200111"}]
[null,{"$f":"'Market Data'!B485","v":20011116},{"$f":"'Market Data'!C485","v":6489.5},{"$f":"'Market Data'!D485","v":6590},{"$f":"'Market Data'!E485","v":6461.5},{"$f":"'Market Data'!F485","v":6512.5},null,481,{"$f":"IF($H499<($J$6+1),\"\",PFE(OFFSET($F499,0,0,-$J$6)))","v":-9.9186321158001467E-2},null,"Short",{"$error":"#N/A"},{"$error":"#N/A"},null,-1,0,"",null,-1,null,-420,30878.679999999993,null,null,null,null,null,null,null,null,null,null,null,null,null,null,null,null,null,null,null,{"$f":"IF(NOT($AS499=$AS500),ROW(),\"\")","v":""},{"$f":"IF(NOT(AS499=AS500),AS500,\"\")","v":""},{"$f":"INDEX($AB$15:$AM$15,MATCH($AS499,$AB$11:$AM$11,0))","v":"in"},{"$f":"LEFT(AT499,4)","v":"2001"},{"$f":"LEFT(B499,6)","v":"200111"}]
[null,{"$f":"'Market Data'!B486","v":20011119},{"$f":"'Market Data'!C486","v":6563},{"$f":"'Market Data'!D486","v":6670.5},{"$f":"'Market Data'!E486","v":6540},{"$f":"'Market Data'!F486","v":6653},null,482,{"$f":"IF($H500<($J$6+1),\"\",PFE(OFFSET($F500,0,0,-$J$6)))","v":-6.5814512887391596E-2},null,"Short",{"$error":"#N/A"},{"$error":"#N/A"},null,-1,0,"",null,-1,null,-4917.5,25961.179999999993,null,null,null,null,null,null,null,null,null,null,null,null,null,null,null,null,null,null,null,{"$f":"IF(NOT($AS500=$AS501),ROW(),\"\")","v":""},{"$f":"IF(NOT(AS500=AS501),AS501,\"\")","v":""},{"$f":"INDEX($AB$15:$AM$15,MATCH($AS500,$AB$11:$AM$11,0))","v":"in"},{"$f":"LEFT(AT500,4)","v":"2001"},{"$f":"LEFT(B500,6)","v":"200111"}]
[null,{"$f":"'Market Data'!B487","v":20011120},{"$f":"'Market Data'!C487","v":6597},{"$f":"'Market Data'!D487","v":6683},{"$f":"'Market Data'!E487","v":6537.5},{"$f":"'Market Data'!F487","v":6591},null,483,{"$f":"IF($H501<($J$6+1),\"\",PFE(OFFSET($F501,0,0,-$J$6)))","v":-8.8488537132317413E-2},null,"Short",{"$error":"#N/A"},{"$error":"#N/A"},null,-1,0,"",null,-1,null,2170,28131.179999999993,null,null,null,null,null,null,null,null,null,null,null,null,null,null,null,null,null,null,null,{"$f":"IF(NOT($AS501=$AS502),ROW(),\"\")","v":""},{"$f":"IF(NOT(AS501=AS502),AS502,\"\")","v":""},{"$f":"INDEX($AB$15:$AM$15,MATCH($AS501,$AB$11:$AM$11,0))","v":"in"},{"$f":"LEFT(AT501,4)","v":"2001"},{"$f":"LEFT(B501,6)","v":"200111"}]
[null,{"$f":"'Market Data'!B493","v":20011128},{"$f":"'Market Data'!C493","v":6449},{"$f":"'Market Data'!D493","v":6483},{"$f":"'Market Data'!E493","v":6379},{"$f":"'Market Data'!F493","v":6395},null,489,{"$f":"IF($H507<($J$6+1),\"\",PFE(OFFSET($F507,0,0,-$J$6)))","v":-0.12752942414027582},null,"Short",{"$error":"#N/A"},{"$error":"#N/A"},null,-1,0,"",null,-1,null,4182.5,34991.179999999993,null,null,null,null,null,null,null,null,null,null,null,null,null,null,null,null,null,null,null,{"$f":"IF(NOT($AS507=$AS508),ROW(),\"\")","v":""},{"$f":"IF(NOT(AS507=AS508),AS508,\"\")","v":""},{"$f":"INDEX($AB$15:$AM$15,MATCH($AS507,$AB$11:$AM$11,0))","v":"in"},{"$f":"LEFT(AT507,4)","v":"2001"},{"$f":"LEFT(B507,6)","v":"200111"}]
[null,{"$f":"'Market Data'!B498","v":20011205},{"$f":"'Market Data'!C498","v":6564},{"$f":"'Market Data'!D498","v":6749},{"$f":"'Market Data'!E498","v":6562},{"$f":"'Market Data'!F498","v":6733},null,494,{"$f":"IF($H512<($J$6+1),\"\",PFE(OFFSET($F512,0,0,-$J$6)))","v":-3.523138791433484E-2},null,"Short",{"$error":"#N/A"},{"$error":"#N/A"},null,-1,0,"",null,-1,null,-8645,23161.179999999993,null,null,null,null,null,null,null,null,null,null,null,null,null,null,null,null,null,null,null,{"$f":"IF(NOT($AS512=$AS513),ROW(),\"\")","v":""},{"$f":"IF(NOT(AS512=AS513),AS513,\"\")","v":""},{"$f":"INDEX($AB$15:$AM$15,MATCH($AS512,$AB$11:$AM$11,0))","v":"in"},{"$f":"LEFT(AT512,4)","v":"2001"},{"$f":"LEFT(B512,6)","v":"200112"}]
[null,{"$f":"'Market Data'!B505","v":20011214},{"$f":"'Market Data'!C505","v":6400},{"$f":"'Market Data'!D505","v":6444},{"$f":"'Market Data'!E505","v":6359},{"$f":"'Market Data'!F505","v":6384},null,501,{"$f":"IF($H519<($J$6+1),\"\",PFE(OFFSET($F519,0,0,-$J$6)))","v":-5.3549557976181578E-2},null,"Short",{"$error":"#N/A"},{"$error":"#N/A"},null,-1,0,"",null,-1,null,1155,35376.179999999993,null,null,null,null,null,null,null,null,null,null,null,null,null,null,null,null,null,null,null,{"$f":"IF(NOT($AS519=$AS520),ROW(),\"\")","v":""},{"$f":"IF(NOT(AS519=AS520),AS520,\"\")","v":""},{"$f":"INDEX($AB$15:$AM$15,MATCH($AS519,$AB$11:$AM$11,0))","v":"in"},{"$f":"LEFT(AT519,4)","v":"2001"},{"$f":"LEFT(B519,6)","v":"200112"}]
[null,{"$f":"'Market Data'!B513","v":20020102},{"$f":"'Market Data'!C513","v":6596.5},{"$f":"'Market Data'!D513","v":6643.5},{"$f":"'Market Data'!E513","v":6553},{"$f":"'Market Data'!F513","v":6615.5},null,509,{"$f":"IF($H527<($J$6+1),\"\",PFE(OFFSET($F527,0,0,-$J$6)))","v":-1.6193007120731216E-2},null,"Short",{"$error":"#N/A"},{"$error":"#N/A"},null,-1,0,"",null,-1,null,-367.5,27273.679999999993,null,null,null,null,null,null,null,null,null,null,null,null,null,null,null,null,null,null,null,{"$f":"IF(NOT($AS527=$AS528),ROW(),\"\")","v":""},{"$f":"IF(NOT(AS527=AS528),AS528,\"\")","v":""},{"$f":"INDEX($AB$15:$AM$15,MATCH($AS527,$AB$11:$AM$11,0))","v":"in"},{"$f":"LEFT(AT527,4)","v":"2002"},{"$f":"LEFT(B527,6)","v":"200201"}]
[null,{"$f":"'Market Data'!B516","v":20020107},{"$f":"'Market Data'!C516","v":6746.5},{"$f":"'Market Data'!D516","v":6797.5},{"$f":"'Market Data'!E516","v":6668.5},{"$f":"'Market Data'!F516","v":6675.5},null,512,{"$f":"IF($H530<($J$6+1),\"\",PFE(OFFSET($F530,0,0,-$J$6)))","v":2.0959083613214979E-2},null,"Long",{"$error":"#N/A"},{"$error":"#N/A"},null,1,0,"",null,{"$f":"IF($Q529=\"Fill\",$O529,$S529)","v":1},null,-2485,18761.759999999995,null,null,null,null,null,null,null,null,null,null,null,null,null,null,null,null,null,null,null,{"$f":"IF(NOT($AS530=$AS531),ROW(),\"\")","v":""},{"$f":"IF(NOT(AS530=AS531),AS531,\"\")","v":""},{"$f":"INDEX($AB$15:$AM$15,MATCH($AS530,$AB$11:$AM$11,0))","v":"in"},{"$f":"LEFT(AT530,4)","v":"2002"},{"$f":"LEFT(B530,6)","v":"200201"}]
[null,{"$f":"'Market Data'!B522","v":20020115},{"$f":"'Market Data'!C522","v":6506.5},{"$f":"'Market Data'!D522","v":6553.5},{"$f":"'Market Data'!E522","v":6473.5},{"$f":"'Market Data'!F522","v":6514},null,518,{"$f":"IF($H536<($J$6+1),\"\",PFE(OFFSET($F536,0,0,-$J$6)))","v":0.10580031580866238},null,"Long",{"$error":"#N/A"},{"$error":"#N/A"},null,1,0,"",null,1,null,17.5,13109.259999999995,null,null,null,null,null,null,null,null,null,null,null,null,null,null,null,null,null,null,null,{"$f":"IF(NOT($AS536=$AS537),ROW(),\"\")","v":""},{"$f":"IF(NOT(AS536=AS537),AS537,\"\")","v":""},{"$f":"INDEX($AB$15:$AM$15,MATCH($AS536,$AB$11:$AM$11,0))","v":"in"},{"$f":"LEFT(AT536,4)","v":"2002"},{"$f":"LEFT(B536,6)","v":"200201"}]
[null,{"$f":"'Market Data'!B524","v":20020117},{"$f":"'Market Data'!C524","v":6462.5},{"$f":"'Market Data'!D524","v":6581},{"$f":"'Market Data'!E524","v":6456},{"$f":"'Market Data'!F524","v":6571.5},null,520,{"$f":"IF($H538<($J$6+1),\"\",PFE(OFFSET($F538,0,0,-$J$6)))","v":0.14025858589579057},null,"Long",{"$error":"#N/A"},{"$error":"#N/A"},null,1,0,"",null,1,null,4795,15121.759999999995,null,null,null,null,null,null,null,null,null,null,null,null,null,null,null,null,null,null,null,{"$f":"IF(NOT($AS538=$AS539),ROW(),\"\")","v":""},{"$f":"IF(NOT(AS538=AS539),AS539,\"\")","v":""},{"$f":"INDEX($AB$15:$AM$15,MATCH($AS538,$AB$11:$AM$11,0))","v":"in"},{"$f":"LEFT(AT538,4)","v":"2002"},{"$f":"LEFT(B538,6)","v":"200201"}]
[null,{"$f":"'Market Data'!B534","v":20020131},{"$f":"'Market Data'!C534","v":6541.5},{"$f":"'Market Data'!D534","v":6556.5},{"$f":"'Market Data'!E534","v":6489.5},{"$f":"'Market Data'!F534","v":6551},null,530,{"$f":"IF($H548<($J$6+1),\"\",PFE(OFFSET($F548,0,0,-$J$6)))","v":0.14683784831258306},null,"Long",{"$error":"#N/A"},{"$error":"#N/A"},null,1,0,"",null,1,null,1610,14404.259999999995,null,null,null,null,null,null,null,null,null,null,null,null,null,null,null,null,null,null,null,{"$f":"IF(NOT($AS548=$AS549),ROW(),\"\")","v":""},{"$f":"IF(NOT(AS548=AS549),AS549,\"\")","v":""},{"$f":"INDEX($AB$15:$AM$15,MATCH($AS548,$AB$11:$AM$11,0))","v":"in"},{"$f":"LEFT(AT548,4)","v":"2002"},{"$f":"LEFT(B548,6)","v":"200201"}]
[null,{"$f":"'Market Data'!B539","v":20020207},{"$f":"'Market Data'!C539","v":6216},{"$f":"'Market Data'!D539","v":6308.5},{"$f":"'Market Data'!E539","v":6160.5},{"$f":"'Market Data'!F539","v":6290.5},null,535,{"$f":"IF($H553<($J$6+1),\"\",PFE(OFFSET($F553,0,0,-$J$6)))","v":6.1008465443980538E-2},null,"Long",{"$error":"#N/A"},{"$error":"#N/A"},null,1,0,"",null,1,null,1890,5286.7599999999948,null,null,null,null,null,null,null,null,null,null,null,null,null,null,null,null,null,null,null,{"$f":"IF(NOT($AS553=$AS554),ROW(),\"\")","v":""},{"$f":"IF(NOT(AS553=AS554),AS554,\"\")","v":""},{"$f":"INDEX($AB$15:$AM$15,MATCH($AS553,$AB$11:$AM$11,0))","v":"in"},{"$f":"LEFT(AT553,4)","v":"2002"},{"$f":"LEFT(B553,6)","v":"200202"}]
[null,{"$f":"'Market Data'!B545","v":20020215},{"$f":"'Market Data'!C545","v":6391.5},{"$f":"'Market Data'!D545","v":6400},{"$f":"'Market Data'!E545","v":6279.5},{"$f":"'Market Data'!F545","v":6283},null,541,{"$f":"IF($H559<($J$6+1),\"\",PFE(OFFSET($F559,0,0,-$J$6)))","v":3.1915131751888523E-2},null,"Long",{"$error":"#N/A"},{"$error":"#N/A"},null,1,0,"",null,1,null,-4042.5,5024.2599999999948,null,null,null,null,null,null,null,null,null,null,null,null,null,null,null,null,null,null,null,{"$f":"IF(NOT($AS559=$AS560),ROW(),\"\")","v":""},{"$f":"IF(NOT(AS559=AS560),AS560,\"\")","v":""},{"$f":"INDEX($AB$15:$AM$15,MATCH($AS559,$AB$11:$AM$11,0))","v":"in"},{"$f":"LEFT(AT559,4)","v":"2002"},{"$f":"LEFT(B559,6)","v":"200202"}]
[null,{"$f":"'Market Data'!B546","v":20020218},{"$f":"'Market Data'!C546","v":6289.5},{"$f":"'Market Data'!D546","v":6326.5},{"$f":"'Market Data'!E546","v":6267.5},{"$f":"'Market Data'!F546","v":6276.5},null,542,{"$f":"IF($H560<($J$6+1),\"\",PFE(OFFSET($F560,0,0,-$J$6)))","v":3.3339734247651666E-2},null,"Long",{"$error":"#N/A"},{"$error":"#N/A"},null,1,0,"",null,1,null,-227.5,4796.7599999999948,null,null,null,null,null,null,null,null,null,null,null,null,null,null,null,null,null,null,null,{"$f":"IF(NOT($AS560=$AS561),ROW(),\"\")","v":""},{"$f":"IF(NOT(AS560=AS561),AS561,\"\")","v":""},{"$f":"INDEX($AB$15:$AM$15,MATCH($AS560,$AB$11:$AM$11,0))","v":"in"},{"$f":"LEFT(AT560,4)","v":"2002"},{"$f":"LEFT(B560,6)","v":"200202"}]
[null,{"$f":"'Market Data'!B556","v":20020304},{"$f":"'Market Data'!C556","v":6587},{"$f":"'Market Data'!D556","v":6688.5},{"$f":"'Market Data'!E556","v":6582.5},{"$f":"'Market Data'!F556","v":6661.5},null,552,{"$f":"IF($H570<($J$6+1),\"\",PFE(OFFSET($F570,0,0,-$J$6)))","v":0.11958221958130906},null,"Long",{"$error":"#N/A"},{"$error":"#N/A"},null,1,0,"",null,1,null,4375,10732.919999999995,null,null,null,null,null,null,null,null,null,null,null,null,null,null,null,null,null,null,null,{"$f":"IF(NOT($AS570=$AS571),ROW(),\"\")","v":""},{"$f":"IF(NOT(AS570=AS571),AS571,\"\")","v":""},{"$f":"INDEX($AB$15:$AM$15,MATCH($AS570,$AB$11:$AM$11,0))","v":"in"},{"$f":"LEFT(AT570,4)","v":"2002"},{"$f":"LEFT(B570,6)","v":"200203"}]
[null,{"$f":"'Market Data'!B557","v":20020305},{"$f":"'Market Data'!C557","v":6667.5},{"$f":"'Market Data'!D557","v":6707.5},{"$f":"'Market Data'!E557","v":6629.5},{"$f":"'Market Data'!F557","v":6645.5},null,553,{"$f":"IF($H571<($J$6+1),\"\",PFE(OFFSET($F571,0,0,-$J$6)))","v":0.10442965558888762},null,"Long",{"$error":"#N/A"},{"$error":"#N/A"},null,1,0,"",null,1,null,-560,10172.919999999995,null,null,null,null,null,null,null,null,null,null,null,null,null,null,null,null,null,null,null,{"$f":"IF(NOT($AS571=$AS572),ROW(),\"\")","v":""},{"$f":"IF(NOT(AS571=AS572),AS572,\"\")","v":""},{"$f":"INDEX($AB$15:$AM$15,MATCH($AS571,$AB$11:$AM$11,0))","v":"in"},{"$f":"LEFT(AT571,4)","v":"2002"},{"$f":"LEFT(B571,6)","v":"200203"}]
[null,{"$f":"'Market Data'!B565","v":20020315},{"$f":"'Market Data'!C565","v":6691.5},{"$f":"'Market Data'!D565","v":6814},{"$f":"'Market Data'!E565","v":6666.5},{"$f":"'Market Data'!F565","v":6803.5},null,561,{"$f":"IF($H579<($J$6+1),\"\",PFE(OFFSET($F579,0,0,-$J$6)))","v":7.8358678931774825E-2},null,"Long",{"$error":"#N/A"},{"$error":"#N/A"},null,1,0,"",null,1,null,3552.5,15702.919999999995,null,null,null,null,null,null,null,null,null,null,null,null,null,null,null,null,null,null,null,{"$f":"IF(NOT($AS579=$AS580),ROW(),\"\")","v":""},{"$f":"IF(NOT(AS579=AS580),AS580,\"\")","v":""},{"$f":"INDEX($AB$15:$AM$15,MATCH($AS579,$AB$11:$AM$11,0))","v":"in"},{"$f":"LEFT(AT579,4)","v":"2002"},{"$f":"LEFT(B579,6)","v":"200203"}]
[null,{"$f":"'Market Data'!B569","v":20020321},{"$f":"'Market Data'!C569","v":6756.5},{"$f":"'Market Data'!D569","v":6802.5},{"$f":"'Market Data'!E569","v":6723.5},{"$f":"'Market Data'!F569","v":6770},null,565,{"$f":"IF($H583<($J$6+1),\"\",PFE(OFFSET($F583,0,0,-$J$6)))","v":2.942802719127996E-2},null,"Long",{"$error":"#N/A"},{"$error":"#N/A"},null,1,0,"",null,1,null,-280,14530.419999999995,null,null,null,null,null,null,null,null,null,null,null,null,null,null,null,null,null,null,null,{"$f":"IF(NOT($AS583=$AS584),ROW(),\"\")","v":""},{"$f":"IF(NOT(AS583=AS584),AS584,\"\")","v":""},{"$f":"INDEX($AB$15:$AM$15,MATCH($AS583,$AB$11:$AM$11,0))","v":"in"},{"$f":"LEFT(AT583,4)","v":"2002"},{"$f":"LEFT(B583,6)","v":"200203"}]
[null,{"$f":"'Market Data'!B575","v":20020402},{"$f":"'Market Data'!C575","v":6776.5},{"$f":"'Market Data'!D575","v":6785.5},{"$f":"'Market Data'!E575","v":6698},{"$f":"'Market Data'!F575","v":6715.5},null,571,{"$f":"IF($H589<($J$6+1),\"\",PFE(OFFSET($F589,0,0,-$J$6)))","v":4.5513165921625437E-2},null,"Long",{"$error":"#N/A"},{"$error":"#N/A"},null,1,0,"",null,1,null,-1645,12622.919999999995,null,null,null,null,null,null,null,null,null,null,null,null,null,null,null,null,null,null,null,{"$f":"IF(NOT($AS589=$AS590),ROW(),\"\")","v":""},{"$f":"IF(NOT(AS589=AS590),AS590,\"\")","v":""},{"$f":"INDEX($AB$15:$AM$15,MATCH($AS589,$AB$11:$AM$11,0))","v":"in"},{"$f":"LEFT(AT589,4)","v":"2002"},{"$f":"LEFT(B589,6)","v":"200204"}]
[null,{"$f":"'Market Data'!B582","v":20020411},{"$f":"'Market Data'!C582","v":6671.5},{"$f":"'Market Data'!D582","v":6692},{"$f":"'Market Data'!E582","v":6562.5},{"$f":"'Market Data'!F582","v":6584},null,{"$f":"ROW()-ROW(H$18)","v":578},{"$f":"IF($H596<($J$6+1),\"\",PFE(OFFSET($F596,0,0,-$J$6)))","v":-3.6529824785579028E-2},null,{"$f":"IF($I596=\"\",\"\",IF($I596>$J$4,\"Long\",IF($I596<$J$5,\"Short\",\"\")))","v":"Short"},{"$error":"#N/A"},{"$error":"#N/A"},null,{"$f":"IF($K596=\"Short\",-1,IF($K596=\"Long\",1,0))","v":-1},0,"",null,-1,null,3055.58,13963.499999999995,null,null,null,null,null,null,null,null,null,null,null,null,null,null,null,null,null,null,null,{"$f":"IF(NOT($AS596=$AS597),ROW(),\"\")","v":""},{"$f":"IF(NOT(AS596=AS597),AS597,\"\")","v":""},{"$f":"INDEX($AB$15:$AM$15,MATCH($AS596,$AB$11:$AM$11,0))","v":"in"},{"$f":"LEFT(AT596,4)","v":"2002"},{"$f":"LEFT(B596,6)","v":"200204"}]
[null,{"$f":"'Market Data'!B586","v":20020417},{"$f":"'Market Data'!C586","v":6764},{"$f":"'Market Data'!D586","v":6777},{"$f":"'Market Data'!E586","v":6710.5},{"$f":"'Market Data'!F586","v":6714},null,582,{"$f":"IF($H600<($J$6+1),\"\",PFE(OFFSET($F600,0,0,-$J$6)))","v":4.611618450853272E-2},null,"Long",{"$error":"#N/A"},{"$error":"#N/A"},null,1,0,"",null,1,null,-682.5,13396.579999999994,null,null,null,null,null,null,null,null,null,null,null,null,null,null,null,null,null,null,null,{"$f":"IF(NOT($AS600=$AS601),ROW(),\"\")","v":""},{"$f":"IF(NOT(AS600=AS601),AS601,\"\")","v":""},{"$f":"INDEX($AB$15:$AM$15,MATCH($AS600,$AB$11:$AM$11,0))","v":"in"},{"$f":"LEFT(AT600,4)","v":"2002"},{"$f":"LEFT(B600,6)","v":"200204"}]
[null,{"$f":"'Market Data'!B591","v":20020424},{"$f":"'Market Data'!C591","v":6588.5},{"$f":"'Market Data'!D591","v":6618.5},{"$f":"'Market Data'!E591","v":6538.5},{"$f":"'Market Data'!F591","v":6559.5},null,587,{"$f":"IF($H605<($J$6+1),\"\",PFE(OFFSET($F605,0,0,-$J$6)))","v":3.0410718626262209E-2},null,"Long",{"$error":"#N/A"},{"$error":"#N/A"},null,1,0,"",null,1,null,-1050,7989.0799999999945,null,null,null,null,null,null,null,null,null,null,null,null,null,null,null,null,null,null,null,{"$f":"IF(NOT($AS605=$AS606),ROW(),\"\")","v":""},{"$f":"IF(NOT(AS605=AS606),AS606,\"\")","v":""},{"$f":"INDEX($AB$15:$AM$15,MATCH($AS605,$AB$11:$AM$11,0))","v":"in"},{"$f":"LEFT(AT605,4)","v":"2002"},{"$f":"LEFT(B605,6)","v":"200204"}]
[null,{"$f":"'Market Data'!B598","v":20020506},{"$f":"'Market Data'!C598","v":6285.5},{"$f":"'Market Data'!D598","v":6315.5},{"$f":"'Market Data'!E598","v":6264.5},{"$f":"'Market Data'!F598","v":6286.5},null,594,{"$f":"IF($H612<($J$6+1),\"\",PFE(OFFSET($F612,0,0,-$J$6)))","v":-0.10473330314665771},null,"Short",{"$error":"#N/A"},{"$error":"#N/A"},null,-1,0,"",null,-1,null,-385,4902.1599999999944,null,null,null,null,null,null,null,null,null,null,null,null,null,null,null,null,null,null,null,{"$f":"IF(NOT($AS612=$AS613),ROW(),\"\")","v":""},{"$f":"IF(NOT(AS612=AS613),AS613,\"\")","v":""},{"$f":"INDEX($AB$15:$AM$15,MATCH($AS612,$AB$11:$AM$11,0))","v":"in"},{"$f":"LEFT(AT612,4)","v":"2002"},{"$f":"LEFT(B612,6)","v":"200205"}]
[null,{"$f":"'Market Data'!B604","v":20020514},{"$f":"'Market Data'!C604","v":6361.5},{"$f":"'Market Data'!D604","v":6454},{"$f":"'Market Data'!E604","v":6339},{"$f":"'Market Data'!F604","v":6423.5},null,600,{"$f":"IF($H618<($J$6+1),\"\",PFE(OFFSET($F618,0,0,-$J$6)))","v":-2.6592770168001992E-2},null,"Short",{"$error":"#N/A"},{"$error":"#N/A"},null,-1,0,"",null,-1,null,-2170,107.1599999999944,null,null,null,null,null,null,null,null,null,null,null,null,null,null,null,null,null,null,null,{"$f":"IF(NOT($AS618=$AS619),ROW(),\"\")","v":""},{"$f":"IF(NOT(AS618=AS619),AS619,\"\")","v":""},{"$f":"INDEX($AB$15:$AM$15,MATCH($AS618,$AB$11:$AM$11,0))","v":"in"},{"$f":"LEFT(AT618,4)","v":"2002"},{"$f":"LEFT(B618,6)","v":"200205"}]
[null,{"$f":"'Market Data'!B608","v":20020520},{"$f":"'Market Data'!C608","v":6440.5},{"$f":"'Market Data'!D608","v":6444.5},{"$f":"'Market Data'!E608","v":6363.5},{"$f":"'Market Data'!F608","v":6386.5},null,604,{"$f":"IF($H622<($J$6+1),\"\",PFE(OFFSET($F622,0,0,-$J$6)))","v":-4.2377292112949515E-2},null,"Short",{"$error":"#N/A"},{"$error":"#N/A"},null,-1,0,"",null,-1,null,2828.08,-991.68000000000575,null,null,null,null,null,null,null,null,null,null,null,null,null,null,null,null,null,null,null,{"$f":"IF(NOT($AS622=$AS623),ROW(),\"\")","v":""},{"$f":"IF(NOT(AS622=AS623),AS623,\"\")","v":""},{"$f":"INDEX($AB$15:$AM$15,MATCH($AS622,$AB$11:$AM$11,0))","v":"in"},{"$f":"LEFT(AT622,4)","v":"2002"},{"$f":"LEFT(B622,6)","v":"200205"}]
[null,{"$f":"'Market Data'!B615","v":20020529},{"$f":"'Market Data'!C615","v":6276.5},{"$f":"'Market Data'!D615","v":6286.5},{"$f":"'Market Data'!E615","v":6230.5},{"$f":"'Market Data'!F615","v":6258.5},null,611,{"$f":"IF($H629<($J$6+1),\"\",PFE(OFFSET($F629,0,0,-$J$6)))","v":-5.9902693305814221E-2},null,"Short",{"$error":"#N/A"},{"$error":"#N/A"},null,-1,0,"",null,-1,null,840,3488.3199999999943,null,null,null,null,null,null,null,null,null,null,null,null,null,null,null,null,null,null,null,{"$f":"IF(NOT($AS629=$AS630),ROW(),\"\")","v":""},{"$f":"IF(NOT(AS629=AS630),AS630,\"\")","v":""},{"$f":"INDEX($AB$15:$AM$15,MATCH($AS629,$AB$11:$AM$11,0))","v":"in"},{"$f":"LEFT(AT629,4)","v":"2002"},{"$f":"LEFT(B629,6)","v":"200205"}]
[null,{"$f":"'Market Data'!B617","v":20020531},{"$f":"'Market Data'!C617","v":6159.5},{"$f":"'Market Data'!D617","v":6235.5},{"$f":"'Market Data'!E617","v":6144.5},{"$f":"'Market Data'!F617","v":6176.5},null,613,{"$f":"IF($H631<($J$6+1),\"\",PFE(OFFSET($F631,0,0,-$J$6)))","v":-8.3546749786340094E-2},null,"Short",{"$error":"#N/A"},{"$error":"#N/A"},null,-1,0,"",null,-1,null,-1785,6358.3199999999943,null,null,null,null,null,null,null,null,null,null,null,null,null,null,null,null,null,null,null,{"$f":"IF(NOT($AS631=$AS632),ROW(),\"\")","v":""},{"$f":"IF(NOT(AS631=AS632),AS632,\"\")","v":""},{"$f":"INDEX($AB$15:$AM$15,MATCH($AS631,$AB$11:$AM$11,0))","v":"in"},{"$f":"LEFT(AT631,4)","v":"2002"},{"$f":"LEFT(B631,6)","v":"200205"}]
[null,{"$f":"'Market Data'!B622","v":20020607},{"$f":"'Market Data'!C622","v":5914.5},{"$f":"'Market Data'!D622","v":5978},{"$f":"'Market Data'!E622","v":5885},{"$f":"'Market Data'!F622","v":5969},null,618,{"$f":"IF($H636<($J$6+1),\"\",PFE(OFFSET($F636,0,0,-$J$6)))","v":-7.4243800943523786E-2},null,"Short",{"$error":"#N/A"},{"$error":"#N/A"},null,-1,0,"",null,-1,null,1470,13620.819999999994,null,null,null,null,null,null,null,null,null,null,null,null,null,null,null,null,null,null,null,{"$f":"IF(NOT($AS636=$AS637),ROW(),\"\")","v":""},{"$f":"IF(NOT(AS636=AS637),AS637,\"\")","v":""},{"$f":"INDEX($AB$15:$AM$15,MATCH($AS636,$AB$11:$AM$11,0))","v":"in"},{"$f":"LEFT(AT636,4)","v":"2002"},{"$f":"LEFT(B636,6)","v":"200206"}]
[null,{"$f":"'Market Data'!B628","v":20020617},{"$f":"'Market Data'!C628","v":5716.5},{"$f":"'Market Data'!D628","v":5855},{"$f":"'Market Data'!E628","v":5705},{"$f":"'Market Data'!F628","v":5852.5},null,624,{"$f":"IF($H642<($J$6+1),\"\",PFE(OFFSET($F642,0,0,-$J$6)))","v":-9.6096940347656673E-2},null,"Short",{"$error":"#N/A"},{"$error":"#N/A"},null,-1,0,"",null,-1,null,-6335,17698.319999999992,null,null,null,null,null,null,null,null,null,null,null,null,null,null,null,null,null,null,null,{"$f":"IF(NOT($AS642=$AS643),ROW(),\"\")","v":""},{"$f":"IF(NOT(AS642=AS643),AS643,\"\")","v":""},{"$f":"INDEX($AB$15:$AM$15,MATCH($AS642,$AB$11:$AM$11,0))","v":"in"},{"$f":"LEFT(AT642,4)","v":"2002"},{"$f":"LEFT(B642,6)","v":"200206"}]
[null,{"$f":"'Market Data'!B634","v":20020625},{"$f":"'Market Data'!C634","v":5547.5},{"$f":"'Market Data'!D634","v":5626},{"$f":"'Market Data'!E634","v":5538.5},{"$f":"'Market Data'!F634","v":5561.5},null,630,{"$f":"IF($H648<($J$6+1),\"\",PFE(OFFSET($F648,0,0,-$J$6)))","v":-0.15976345134672051},null,"Short",{"$error":"#N/A"},{"$error":"#N/A"},null,-1,0,"",null,-1,null,-1837.5,27883.319999999992,null,null,null,null,null,null,null,null,null,null,null,null,null,null,null,null,null,null,null,{"$f":"IF(NOT($AS648=$AS649),ROW(),\"\")","v":""},{"$f":"IF(NOT(AS648=AS649),AS649,\"\")","v":""},{"$f":"INDEX($AB$15:$AM$15,MATCH($AS648,$AB$11:$AM$11,0))","v":"in"},{"$f":"LEFT(AT648,4)","v":"2002"},{"$f":"LEFT(B648,6)","v":"200206"}]
[null,{"$f":"'Market Data'!B639","v":20020702},{"$f":"'Market Data'!C639","v":5649},{"$f":"'Market Data'!D639","v":5672},{"$f":"'Market Data'!E639","v":5526},{"$f":"'Market Data'!F639","v":5565},null,635,{"$f":"IF($H653<($J$6+1),\"\",PFE(OFFSET($F653,0,0,-$J$6)))","v":-0.22831897532863948},null,"Short",{"$error":"#N/A"},{"$error":"#N/A"},null,-1,0,"",null,-1,null,5197.5,27760.819999999992,null,null,null,null,null,null,null,null,null,null,null,null,null,null,null,null,null,null,null,{"$f":"IF(NOT($AS653=$AS654),ROW(),\"\")","v":""},{"$f":"IF(NOT(AS653=AS654),AS654,\"\")","v":""},{"$f":"INDEX($AB$15:$AM$15,MATCH($AS653,$AB$11:$AM$11,0))","v":"in"},{"$f":"LEFT(AT653,4)","v":"2002"},{"$f":"LEFT(B653,6)","v":"200207"}]
[null,{"$f":"'Market Data'!B643","v":20020708},{"$f":"'Market Data'!C643","v":5767.5},{"$f":"'Market Data'!D643","v":5835.5},{"$f":"'Market Data'!E643","v":5750},{"$f":"'Market Data'!F643","v":5792},null,639,{"$f":"IF($H657<($J$6+1),\"\",PFE(OFFSET($F657,0,0,-$J$6)))","v":-0.19392437011554339},null,"Short",{"$error":"#N/A"},{"$error":"#N/A"},null,-1,{"$f":"$O657-S657","v":0},"",null,-1,null,1277.5,19815.819999999992,null,null,null,null,null,null,null,null,null,null,null,null,null,null,null,null,null,null,null,{"$f":"IF(NOT($AS657=$AS658),ROW(),\"\")","v":""},{"$f":"IF(NOT(AS657=AS658),AS658,\"\")","v":""},{"$f":"INDEX($AB$15:$AM$15,MATCH($AS657,$AB$11:$AM$11,0))","v":"in"},{"$f":"LEFT(AT657,4)","v":"2002"},{"$f":"LEFT(B657,6)","v":"200207"}]
[null,{"$f":"'Market Data'!B651","v":20020718},{"$f":"'Market Data'!C651","v":5407.5},{"$f":"'Market Data'!D651","v":5507},{"$f":"'Market Data'!E651","v":5384},{"$f":"'Market Data'!F651","v":5447},null,647,{"$f":"IF($H665<($J$6+1),\"\",PFE(OFFSET($F665,0,0,-$J$6)))","v":-0.25350282731899099},null,"Short",{"$error":"#N/A"},{"$error":"#N/A"},null,-1,0,"",null,-1,null,-927.5,31890.819999999992,null,null,null,null,null,null,null,null,null,null,null,null,null,null,null,null,null,null,null,{"$f":"IF(NOT($AS665=$AS666),ROW(),\"\")","v":""},{"$f":"IF(NOT(AS665=AS666),AS666,\"\")","v":""},{"$f":"INDEX($AB$15:$AM$15,MATCH($AS665,$AB$11:$AM$11,0))","v":"in"},{"$f":"LEFT(AT665,4)","v":"2002"},{"$f":"LEFT(B665,6)","v":"200207"}]
[null,{"$f":"'Market Data'!B654","v":20020723},{"$f":"'Market Data'!C654","v":5120.5},{"$f":"'Market Data'!D654","v":5159},{"$f":"'Market Data'!E654","v":4852.5},{"$f":"'Market Data'!F654","v":4888.5},null,650,{"$f":"IF($H668<($J$6+1),\"\",PFE(OFFSET($F668,0,0,-$J$6)))","v":-0.32002092437244672},null,"Short",{"$error":"#N/A"},{"$error":"#N/A"},null,-1,0,"",null,-1,null,6195,51438.319999999992,null,null,null,null,null,null,null,null,null,null,null,null,null,null,null,null,null,null,null,{"$f":"IF(NOT($AS668=$AS669),ROW(),\"\")","v":""},{"$f":"IF(NOT(AS668=AS669),AS669,\"\")","v":""},{"$f":"INDEX($AB$15:$AM$15,MATCH($AS668,$AB$11:$AM$11,0))","v":"in"},{"$f":"LEFT(AT668,4)","v":"2002"},{"$f":"LEFT(B668,6)","v":"200207"}]
[null,{"$f":"'Market Data'!B663","v":20020805},{"$f":"'Market Data'!C663","v":4877.5},{"$f":"'Market Data'!D663","v":4877.5},{"$f":"'Market Data'!E663","v":4667.5},{"$f":"'Market Data'!F663","v":4685.5},null,659,{"$f":"IF($H677<($J$6+1),\"\",PFE(OFFSET($F677,0,0,-$J$6)))","v":-0.28246797289889064},null,"Short",{"$error":"#N/A"},{"$error":"#N/A"},null,-1,0,"",null,-1,null,5880,58543.319999999992,null,null,null,null,null,null,null,null,null,null,null,null,null,null,null,null,null,null,null,{"$f":"IF(NOT($AS677=$AS678),ROW(),\"\")","v":""},{"$f":"IF(NOT(AS677=AS678),AS678,\"\")","v":""},{"$f":"INDEX($AB$15:$AM$15,MATCH($AS677,$AB$11:$AM$11,0))","v":"in"},{"$f":"LEFT(AT677,4)","v":"2002"},{"$f":"LEFT(B677,6)","v":"200208"}]
[null,{"$f":"'Market Data'!B668","v":20020812},{"$f":"'Market Data'!C668","v":5026.5},{"$f":"'Market Data'!D668","v":5056.5},{"$f":"'Market Data'!E668","v":4978.5},{"$f":"'Market Data'!F668","v":5012.5},null,664,{"$f":"IF($H682<($J$6+1),\"\",PFE(OFFSET($F682,0,0,-$J$6)))","v":-0.24798689676035415},null,"Short",{"$error":"#N/A"},{"$error":"#N/A"},null,-1,0,"",null,-1,null,2205,47098.319999999992,null,null,null,null,null,null,null,null,null,null,null,null,null,null,null,null,null,null,null,{"$f":"IF(NOT($AS682=$AS683),ROW(),\"\")","v":""},{"$f":"IF(NOT(AS682=AS683),AS683,\"\")","v":""},{"$f":"INDEX($AB$15:$AM$15,MATCH($AS682,$AB$11:$AM$11,0))","v":"in"},{"$f":"LEFT(AT682,4)","v":"2002"},{"$f":"LEFT(B682,6)","v":"200208"}]
[null,{"$f":"'Market Data'!B671","v":20020815},{"$f":"'Market Data'!C671","v":5027.5},{"$f":"'Market Data'!D671","v":5067.5},{"$f":"'Market Data'!E671","v":4980},{"$f":"'Market Data'!F671","v":4995},null,667,{"$f":"IF($H685<($J$6+1),\"\",PFE(OFFSET($F685,0,0,-$J$6)))","v":-0.24030873619314116},null,"Short",{"$error":"#N/A"},{"$error":"#N/A"},null,-1,0,"",null,-1,null,-1960,47710.819999999992,null,null,null,null,null,null,null,null,null,null,null,null,null,null,null,null,null,null,null,{"$f":"IF(NOT($AS685=$AS686),ROW(),\"\")","v":""},{"$f":"IF(NOT(AS685=AS686),AS686,\"\")","v":""},{"$f":"INDEX($AB$15:$AM$15,MATCH($AS685,$AB$11:$AM$11,0))","v":"in"},{"$f":"LEFT(AT685,4)","v":"2002"},{"$f":"LEFT(B685,6)","v":"200208"}]
[null,{"$f":"'Market Data'!B680","v":20020828},{"$f":"'Market Data'!C680","v":5157.5},{"$f":"'Market Data'!D680","v":5157.5},{"$f":"'Market Data'!E680","v":5015.5},{"$f":"'Market Data'!F680","v":5039.5},null,676,{"$f":"IF($H694<($J$6+1),\"\",PFE(OFFSET($F694,0,0,-$J$6)))","v":-0.17342795680699227},null,"Short",{"$error":"#N/A"},{"$error":"#N/A"},null,-1,0,"",null,-1,null,5022.5,46153.319999999992,null,null,null,null,null,null,null,null,null,null,null,null,null,null,null,null,null,null,null,{"$f":"IF(NOT($AS694=$AS695),ROW(),\"\")","v":""},{"$f":"IF(NOT(AS694=AS695),AS695,\"\")","v":""},{"$f":"INDEX($AB$15:$AM$15,MATCH($AS694,$AB$11:$AM$11,0))","v":"in"},{"$f":"LEFT(AT694,4)","v":"2002"},{"$f":"LEFT(B694,6)","v":"200208"}]
[null,{"$f":"'Market Data'!B686","v":20020905},{"$f":"'Market Data'!C686","v":4772.5},{"$f":"'Market Data'!D686","v":4799.5},{"$f":"'Market Data'!E686","v":4627.5},{"$f":"'Market Data'!F686","v":4690},null,682,{"$f":"IF($H700<($J$6+1),\"\",PFE(OFFSET($F700,0,0,-$J$6)))","v":-0.23336580970038476},null,"Short",{"$error":"#N/A"},{"$error":"#N/A"},null,-1,0,"",null,-1,null,2660,58385.819999999992,null,null,null,null,null,null,null,null,null,null,null,null,null,null,null,null,null,null,null,{"$f":"IF(NOT($AS700=$AS701),ROW(),\"\")","v":""},{"$f":"IF(NOT(AS700=AS701),AS701,\"\")","v":""},{"$f":"INDEX($AB$15:$AM$15,MATCH($AS700,$AB$11:$AM$11,0))","v":"in"},{"$f":"LEFT(AT700,4)","v":"2002"},{"$f":"LEFT(B700,6)","v":"200209"}]
[null,{"$f":"'Market Data'!B687","v":20020906},{"$f":"'Market Data'!C687","v":4722.5},{"$f":"'Market Data'!D687","v":4813},{"$f":"'Market Data'!E687","v":4681.5},{"$f":"'Market Data'!F687","v":4812.5},null,683,{"$f":"IF($H701<($J$6+1),\"\",PFE(OFFSET($F701,0,0,-$J$6)))","v":-0.22305862800412185},null,"Short",{"$error":"#N/A"},{"$error":"#N/A"},null,-1,0,"",null,-1,null,-4287.5,54098.319999999992,null,null,null,null,null,null,null,null,null,null,null,null,null,null,null,null,null,null,null,{"$f":"IF(NOT($AS701=$AS702),ROW(),\"\")","v":""},{"$f":"IF(NOT(AS701=AS702),AS702,\"\")","v":""},{"$f":"INDEX($AB$15:$AM$15,MATCH($AS701,$AB$11:$AM$11,0))","v":"in"},{"$f":"LEFT(AT701,4)","v":"2002"},{"$f":"LEFT(B701,6)","v":"200209"}]
[null,{"$f":"'Market Data'!B692","v":20020913},{"$f":"'Market Data'!C692","v":4697.5},{"$f":"'Market Data'!D692","v":4722.5},{"$f":"'Market Data'!E692","v":4604.5},{"$f":"'Market Data'!F692","v":4701},null,688,{"$f":"IF($H706<($J$6+1),\"\",PFE(OFFSET($F706,0,0,-$J$6)))","v":-0.22248638141459484},null,"Short",{"$error":"#N/A"},{"$error":"#N/A"},null,-1,0,"",null,-1,null,2257.5,58000.819999999992,null,null,null,null,null,null,null,null,null,null,null,null,null,null,null,null,null,null,null,{"$f":"IF(NOT($AS706=$AS707),ROW(),\"\")","v":""},{"$f":"IF(NOT(AS706=AS707),AS707,\"\")","v":""},{"$f":"INDEX($AB$15:$AM$15,MATCH($AS706,$AB$11:$AM$11,0))","v":"in"},{"$f":"LEFT(AT706,4)","v":"2002"},{"$f":"LEFT(B706,6)","v":"200209"}]
[null,{"$f":"'Market Data'!B697","v":20020920},{"$f":"'Market Data'!C697","v":4306.5},{"$f":"'Market Data'!D697","v":4425.5},{"$f":"'Market Data'!E697","v":4287.5},{"$f":"'Market Data'!F697","v":4415.5},null,693,{"$f":"IF($H711<($J$6+1),\"\",PFE(OFFSET($F711,0,0,-$J$6)))","v":-0.24369458571523414},null,"Short",{"$error":"#N/A"},{"$error":"#N/A"},null,-1,0,"",null,-1,null,-1872.5,67993.319999999992,null,null,null,null,null,null,null,null,null,null,null,null,null,null,null,null,null,null,null,{"$f":"IF(NOT($AS711=$AS712),ROW(),\"\")","v":""},{"$f":"IF(NOT(AS711=AS712),AS712,\"\")","v":""},{"$f":"INDEX($AB$15:$AM$15,MATCH($AS711,$AB$11:$AM$11,0))","v":"in"},{"$f":"LEFT(AT711,4)","v":"2002"},{"$f":"LEFT(B711,6)","v":"200209"}]
[null,{"$f":"'Market Data'!B704","v":20021001},{"$f":"'Market Data'!C704","v":4149.5},{"$f":"'Market Data'!D704","v":4221.5},{"$f":"'Market Data'!E704","v":4053},{"$f":"'Market Data'!F704","v":4193},null,700,{"$f":"IF($H718<($J$6+1),\"\",PFE(OFFSET($F718,0,0,-$J$6)))","v":-0.23163434615965528},null,"Short",{"$error":"#N/A"},{"$error":"#N/A"},null,-1,0,"",null,-1,null,-2362.5,75780.819999999992,null,null,null,null,null,null,null,null,null,null,null,null,null,null,null,null,null,null,null,{"$f":"IF(NOT($AS718=$AS719),ROW(),\"\")","v":""},{"$f":"IF(NOT(AS718=AS719),AS719,\"\")","v":""},{"$f":"INDEX($AB$15:$AM$15,MATCH($AS718,$AB$11:$AM$11,0))","v":"in"},{"$f":"LEFT(AT718,4)","v":"2002"},{"$f":"LEFT(B718,6)","v":"200210"}]
[null,{"$f":"'Market Data'!B712","v":20021011},{"$f":"'Market Data'!C712","v":4036.5},{"$f":"'Market Data'!D712","v":4234},{"$f":"'Market Data'!E712","v":4031},{"$f":"'Market Data'!F712","v":4228},null,708,{"$f":"IF($H726<($J$6+1),\"\",PFE(OFFSET($F726,0,0,-$J$6)))","v":-0.19883565886269303},null,"Short",{"$error":"#N/A"},{"$error":"#N/A"},null,-1,0,"",null,-1,null,{"$f":"IF(OR($S725&$O725=\"01\",$S725&$O725=\"0-1\"),(($F726-$C726)*$V$4*$O725)-(ABS($P725)*$V$5),IF(OR($S725&$O725=\"10\",$S725&$O725=\"-10\"),(($C726-$F725)*$V$4*$S725)-(ABS($P725)*$V$5),IF(OR($S725&$O725=\"1-1\",$S725&$O725=\"-11\"),(($C726-$F725)*$V$4*$S725)-(ABS($P725)*$V$5)+(($F726-$C726)*$V$4*$S726),IF(OR($S725&$O725=\"11\",$S725&$O725=\"-1-1\"),(($F726-$F725)*$V$4*$S726),0))))","v":-6860},74555.819999999992,null,null,null,null,null,null,null,null,null,null,null,null,null,null,null,null,null,null,null,{"$f":"IF(NOT($AS726=$AS727),ROW(),\"\")","v":""},{"$f":"IF(NOT(AS726=AS727),AS727,\"\")","v":""},{"$f":"INDEX($AB$15:$AM$15,MATCH($AS726,$AB$11:$AM$11,0))","v":"in"},{"$f":"LEFT(AT726,4)","v":"2002"},{"$f":"LEFT(B726,6)","v":"200210"}]
[null,{"$f":"'Market Data'!B716","v":20021017},{"$f":"'Market Data'!C716","v":4403.5},{"$f":"'Market Data'!D716","v":4509.5},{"$f":"'Market Data'!E716","v":4403.5},{"$f":"'Market Data'!F716","v":4490},null,712,{"$f":"IF($H730<($J$6+1),\"\",PFE(OFFSET($F730,0,0,-$J$6)))","v":-0.12839444816203671},null,"Short",{"$error":"#N/A"},{"$error":"#N/A"},null,-1,0,"",null,-1,null,-5792.5,65385.819999999992,null,null,null,null,null,null,null,null,null,null,null,null,null,null,null,null,null,null,null,{"$f":"IF(NOT($AS730=$AS731),ROW(),\"\")","v":""},{"$f":"IF(NOT(AS730=AS731),AS731,\"\")","v":""},{"$f":"INDEX($AB$15:$AM$15,MATCH($AS730,$AB$11:$AM$11,0))","v":"in"},{"$f":"LEFT(AT730,4)","v":"2002"},{"$f":"LEFT(B730,6)","v":"200210"}]
[null,{"$f":"'Market Data'!B721","v":20021024},{"$f":"'Market Data'!C721","v":4390},{"$f":"'Market Data'!D721","v":4449.5},{"$f":"'Market Data'!E721","v":4339},{"$f":"'Market Data'!F721","v":4394.5},null,717,{"$f":"IF($H735<($J$6+1),\"\",PFE(OFFSET($F735,0,0,-$J$6)))","v":-0.16789078698896218},null,"Short",{"$error":"#N/A"},{"$error":"#N/A"},null,-1,0,"",null,-1,null,-1435,68728.319999999992,null,null,null,null,null,null,null,null,null,null,null,null,null,null,null,null,null,null,null,{"$f":"IF(NOT($AS735=$AS736),ROW(),\"\")","v":""},{"$f":"IF(NOT(AS735=AS736),AS736,\"\")","v":""},{"$f":"INDEX($AB$15:$AM$15,MATCH($AS735,$AB$11:$AM$11,0))","v":"in"},{"$f":"LEFT(AT735,4)","v":"2002"},{"$f":"LEFT(B735,6)","v":"200210"}]
[null,{"$f":"'Market Data'!B729","v":20021105},{"$f":"'Market Data'!C729","v":4612},{"$f":"'Market Data'!D729","v":4714.5},{"$f":"'Market Data'!E729","v":4583.5},{"$f":"'Market Data'!F729","v":4679},null,725,{"$f":"IF($H743<($J$6+1),\"\",PFE(OFFSET($F743,0,0,-$J$6)))","v":-0.10927925102571526},null,"Short",{"$error":"#N/A"},{"$error":"#N/A"},null,-1,0,"",null,-1,null,-1172.5,58770.819999999992,null,null,null,null,null,null,null,null,null,null,null,null,null,null,null,null,null,null,null,{"$f":"IF(NOT($AS743=$AS744),ROW(),\"\")","v":""},{"$f":"IF(NOT(AS743=AS744),AS744,\"\")","v":""},{"$f":"INDEX($AB$15:$AM$15,MATCH($AS743,$AB$11:$AM$11,0))","v":"in"},{"$f":"LEFT(AT743,4)","v":"2002"},{"$f":"LEFT(B743,6)","v":"200211"}]
[null,{"$f":"'Market Data'!B733","v":20021111},{"$f":"'Market Data'!C733","v":4349.5},{"$f":"'Market Data'!D733","v":4387.5},{"$f":"'Market Data'!E733","v":4319.5},{"$f":"'Market Data'!F733","v":4337.5},null,729,{"$f":"IF($H747<($J$6+1),\"\",PFE(OFFSET($F747,0,0,-$J$6)))","v":-0.14262007917498037},null,"Short",{"$error":"#N/A"},{"$error":"#N/A"},null,-1,0,"",null,-1,null,1767.5,70723.319999999992,null,null,null,null,null,null,null,null,null,null,null,null,null,null,null,null,null,null,null,{"$f":"IF(NOT($AS747=$AS748),ROW(),\"\")","v":""},{"$f":"IF(NOT(AS747=AS748),AS748,\"\")","v":""},{"$f":"INDEX($AB$15:$AM$15,MATCH($AS747,$AB$11:$AM$11,0))","v":"in"},{"$f":"LEFT(AT747,4)","v":"2002"},{"$f":"LEFT(B747,6)","v":"200211"}]
[null,{"$f":"'Market Data'!B738","v":20021118},{"$f":"'Market Data'!C738","v":4531.5},{"$f":"'Market Data'!D738","v":4575.5},{"$f":"'Market Data'!E738","v":4495},{"$f":"'Market Data'!F738","v":4523},null,734,{"$f":"IF($H752<($J$6+1),\"\",PFE(OFFSET($F752,0,0,-$J$6)))","v":-6.6580463369095774E-2},null,"Short",{"$error":"#N/A"},{"$error":"#N/A"},null,-1,0,"",null,-1,null,-822.5,64230.819999999992,null,null,null,null,null,null,null,null,null,null,null,null,null,null,null,null,null,null,null,{"$f":"IF(NOT($AS752=$AS753),ROW(),\"\")","v":""},{"$f":"IF(NOT(AS752=AS753),AS753,\"\")","v":""},{"$f":"INDEX($AB$15:$AM$15,MATCH($AS752,$AB$11:$AM$11,0))","v":"in"},{"$f":"LEFT(AT752,4)","v":"2002"},{"$f":"LEFT(B752,6)","v":"200211"}]
[null,{"$f":"'Market Data'!B744","v":20021126},{"$f":"'Market Data'!C744","v":4606.5},{"$f":"'Market Data'!D744","v":4645.5},{"$f":"'Market Data'!E744","v":4491},{"$f":"'Market Data'!F744","v":4496},null,740,{"$f":"IF($H758<($J$6+1),\"\",PFE(OFFSET($F758,0,0,-$J$6)))","v":-7.0336753818825315E-2},null,"Short",{"$error":"#N/A"},{"$error":"#N/A"},null,-1,0,"",null,-1,null,4007.5,65175.819999999992,null,null,null,null,null,null,null,null,null,null,null,null,null,null,null,null,null,null,null,{"$f":"IF(NOT($AS758=$AS759),ROW(),\"\")","v":""},{"$f":"IF(NOT(AS758=AS759),AS759,\"\")","v":""},{"$f":"INDEX($AB$15:$AM$15,MATCH($AS758,$AB$11:$AM$11,0))","v":"in"},{"$f":"LEFT(AT758,4)","v":"2002"},{"$f":"LEFT(B758,6)","v":"200211"}]
[null,{"$f":"'Market Data'!B750","v":20021204},{"$f":"'Market Data'!C750","v":4561.5},{"$f":"'Market Data'!D750","v":4639.5},{"$f":"'Market Data'!E750","v":4543},{"$f":"'Market Data'!F750","v":4633},null,746,{"$f":"IF($H764<($J$6+1),\"\",PFE(OFFSET($F764,0,0,-$J$6)))","v":-7.3521004355041567E-2},null,"Short",{"$error":"#N/A"},{"$error":"#N/A"},null,-1,0,"",null,-1,null,-1277.5,60380.819999999992,null,null,null,null,null,null,null,null,null,null,null,null,null,null,null,null,null,null,null,{"$f":"IF(NOT($AS764=$AS765),ROW(),\"\")","v":""},{"$f":"IF(NOT(AS764=AS765),AS765,\"\")","v":""},{"$f":"INDEX($AB$15:$AM$15,MATCH($AS764,$AB$11:$AM$11,0))","v":"in"},{"$f":"LEFT(AT764,4)","v":"2002"},{"$f":"LEFT(B764,6)","v":"200212"}]
[null,{"$f":"'Market Data'!B755","v":20021211},{"$f":"'Market Data'!C755","v":4454.5},{"$f":"'Market Data'!D755","v":4519},{"$f":"'Market Data'!E755","v":4438.5},{"$f":"'Market Data'!F755","v":4489.5},null,751,{"$f":"IF($H769<($J$6+1),\"\",PFE(OFFSET($F769,0,0,-$J$6)))","v":-8.7338767538748294E-2},null,"Short",{"$error":"#N/A"},{"$error":"#N/A"},null,-1,0,"",null,-1,null,-892.5,65403.319999999992,null,null,null,null,null,null,null,null,null,null,null,null,null,null,null,null,null,null,null,{"$f":"IF(NOT($AS769=$AS770),ROW(),\"\")","v":""},{"$f":"IF(NOT(AS769=AS770),AS770,\"\")","v":""},{"$f":"INDEX($AB$15:$AM$15,MATCH($AS769,$AB$11:$AM$11,0))","v":"in"},{"$f":"LEFT(AT769,4)","v":"2002"},{"$f":"LEFT(B769,6)","v":"200212"}]
[null,{"$f":"'Market Data'!B757","v":20021213},{"$f":"'Market Data'!C757","v":4406.5},{"$f":"'Market Data'!D757","v":4411.5},{"$f":"'Market Data'!E757","v":4337.5},{"$f":"'Market Data'!F757","v":4361.5},null,753,{"$f":"IF($H771<($J$6+1),\"\",PFE(OFFSET($F771,0,0,-$J$6)))","v":-0.12399661053167857},null,"Short",{"$error":"#N/A"},{"$error":"#N/A"},null,-1,0,"",null,-1,null,1995,69883.319999999992,null,null,null,null,null,null,null,null,null,null,null,null,null,null,null,null,null,null,null,{"$f":"IF(NOT($AS771=$AS772),ROW(),\"\")","v":""},{"$f":"IF(NOT(AS771=AS772),AS772,\"\")","v":""},{"$f":"INDEX($AB$15:$AM$15,MATCH($AS771,$AB$11:$AM$11,0))","v":"in"},{"$f":"LEFT(AT771,4)","v":"2002"},{"$f":"LEFT(B771,6)","v":"200212"}]
[null,{"$f":"'Market Data'!B764","v":20021227},{"$f":"'Market Data'!C764","v":4273},{"$f":"'Market Data'!D764","v":4286},{"$f":"'Market Data'!E764","v":4139},{"$f":"'Market Data'!F764","v":4143.5},null,760,{"$f":"IF($H778<($J$6+1),\"\",PFE(OFFSET($F778,0,0,-$J$6)))","v":-0.13552082552206021},null,"Short",{"$error":"#N/A"},{"$error":"#N/A"},null,-1,0,"",null,-1,null,4935,77513.319999999992,null,null,null,null,null,null,null,null,null,null,null,null,null,null,null,null,null,null,null,{"$f":"IF(NOT($AS778=$AS779),ROW(),\"\")","v":""},{"$f":"IF(NOT(AS778=AS779),AS779,\"\")","v":""},{"$f":"INDEX($AB$15:$AM$15,MATCH($AS778,$AB$11:$AM$11,0))","v":"in"},{"$f":"LEFT(AT778,4)","v":"2002"},{"$f":"LEFT(B778,6)","v":"200212"}]
[null,{"$f":"'Market Data'!B768","v":20030106},{"$f":"'Market Data'!C768","v":4405},{"$f":"'Market Data'!D768","v":4448.5},{"$f":"'Market Data'!E768","v":4329},{"$f":"'Market Data'!F768","v":4442.5},null,764,{"$f":"IF($H782<($J$6+1),\"\",PFE(OFFSET($F782,0,0,-$J$6)))","v":-5.2931873470835188E-2},null,"Short",{"$error":"#N/A"},{"$error":"#N/A"},null,-1,0,"",null,-1,null,-1662.5,67048.319999999992,null,null,null,null,null,null,null,null,null,null,null,null,null,null,null,null,null,null,null,{"$f":"IF(NOT($AS782=$AS783),ROW(),\"\")","v":""},{"$f":"IF(NOT(AS782=AS783),AS783,\"\")","v":""},{"$f":"INDEX($AB$15:$AM$15,MATCH($AS782,$AB$11:$AM$11,0))","v":"in"},{"$f":"LEFT(AT782,4)","v":"2003"},{"$f":"LEFT(B782,6)","v":"200301"}]
[null,{"$f":"'Market Data'!B773","v":20030113},{"$f":"'Market Data'!C773","v":4384},{"$f":"'Market Data'!D773","v":4423.5},{"$f":"'Market Data'!E773","v":4346},{"$f":"'Market Data'!F773","v":4368},null,769,{"$f":"IF($H787<($J$6+1),\"\",PFE(OFFSET($F787,0,0,-$J$6)))","v":-8.9309510842295575E-2},null,"Short",{"$f":"IF(AND($K787=\"Long\",$K786<>\"Long\"),$F787,NA())","v":{"$error":"#N/A"}},{"$f":"IF(AND($K787=\"Short\",$K786<>\"Short\"),$F787,NA())","v":{"$error":"#N/A"}},null,-1,0,{"$f":"IF(NOT($P787=0),\"Fill\",\"\")","v":""},null,-1,null,-1085,{"$f":"V786+U787","v":69655.819999999992},null,null,null,null,null,null,null,null,null,null,null,null,null,null,null,null,null,null,null,{"$f":"IF(NOT($AS787=$AS788),ROW(),\"\")","v":""},{"$f":"IF(NOT(AS787=AS788),AS788,\"\")","v":""},{"$f":"INDEX($AB$15:$AM$15,MATCH($AS787,$AB$11:$AM$11,0))","v":"in"},{"$f":"LEFT(AT787,4)","v":"2003"},{"$f":"LEFT(B787,6)","v":"200301"}]
[null,{"$f":"'Market Data'!B780","v":20030122},{"$f":"'Market Data'!C780","v":4159},{"$f":"'Market Data'!D780","v":4192},{"$f":"'Market Data'!E780","v":4056},{"$f":"'Market Data'!F780","v":4090},null,776,{"$f":"IF($H794<($J$6+1),\"\",PFE(OFFSET($F794,0,0,-$J$6)))","v":-5.7042723326953926E-2},null,"Short",{"$error":"#N/A"},{"$error":"#N/A"},null,-1,0,"",null,-1,null,2765,79385.819999999992,null,null,null,null,null,null,null,null,null,null,null,null,null,null,null,null,null,null,null,{"$f":"IF(NOT($AS794=$AS795),ROW(),\"\")","v":""},{"$f":"IF(NOT(AS794=AS795),AS795,\"\")","v":""},{"$f":"INDEX($AB$15:$AM$15,MATCH($AS794,$AB$11:$AM$11,0))","v":"in"},{"$f":"LEFT(AT794,4)","v":"2003"},{"$f":"LEFT(B794,6)","v":"200301"}]
[null,{"$f":"'Market Data'!B786","v":20030130},{"$f":"'Market Data'!C786","v":3999},{"$f":"'Market Data'!D786","v":4033},{"$f":"'Market Data'!E786","v":3950},{"$f":"'Market Data'!F786","v":3956.5},null,782,{"$f":"IF($H800<($J$6+1),\"\",PFE(OFFSET($F800,0,0,-$J$6)))","v":-3.321027918997238E-2},null,"Short",{"$error":"#N/A"},{"$error":"#N/A"},null,-1,0,"",null,-1,null,1872.5,84058.319999999992,null,null,null,null,null,null,null,null,null,null,null,null,null,null,null,null,null,null,null,{"$f":"IF(NOT($AS800=$AS801),ROW(),\"\")","v":""},{"$f":"IF(NOT(AS800=AS801),AS801,\"\")","v":""},{"$f":"INDEX($AB$15:$AM$15,MATCH($AS800,$AB$11:$AM$11,0))","v":"in"},{"$f":"LEFT(AT800,4)","v":"2003"},{"$f":"LEFT(B800,6)","v":"200301"}]
[null,{"$f":"'Market Data'!B790","v":20030205},{"$f":"'Market Data'!C790","v":3919},{"$f":"'Market Data'!D790","v":4029.5},{"$f":"'Market Data'!E790","v":3870},{"$f":"'Market Data'!F790","v":4024},null,786,{"$f":"IF($H804<($J$6+1),\"\",PFE(OFFSET($F804,0,0,-$J$6)))","v":1.4845528139044654E-2},null,"Long",4024,{"$error":"#N/A"},null,1,2,"Fill",null,-1,null,-3832.5,81695.819999999992,null,null,null,null,null,null,null,null,null,null,null,null,null,null,null,null,null,null,null,{"$f":"IF(NOT($AS804=$AS805),ROW(),\"\")","v":""},{"$f":"IF(NOT(AS804=AS805),AS805,\"\")","v":""},{"$f":"INDEX($AB$15:$AM$15,MATCH($AS804,$AB$11:$AM$11,0))","v":"in"},{"$f":"LEFT(AT804,4)","v":"2003"},{"$f":"LEFT(B804,6)","v":"200302"}]
[null,{"$f":"'Market Data'!B797","v":20030214},{"$f":"'Market Data'!C797","v":3874},{"$f":"'Market Data'!D797","v":4004},{"$f":"'Market Data'!E797","v":3864},{"$f":"'Market Data'!F797","v":3950.5},null,793,{"$f":"IF($H811<($J$6+1),\"\",PFE(OFFSET($F811,0,0,-$J$6)))","v":-7.2252757045507029E-2},null,"Short",{"$error":"#N/A"},{"$error":"#N/A"},null,-1,0,"",null,-1,null,-3797.5,82049.48,null,null,null,null,null,null,null,null,null,null,null,null,null,null,null,null,null,null,null,{"$f":"IF(NOT($AS811=$AS812),ROW(),\"\")","v":""},{"$f":"IF(NOT(AS811=AS812),AS812,\"\")","v":""},{"$f":"INDEX($AB$15:$AM$15,MATCH($AS811,$AB$11:$AM$11,0))","v":"in"},{"$f":"LEFT(AT811,4)","v":"2003"},{"$f":"LEFT(B811,6)","v":"200302"}]
[null,{"$f":"'Market Data'!B805","v":20030226},{"$f":"'Market Data'!C805","v":3792.5},{"$f":"'Market Data'!D805","v":3805},{"$f":"'Market Data'!E805","v":3716.5},{"$f":"'Market Data'!F805","v":3745},null,801,{"$f":"IF($H819<($J$6+1),\"\",PFE(OFFSET($F819,0,0,-$J$6)))","v":-0.12842236807025478},null,"Short",{"$error":"#N/A"},{"$error":"#N/A"},null,-1,0,"",null,-1,null,560,89241.98,null,null,null,null,null,null,null,null,null,null,null,null,null,null,null,null,null,null,null,{"$f":"IF(NOT($AS819=$AS820),ROW(),\"\")","v":""},{"$f":"IF(NOT(AS819=AS820),AS820,\"\")","v":""},{"$f":"INDEX($AB$15:$AM$15,MATCH($AS819,$AB$11:$AM$11,0))","v":"in"},{"$f":"LEFT(AT819,4)","v":"2003"},{"$f":"LEFT(B819,6)","v":"200302"}]
[null,{"$f":"'Market Data'!B809","v":20030304},{"$f":"'Market Data'!C809","v":3803},{"$f":"'Market Data'!D809","v":3814},{"$f":"'Market Data'!E809","v":3758.5},{"$f":"'Market Data'!F809","v":3785.5},null,805,{"$f":"IF($H823<($J$6+1),\"\",PFE(OFFSET($F823,0,0,-$J$6)))","v":-0.13999759492098621},null,"Short",{"$error":"#N/A"},{"$error":"#N/A"},null,-1,0,"",null,-1,null,1487.5,87824.48,null,null,null,null,null,null,null,null,null,null,null,null,null,null,null,null,null,null,null,{"$f":"IF(NOT($AS823=$AS824),ROW(),\"\")","v":""},{"$f":"IF(NOT(AS823=AS824),AS824,\"\")","v":""},{"$f":"INDEX($AB$15:$AM$15,MATCH($AS823,$AB$11:$AM$11,0))","v":"in"},{"$f":"LEFT(AT823,4)","v":"2003"},{"$f":"LEFT(B823,6)","v":"200303"}]
[null,{"$f":"'Market Data'!B814","v":20030311},{"$f":"'Market Data'!C814","v":3612},{"$f":"'Market Data'!D814","v":3629.5},{"$f":"'Market Data'!E814","v":3538.5},{"$f":"'Market Data'!F814","v":3578},null,810,{"$f":"IF($H828<($J$6+1),\"\",PFE(OFFSET($F828,0,0,-$J$6)))","v":-0.18707243825677514},null,"Short",{"$error":"#N/A"},{"$error":"#N/A"},null,-1,0,"",null,-1,null,980,95086.98,null,null,null,null,null,null,null,null,null,null,null,null,null,null,null,null,null,null,null,{"$f":"IF(NOT($AS828=$AS829),ROW(),\"\")","v":""},{"$f":"IF(NOT(AS828=AS829),AS829,\"\")","v":""},{"$f":"INDEX($AB$15:$AM$15,MATCH($AS828,$AB$11:$AM$11,0))","v":"in"},{"$f":"LEFT(AT828,4)","v":"2003"},{"$f":"LEFT(B828,6)","v":"200303"}]
[null,{"$f":"'Market Data'!B816","v":20030313},{"$f":"'Market Data'!C816","v":3529},{"$f":"'Market Data'!D816","v":3626},{"$f":"'Market Data'!E816","v":3511},{"$f":"'Market Data'!F816","v":3625.5},null,812,{"$f":"IF($H830<($J$6+1),\"\",PFE(OFFSET($F830,0,0,-$J$6)))","v":-0.14376405782977217},null,"Short",{"$error":"#N/A"},{"$error":"#N/A"},null,-1,0,"",null,-1,null,-5127.5,93424.48,null,null,null,null,null,null,null,null,null,null,null,null,null,null,null,null,null,null,null,{"$f":"IF(NOT($AS830=$AS831),ROW(),\"\")","v":""},{"$f":"IF(NOT(AS830=AS831),AS831,\"\")","v":""},{"$f":"INDEX($AB$15:$AM$15,MATCH($AS830,$AB$11:$AM$11,0))","v":"in"},{"$f":"LEFT(AT830,4)","v":"2003"},{"$f":"LEFT(B830,6)","v":"200303"}]
[null,{"$f":"'Market Data'!B826","v":20030327},{"$f":"'Market Data'!C826","v":3849},{"$f":"'Market Data'!D826","v":3873},{"$f":"'Market Data'!E826","v":3787},{"$f":"'Market Data'!F826","v":3872},null,822,{"$f":"IF($H840<($J$6+1),\"\",PFE(OFFSET($F840,0,0,-$J$6)))","v":-0.14342273118383342},null,"Short",{"$error":"#N/A"},{"$error":"#N/A"},null,-1,0,"",null,-1,null,-122.5,84796.98,null,null,null,null,null,null,null,null,null,null,null,null,null,null,null,null,null,null,null,{"$f":"IF(NOT($AS840=$AS841),ROW(),\"\")","v":""},{"$f":"IF(NOT(AS840=AS841),AS841,\"\")","v":""},{"$f":"INDEX($AB$15:$AM$15,MATCH($AS840,$AB$11:$AM$11,0))","v":"in"},{"$f":"LEFT(AT840,4)","v":"2003"},{"$f":"LEFT(B840,6)","v":"200303"}]
[null,{"$f":"'Market Data'!B831","v":20030403},{"$f":"'Market Data'!C831","v":3842},{"$f":"'Market Data'!D831","v":3923},{"$f":"'Market Data'!E831","v":3830},{"$f":"'Market Data'!F831","v":3833},null,827,{"$f":"IF($H845<($J$6+1),\"\",PFE(OFFSET($F845,0,0,-$J$6)))","v":-0.16266811108105753},null,"Short",{"$error":"#N/A"},{"$error":"#N/A"},null,-1,0,"",null,-1,null,700,86161.98,null,null,null,null,null,null,null,null,null,null,null,null,null,null,null,null,null,null,null,{"$f":"IF(NOT($AS845=$AS846),ROW(),\"\")","v":""},{"$f":"IF(NOT(AS845=AS846),AS846,\"\")","v":""},{"$f":"INDEX($AB$15:$AM$15,MATCH($AS845,$AB$11:$AM$11,0))","v":"in"},{"$f":"LEFT(AT845,4)","v":"2003"},{"$f":"LEFT(B845,6)","v":"200304"}]
[null,{"$f":"'Market Data'!B833","v":20030407},{"$f":"'Market Data'!C833","v":4027},{"$f":"'Market Data'!D833","v":4093.5},{"$f":"'Market Data'!E833","v":4027},{"$f":"'Market Data'!F833","v":4081},null,829,{"$f":"IF($H847<($J$6+1),\"\",PFE(OFFSET($F847,0,0,-$J$6)))","v":-0.10484647068490351},null,"Short",{"$error":"#N/A"},{"$error":"#N/A"},null,-1,0,"",null,-1,null,-5635,77481.98,null,null,null,null,null,null,null,null,null,null,null,null,null,null,null,null,null,null,null,{"$f":"IF(NOT($AS847=$AS848),ROW(),\"\")","v":""},{"$f":"IF(NOT(AS847=AS848),AS848,\"\")","v":""},{"$f":"INDEX($AB$15:$AM$15,MATCH($AS847,$AB$11:$AM$11,0))","v":"in"},{"$f":"LEFT(AT847,4)","v":"2003"},{"$f":"LEFT(B847,6)","v":"200304"}]
[null,{"$f":"'Market Data'!B838","v":20030414},{"$f":"'Market Data'!C838","v":4037},{"$f":"'Market Data'!D838","v":4065},{"$f":"'Market Data'!E838","v":3974.5},{"$f":"'Market Data'!F838","v":4061.5},null,{"$f":"ROW()-ROW(H$18)","v":834},{"$f":"IF($H852<($J$6+1),\"\",PFE(OFFSET($F852,0,0,-$J$6)))","v":-8.4720133212793425E-2},null,{"$f":"IF($I852=\"\",\"\",IF($I852>$J$4,\"Long\",IF($I852<$J$5,\"Short\",\"\")))","v":"Short"},{"$error":"#N/A"},{"$error":"#N/A"},null,{"$f":"IF($K852=\"Short\",-1,IF($K852=\"Long\",1,0))","v":-1},0,"",null,-1,null,-2012.5,78164.479999999996,null,null,null,null,null,null,null,null,null,null,null,null,null,null,null,null,null,null,null,{"$f":"IF(NOT($AS852=$AS853),ROW(),\"\")","v":""},{"$f":"IF(NOT(AS852=AS853),AS853,\"\")","v":""},{"$f":"INDEX($AB$15:$AM$15,MATCH($AS852,$AB$11:$AM$11,0))","v":"in"},{"$f":"LEFT(AT852,4)","v":"2003"},{"$f":"LEFT(B852,6)","v":"200304"}]
[null,{"$f":"'Market Data'!B848","v":20030430},{"$f":"'Market Data'!C848","v":4205},{"$f":"'Market Data'!D848","v":4242},{"$f":"'Market Data'!E848","v":4186},{"$f":"'Market Data'!F848","v":4195},null,844,{"$f":"IF($H862<($J$6+1),\"\",PFE(OFFSET($F862,0,0,-$J$6)))","v":1.7633051934860405E-2},null,"Long",{"$error":"#N/A"},{"$error":"#N/A"},null,1,0,"",null,1,null,-986.92,72610.06,null,null,null,null,null,null,null,null,null,null,null,null,null,null,null,null,null,null,null,{"$f":"IF(NOT($AS862=$AS863),ROW(),\"\")","v":""},{"$f":"IF(NOT(AS862=AS863),AS863,\"\")","v":""},{"$f":"INDEX($AB$15:$AM$15,MATCH($AS862,$AB$11:$AM$11,0))","v":"in"},{"$f":"LEFT(AT862,4)","v":"2003"},{"$f":"LEFT(B862,6)","v":"200304"}]
[null,{"$f":"'Market Data'!B850","v":20030505},{"$f":"'Market Data'!C850","v":4275},{"$f":"'Market Data'!D850","v":4314.5},{"$f":"'Market Data'!E850","v":4250},{"$f":"'Market Data'!F850","v":4284.5},null,846,{"$f":"IF($H864<($J$6+1),\"\",PFE(OFFSET($F864,0,0,-$J$6)))","v":-2.984864114464E-2},null,"Short",{"$error":"#N/A"},{"$error":"#N/A"},null,-1,0,"",null,-1,null,360.58000000000004,74895.64,null,null,null,null,null,null,null,null,null,null,null,null,null,null,null,null,null,null,null,{"$f":"IF(NOT($AS864=$AS865),ROW(),\"\")","v":""},{"$f":"IF(NOT(AS864=AS865),AS865,\"\")","v":""},{"$f":"INDEX($AB$15:$AM$15,MATCH($AS864,$AB$11:$AM$11,0))","v":"in"},{"$f":"LEFT(AT864,4)","v":"2003"},{"$f":"LEFT(B864,6)","v":"200305"}]
[null,{"$f":"'Market Data'!B859","v":20030516},{"$f":"'Market Data'!C859","v":4239},{"$f":"'Market Data'!D859","v":4299},{"$f":"'Market Data'!E859","v":4219},{"$f":"'Market Data'!F859","v":4261.5},null,855,{"$f":"IF($H873<($J$6+1),\"\",PFE(OFFSET($F873,0,0,-$J$6)))","v":-2.5145563378496605E-2},null,"Short",{"$error":"#N/A"},{"$error":"#N/A"},null,-1,0,"",null,-1,null,-332.5,75700.639999999999,null,null,null,null,null,null,null,null,null,null,null,null,null,null,null,null,null,null,null,{"$f":"IF(NOT($AS873=$AS874),ROW(),\"\")","v":""},{"$f":"IF(NOT(AS873=AS874),AS874,\"\")","v":""},{"$f":"INDEX($AB$15:$AM$15,MATCH($AS873,$AB$11:$AM$11,0))","v":"in"},{"$f":"LEFT(AT873,4)","v":"2003"},{"$f":"LEFT(B873,6)","v":"200305"}]
[null,{"$f":"'Market Data'!B862","v":20030521},{"$f":"'Market Data'!C862","v":4113.5},{"$f":"'Market Data'!D862","v":4117.5},{"$f":"'Market Data'!E862","v":4040.5},{"$f":"'Market Data'!F862","v":4080.5},null,858,{"$f":"IF($H876<($J$6+1),\"\",PFE(OFFSET($F876,0,0,-$J$6)))","v":-2.59919955769689E-2},null,"Short",{"$error":"#N/A"},{"$error":"#N/A"},null,-1,0,"",null,-1,null,1102.5,82035.64,null,null,null,null,null,null,null,null,null,null,null,null,null,null,null,null,null,null,null,{"$f":"IF(NOT($AS876=$AS877),ROW(),\"\")","v":""},{"$f":"IF(NOT(AS876=AS877),AS877,\"\")","v":""},{"$f":"INDEX($AB$15:$AM$15,MATCH($AS876,$AB$11:$AM$11,0))","v":"in"},{"$f":"LEFT(AT876,4)","v":"2003"},{"$f":"LEFT(B876,6)","v":"200305"}]
[null,{"$f":"'Market Data'!B867","v":20030528},{"$f":"'Market Data'!C867","v":4162},{"$f":"'Market Data'!D867","v":4227},{"$f":"'Market Data'!E867","v":4159.5},{"$f":"'Market Data'!F867","v":4178},null,863,{"$f":"IF($H881<($J$6+1),\"\",PFE(OFFSET($F881,0,0,-$J$6)))","v":4.9869697787218739E-2},null,"Long",{"$error":"#N/A"},{"$error":"#N/A"},null,1,0,"",null,1,null,1452.5,81787.38,null,null,null,null,null,null,null,null,null,null,null,null,null,null,null,null,null,null,null,{"$f":"IF(NOT($AS881=$AS882),ROW(),\"\")","v":""},{"$f":"IF(NOT(AS881=AS882),AS882,\"\")","v":""},{"$f":"INDEX($AB$15:$AM$15,MATCH($AS881,$AB$11:$AM$11,0))","v":"in"},{"$f":"LEFT(AT881,4)","v":"2003"},{"$f":"LEFT(B881,6)","v":"200305"}]
[null,{"$f":"'Market Data'!B874","v":20030606},{"$f":"'Market Data'!C874","v":4346.5},{"$f":"'Market Data'!D874","v":4412.5},{"$f":"'Market Data'!E874","v":4336.5},{"$f":"'Market Data'!F874","v":4392},null,870,{"$f":"IF($H888<($J$6+1),\"\",PFE(OFFSET($F888,0,0,-$J$6)))","v":0.11076900715220439},null,"Long",{"$error":"#N/A"},{"$error":"#N/A"},null,1,0,"",null,1,null,2992.5,89277.38,null,null,null,null,null,null,null,null,null,null,null,null,null,null,null,null,null,null,null,{"$f":"IF(NOT($AS888=$AS889),ROW(),\"\")","v":""},{"$f":"IF(NOT(AS888=AS889),AS889,\"\")","v":""},{"$f":"INDEX($AB$15:$AM$15,MATCH($AS888,$AB$11:$AM$11,0))","v":"in"},{"$f":"LEFT(AT888,4)","v":"2003"},{"$f":"LEFT(B888,6)","v":"200306"}]
[null,{"$f":"'Market Data'!B879","v":20030613},{"$f":"'Market Data'!C879","v":4494},{"$f":"'Market Data'!D879","v":4510.5},{"$f":"'Market Data'!E879","v":4419.5},{"$f":"'Market Data'!F879","v":4425.5},null,875,{"$f":"IF($H893<($J$6+1),\"\",PFE(OFFSET($F893,0,0,-$J$6)))","v":0.13503381997781327},null,"Long",{"$error":"#N/A"},{"$error":"#N/A"},null,1,0,"",null,1,null,-1942.5,90449.88,null,null,null,null,null,null,null,null,null,null,null,null,null,null,null,null,null,null,null,{"$f":"IF(NOT($AS893=$AS894),ROW(),\"\")","v":""},{"$f":"IF(NOT(AS893=AS894),AS894,\"\")","v":""},{"$f":"INDEX($AB$15:$AM$15,MATCH($AS893,$AB$11:$AM$11,0))","v":"in"},{"$f":"LEFT(AT893,4)","v":"2003"},{"$f":"LEFT(B893,6)","v":"200306"}]
[null,{"$f":"'Market Data'!B885","v":20030623},{"$f":"'Market Data'!C885","v":4492},{"$f":"'Market Data'!D885","v":4510},{"$f":"'Market Data'!E885","v":4432},{"$f":"'Market Data'!F885","v":4453.5},null,881,{"$f":"IF($H899<($J$6+1),\"\",PFE(OFFSET($F899,0,0,-$J$6)))","v":0.1244231927366565},null,"Long",{"$error":"#N/A"},{"$error":"#N/A"},null,1,0,"",null,1,null,-1872.5,91429.88,null,null,null,null,null,null,null,null,null,null,null,null,null,null,null,null,null,null,null,{"$f":"IF(NOT($AS899=$AS900),ROW(),\"\")","v":""},{"$f":"IF(NOT(AS899=AS900),AS900,\"\")","v":""},{"$f":"INDEX($AB$15:$AM$15,MATCH($AS899,$AB$11:$AM$11,0))","v":"in"},{"$f":"LEFT(AT899,4)","v":"2003"},{"$f":"LEFT(B899,6)","v":"200306"}]
[null,{"$f":"'Market Data'!B891","v":20030701},{"$f":"'Market Data'!C891","v":4460},{"$f":"'Market Data'!D891","v":4468.5},{"$f":"'Market Data'!E891","v":4378},{"$f":"'Market Data'!F891","v":4410},null,887,{"$f":"IF($H905<($J$6+1),\"\",PFE(OFFSET($F905,0,0,-$J$6)))","v":0.13858132056812034},null,"Long",{"$error":"#N/A"},{"$error":"#N/A"},null,1,0,"",null,1,null,-2222.5,89907.38,null,null,null,null,null,null,null,null,null,null,null,null,null,null,null,null,null,null,null,{"$f":"IF(NOT($AS905=$AS906),ROW(),\"\")","v":""},{"$f":"IF(NOT(AS905=AS906),AS906,\"\")","v":""},{"$f":"INDEX($AB$15:$AM$15,MATCH($AS905,$AB$11:$AM$11,0))","v":"in"},{"$f":"LEFT(AT905,4)","v":"2003"},{"$f":"LEFT(B905,6)","v":"200307"}]
[null,{"$f":"'Market Data'!B894","v":20030704},{"$f":"'Market Data'!C894","v":4488.5},{"$f":"'Market Data'!D894","v":4507.5},{"$f":"'Market Data'!E894","v":4472},{"$f":"'Market Data'!F894","v":4503},null,890,{"$f":"IF($H908<($J$6+1),\"\",PFE(OFFSET($F908,0,0,-$J$6)))","v":0.1862299713314565},null,"Long",{"$error":"#N/A"},{"$error":"#N/A"},null,1,0,"",null,1,null,560,93162.38,null,null,null,null,null,null,null,null,null,null,null,null,null,null,null,null,null,null,null,{"$f":"IF(NOT($AS908=$AS909),ROW(),\"\")","v":""},{"$f":"IF(NOT(AS908=AS909),AS909,\"\")","v":""},{"$f":"INDEX($AB$15:$AM$15,MATCH($AS908,$AB$11:$AM$11,0))","v":"in"},{"$f":"LEFT(AT908,4)","v":"2003"},{"$f":"LEFT(B908,6)","v":"200307"}]
[null,{"$f":"'Market Data'!B898","v":20030710},{"$f":"'Market Data'!C898","v":4572},{"$f":"'Market Data'!D898","v":4578},{"$f":"'Market Data'!E898","v":4512},{"$f":"'Market Data'!F898","v":4526},null,894,{"$f":"IF($H912<($J$6+1),\"\",PFE(OFFSET($F912,0,0,-$J$6)))","v":0.25134541805903149},null,"Long",{"$error":"#N/A"},{"$error":"#N/A"},null,1,0,"",null,1,null,-1995,93967.38,null,null,null,null,null,null,null,null,null,null,null,null,null,null,null,null,null,null,null,{"$f":"IF(NOT($AS912=$AS913),ROW(),\"\")","v":""},{"$f":"IF(NOT(AS912=AS913),AS913,\"\")","v":""},{"$f":"INDEX($AB$15:$AM$15,MATCH($AS912,$AB$11:$AM$11,0))","v":"in"},{"$f":"LEFT(AT912,4)","v":"2003"},{"$f":"LEFT(B912,6)","v":"200307"}]
[null,{"$f":"'Market Data'!B903","v":20030717},{"$f":"'Market Data'!C903","v":4620},{"$f":"'Market Data'!D903","v":4625.5},{"$f":"'Market Data'!E903","v":4570.5},{"$f":"'Market Data'!F903","v":4591.5},null,899,{"$f":"IF($H917<($J$6+1),\"\",PFE(OFFSET($F917,0,0,-$J$6)))","v":0.17723470756087617},null,"Long",{"$error":"#N/A"},{"$error":"#N/A"},null,1,0,"",null,1,null,-1680,96259.88,null,null,null,null,null,null,null,null,null,null,null,null,null,null,null,null,null,null,null,{"$f":"IF(NOT($AS917=$AS918),ROW(),\"\")","v":""},{"$f":"IF(NOT(AS917=AS918),AS918,\"\")","v":""},{"$f":"INDEX($AB$15:$AM$15,MATCH($AS917,$AB$11:$AM$11,0))","v":"in"},{"$f":"LEFT(AT917,4)","v":"2003"},{"$f":"LEFT(B917,6)","v":"200307"}]
[null,{"$f":"'Market Data'!B911","v":20030729},{"$f":"'Market Data'!C911","v":4670},{"$f":"'Market Data'!D911","v":4709.5},{"$f":"'Market Data'!E911","v":4628},{"$f":"'Market Data'!F911","v":4674},null,907,{"$f":"IF($H925<($J$6+1),\"\",PFE(OFFSET($F925,0,0,-$J$6)))","v":0.26228139154213631},null,"Long",{"$error":"#N/A"},{"$error":"#N/A"},null,1,0,"",null,1,null,210,99147.38,null,null,null,null,null,null,null,null,null,null,null,null,null,null,null,null,null,null,null,{"$f":"IF(NOT($AS925=$AS926),ROW(),\"\")","v":""},{"$f":"IF(NOT(AS925=AS926),AS926,\"\")","v":""},{"$f":"INDEX($AB$15:$AM$15,MATCH($AS925,$AB$11:$AM$11,0))","v":"in"},{"$f":"LEFT(AT925,4)","v":"2003"},{"$f":"LEFT(B925,6)","v":"200307"}]
[null,{"$f":"'Market Data'!B915","v":20030804},{"$f":"'Market Data'!C915","v":4672},{"$f":"'Market Data'!D915","v":4720},{"$f":"'Market Data'!E915","v":4617},{"$f":"'Market Data'!F915","v":4652},null,911,{"$f":"IF($H929<($J$6+1),\"\",PFE(OFFSET($F929,0,0,-$J$6)))","v":0.20564028404868806},null,"Long",{"$error":"#N/A"},{"$error":"#N/A"},null,1,0,"",null,1,null,-1225,98377.38,null,null,null,null,null,null,null,null,null,null,null,null,null,null,null,null,null,null,null,{"$f":"IF(NOT($AS929=$AS930),ROW(),\"\")","v":""},{"$f":"IF(NOT(AS929=AS930),AS930,\"\")","v":""},{"$f":"INDEX($AB$15:$AM$15,MATCH($AS929,$AB$11:$AM$11,0))","v":"in"},{"$f":"LEFT(AT929,4)","v":"2003"},{"$f":"LEFT(B929,6)","v":"200308"}]
[null,{"$f":"'Market Data'!B920","v":20030811},{"$f":"'Market Data'!C920","v":4600},{"$f":"'Market Data'!D920","v":4616},{"$f":"'Market Data'!E920","v":4562.5},{"$f":"'Market Data'!F920","v":4591.5},null,916,{"$f":"IF($H934<($J$6+1),\"\",PFE(OFFSET($F934,0,0,-$J$6)))","v":0.17138473526575082},null,"Long",{"$error":"#N/A"},{"$error":"#N/A"},null,1,0,"",null,1,null,647.5,96259.88,null,null,null,null,null,null,null,null,null,null,null,null,null,null,null,null,null,null,null,{"$f":"IF(NOT($AS934=$AS935),ROW(),\"\")","v":""},{"$f":"IF(NOT(AS934=AS935),AS935,\"\")","v":""},{"$f":"INDEX($AB$15:$AM$15,MATCH($AS934,$AB$11:$AM$11,0))","v":"in"},{"$f":"LEFT(AT934,4)","v":"2003"},{"$f":"LEFT(B934,6)","v":"200308"}]
[null,{"$f":"'Market Data'!B926","v":20030819},{"$f":"'Market Data'!C926","v":4781.5},{"$f":"'Market Data'!D926","v":4802.5},{"$f":"'Market Data'!E926","v":4736.5},{"$f":"'Market Data'!F926","v":4751},null,922,{"$f":"IF($H940<($J$6+1),\"\",PFE(OFFSET($F940,0,0,-$J$6)))","v":0.15434788618814516},null,"Long",{"$error":"#N/A"},{"$error":"#N/A"},null,1,0,"",null,1,null,-280,101842.38,null,null,null,null,null,null,null,null,null,null,null,null,null,null,null,null,null,null,null,{"$f":"IF(NOT($AS940=$AS941),ROW(),\"\")","v":""},{"$f":"IF(NOT(AS940=AS941),AS941,\"\")","v":""},{"$f":"INDEX($AB$15:$AM$15,MATCH($AS940,$AB$11:$AM$11,0))","v":"in"},{"$f":"LEFT(AT940,4)","v":"2003"},{"$f":"LEFT(B940,6)","v":"200308"}]
[null,{"$f":"'Market Data'!B932","v":20030827},{"$f":"'Market Data'!C932","v":4733},{"$f":"'Market Data'!D932","v":4743},{"$f":"'Market Data'!E932","v":4700.5},{"$f":"'Market Data'!F932","v":4736},null,928,{"$f":"IF($H946<($J$6+1),\"\",PFE(OFFSET($F946,0,0,-$J$6)))","v":0.1489430304424855},null,"Long",{"$error":"#N/A"},{"$error":"#N/A"},null,1,0,"",null,1,null,1190,101317.38,null,null,null,null,null,null,null,null,null,null,null,null,null,null,null,null,null,null,null,{"$f":"IF(NOT($AS946=$AS947),ROW(),\"\")","v":""},{"$f":"IF(NOT(AS946=AS947),AS947,\"\")","v":""},{"$f":"INDEX($AB$15:$AM$15,MATCH($AS946,$AB$11:$AM$11,0))","v":"in"},{"$f":"LEFT(AT946,4)","v":"2003"},{"$f":"LEFT(B946,6)","v":"200308"}]
[null,{"$f":"'Market Data'!B937","v":20030903},{"$f":"'Market Data'!C937","v":4848},{"$f":"'Market Data'!D937","v":4905.5},{"$f":"'Market Data'!E937","v":4848},{"$f":"'Market Data'!F937","v":4898.5},null,933,{"$f":"IF($H951<($J$6+1),\"\",PFE(OFFSET($F951,0,0,-$J$6)))","v":0.2149387989889153},null,"Long",{"$error":"#N/A"},{"$error":"#N/A"},null,1,0,"",null,1,null,2957.5,107004.88,null,null,null,null,null,null,null,null,null,null,null,null,null,null,null,null,null,null,null,{"$f":"IF(NOT($AS951=$AS952),ROW(),\"\")","v":""},{"$f":"IF(NOT(AS951=AS952),AS952,\"\")","v":""},{"$f":"INDEX($AB$15:$AM$15,MATCH($AS951,$AB$11:$AM$11,0))","v":"in"},{"$f":"LEFT(AT951,4)","v":"2003"},{"$f":"LEFT(B951,6)","v":"200309"}]
[null,{"$f":"'Market Data'!B944","v":20030912},{"$f":"'Market Data'!C944","v":4810},{"$f":"'Market Data'!D944","v":4821},{"$f":"'Market Data'!E944","v":4717.5},{"$f":"'Market Data'!F944","v":4739.5},null,940,{"$f":"IF($H958<($J$6+1),\"\",PFE(OFFSET($F958,0,0,-$J$6)))","v":0.19532245120063768},null,"Long",{"$error":"#N/A"},{"$error":"#N/A"},null,1,0,"",null,1,null,-2362.5,101439.88,null,null,null,null,null,null,null,null,null,null,null,null,null,null,null,null,null,null,null,{"$f":"IF(NOT($AS958=$AS959),ROW(),\"\")","v":""},{"$f":"IF(NOT(AS958=AS959),AS959,\"\")","v":""},{"$f":"INDEX($AB$15:$AM$15,MATCH($AS958,$AB$11:$AM$11,0))","v":"in"},{"$f":"LEFT(AT958,4)","v":"2003"},{"$f":"LEFT(B958,6)","v":"200309"}]
[null,{"$f":"'Market Data'!B946","v":20030916},{"$f":"'Market Data'!C946","v":4775},{"$f":"'Market Data'!D946","v":4816.5},{"$f":"'Market Data'!E946","v":4753.5},{"$f":"'Market Data'!F946","v":4810.5},null,942,{"$f":"IF($H960<($J$6+1),\"\",PFE(OFFSET($F960,0,0,-$J$6)))","v":0.21316680647715677},null,"Long",{"$error":"#N/A"},{"$error":"#N/A"},null,1,0,"",null,1,null,1522.5,103924.88,null,null,null,null,null,null,null,null,null,null,null,null,null,null,null,null,null,null,null,{"$f":"IF(NOT($AS960=$AS961),ROW(),\"\")","v":""},{"$f":"IF(NOT(AS960=AS961),AS961,\"\")","v":""},{"$f":"INDEX($AB$15:$AM$15,MATCH($AS960,$AB$11:$AM$11,0))","v":"in"},{"$f":"LEFT(AT960,4)","v":"2003"},{"$f":"LEFT(B960,6)","v":"200309"}]
[null,{"$f":"'Market Data'!B955","v":20030929},{"$f":"'Market Data'!C955","v":4553},{"$f":"'Market Data'!D955","v":4605},{"$f":"'Market Data'!E955","v":4521},{"$f":"'Market Data'!F955","v":4551},null,951,{"$f":"IF($H969<($J$6+1),\"\",PFE(OFFSET($F969,0,0,-$J$6)))","v":6.90497632997778E-2},null,"Long",{"$error":"#N/A"},{"$error":"#N/A"},null,1,0,"",null,1,null,-630,94842.38,null,null,null,null,null,null,null,null,null,null,null,null,null,null,null,null,null,null,null,{"$f":"IF(NOT($AS969=$AS970),ROW(),\"\")","v":""},{"$f":"IF(NOT(AS969=AS970),AS970,\"\")","v":""},{"$f":"INDEX($AB$15:$AM$15,MATCH($AS969,$AB$11:$AM$11,0))","v":"in"},{"$f":"LEFT(AT969,4)","v":"2003"},{"$f":"LEFT(B969,6)","v":"200309"}]
[null,{"$f":"'Market Data'!B961","v":20031007},{"$f":"'Market Data'!C961","v":4654},{"$f":"'Market Data'!D961","v":4655},{"$f":"'Market Data'!E961","v":4571.5},{"$f":"'Market Data'!F961","v":4590.5},null,957,{"$f":"IF($H975<($J$6+1),\"\",PFE(OFFSET($F975,0,0,-$J$6)))","v":4.0091788295279804E-2},null,"Long",{"$error":"#N/A"},{"$error":"#N/A"},null,1,0,"",null,1,null,-1977.5,96224.88,null,null,null,null,null,null,null,null,null,null,null,null,null,null,null,null,null,null,null,{"$f":"IF(NOT($AS975=$AS976),ROW(),\"\")","v":""},{"$f":"IF(NOT(AS975=AS976),AS976,\"\")","v":""},{"$f":"INDEX($AB$15:$AM$15,MATCH($AS975,$AB$11:$AM$11,0))","v":"in"},{"$f":"LEFT(AT975,4)","v":"2003"},{"$f":"LEFT(B975,6)","v":"200310"}]
[null,{"$f":"'Market Data'!B963","v":20031009},{"$f":"'Market Data'!C963","v":4653},{"$f":"'Market Data'!D963","v":4733},{"$f":"'Market Data'!E963","v":4627},{"$f":"'Market Data'!F963","v":4721.5},null,959,{"$f":"IF($H977<($J$6+1),\"\",PFE(OFFSET($F977,0,0,-$J$6)))","v":6.2553502521023874E-2},null,"Long",{"$error":"#N/A"},{"$error":"#N/A"},null,1,{"$f":"$O977-S977","v":0},"",null,1,null,2887.5,100809.88,null,null,null,null,null,null,null,null,null,null,null,null,null,null,null,null,null,null,null,{"$f":"IF(NOT($AS977=$AS978),ROW(),\"\")","v":""},{"$f":"IF(NOT(AS977=AS978),AS978,\"\")","v":""},{"$f":"INDEX($AB$15:$AM$15,MATCH($AS977,$AB$11:$AM$11,0))","v":"in"},{"$f":"LEFT(AT977,4)","v":"2003"},{"$f":"LEFT(B977,6)","v":"200310"}]
[null,{"$f":"'Market Data'!B972","v":20031022},{"$f":"'Market Data'!C972","v":4796},{"$f":"'Market Data'!D972","v":4811},{"$f":"'Market Data'!E972","v":4725.5},{"$f":"'Market Data'!F972","v":4730},null,968,{"$f":"IF($H986<($J$6+1),\"\",PFE(OFFSET($F986,0,0,-$J$6)))","v":8.0071905238328051E-2},null,"Long",{"$error":"#N/A"},{"$error":"#N/A"},null,1,0,"",null,1,null,-3220,101107.38,null,null,null,null,null,null,null,null,null,null,null,null,null,null,null,null,null,null,null,{"$f":"IF(NOT($AS986=$AS987),ROW(),\"\")","v":""},{"$f":"IF(NOT(AS986=AS987),AS987,\"\")","v":""},{"$f":"INDEX($AB$15:$AM$15,MATCH($AS986,$AB$11:$AM$11,0))","v":"in"},{"$f":"LEFT(AT986,4)","v":"2003"},{"$f":"LEFT(B986,6)","v":"200310"}]
[null,{"$f":"'Market Data'!B978","v":20031030},{"$f":"'Market Data'!C978","v":4855},{"$f":"'Market Data'!D978","v":4913},{"$f":"'Market Data'!E978","v":4818.5},{"$f":"'Market Data'!F978","v":4884.5},null,974,{"$f":"IF($H992<($J$6+1),\"\",PFE(OFFSET($F992,0,0,-$J$6)))","v":8.5019398289362391E-2},null,"Long",{"$error":"#N/A"},{"$error":"#N/A"},null,1,0,"",null,1,null,875,106514.88,null,null,null,null,null,null,null,null,null,null,null,null,null,null,null,null,null,null,null,{"$f":"IF(NOT($AS992=$AS993),ROW(),\"\")","v":""},{"$f":"IF(NOT(AS992=AS993),AS993,\"\")","v":""},{"$f":"INDEX($AB$15:$AM$15,MATCH($AS992,$AB$11:$AM$11,0))","v":"in"},{"$f":"LEFT(AT992,4)","v":"2003"},{"$f":"LEFT(B992,6)","v":"200310"}]
[null,{"$f":"'Market Data'!B979","v":20031031},{"$f":"'Market Data'!C979","v":4864},{"$f":"'Market Data'!D979","v":4897.5},{"$f":"'Market Data'!E979","v":4847},{"$f":"'Market Data'!F979","v":4885},null,975,{"$f":"IF($H993<($J$6+1),\"\",PFE(OFFSET($F993,0,0,-$J$6)))","v":8.9627685755094749E-2},null,"Long",{"$error":"#N/A"},{"$error":"#N/A"},null,1,0,"",null,1,null,17.5,106532.38,null,null,null,null,null,null,null,null,null,null,null,null,null,null,null,null,null,null,null,{"$f":"IF(NOT($AS993=$AS994),ROW(),\"\")","v":""},{"$f":"IF(NOT(AS993=AS994),AS994,\"\")","v":""},{"$f":"INDEX($AB$15:$AM$15,MATCH($AS993,$AB$11:$AM$11,0))","v":"in"},{"$f":"LEFT(AT993,4)","v":"2003"},{"$f":"LEFT(B993,6)","v":"200310"}]
[null,{"$f":"'Market Data'!B985","v":20031110},{"$f":"'Market Data'!C985","v":4995},{"$f":"'Market Data'!D985","v":5025},{"$f":"'Market Data'!E985","v":4968.5},{"$f":"'Market Data'!F985","v":4989.5},null,981,{"$f":"IF($H999<($J$6+1),\"\",PFE(OFFSET($F999,0,0,-$J$6)))","v":0.10672135815180889},null,"Long",{"$error":"#N/A"},{"$error":"#N/A"},null,1,0,"",null,1,null,-962.5,110189.88,null,null,null,null,null,null,null,null,null,null,null,null,null,null,null,null,null,null,null,{"$f":"IF(NOT($AS999=$AS1000),ROW(),\"\")","v":""},{"$f":"IF(NOT(AS999=AS1000),AS1000,\"\")","v":""},{"$f":"INDEX($AB$15:$AM$15,MATCH($AS999,$AB$11:$AM$11,0))","v":"in"},{"$f":"LEFT(AT999,4)","v":"2003"},{"$f":"LEFT(B999,6)","v":"200311"}]
[null,{"$f":"'Market Data'!B989","v":20031114},{"$f":"'Market Data'!C989","v":4986},{"$f":"'Market Data'!D989","v":5050},{"$f":"'Market Data'!E989","v":4979},{"$f":"'Market Data'!F989","v":5026},null,985,{"$f":"IF($H1003<($J$6+1),\"\",PFE(OFFSET($F1003,0,0,-$J$6)))","v":0.14386577940008941},null,"Long",{"$error":"#N/A"},{"$error":"#N/A"},null,1,0,"",null,1,null,997.5,111467.38,null,null,null,null,null,null,null,null,null,null,null,null,null,null,null,null,null,null,null,{"$f":"IF(NOT($AS1003=$AS1004),ROW(),\"\")","v":""},{"$f":"IF(NOT(AS1003=AS1004),AS1004,\"\")","v":""},{"$f":"INDEX($AB$15:$AM$15,MATCH($AS1003,$AB$11:$AM$11,0))","v":"in"},{"$f":"LEFT(AT1003,4)","v":"2003"},{"$f":"LEFT(B1003,6)","v":"200311"}]
[null,{"$f":"'Market Data'!B996","v":20031125},{"$f":"'Market Data'!C996","v":4969.5},{"$f":"'Market Data'!D996","v":5001},{"$f":"'Market Data'!E996","v":4958.5},{"$f":"'Market Data'!F996","v":4971},null,992,{"$f":"IF($H1010<($J$6+1),\"\",PFE(OFFSET($F1010,0,0,-$J$6)))","v":7.6092754618564948E-2},null,"Long",{"$error":"#N/A"},{"$error":"#N/A"},null,1,0,"",null,1,null,-297.5,109542.38,null,null,null,null,null,null,null,null,null,null,null,null,null,null,null,null,null,null,null,{"$f":"IF(NOT($AS1010=$AS1011),ROW(),\"\")","v":""},{"$f":"IF(NOT(AS1010=AS1011),AS1011,\"\")","v":""},{"$f":"INDEX($AB$15:$AM$15,MATCH($AS1010,$AB$11:$AM$11,0))","v":"in"},{"$f":"LEFT(AT1010,4)","v":"2003"},{"$f":"LEFT(B1010,6)","v":"200311"}]
[null,{"$f":"'Market Data'!B1004","v":20031205},{"$f":"'Market Data'!C1004","v":5083.5},{"$f":"'Market Data'!D1004","v":5104.5},{"$f":"'Market Data'!E1004","v":5041.5},{"$f":"'Market Data'!F1004","v":5054.5},null,1000,{"$f":"IF($H1018<($J$6+1),\"\",PFE(OFFSET($F1018,0,0,-$J$6)))","v":0.12583023262110746},null,"Long",{"$error":"#N/A"},{"$error":"#N/A"},null,1,0,"",null,1,null,-1015,112464.88,null,null,null,null,null,null,null,null,null,null,null,null,null,null,null,null,null,null,null,{"$f":"IF(NOT($AS1018=$AS1019),ROW(),\"\")","v":""},{"$f":"IF(NOT(AS1018=AS1019),AS1019,\"\")","v":""},{"$f":"INDEX($AB$15:$AM$15,MATCH($AS1018,$AB$11:$AM$11,0))","v":"in"},{"$f":"LEFT(AT1018,4)","v":"2003"},{"$f":"LEFT(B1018,6)","v":"200312"}]
[null,{"$f":"'Market Data'!B1008","v":20031211},{"$f":"'Market Data'!C1008","v":5066.5},{"$f":"'Market Data'!D1008","v":5093.5},{"$f":"'Market Data'!E1008","v":5054},{"$f":"'Market Data'!F1008","v":5083},null,1004,{"$f":"IF($H1022<($J$6+1),\"\",PFE(OFFSET($F1022,0,0,-$J$6)))","v":0.10054184114619065},null,"Long",{"$error":"#N/A"},{"$error":"#N/A"},null,1,0,"",null,1,null,910,113462.38,null,null,null,null,null,null,null,null,null,null,null,null,null,null,null,null,null,null,null,{"$f":"IF(NOT($AS1022=$AS1023),ROW(),\"\")","v":""},{"$f":"IF(NOT(AS1022=AS1023),AS1023,\"\")","v":""},{"$f":"INDEX($AB$15:$AM$15,MATCH($AS1022,$AB$11:$AM$11,0))","v":"in"},{"$f":"LEFT(AT1022,4)","v":"2003"},{"$f":"LEFT(B1022,6)","v":"200312"}]
[null,{"$f":"'Market Data'!B1014","v":20031219},{"$f":"'Market Data'!C1014","v":5118},{"$f":"'Market Data'!D1014","v":5133},{"$f":"'Market Data'!E1014","v":5096.5},{"$f":"'Market Data'!F1014","v":5105.5},null,1010,{"$f":"IF($H1028<($J$6+1),\"\",PFE(OFFSET($F1028,0,0,-$J$6)))","v":0.12424898527090776},null,"Long",{"$error":"#N/A"},{"$error":"#N/A"},null,1,0,"",null,1,null,-70,114249.88,null,null,null,null,null,null,null,null,null,null,null,null,null,null,null,null,null,null,null,{"$f":"IF(NOT($AS1028=$AS1029),ROW(),\"\")","v":""},{"$f":"IF(NOT(AS1028=AS1029),AS1029,\"\")","v":""},{"$f":"INDEX($AB$15:$AM$15,MATCH($AS1028,$AB$11:$AM$11,0))","v":"in"},{"$f":"LEFT(AT1028,4)","v":"2003"},{"$f":"LEFT(B1028,6)","v":"200312"}]
[null,{"$f":"'Market Data'!B1021","v":20040106},{"$f":"'Market Data'!C1021","v":5268.5},{"$f":"'Market Data'!D1021","v":5276},{"$f":"'Market Data'!E1021","v":5225},{"$f":"'Market Data'!F1021","v":5265},null,1017,{"$f":"IF($H1035<($J$6+1),\"\",PFE(OFFSET($F1035,0,0,-$J$6)))","v":0.1108374324997156},null,"Long",{"$error":"#N/A"},{"$error":"#N/A"},null,1,0,"",null,1,null,-157.5,119832.38,null,null,null,null,null,null,null,null,null,null,null,null,null,null,null,null,null,null,null,{"$f":"IF(NOT($AS1035=$AS1036),ROW(),\"\")","v":""},{"$f":"IF(NOT(AS1035=AS1036),AS1036,\"\")","v":""},{"$f":"INDEX($AB$15:$AM$15,MATCH($AS1035,$AB$11:$AM$11,0))","v":"in"},{"$f":"LEFT(AT1035,4)","v":"2004"},{"$f":"LEFT(B1035,6)","v":"200401"}]
[null,{"$f":"'Market Data'!B1025","v":20040112},{"$f":"'Market Data'!C1025","v":5217.5},{"$f":"'Market Data'!D1025","v":5231},{"$f":"'Market Data'!E1025","v":5201.5},{"$f":"'Market Data'!F1025","v":5219.5},null,1021,{"$f":"IF($H1039<($J$6+1),\"\",PFE(OFFSET($F1039,0,0,-$J$6)))","v":0.14089594155306479},null,"Long",{"$error":"#N/A"},{"$error":"#N/A"},null,1,0,"",null,1,null,-647.5,118239.88,null,null,null,null,null,null,null,null,null,null,null,null,null,null,null,null,null,null,null,{"$f":"IF(NOT($AS1039=$AS1040),ROW(),\"\")","v":""},{"$f":"IF(NOT(AS1039=AS1040),AS1040,\"\")","v":""},{"$f":"INDEX($AB$15:$AM$15,MATCH($AS1039,$AB$11:$AM$11,0))","v":"in"},{"$f":"LEFT(AT1039,4)","v":"2004"},{"$f":"LEFT(B1039,6)","v":"200401"}]
[null,{"$f":"'Market Data'!B1030","v":20040119},{"$f":"'Market Data'!C1030","v":5339.5},{"$f":"'Market Data'!D1030","v":5372},{"$f":"'Market Data'!E1030","v":5339},{"$f":"'Market Data'!F1030","v":5361.5},null,{"$f":"ROW()-ROW(H$18)","v":1026},{"$f":"IF($H1044<($J$6+1),\"\",PFE(OFFSET($F1044,0,0,-$J$6)))","v":0.18205193678705001},null,{"$f":"IF($I1044=\"\",\"\",IF($I1044>$J$4,\"Long\",IF($I1044<$J$5,\"Short\",\"\")))","v":"Long"},{"$error":"#N/A"},{"$error":"#N/A"},null,{"$f":"IF($K1044=\"Short\",-1,IF($K1044=\"Long\",1,0))","v":1},0,"",null,1,null,892.5,123209.88,null,null,null,null,null,null,null,null,null,null,null,null,null,null,null,null,null,null,null,{"$f":"IF(NOT($AS1044=$AS1045),ROW(),\"\")","v":""},{"$f":"IF(NOT(AS1044=AS1045),AS1045,\"\")","v":""},{"$f":"INDEX($AB$15:$AM$15,MATCH($AS1044,$AB$11:$AM$11,0))","v":"in"},{"$f":"LEFT(AT1044,4)","v":"2004"},{"$f":"LEFT(B1044,6)","v":"200401"}]
[null,{"$f":"'Market Data'!B1037","v":20040128},{"$f":"'Market Data'!C1037","v":5326.5},{"$f":"'Market Data'!D1037","v":5377},{"$f":"'Market Data'!E1037","v":5322},{"$f":"'Market Data'!F1037","v":5372.5},null,1033,{"$f":"IF($H1051<($J$6+1),\"\",PFE(OFFSET($F1051,0,0,-$J$6)))","v":0.28881954661013298},null,"Long",{"$error":"#N/A"},{"$error":"#N/A"},null,1,0,"",null,1,null,665,123594.88,null,null,null,null,null,null,null,null,null,null,null,null,null,null,null,null,null,null,null,{"$f":"IF(NOT($AS1051=$AS1052),ROW(),\"\")","v":""},{"$f":"IF(NOT(AS1051=AS1052),AS1052,\"\")","v":""},{"$f":"INDEX($AB$15:$AM$15,MATCH($AS1051,$AB$11:$AM$11,0))","v":"in"},{"$f":"LEFT(AT1051,4)","v":"2004"},{"$f":"LEFT(B1051,6)","v":"200401"}]
[null,{"$f":"'Market Data'!B1041","v":20040203},{"$f":"'Market Data'!C1041","v":5295.5},{"$f":"'Market Data'!D1041","v":5296.5},{"$f":"'Market Data'!E1041","v":5235},{"$f":"'Market Data'!F1041","v":5266},null,1037,{"$f":"IF($H1055<($J$6+1),\"\",PFE(OFFSET($F1055,0,0,-$J$6)))","v":0.26645841269648973},null,"Long",{"$error":"#N/A"},{"$error":"#N/A"},null,1,0,"",null,1,null,-1855,119867.38,null,null,null,null,null,null,null,null,null,null,null,null,null,null,null,null,null,null,null,{"$f":"IF(NOT($AS1055=$AS1056),ROW(),\"\")","v":""},{"$f":"IF(NOT(AS1055=AS1056),AS1056,\"\")","v":""},{"$f":"INDEX($AB$15:$AM$15,MATCH($AS1055,$AB$11:$AM$11,0))","v":"in"},{"$f":"LEFT(AT1055,4)","v":"2004"},{"$f":"LEFT(B1055,6)","v":"200402"}]
[null,{"$f":"'Market Data'!B1044","v":20040206},{"$f":"'Market Data'!C1044","v":5245.5},{"$f":"'Market Data'!D1044","v":5270.5},{"$f":"'Market Data'!E1044","v":5222},{"$f":"'Market Data'!F1044","v":5254},null,1040,{"$f":"IF($H1058<($J$6+1),\"\",PFE(OFFSET($F1058,0,0,-$J$6)))","v":0.25224598118541525},null,"Long",{"$error":"#N/A"},{"$error":"#N/A"},null,1,0,"",null,1,null,367.5,119447.38,null,null,null,null,null,null,null,null,null,null,null,null,null,null,null,null,null,null,null,{"$f":"IF(NOT($AS1058=$AS1059),ROW(),\"\")","v":""},{"$f":"IF(NOT(AS1058=AS1059),AS1059,\"\")","v":""},{"$f":"INDEX($AB$15:$AM$15,MATCH($AS1058,$AB$11:$AM$11,0))","v":"in"},{"$f":"LEFT(AT1058,4)","v":"2004"},{"$f":"LEFT(B1058,6)","v":"200402"}]
[null,{"$f":"'Market Data'!B1049","v":20040213},{"$f":"'Market Data'!C1049","v":5335.5},{"$f":"'Market Data'!D1049","v":5346.5},{"$f":"'Market Data'!E1049","v":5251.5},{"$f":"'Market Data'!F1049","v":5257.5},null,1045,{"$f":"IF($H1063<($J$6+1),\"\",PFE(OFFSET($F1063,0,0,-$J$6)))","v":0.18561311827997665},null,"Long",{"$error":"#N/A"},{"$error":"#N/A"},null,1,0,"",null,1,null,-2485,119569.88,null,null,null,null,null,null,null,null,null,null,null,null,null,null,null,null,null,null,null,{"$f":"IF(NOT($AS1063=$AS1064),ROW(),\"\")","v":""},{"$f":"IF(NOT(AS1063=AS1064),AS1064,\"\")","v":""},{"$f":"INDEX($AB$15:$AM$15,MATCH($AS1063,$AB$11:$AM$11,0))","v":"in"},{"$f":"LEFT(AT1063,4)","v":"2004"},{"$f":"LEFT(B1063,6)","v":"200402"}]
[null,{"$f":"'Market Data'!B1056","v":20040224},{"$f":"'Market Data'!C1056","v":5270},{"$f":"'Market Data'!D1056","v":5273.5},{"$f":"'Market Data'!E1056","v":5177},{"$f":"'Market Data'!F1056","v":5199.5},null,1052,{"$f":"IF($H1070<($J$6+1),\"\",PFE(OFFSET($F1070,0,0,-$J$6)))","v":0.18049102306351703},null,"Long",{"$error":"#N/A"},{"$error":"#N/A"},null,1,0,"",null,1,null,-2642.5,117539.88,null,null,null,null,null,null,null,null,null,null,null,null,null,null,null,null,null,null,null,{"$f":"IF(NOT($AS1070=$AS1071),ROW(),\"\")","v":""},{"$f":"IF(NOT(AS1070=AS1071),AS1071,\"\")","v":""},{"$f":"INDEX($AB$15:$AM$15,MATCH($AS1070,$AB$11:$AM$11,0))","v":"in"},{"$f":"LEFT(AT1070,4)","v":"2004"},{"$f":"LEFT(B1070,6)","v":"200402"}]
[null,{"$f":"'Market Data'!B1061","v":20040302},{"$f":"'Market Data'!C1061","v":5284.5},{"$f":"'Market Data'!D1061","v":5315},{"$f":"'Market Data'!E1061","v":5277.5},{"$f":"'Market Data'!F1061","v":5289},null,1057,{"$f":"IF($H1075<($J$6+1),\"\",PFE(OFFSET($F1075,0,0,-$J$6)))","v":0.16986336452287257},null,"Long",{"$error":"#N/A"},{"$error":"#N/A"},null,1,0,"",null,1,null,472.5,120672.38,null,null,null,null,null,null,null,null,null,null,null,null,null,null,null,null,null,null,null,{"$f":"IF(NOT($AS1075=$AS1076),ROW(),\"\")","v":""},{"$f":"IF(NOT(AS1075=AS1076),AS1076,\"\")","v":""},{"$f":"INDEX($AB$15:$AM$15,MATCH($AS1075,$AB$11:$AM$11,0))","v":"in"},{"$f":"LEFT(AT1075,4)","v":"2004"},{"$f":"LEFT(B1075,6)","v":"200403"}]
[null,{"$f":"'Market Data'!B1067","v":20040310},{"$f":"'Market Data'!C1067","v":5266.5},{"$f":"'Market Data'!D1067","v":5271},{"$f":"'Market Data'!E1067","v":5221},{"$f":"'Market Data'!F1067","v":5225.5},null,1063,{"$f":"IF($H1081<($J$6+1),\"\",PFE(OFFSET($F1081,0,0,-$J$6)))","v":9.2364097211565785E-2},null,"Long",{"$error":"#N/A"},{"$error":"#N/A"},null,1,0,"",null,1,null,-1260,118449.88,null,null,null,null,null,null,null,null,null,null,null,null,null,null,null,null,null,null,null,{"$f":"IF(NOT($AS1081=$AS1082),ROW(),\"\")","v":""},{"$f":"IF(NOT(AS1081=AS1082),AS1082,\"\")","v":""},{"$f":"INDEX($AB$15:$AM$15,MATCH($AS1081,$AB$11:$AM$11,0))","v":"in"},{"$f":"LEFT(AT1081,4)","v":"2004"},{"$f":"LEFT(B1081,6)","v":"200403"}]
[null,{"$f":"'Market Data'!B1073","v":20040318},{"$f":"'Market Data'!C1073","v":5103.5},{"$f":"'Market Data'!D1073","v":5109},{"$f":"'Market Data'!E1073","v":5002.5},{"$f":"'Market Data'!F1073","v":5036},null,1069,{"$f":"IF($H1087<($J$6+1),\"\",PFE(OFFSET($F1087,0,0,-$J$6)))","v":6.0141289957275808E-2},null,"Long",{"$error":"#N/A"},{"$error":"#N/A"},null,1,0,"",null,1,null,-2327.5,111817.38,null,null,null,null,null,null,null,null,null,null,null,null,null,null,null,null,null,null,null,{"$f":"IF(NOT($AS1087=$AS1088),ROW(),\"\")","v":""},{"$f":"IF(NOT(AS1087=AS1088),AS1088,\"\")","v":""},{"$f":"INDEX($AB$15:$AM$15,MATCH($AS1087,$AB$11:$AM$11,0))","v":"in"},{"$f":"LEFT(AT1087,4)","v":"2004"},{"$f":"LEFT(B1087,6)","v":"200403"}]
[null,{"$f":"'Market Data'!B1078","v":20040325},{"$f":"'Market Data'!C1078","v":4970},{"$f":"'Market Data'!D1078","v":5037.5},{"$f":"'Market Data'!E1078","v":4962.5},{"$f":"'Market Data'!F1078","v":5034},null,1074,{"$f":"IF($H1092<($J$6+1),\"\",PFE(OFFSET($F1092,0,0,-$J$6)))","v":3.8570139449178149E-2},null,"Long",{"$error":"#N/A"},{"$error":"#N/A"},null,1,0,"",null,1,null,2677.5,111747.38,null,null,null,null,null,null,null,null,null,null,null,null,null,null,null,null,null,null,null,{"$f":"IF(NOT($AS1092=$AS1093),ROW(),\"\")","v":""},{"$f":"IF(NOT(AS1092=AS1093),AS1093,\"\")","v":""},{"$f":"INDEX($AB$15:$AM$15,MATCH($AS1092,$AB$11:$AM$11,0))","v":"in"},{"$f":"LEFT(AT1092,4)","v":"2004"},{"$f":"LEFT(B1092,6)","v":"200403"}]
[null,{"$f":"'Market Data'!B1082","v":20040331},{"$f":"'Market Data'!C1082","v":5080},{"$f":"'Market Data'!D1082","v":5105},{"$f":"'Market Data'!E1082","v":5040.5},{"$f":"'Market Data'!F1082","v":5062.5},null,1078,{"$f":"IF($H1096<($J$6+1),\"\",PFE(OFFSET($F1096,0,0,-$J$6)))","v":4.6100561603714174E-2},null,"Long",{"$error":"#N/A"},{"$error":"#N/A"},null,1,0,"",null,1,null,-227.5,112744.88,null,null,null,null,null,null,null,null,null,null,null,null,null,null,null,null,null,null,null,{"$f":"IF(NOT($AS1096=$AS1097),ROW(),\"\")","v":""},{"$f":"IF(NOT(AS1096=AS1097),AS1097,\"\")","v":""},{"$f":"INDEX($AB$15:$AM$15,MATCH($AS1096,$AB$11:$AM$11,0))","v":"in"},{"$f":"LEFT(AT1096,4)","v":"2004"},{"$f":"LEFT(B1096,6)","v":"200403"}]
[null,{"$f":"'Market Data'!B1090","v":20040414},{"$f":"'Market Data'!C1090","v":5231},{"$f":"'Market Data'!D1090","v":5239},{"$f":"'Market Data'!E1090","v":5170},{"$f":"'Market Data'!F1090","v":5219},null,1086,{"$f":"IF($H1104<($J$6+1),\"\",PFE(OFFSET($F1104,0,0,-$J$6)))","v":6.7785034364199415E-2},null,"Long",{"$error":"#N/A"},{"$error":"#N/A"},null,1,0,"",null,1,null,-962.5,118222.38,null,null,null,null,null,null,null,null,null,null,null,null,null,null,null,null,null,null,null,{"$f":"IF(NOT($AS1104=$AS1105),ROW(),\"\")","v":""},{"$f":"IF(NOT(AS1104=AS1105),AS1105,\"\")","v":""},{"$f":"INDEX($AB$15:$AM$15,MATCH($AS1104,$AB$11:$AM$11,0))","v":"in"},{"$f":"LEFT(AT1104,4)","v":"2004"},{"$f":"LEFT(B1104,6)","v":"200404"}]
[null,{"$f":"'Market Data'!B1093","v":20040419},{"$f":"'Market Data'!C1093","v":5220.5},{"$f":"'Market Data'!D1093","v":5239.5},{"$f":"'Market Data'!E1093","v":5193.5},{"$f":"'Market Data'!F1093","v":5230},null,1089,{"$f":"IF($H1107<($J$6+1),\"\",PFE(OFFSET($F1107,0,0,-$J$6)))","v":6.0010540034382408E-2},null,"Long",{"$f":"IF(AND($K1107=\"Long\",$K1106<>\"Long\"),$F1107,NA())","v":{"$error":"#N/A"}},{"$f":"IF(AND($K1107=\"Short\",$K1106<>\"Short\"),$F1107,NA())","v":{"$error":"#N/A"}},null,1,0,{"$f":"IF(NOT($P1107=0),\"Fill\",\"\")","v":""},null,1,null,-350,{"$f":"V1106+U1107","v":118607.38},null,null,null,null,null,null,null,null,null,null,null,null,null,null,null,null,null,null,null,{"$f":"IF(NOT($AS1107=$AS1108),ROW(),\"\")","v":""},{"$f":"IF(NOT(AS1107=AS1108),AS1108,\"\")","v":""},{"$f":"INDEX($AB$15:$AM$15,MATCH($AS1107,$AB$11:$AM$11,0))","v":"in"},{"$f":"LEFT(AT1107,4)","v":"2004"},{"$f":"LEFT(B1107,6)","v":"200404"}]
[null,{"$f":"'Market Data'!B1102","v":20040430},{"$f":"'Market Data'!C1102","v":5173.5},{"$f":"'Market Data'!D1102","v":5206.5},{"$f":"'Market Data'!E1102","v":5160},{"$f":"'Market Data'!F1102","v":5163},null,1098,{"$f":"IF($H1116<($J$6+1),\"\",PFE(OFFSET($F1116,0,0,-$J$6)))","v":-4.3379248499284533E-2},null,"Short",{"$error":"#N/A"},{"$error":"#N/A"},null,-1,0,"",null,-1,null,-321.91999999999996,116815.46,null,null,null,null,null,null,null,null,null,null,null,null,null,null,null,null,null,null,null,{"$f":"IF(NOT($AS1116=$AS1117),ROW(),\"\")","v":""},{"$f":"IF(NOT(AS1116=AS1117),AS1117,\"\")","v":""},{"$f":"INDEX($AB$15:$AM$15,MATCH($AS1116,$AB$11:$AM$11,0))","v":"in"},{"$f":"LEFT(AT1116,4)","v":"2004"},{"$f":"LEFT(B1116,6)","v":"200404"}]
[null,{"$f":"'Market Data'!B1107","v":20040507},{"$f":"'Market Data'!C1107","v":5093},{"$f":"'Market Data'!D1107","v":5122},{"$f":"'Market Data'!E1107","v":5045},{"$f":"'Market Data'!F1107","v":5059.5},null,1103,{"$f":"IF($H1121<($J$6+1),\"\",PFE(OFFSET($F1121,0,0,-$J$6)))","v":-6.7363609884063411E-2},null,"Short",{"$error":"#N/A"},{"$error":"#N/A"},null,-1,0,"",null,-1,null,612.5,120437.96,null,null,null,null,null,null,null,null,null,null,null,null,null,null,null,null,null,null,null,{"$f":"IF(NOT($AS1121=$AS1122),ROW(),\"\")","v":""},{"$f":"IF(NOT(AS1121=AS1122),AS1122,\"\")","v":""},{"$f":"INDEX($AB$15:$AM$15,MATCH($AS1121,$AB$11:$AM$11,0))","v":"in"},{"$f":"LEFT(AT1121,4)","v":"2004"},{"$f":"LEFT(B1121,6)","v":"200405"}]
[null,{"$f":"'Market Data'!B1110","v":20040512},{"$f":"'Market Data'!C1110","v":5043.5},{"$f":"'Market Data'!D1110","v":5045.5},{"$f":"'Market Data'!E1110","v":4938},{"$f":"'Market Data'!F1110","v":4942},null,1106,{"$f":"IF($H1124<($J$6+1),\"\",PFE(OFFSET($F1124,0,0,-$J$6)))","v":-0.11278255847424273},null,"Short",{"$error":"#N/A"},{"$error":"#N/A"},null,-1,0,"",null,-1,null,2870,124550.46,null,null,null,null,null,null,null,null,null,null,null,null,null,null,null,null,null,null,null,{"$f":"IF(NOT($AS1124=$AS1125),ROW(),\"\")","v":""},{"$f":"IF(NOT(AS1124=AS1125),AS1125,\"\")","v":""},{"$f":"INDEX($AB$15:$AM$15,MATCH($AS1124,$AB$11:$AM$11,0))","v":"in"},{"$f":"LEFT(AT1124,4)","v":"2004"},{"$f":"LEFT(B1124,6)","v":"200405"}]
[null,{"$f":"'Market Data'!B1114","v":20040518},{"$f":"'Market Data'!C1114","v":4964},{"$f":"'Market Data'!D1114","v":4989.5},{"$f":"'Market Data'!E1114","v":4946.5},{"$f":"'Market Data'!F1114","v":4967.5},null,1110,{"$f":"IF($H1128<($J$6+1),\"\",PFE(OFFSET($F1128,0,0,-$J$6)))","v":-0.12540956067748416},null,"Short",{"$error":"#N/A"},{"$error":"#N/A"},null,-1,0,"",null,-1,null,-945,123657.96,null,null,null,null,null,null,null,null,null,null,null,null,null,null,null,null,null,null,null,{"$f":"IF(NOT($AS1128=$AS1129),ROW(),\"\")","v":""},{"$f":"IF(NOT(AS1128=AS1129),AS1129,\"\")","v":""},{"$f":"INDEX($AB$15:$AM$15,MATCH($AS1128,$AB$11:$AM$11,0))","v":"in"},{"$f":"LEFT(AT1128,4)","v":"2004"},{"$f":"LEFT(B1128,6)","v":"200405"}]
[null,{"$f":"'Market Data'!B1119","v":20040525},{"$f":"'Market Data'!C1119","v":5026.5},{"$f":"'Market Data'!D1119","v":5062},{"$f":"'Market Data'!E1119","v":4998.5},{"$f":"'Market Data'!F1119","v":5060.5},null,1115,{"$f":"IF($H1133<($J$6+1),\"\",PFE(OFFSET($F1133,0,0,-$J$6)))","v":-9.6080730964542546E-2},null,"Short",{"$error":"#N/A"},{"$error":"#N/A"},null,-1,0,"",null,-1,null,-542.5,120402.96,null,null,null,null,null,null,null,null,null,null,null,null,null,null,null,null,null,null,null,{"$f":"IF(NOT($AS1133=$AS1134),ROW(),\"\")","v":""},{"$f":"IF(NOT(AS1133=AS1134),AS1134,\"\")","v":""},{"$f":"INDEX($AB$15:$AM$15,MATCH($AS1133,$AB$11:$AM$11,0))","v":"in"},{"$f":"LEFT(AT1133,4)","v":"2004"},{"$f":"LEFT(B1133,6)","v":"200405"}]
[null,{"$f":"'Market Data'!B1126","v":20040603},{"$f":"'Market Data'!C1126","v":5082},{"$f":"'Market Data'!D1126","v":5126},{"$f":"'Market Data'!E1126","v":5057.5},{"$f":"'Market Data'!F1126","v":5110},null,1122,{"$f":"IF($H1140<($J$6+1),\"\",PFE(OFFSET($F1140,0,0,-$J$6)))","v":-5.0671495594200512E-2},null,"Short",{"$error":"#N/A"},{"$error":"#N/A"},null,-1,0,"",null,-1,null,-70,118670.46,null,null,null,null,null,null,null,null,null,null,null,null,null,null,null,null,null,null,null,{"$f":"IF(NOT($AS1140=$AS1141),ROW(),\"\")","v":""},{"$f":"IF(NOT(AS1140=AS1141),AS1141,\"\")","v":""},{"$f":"INDEX($AB$15:$AM$15,MATCH($AS1140,$AB$11:$AM$11,0))","v":"in"},{"$f":"LEFT(AT1140,4)","v":"2004"},{"$f":"LEFT(B1140,6)","v":"200406"}]
[null,{"$f":"'Market Data'!B1131","v":20040610},{"$f":"'Market Data'!C1131","v":5184},{"$f":"'Market Data'!D1131","v":5216},{"$f":"'Market Data'!E1131","v":5179},{"$f":"'Market Data'!F1131","v":5203.5},null,1127,{"$f":"IF($H1145<($J$6+1),\"\",PFE(OFFSET($F1145,0,0,-$J$6)))","v":-4.7696818004435849E-2},null,"Short",{"$error":"#N/A"},{"$error":"#N/A"},null,-1,0,"",null,-1,null,-927.5,115397.96,null,null,null,null,null,null,null,null,null,null,null,null,null,null,null,null,null,null,null,{"$f":"IF(NOT($AS1145=$AS1146),ROW(),\"\")","v":""},{"$f":"IF(NOT(AS1145=AS1146),AS1146,\"\")","v":""},{"$f":"INDEX($AB$15:$AM$15,MATCH($AS1145,$AB$11:$AM$11,0))","v":"in"},{"$f":"LEFT(AT1145,4)","v":"2004"},{"$f":"LEFT(B1145,6)","v":"200406"}]
[null,{"$f":"'Market Data'!B1136","v":20040617},{"$f":"'Market Data'!C1136","v":5183.5},{"$f":"'Market Data'!D1136","v":5205.5},{"$f":"'Market Data'!E1136","v":5156},{"$f":"'Market Data'!F1136","v":5181},null,1132,{"$f":"IF($H1150<($J$6+1),\"\",PFE(OFFSET($F1150,0,0,-$J$6)))","v":-5.9963194093165806E-2},null,"Short",{"$error":"#N/A"},{"$error":"#N/A"},null,-1,0,"",null,-1,null,227.5,116185.46,null,null,null,null,null,null,null,null,null,null,null,null,null,null,null,null,null,null,null,{"$f":"IF(NOT($AS1150=$AS1151),ROW(),\"\")","v":""},{"$f":"IF(NOT(AS1150=AS1151),AS1151,\"\")","v":""},{"$f":"INDEX($AB$15:$AM$15,MATCH($AS1150,$AB$11:$AM$11,0))","v":"in"},{"$f":"LEFT(AT1150,4)","v":"2004"},{"$f":"LEFT(B1150,6)","v":"200406"}]
[null,{"$f":"'Market Data'!B1143","v":20040628},{"$f":"'Market Data'!C1143","v":5202.5},{"$f":"'Market Data'!D1143","v":5271},{"$f":"'Market Data'!E1143","v":5187},{"$f":"'Market Data'!F1143","v":5256.5},null,1139,{"$f":"IF($H1157<($J$6+1),\"\",PFE(OFFSET($F1157,0,0,-$J$6)))","v":-2.7241355066713838E-2},null,"Short",{"$error":"#N/A"},{"$error":"#N/A"},null,-1,0,"",null,-1,null,-2415,113542.96,null,null,null,null,null,null,null,null,null,null,null,null,null,null,null,null,null,null,null,{"$f":"IF(NOT($AS1157=$AS1158),ROW(),\"\")","v":""},{"$f":"IF(NOT(AS1157=AS1158),AS1158,\"\")","v":""},{"$f":"INDEX($AB$15:$AM$15,MATCH($AS1157,$AB$11:$AM$11,0))","v":"in"},{"$f":"LEFT(AT1157,4)","v":"2004"},{"$f":"LEFT(B1157,6)","v":"200406"}]
[null,{"$f":"'Market Data'!B1151","v":20040708},{"$f":"'Market Data'!C1151","v":5093.5},{"$f":"'Market Data'!D1151","v":5117},{"$f":"'Market Data'!E1151","v":5073.5},{"$f":"'Market Data'!F1151","v":5093},null,1147,{"$f":"IF($H1165<($J$6+1),\"\",PFE(OFFSET($F1165,0,0,-$J$6)))","v":-3.079752138137876E-2},null,"Short",{"$error":"#N/A"},{"$error":"#N/A"},null,-1,0,"",null,-1,null,1260,119265.46,null,null,null,null,null,null,null,null,null,null,null,null,null,null,null,null,null,null,null,{"$f":"IF(NOT($AS1165=$AS1166),ROW(),\"\")","v":""},{"$f":"IF(NOT(AS1165=AS1166),AS1166,\"\")","v":""},{"$f":"INDEX($AB$15:$AM$15,MATCH($AS1165,$AB$11:$AM$11,0))","v":"in"},{"$f":"LEFT(AT1165,4)","v":"2004"},{"$f":"LEFT(B1165,6)","v":"200407"}]
[null,{"$f":"'Market Data'!B1154","v":20040713},{"$f":"'Market Data'!C1154","v":5087.5},{"$f":"'Market Data'!D1154","v":5098.5},{"$f":"'Market Data'!E1154","v":5069.5},{"$f":"'Market Data'!F1154","v":5084.5},null,1150,{"$f":"IF($H1168<($J$6+1),\"\",PFE(OFFSET($F1168,0,0,-$J$6)))","v":3.6790650472044793E-2},null,"Long",{"$error":"#N/A"},{"$error":"#N/A"},null,1,0,"",null,1,null,-951.92,119171.04000000001,null,null,null,null,null,null,null,null,null,null,null,null,null,null,null,null,null,null,null,{"$f":"IF(NOT($AS1168=$AS1169),ROW(),\"\")","v":""},{"$f":"IF(NOT(AS1168=AS1169),AS1169,\"\")","v":""},{"$f":"INDEX($AB$15:$AM$15,MATCH($AS1168,$AB$11:$AM$11,0))","v":"in"},{"$f":"LEFT(AT1168,4)","v":"2004"},{"$f":"LEFT(B1168,6)","v":"200407"}]
[null,{"$f":"'Market Data'!B1160","v":20040721},{"$f":"'Market Data'!C1160","v":5042.5},{"$f":"'Market Data'!D1160","v":5076.5},{"$f":"'Market Data'!E1160","v":5031},{"$f":"'Market Data'!F1160","v":5032},null,1156,{"$f":"IF($H1174<($J$6+1),\"\",PFE(OFFSET($F1174,0,0,-$J$6)))","v":4.0157940765688703E-2},null,"Long",{"$error":"#N/A"},{"$error":"#N/A"},null,1,0,"",null,1,null,{"$f":"IF(OR($S1173&$O1173=\"01\",$S1173&$O1173=\"0-1\"),(($F1174-$C1174)*$V$4*$O1173)-(ABS($P1173)*$V$5),IF(OR($S1173&$O1173=\"10\",$S1173&$O1173=\"-10\"),(($C1174-$F1173)*$V$4*$S1173)-(ABS($P1173)*$V$5),IF(OR($S1173&$O1173=\"1-1\",$S1173&$O1173=\"-11\"),(($C1174-$F1173)*$V$4*$S1173)-(ABS($P1173)*$V$5)+(($F1174-$C1174)*$V$4*$S1174),IF(OR($S1173&$O1173=\"11\",$S1173&$O1173=\"-1-1\"),(($F1174-$F1173)*$V$4*$S1174),0))))","v":367.5},121960.86000000002,null,null,null,null,null,null,null,null,null,null,null,null,null,null,null,null,null,null,null,{"$f":"IF(NOT($AS1174=$AS1175),ROW(),\"\")","v":""},{"$f":"IF(NOT(AS1174=AS1175),AS1175,\"\")","v":""},{"$f":"INDEX($AB$15:$AM$15,MATCH($AS1174,$AB$11:$AM$11,0))","v":"in"},{"$f":"LEFT(AT1174,4)","v":"2004"},{"$f":"LEFT(B1174,6)","v":"200407"}]
[null,{"$f":"'Market Data'!B1166","v":20040729},{"$f":"'Market Data'!C1166","v":5005},{"$f":"'Market Data'!D1166","v":5081.5},{"$f":"'Market Data'!E1166","v":5000.5},{"$f":"'Market Data'!F1166","v":5067},null,1162,{"$f":"IF($H1180<($J$6+1),\"\",PFE(OFFSET($F1180,0,0,-$J$6)))","v":-3.6025092825024745E-2},null,"Short",{"$error":"#N/A"},{"$error":"#N/A"},null,-1,0,"",null,-1,null,-3167.5,117508.94000000002,null,null,null,null,null,null,null,null,null,null,null,null,null,null,null,null,null,null,null,{"$f":"IF(NOT($AS1180=$AS1181),ROW(),\"\")","v":""},{"$f":"IF(NOT(AS1180=AS1181),AS1181,\"\")","v":""},{"$f":"INDEX($AB$15:$AM$15,MATCH($AS1180,$AB$11:$AM$11,0))","v":"in"},{"$f":"LEFT(AT1180,4)","v":"2004"},{"$f":"LEFT(B1180,6)","v":"200407"}]
[null,{"$f":"'Market Data'!B1172","v":20040806},{"$f":"'Market Data'!C1172","v":4943.5},{"$f":"'Market Data'!D1172","v":4959.5},{"$f":"'Market Data'!E1172","v":4883.5},{"$f":"'Market Data'!F1172","v":4887.5},null,1168,{"$f":"IF($H1186<($J$6+1),\"\",PFE(OFFSET($F1186,0,0,-$J$6)))","v":-0.13295706304639374},null,"Short",{"$error":"#N/A"},{"$error":"#N/A"},null,-1,0,"",null,-1,null,3325,123791.44000000002,null,null,null,null,null,null,null,null,null,null,null,null,null,null,null,null,null,null,null,{"$f":"IF(NOT($AS1186=$AS1187),ROW(),\"\")","v":""},{"$f":"IF(NOT(AS1186=AS1187),AS1187,\"\")","v":""},{"$f":"INDEX($AB$15:$AM$15,MATCH($AS1186,$AB$11:$AM$11,0))","v":"in"},{"$f":"LEFT(AT1186,4)","v":"2004"},{"$f":"LEFT(B1186,6)","v":"200408"}]
[null,{"$f":"'Market Data'!B1177","v":20040813},{"$f":"'Market Data'!C1177","v":4800.5},{"$f":"'Market Data'!D1177","v":4833},{"$f":"'Market Data'!E1177","v":4789.5},{"$f":"'Market Data'!F1177","v":4818},null,1173,{"$f":"IF($H1191<($J$6+1),\"\",PFE(OFFSET($F1191,0,0,-$J$6)))","v":-0.16194015513768648},null,"Short",{"$error":"#N/A"},{"$error":"#N/A"},null,-1,0,"",null,-1,null,-542.5,126223.94000000002,null,null,null,null,null,null,null,null,null,null,null,null,null,null,null,null,null,null,null,{"$f":"IF(NOT($AS1191=$AS1192),ROW(),\"\")","v":""},{"$f":"IF(NOT(AS1191=AS1192),AS1192,\"\")","v":""},{"$f":"INDEX($AB$15:$AM$15,MATCH($AS1191,$AB$11:$AM$11,0))","v":"in"},{"$f":"LEFT(AT1191,4)","v":"2004"},{"$f":"LEFT(B1191,6)","v":"200408"}]
[null,{"$f":"'Market Data'!B1183","v":20040823},{"$f":"'Market Data'!C1183","v":4922},{"$f":"'Market Data'!D1183","v":4952.5},{"$f":"'Market Data'!E1183","v":4906.5},{"$f":"'Market Data'!F1183","v":4942.5},null,1179,{"$f":"IF($H1197<($J$6+1),\"\",PFE(OFFSET($F1197,0,0,-$J$6)))","v":-0.12246267789781833},null,"Short",{"$error":"#N/A"},{"$error":"#N/A"},null,-1,0,"",null,-1,null,-1260,121866.44000000002,null,null,null,null,null,null,null,null,null,null,null,null,null,null,null,null,null,null,null,{"$f":"IF(NOT($AS1197=$AS1198),ROW(),\"\")","v":""},{"$f":"IF(NOT(AS1197=AS1198),AS1198,\"\")","v":""},{"$f":"INDEX($AB$15:$AM$15,MATCH($AS1197,$AB$11:$AM$11,0))","v":"in"},{"$f":"LEFT(AT1197,4)","v":"2004"},{"$f":"LEFT(B1197,6)","v":"200408"}]
[null,{"$f":"'Market Data'!B1186","v":20040826},{"$f":"'Market Data'!C1186","v":4998.5},{"$f":"'Market Data'!D1186","v":5008},{"$f":"'Market Data'!E1186","v":4983.5},{"$f":"'Market Data'!F1186","v":4999.5},null,1182,{"$f":"IF($H1200<($J$6+1),\"\",PFE(OFFSET($F1200,0,0,-$J$6)))","v":-7.8408966197308513E-2},null,"Short",{"$error":"#N/A"},{"$error":"#N/A"},null,-1,0,"",null,-1,null,-192.5,119871.44000000002,null,null,null,null,null,null,null,null,null,null,null,null,null,null,null,null,null,null,null,{"$f":"IF(NOT($AS1200=$AS1201),ROW(),\"\")","v":""},{"$f":"IF(NOT(AS1200=AS1201),AS1201,\"\")","v":""},{"$f":"INDEX($AB$15:$AM$15,MATCH($AS1200,$AB$11:$AM$11,0))","v":"in"},{"$f":"LEFT(AT1200,4)","v":"2004"},{"$f":"LEFT(B1200,6)","v":"200408"}]
[null,{"$f":"'Market Data'!B1190","v":20040901},{"$f":"'Market Data'!C1190","v":4988.5},{"$f":"'Market Data'!D1190","v":4997.5},{"$f":"'Market Data'!E1190","v":4959.5},{"$f":"'Market Data'!F1190","v":4979.5},null,1186,{"$f":"IF($H1204<($J$6+1),\"\",PFE(OFFSET($F1204,0,0,-$J$6)))","v":-4.4865264711091653E-2},null,"Short",{"$error":"#N/A"},{"$error":"#N/A"},null,-1,0,"",null,-1,null,-735,120571.44000000002,null,null,null,null,null,null,null,null,null,null,null,null,null,null,null,null,null,null,null,{"$f":"IF(NOT($AS1204=$AS1205),ROW(),\"\")","v":""},{"$f":"IF(NOT(AS1204=AS1205),AS1205,\"\")","v":""},{"$f":"INDEX($AB$15:$AM$15,MATCH($AS1204,$AB$11:$AM$11,0))","v":"in"},{"$f":"LEFT(AT1204,4)","v":"2004"},{"$f":"LEFT(B1204,6)","v":"200409"}]
[null,{"$f":"'Market Data'!B1196","v":20040909},{"$f":"'Market Data'!C1196","v":5029},{"$f":"'Market Data'!D1196","v":5042.5},{"$f":"'Market Data'!E1196","v":5002},{"$f":"'Market Data'!F1196","v":5039.5},null,1192,{"$f":"IF($H1210<($J$6+1),\"\",PFE(OFFSET($F1210,0,0,-$J$6)))","v":5.486382637476616E-2},null,"Long",{"$error":"#N/A"},{"$error":"#N/A"},null,1,0,"",null,1,null,-227.5,121019.52000000002,null,null,null,null,null,null,null,null,null,null,null,null,null,null,null,null,null,null,null,{"$f":"IF(NOT($AS1210=$AS1211),ROW(),\"\")","v":""},{"$f":"IF(NOT(AS1210=AS1211),AS1211,\"\")","v":""},{"$f":"INDEX($AB$15:$AM$15,MATCH($AS1210,$AB$11:$AM$11,0))","v":"in"},{"$f":"LEFT(AT1210,4)","v":"2004"},{"$f":"LEFT(B1210,6)","v":"200409"}]
[null,{"$f":"'Market Data'!B1203","v":20040920},{"$f":"'Market Data'!C1203","v":5142.5},{"$f":"'Market Data'!D1203","v":5147},{"$f":"'Market Data'!E1203","v":5118.5},{"$f":"'Market Data'!F1203","v":5130.5},null,1199,{"$f":"IF($H1217<($J$6+1),\"\",PFE(OFFSET($F1217,0,0,-$J$6)))","v":4.5326653587714011E-2},null,"Long",{"$error":"#N/A"},{"$error":"#N/A"},null,1,0,"",null,1,null,-700,124204.52000000002,null,null,null,null,null,null,null,null,null,null,null,null,null,null,null,null,null,null,null,{"$f":"IF(NOT($AS1217=$AS1218),ROW(),\"\")","v":""},{"$f":"IF(NOT(AS1217=AS1218),AS1218,\"\")","v":""},{"$f":"INDEX($AB$15:$AM$15,MATCH($AS1217,$AB$11:$AM$11,0))","v":"in"},{"$f":"LEFT(AT1217,4)","v":"2004"},{"$f":"LEFT(B1217,6)","v":"200409"}]
[null,{"$f":"'Market Data'!B1207","v":20040924},{"$f":"'Market Data'!C1207","v":5057.5},{"$f":"'Market Data'!D1207","v":5080.5},{"$f":"'Market Data'!E1207","v":5049},{"$f":"'Market Data'!F1207","v":5072.5},null,1203,{"$f":"IF($H1221<($J$6+1),\"\",PFE(OFFSET($F1221,0,0,-$J$6)))","v":3.6207774636252917E-2},null,"Long",5072.5,{"$error":"#N/A"},null,1,2,"Fill",null,-1,null,-420,123602.60000000002,null,null,null,null,null,null,null,null,null,null,null,null,null,null,null,null,null,null,null,{"$f":"IF(NOT($AS1221=$AS1222),ROW(),\"\")","v":""},{"$f":"IF(NOT(AS1221=AS1222),AS1222,\"\")","v":""},{"$f":"INDEX($AB$15:$AM$15,MATCH($AS1221,$AB$11:$AM$11,0))","v":"in"},{"$f":"LEFT(AT1221,4)","v":"2004"},{"$f":"LEFT(B1221,6)","v":"200409"}]
[null,{"$f":"'Market Data'!B1212","v":20041001},{"$f":"'Market Data'!C1212","v":5065},{"$f":"'Market Data'!D1212","v":5156.5},{"$f":"'Market Data'!E1212","v":5064.5},{"$f":"'Market Data'!F1212","v":5154},null,1208,{"$f":"IF($H1226<($J$6+1),\"\",PFE(OFFSET($F1226,0,0,-$J$6)))","v":-4.1633706295031533E-2},null,"Short",{"$error":"#N/A"},{"$error":"#N/A"},null,-1,0,"",null,-1,null,-3552.5,116921.26000000002,null,null,null,null,null,null,null,null,null,null,null,null,null,null,null,null,null,null,null,{"$f":"IF(NOT($AS1226=$AS1227),ROW(),\"\")","v":""},{"$f":"IF(NOT(AS1226=AS1227),AS1227,\"\")","v":""},{"$f":"INDEX($AB$15:$AM$15,MATCH($AS1226,$AB$11:$AM$11,0))","v":"in"},{"$f":"LEFT(AT1226,4)","v":"2004"},{"$f":"LEFT(B1226,6)","v":"200410"}]
[null,{"$f":"'Market Data'!B1219","v":20041012},{"$f":"'Market Data'!C1219","v":5167.5},{"$f":"'Market Data'!D1219","v":5167.5},{"$f":"'Market Data'!E1219","v":5101.5},{"$f":"'Market Data'!F1219","v":5126},null,1215,{"$f":"IF($H1233<($J$6+1),\"\",PFE(OFFSET($F1233,0,0,-$J$6)))","v":-4.324724786923595E-2},null,"Short",{"$error":"#N/A"},{"$error":"#N/A"},null,-1,{"$f":"$O1233-S1233","v":0},"",null,-1,null,2100,114163.58000000003,null,null,null,null,null,null,null,null,null,null,null,null,null,null,null,null,null,null,null,{"$f":"IF(NOT($AS1233=$AS1234),ROW(),\"\")","v":""},{"$f":"IF(NOT(AS1233=AS1234),AS1234,\"\")","v":""},{"$f":"INDEX($AB$15:$AM$15,MATCH($AS1233,$AB$11:$AM$11,0))","v":"in"},{"$f":"LEFT(AT1233,4)","v":"2004"},{"$f":"LEFT(B1233,6)","v":"200410"}]
[null,{"$f":"'Market Data'!B1224","v":20041019},{"$f":"'Market Data'!C1224","v":5115.5},{"$f":"'Market Data'!D1224","v":5141.5},{"$f":"'Market Data'!E1224","v":5106},{"$f":"'Market Data'!F1224","v":5107.5},null,1220,{"$f":"IF($H1238<($J$6+1),\"\",PFE(OFFSET($F1238,0,0,-$J$6)))","v":-4.9735862048760231E-2},null,"Short",{"$error":"#N/A"},{"$error":"#N/A"},null,-1,0,"",null,-1,null,{"$f":"IF(OR($S1237&$O1237=\"01\",$S1237&$O1237=\"0-1\"),(($F1238-$C1238)*$V$4*$O1237)-(ABS($P1237)*$V$5),IF(OR($S1237&$O1237=\"10\",$S1237&$O1237=\"-10\"),(($C1238-$F1237)*$V$4*$S1237)-(ABS($P1237)*$V$5),IF(OR($S1237&$O1237=\"1-1\",$S1237&$O1237=\"-11\"),(($C1238-$F1237)*$V$4*$S1237)-(ABS($P1237)*$V$5)+(($F1238-$C1238)*$V$4*$S1238),IF(OR($S1237&$O1237=\"11\",$S1237&$O1237=\"-1-1\"),(($F1238-$F1237)*$V$4*$S1238),0))))","v":-350},114811.08000000003,null,null,null,null,null,null,null,null,null,null,null,null,null,null,null,null,null,null,null,{"$f":"IF(NOT($AS1238=$AS1239),ROW(),\"\")","v":""},{"$f":"IF(NOT(AS1238=AS1239),AS1239,\"\")","v":""},{"$f":"INDEX($AB$15:$AM$15,MATCH($AS1238,$AB$11:$AM$11,0))","v":"in"},{"$f":"LEFT(AT1238,4)","v":"2004"},{"$f":"LEFT(B1238,6)","v":"200410"}]
[null,{"$f":"'Market Data'!B1229","v":20041026},{"$f":"'Market Data'!C1229","v":5020.5},{"$f":"'Market Data'!D1229","v":5037},{"$f":"'Market Data'!E1229","v":4997.5},{"$f":"'Market Data'!F1229","v":5026.5},null,1225,{"$f":"IF($H1243<($J$6+1),\"\",PFE(OFFSET($F1243,0,0,-$J$6)))","v":-8.6450665423341136E-2},null,"Short",{"$error":"#N/A"},{"$error":"#N/A"},null,-1,0,"",null,-1,null,-385,117646.08000000003,null,null,null,null,null,null,null,null,null,null,null,null,null,null,null,null,null,null,null,{"$f":"IF(NOT($AS1243=$AS1244),ROW(),\"\")","v":""},{"$f":"IF(NOT(AS1243=AS1244),AS1244,\"\")","v":""},{"$f":"INDEX($AB$15:$AM$15,MATCH($AS1243,$AB$11:$AM$11,0))","v":"in"},{"$f":"LEFT(AT1243,4)","v":"2004"},{"$f":"LEFT(B1243,6)","v":"200410"}]
[null,{"$f":"'Market Data'!B1236","v":20041104},{"$f":"'Market Data'!C1236","v":5183.5},{"$f":"'Market Data'!D1236","v":5232.5},{"$f":"'Market Data'!E1236","v":5165.5},{"$f":"'Market Data'!F1236","v":5232.5},null,1232,{"$f":"IF($H1250<($J$6+1),\"\",PFE(OFFSET($F1250,0,0,-$J$6)))","v":7.7517714780822977E-2},null,"Long",{"$error":"#N/A"},{"$error":"#N/A"},null,1,0,"",null,1,null,1715,114104.16000000003,null,null,null,null,null,null,null,null,null,null,null,null,null,null,null,null,null,null,null,{"$f":"IF(NOT($AS1250=$AS1251),ROW(),\"\")","v":""},{"$f":"IF(NOT(AS1250=AS1251),AS1251,\"\")","v":""},{"$f":"INDEX($AB$15:$AM$15,MATCH($AS1250,$AB$11:$AM$11,0))","v":"in"},{"$f":"LEFT(AT1250,4)","v":"2004"},{"$f":"LEFT(B1250,6)","v":"200411"}]
[null,{"$f":"'Market Data'!B1238","v":20041108},{"$f":"'Market Data'!C1238","v":5211.5},{"$f":"'Market Data'!D1238","v":5235},{"$f":"'Market Data'!E1238","v":5203.5},{"$f":"'Market Data'!F1238","v":5235},null,1234,{"$f":"IF($H1252<($J$6+1),\"\",PFE(OFFSET($F1252,0,0,-$J$6)))","v":7.8528049398699881E-2},null,"Long",{"$error":"#N/A"},{"$error":"#N/A"},null,1,0,"",null,1,null,350,114191.66000000003,null,null,null,null,null,null,null,null,null,null,null,null,null,null,null,null,null,null,null,{"$f":"IF(NOT($AS1252=$AS1253),ROW(),\"\")","v":""},{"$f":"IF(NOT(AS1252=AS1253),AS1253,\"\")","v":""},{"$f":"INDEX($AB$15:$AM$15,MATCH($AS1252,$AB$11:$AM$11,0))","v":"in"},{"$f":"LEFT(AT1252,4)","v":"2004"},{"$f":"LEFT(B1252,6)","v":"200411"}]
[null,{"$f":"'Market Data'!B1248","v":20041122},{"$f":"'Market Data'!C1248","v":5263.5},{"$f":"'Market Data'!D1248","v":5298.5},{"$f":"'Market Data'!E1248","v":5236},{"$f":"'Market Data'!F1248","v":5297.5},null,1244,{"$f":"IF($H1262<($J$6+1),\"\",PFE(OFFSET($F1262,0,0,-$J$6)))","v":0.14709238457480597},null,"Long",{"$error":"#N/A"},{"$error":"#N/A"},null,1,0,"",null,1,null,875,116379.16000000003,null,null,null,null,null,null,null,null,null,null,null,null,null,null,null,null,null,null,null,{"$f":"IF(NOT($AS1262=$AS1263),ROW(),\"\")","v":""},{"$f":"IF(NOT(AS1262=AS1263),AS1263,\"\")","v":""},{"$f":"INDEX($AB$15:$AM$15,MATCH($AS1262,$AB$11:$AM$11,0))","v":"in"},{"$f":"LEFT(AT1262,4)","v":"2004"},{"$f":"LEFT(B1262,6)","v":"200411"}]
[null,{"$f":"'Market Data'!B1253","v":20041129},{"$f":"'Market Data'!C1253","v":5307.5},{"$f":"'Market Data'!D1253","v":5368},{"$f":"'Market Data'!E1253","v":5285.5},{"$f":"'Market Data'!F1253","v":5312.5},null,1249,{"$f":"IF($H1267<($J$6+1),\"\",PFE(OFFSET($F1267,0,0,-$J$6)))","v":0.14047227570313611},null,"Long",{"$error":"#N/A"},{"$error":"#N/A"},null,1,0,"",null,1,null,927.5,116904.16000000003,null,null,null,null,null,null,null,null,null,null,null,null,null,null,null,null,null,null,null,{"$f":"IF(NOT($AS1267=$AS1268),ROW(),\"\")","v":""},{"$f":"IF(NOT(AS1267=AS1268),AS1268,\"\")","v":""},{"$f":"INDEX($AB$15:$AM$15,MATCH($AS1267,$AB$11:$AM$11,0))","v":"in"},{"$f":"LEFT(AT1267,4)","v":"2004"},{"$f":"LEFT(B1267,6)","v":"200411"}]
[null,{"$f":"'Market Data'!B1255","v":20041201},{"$f":"'Market Data'!C1255","v":5251},{"$f":"'Market Data'!D1255","v":5342.5},{"$f":"'Market Data'!E1255","v":5250.5},{"$f":"'Market Data'!F1255","v":5329.5},null,1251,{"$f":"IF($H1269<($J$6+1),\"\",PFE(OFFSET($F1269,0,0,-$J$6)))","v":0.20262757520879898},null,"Long",{"$error":"#N/A"},{"$error":"#N/A"},null,1,0,"",null,1,null,2135,117499.16000000003,null,null,null,null,null,null,null,null,null,null,null,null,null,null,null,null,null,null,null,{"$f":"IF(NOT($AS1269=$AS1270),ROW(),\"\")","v":""},{"$f":"IF(NOT(AS1269=AS1270),AS1270,\"\")","v":""},{"$f":"INDEX($AB$15:$AM$15,MATCH($AS1269,$AB$11:$AM$11,0))","v":"in"},{"$f":"LEFT(AT1269,4)","v":"2004"},{"$f":"LEFT(B1269,6)","v":"200412"}]
[null,{"$f":"'Market Data'!B1260","v":20041208},{"$f":"'Market Data'!C1260","v":5322},{"$f":"'Market Data'!D1260","v":5363.5},{"$f":"'Market Data'!E1260","v":5316},{"$f":"'Market Data'!F1260","v":5360},null,1256,{"$f":"IF($H1274<($J$6+1),\"\",PFE(OFFSET($F1274,0,0,-$J$6)))","v":0.25532623657229003},null,"Long",{"$error":"#N/A"},{"$error":"#N/A"},null,1,0,"",null,1,null,805,118566.66000000003,null,null,null,null,null,null,null,null,null,null,null,null,null,null,null,null,null,null,null,{"$f":"IF(NOT($AS1274=$AS1275),ROW(),\"\")","v":""},{"$f":"IF(NOT(AS1274=AS1275),AS1275,\"\")","v":""},{"$f":"INDEX($AB$15:$AM$15,MATCH($AS1274,$AB$11:$AM$11,0))","v":"in"},{"$f":"LEFT(AT1274,4)","v":"2004"},{"$f":"LEFT(B1274,6)","v":"200412"}]
[null,{"$f":"'Market Data'!B1270","v":20041222},{"$f":"'Market Data'!C1270","v":5379},{"$f":"'Market Data'!D1270","v":5394.5},{"$f":"'Market Data'!E1270","v":5367.5},{"$f":"'Market Data'!F1270","v":5372},null,1266,{"$f":"IF($H1284<($J$6+1),\"\",PFE(OFFSET($F1284,0,0,-$J$6)))","v":0.16310168273451536},null,"Long",{"$error":"#N/A"},{"$error":"#N/A"},null,1,0,"",null,1,null,122.5,118986.66000000003,null,null,null,null,null,null,null,null,null,null,null,null,null,null,null,null,null,null,null,{"$f":"IF(NOT($AS1284=$AS1285),ROW(),\"\")","v":""},{"$f":"IF(NOT(AS1284=AS1285),AS1285,\"\")","v":""},{"$f":"INDEX($AB$15:$AM$15,MATCH($AS1284,$AB$11:$AM$11,0))","v":"in"},{"$f":"LEFT(AT1284,4)","v":"2004"},{"$f":"LEFT(B1284,6)","v":"200412"}]
[null,{"$f":"'Market Data'!B1272","v":20041227},{"$f":"'Market Data'!C1272","v":5396.5},{"$f":"'Market Data'!D1272","v":5404.5},{"$f":"'Market Data'!E1272","v":5374},{"$f":"'Market Data'!F1272","v":5387.5},null,1268,{"$f":"IF($H1286<($J$6+1),\"\",PFE(OFFSET($F1286,0,0,-$J$6)))","v":0.20680263683550693},null,"Long",{"$error":"#N/A"},{"$error":"#N/A"},null,1,0,"",null,1,null,-70,119529.16000000003,null,null,null,null,null,null,null,null,null,null,null,null,null,null,null,null,null,null,null,{"$f":"IF(NOT($AS1286=$AS1287),ROW(),\"\")","v":""},{"$f":"IF(NOT(AS1286=AS1287),AS1287,\"\")","v":""},{"$f":"INDEX($AB$15:$AM$15,MATCH($AS1286,$AB$11:$AM$11,0))","v":"in"},{"$f":"LEFT(AT1286,4)","v":"2004"},{"$f":"LEFT(B1286,6)","v":"200412"}]
[null,{"$f":"'Market Data'!B1277","v":20050104},{"$f":"'Market Data'!C1277","v":5427},{"$f":"'Market Data'!D1277","v":5446.5},{"$f":"'Market Data'!E1277","v":5414.5},{"$f":"'Market Data'!F1277","v":5414.5},null,1273,{"$f":"IF($H1291<($J$6+1),\"\",PFE(OFFSET($F1291,0,0,-$J$6)))","v":0.17297360767371778},null,"Long",{"$error":"#N/A"},{"$error":"#N/A"},null,1,0,"",null,1,null,-420,120474.16000000003,null,null,null,null,null,null,null,null,null,null,null,null,null,null,null,null,null,null,null,{"$f":"IF(NOT($AS1291=$AS1292),ROW(),\"\")","v":""},{"$f":"IF(NOT(AS1291=AS1292),AS1292,\"\")","v":""},{"$f":"INDEX($AB$15:$AM$15,MATCH($AS1291,$AB$11:$AM$11,0))","v":"in"},{"$f":"LEFT(AT1291,4)","v":"2005"},{"$f":"LEFT(B1291,6)","v":"200501"}]
[null,{"$f":"'Market Data'!B1281","v":20050110},{"$f":"'Market Data'!C1281","v":5448.5},{"$f":"'Market Data'!D1281","v":5462.5},{"$f":"'Market Data'!E1281","v":5427},{"$f":"'Market Data'!F1281","v":5451.5},null,1277,{"$f":"IF($H1295<($J$6+1),\"\",PFE(OFFSET($F1295,0,0,-$J$6)))","v":0.16862084863418261},null,"Long",{"$error":"#N/A"},{"$error":"#N/A"},null,1,0,"",null,1,null,-87.5,121769.16000000003,null,null,null,null,null,null,null,null,null,null,null,null,null,null,null,null,null,null,null,{"$f":"IF(NOT($AS1295=$AS1296),ROW(),\"\")","v":""},{"$f":"IF(NOT(AS1295=AS1296),AS1296,\"\")","v":""},{"$f":"INDEX($AB$15:$AM$15,MATCH($AS1295,$AB$11:$AM$11,0))","v":"in"},{"$f":"LEFT(AT1295,4)","v":"2005"},{"$f":"LEFT(B1295,6)","v":"200501"}]
[null,{"$f":"'Market Data'!B1289","v":20050120},{"$f":"'Market Data'!C1289","v":5345.5},{"$f":"'Market Data'!D1289","v":5362},{"$f":"'Market Data'!E1289","v":5322},{"$f":"'Market Data'!F1289","v":5329.5},null,1285,{"$f":"IF($H1303<($J$6+1),\"\",PFE(OFFSET($F1303,0,0,-$J$6)))","v":0.13716136012855809},null,"Long",{"$error":"#N/A"},{"$error":"#N/A"},null,1,0,"",null,1,null,-1680,117499.16000000003,null,null,null,null,null,null,null,null,null,null,null,null,null,null,null,null,null,null,null,{"$f":"IF(NOT($AS1303=$AS1304),ROW(),\"\")","v":""},{"$f":"IF(NOT(AS1303=AS1304),AS1304,\"\")","v":""},{"$f":"INDEX($AB$15:$AM$15,MATCH($AS1303,$AB$11:$AM$11,0))","v":"in"},{"$f":"LEFT(AT1303,4)","v":"2005"},{"$f":"LEFT(B1303,6)","v":"200501"}]
[null,{"$f":"'Market Data'!B1292","v":20050125},{"$f":"'Market Data'!C1292","v":5326},{"$f":"'Market Data'!D1292","v":5375.5},{"$f":"'Market Data'!E1292","v":5322},{"$f":"'Market Data'!F1292","v":5364.5},null,1288,{"$f":"IF($H1306<($J$6+1),\"\",PFE(OFFSET($F1306,0,0,-$J$6)))","v":0.15723383922667866},null,"Long",{"$error":"#N/A"},{"$error":"#N/A"},null,1,0,"",null,1,null,1242.5,118724.16000000003,null,null,null,null,null,null,null,null,null,null,null,null,null,null,null,null,null,null,null,{"$f":"IF(NOT($AS1306=$AS1307),ROW(),\"\")","v":""},{"$f":"IF(NOT(AS1306=AS1307),AS1307,\"\")","v":""},{"$f":"INDEX($AB$15:$AM$15,MATCH($AS1306,$AB$11:$AM$11,0))","v":"in"},{"$f":"LEFT(AT1306,4)","v":"2005"},{"$f":"LEFT(B1306,6)","v":"200501"}]
[null,{"$f":"'Market Data'!B1301","v":20050207},{"$f":"'Market Data'!C1301","v":5478.5},{"$f":"'Market Data'!D1301","v":5504.5},{"$f":"'Market Data'!E1301","v":5478.5},{"$f":"'Market Data'!F1301","v":5491.5},null,1297,{"$f":"IF($H1315<($J$6+1),\"\",PFE(OFFSET($F1315,0,0,-$J$6)))","v":0.16048102852200388},null,"Long",{"$error":"#N/A"},{"$error":"#N/A"},null,1,0,"",null,1,null,455,123169.16000000003,null,null,null,null,null,null,null,null,null,null,null,null,null,null,null,null,null,null,null,{"$f":"IF(NOT($AS1315=$AS1316),ROW(),\"\")","v":""},{"$f":"IF(NOT(AS1315=AS1316),AS1316,\"\")","v":""},{"$f":"INDEX($AB$15:$AM$15,MATCH($AS1315,$AB$11:$AM$11,0))","v":"in"},{"$f":"LEFT(AT1315,4)","v":"2005"},{"$f":"LEFT(B1315,6)","v":"200502"}]
[null,{"$f":"'Market Data'!B1307","v":20050215},{"$f":"'Market Data'!C1307","v":5512},{"$f":"'Market Data'!D1307","v":5537},{"$f":"'Market Data'!E1307","v":5504.5},{"$f":"'Market Data'!F1307","v":5514},null,1303,{"$f":"IF($H1321<($J$6+1),\"\",PFE(OFFSET($F1321,0,0,-$J$6)))","v":0.21986659059530572},null,"Long",{"$error":"#N/A"},{"$error":"#N/A"},null,1,0,"",null,1,null,157.5,123956.66000000003,null,null,null,null,null,null,null,null,null,null,null,null,null,null,null,null,null,null,null,{"$f":"IF(NOT($AS1321=$AS1322),ROW(),\"\")","v":""},{"$f":"IF(NOT(AS1321=AS1322),AS1322,\"\")","v":""},{"$f":"INDEX($AB$15:$AM$15,MATCH($AS1321,$AB$11:$AM$11,0))","v":"in"},{"$f":"LEFT(AT1321,4)","v":"2005"},{"$f":"LEFT(B1321,6)","v":"200502"}]
[null,{"$f":"'Market Data'!B1313","v":20050223},{"$f":"'Market Data'!C1313","v":5411.5},{"$f":"'Market Data'!D1313","v":5438.5},{"$f":"'Market Data'!E1313","v":5400.5},{"$f":"'Market Data'!F1313","v":5423.5},null,1309,{"$f":"IF($H1327<($J$6+1),\"\",PFE(OFFSET($F1327,0,0,-$J$6)))","v":0.18378808665145882},null,"Long",{"$error":"#N/A"},{"$error":"#N/A"},null,1,0,"",null,1,null,-105,120789.16000000003,null,null,null,null,null,null,null,null,null,null,null,null,null,null,null,null,null,null,null,{"$f":"IF(NOT($AS1327=$AS1328),ROW(),\"\")","v":""},{"$f":"IF(NOT(AS1327=AS1328),AS1328,\"\")","v":""},{"$f":"INDEX($AB$15:$AM$15,MATCH($AS1327,$AB$11:$AM$11,0))","v":"in"},{"$f":"LEFT(AT1327,4)","v":"2005"},{"$f":"LEFT(B1327,6)","v":"200502"}]
[null,{"$f":"'Market Data'!B1318","v":20050302},{"$f":"'Market Data'!C1318","v":5497.5},{"$f":"'Market Data'!D1318","v":5521.5},{"$f":"'Market Data'!E1318","v":5487.5},{"$f":"'Market Data'!F1318","v":5500},null,1314,{"$f":"IF($H1332<($J$6+1),\"\",PFE(OFFSET($F1332,0,0,-$J$6)))","v":0.17780876548135566},null,"Long",{"$error":"#N/A"},{"$error":"#N/A"},null,1,0,"",null,1,null,-315,123466.66000000003,null,null,null,null,null,null,null,null,null,null,null,null,null,null,null,null,null,null,null,{"$f":"IF(NOT($AS1332=$AS1333),ROW(),\"\")","v":""},{"$f":"IF(NOT(AS1332=AS1333),AS1333,\"\")","v":""},{"$f":"INDEX($AB$15:$AM$15,MATCH($AS1332,$AB$11:$AM$11,0))","v":"in"},{"$f":"LEFT(AT1332,4)","v":"2005"},{"$f":"LEFT(B1332,6)","v":"200503"}]
[null,{"$f":"'Market Data'!B1324","v":20050310},{"$f":"'Market Data'!C1324","v":5468.5},{"$f":"'Market Data'!D1324","v":5487.5},{"$f":"'Market Data'!E1324","v":5451},{"$f":"'Market Data'!F1324","v":5483.5},null,1320,{"$f":"IF($H1338<($J$6+1),\"\",PFE(OFFSET($F1338,0,0,-$J$6)))","v":0.11098835221731961},null,"Long",{"$error":"#N/A"},{"$error":"#N/A"},null,1,0,"",null,1,null,175,122889.16000000003,null,null,null,null,null,null,null,null,null,null,null,null,null,null,null,null,null,null,null,{"$f":"IF(NOT($AS1338=$AS1339),ROW(),\"\")","v":""},{"$f":"IF(NOT(AS1338=AS1339),AS1339,\"\")","v":""},{"$f":"INDEX($AB$15:$AM$15,MATCH($AS1338,$AB$11:$AM$11,0))","v":"in"},{"$f":"LEFT(AT1338,4)","v":"2005"},{"$f":"LEFT(B1338,6)","v":"200503"}]
[null,{"$f":"'Market Data'!B1325","v":20050311},{"$f":"'Market Data'!C1325","v":5484.5},{"$f":"'Market Data'!D1325","v":5501.5},{"$f":"'Market Data'!E1325","v":5466.5},{"$f":"'Market Data'!F1325","v":5470.5},null,1321,{"$f":"IF($H1339<($J$6+1),\"\",PFE(OFFSET($F1339,0,0,-$J$6)))","v":0.1031909907857347},null,"Long",{"$error":"#N/A"},{"$error":"#N/A"},null,1,0,"",null,1,null,-455,122434.16000000003,null,null,null,null,null,null,null,null,null,null,null,null,null,null,null,null,null,null,null,{"$f":"IF(NOT($AS1339=$AS1340),ROW(),\"\")","v":""},{"$f":"IF(NOT(AS1339=AS1340),AS1340,\"\")","v":""},{"$f":"INDEX($AB$15:$AM$15,MATCH($AS1339,$AB$11:$AM$11,0))","v":"in"},{"$f":"LEFT(AT1339,4)","v":"2005"},{"$f":"LEFT(B1339,6)","v":"200503"}]
[null,{"$f":"'Market Data'!B1333","v":20050323},{"$f":"'Market Data'!C1333","v":5393.5},{"$f":"'Market Data'!D1333","v":5449},{"$f":"'Market Data'!E1333","v":5389},{"$f":"'Market Data'!F1333","v":5448},null,1329,{"$f":"IF($H1347<($J$6+1),\"\",PFE(OFFSET($F1347,0,0,-$J$6)))","v":0.10752517847107969},null,"Long",{"$error":"#N/A"},{"$error":"#N/A"},null,1,0,"",null,1,null,-157.5,121646.66000000003,null,null,null,null,null,null,null,null,null,null,null,null,null,null,null,null,null,null,null,{"$f":"IF(NOT($AS1347=$AS1348),ROW(),\"\")","v":""},{"$f":"IF(NOT(AS1347=AS1348),AS1348,\"\")","v":""},{"$f":"INDEX($AB$15:$AM$15,MATCH($AS1347,$AB$11:$AM$11,0))","v":"in"},{"$f":"LEFT(AT1347,4)","v":"2005"},{"$f":"LEFT(B1347,6)","v":"200503"}]
[null,{"$f":"'Market Data'!B1336","v":20050330},{"$f":"'Market Data'!C1336","v":5440},{"$f":"'Market Data'!D1336","v":5488},{"$f":"'Market Data'!E1336","v":5437},{"$f":"'Market Data'!F1336","v":5486},null,1332,{"$f":"IF($H1350<($J$6+1),\"\",PFE(OFFSET($F1350,0,0,-$J$6)))","v":0.11081383989926437},null,"Long",{"$error":"#N/A"},{"$error":"#N/A"},null,1,0,"",null,1,null,822.5,122976.66000000003,null,null,null,null,null,null,null,null,null,null,null,null,null,null,null,null,null,null,null,{"$f":"IF(NOT($AS1350=$AS1351),ROW(),\"\")","v":""},{"$f":"IF(NOT(AS1350=AS1351),AS1351,\"\")","v":""},{"$f":"INDEX($AB$15:$AM$15,MATCH($AS1350,$AB$11:$AM$11,0))","v":"in"},{"$f":"LEFT(AT1350,4)","v":"2005"},{"$f":"LEFT(B1350,6)","v":"200503"}]
[null,{"$f":"'Market Data'!B1342","v":20050407},{"$f":"'Market Data'!C1342","v":5481.5},{"$f":"'Market Data'!D1342","v":5520},{"$f":"'Market Data'!E1342","v":5469},{"$f":"'Market Data'!F1342","v":5506},null,1338,{"$f":"IF($H1356<($J$6+1),\"\",PFE(OFFSET($F1356,0,0,-$J$6)))","v":0.11540359441685115},null,"Long",{"$error":"#N/A"},{"$error":"#N/A"},null,1,0,"",null,1,null,665,123676.66000000003,null,null,null,null,null,null,null,null,null,null,null,null,null,null,null,null,null,null,null,{"$f":"IF(NOT($AS1356=$AS1357),ROW(),\"\")","v":""},{"$f":"IF(NOT(AS1356=AS1357),AS1357,\"\")","v":""},{"$f":"INDEX($AB$15:$AM$15,MATCH($AS1356,$AB$11:$AM$11,0))","v":"in"},{"$f":"LEFT(AT1356,4)","v":"2005"},{"$f":"LEFT(B1356,6)","v":"200504"}]
[null,{"$f":"'Market Data'!B1350","v":20050419},{"$f":"'Market Data'!C1350","v":5328},{"$f":"'Market Data'!D1350","v":5335.5},{"$f":"'Market Data'!E1350","v":5297},{"$f":"'Market Data'!F1350","v":5312.5},null,{"$f":"ROW()-ROW(H$18)","v":1346},{"$f":"IF($H1364<($J$6+1),\"\",PFE(OFFSET($F1364,0,0,-$J$6)))","v":4.937513189119766E-2},null,{"$f":"IF($I1364=\"\",\"\",IF($I1364>$J$4,\"Long\",IF($I1364<$J$5,\"Short\",\"\")))","v":"Long"},5312.5,{"$error":"#N/A"},null,{"$f":"IF($K1364=\"Short\",-1,IF($K1364=\"Long\",1,0))","v":1},2,"Fill",null,-1,null,850.58,117807.24000000003,null,null,null,null,null,null,null,null,null,null,null,null,null,null,null,null,null,null,null,{"$f":"IF(NOT($AS1364=$AS1365),ROW(),\"\")","v":""},{"$f":"IF(NOT(AS1364=AS1365),AS1365,\"\")","v":""},{"$f":"INDEX($AB$15:$AM$15,MATCH($AS1364,$AB$11:$AM$11,0))","v":"in"},{"$f":"LEFT(AT1364,4)","v":"2005"},{"$f":"LEFT(B1364,6)","v":"200504"}]
[null,{"$f":"'Market Data'!B1354","v":20050425},{"$f":"'Market Data'!C1354","v":5318.5},{"$f":"'Market Data'!D1354","v":5360.5},{"$f":"'Market Data'!E1354","v":5313},{"$f":"'Market Data'!F1354","v":5351},null,1350,{"$f":"IF($H1368<($J$6+1),\"\",PFE(OFFSET($F1368,0,0,-$J$6)))","v":-5.1831557931160378E-2},null,"Short",{"$error":"#N/A"},{"$error":"#N/A"},null,-1,0,"",null,-1,null,-980,112210.90000000004,null,null,null,null,null,null,null,null,null,null,null,null,null,null,null,null,null,null,null,{"$f":"IF(NOT($AS1368=$AS1369),ROW(),\"\")","v":""},{"$f":"IF(NOT(AS1368=AS1369),AS1369,\"\")","v":""},{"$f":"INDEX($AB$15:$AM$15,MATCH($AS1368,$AB$11:$AM$11,0))","v":"in"},{"$f":"LEFT(AT1368,4)","v":"2005"},{"$f":"LEFT(B1368,6)","v":"200504"}]
[null,{"$f":"'Market Data'!B1359","v":20050502},{"$f":"'Market Data'!C1359","v":5322.5},{"$f":"'Market Data'!D1359","v":5343.5},{"$f":"'Market Data'!E1359","v":5312},{"$f":"'Market Data'!F1359","v":5331},null,1355,{"$f":"IF($H1373<($J$6+1),\"\",PFE(OFFSET($F1373,0,0,-$J$6)))","v":-6.998896216370816E-2},null,"Short",{"$error":"#N/A"},{"$error":"#N/A"},null,-1,0,"",null,-1,null,-945,112910.90000000004,null,null,null,null,null,null,null,null,null,null,null,null,null,null,null,null,null,null,null,{"$f":"IF(NOT($AS1373=$AS1374),ROW(),\"\")","v":""},{"$f":"IF(NOT(AS1373=AS1374),AS1374,\"\")","v":""},{"$f":"INDEX($AB$15:$AM$15,MATCH($AS1373,$AB$11:$AM$11,0))","v":"in"},{"$f":"LEFT(AT1373,4)","v":"2005"},{"$f":"LEFT(B1373,6)","v":"200505"}]
[null,{"$f":"'Market Data'!B1365","v":20050510},{"$f":"'Market Data'!C1365","v":5407},{"$f":"'Market Data'!D1365","v":5412.5},{"$f":"'Market Data'!E1365","v":5342.5},{"$f":"'Market Data'!F1365","v":5359.5},null,1361,{"$f":"IF($H1379<($J$6+1),\"\",PFE(OFFSET($F1379,0,0,-$J$6)))","v":-4.7062166005457096E-2},null,"Short",{"$error":"#N/A"},{"$error":"#N/A"},null,-1,0,"",null,-1,null,1785,111913.40000000004,null,null,null,null,null,null,null,null,null,null,null,null,null,null,null,null,null,null,null,{"$f":"IF(NOT($AS1379=$AS1380),ROW(),\"\")","v":""},{"$f":"IF(NOT(AS1379=AS1380),AS1380,\"\")","v":""},{"$f":"INDEX($AB$15:$AM$15,MATCH($AS1379,$AB$11:$AM$11,0))","v":"in"},{"$f":"LEFT(AT1379,4)","v":"2005"},{"$f":"LEFT(B1379,6)","v":"200505"}]
[null,{"$f":"'Market Data'!B1371","v":20050518},{"$f":"'Market Data'!C1371","v":5380},{"$f":"'Market Data'!D1371","v":5454},{"$f":"'Market Data'!E1371","v":5371.5},{"$f":"'Market Data'!F1371","v":5443.5},null,1367,{"$f":"IF($H1385<($J$6+1),\"\",PFE(OFFSET($F1385,0,0,-$J$6)))","v":5.7616672554013974E-2},null,"Long",5443.5,{"$error":"#N/A"},null,1,2,"Fill",null,-1,null,-1651.92,109029.56000000004,null,null,null,null,null,null,null,null,null,null,null,null,null,null,null,null,null,null,null,{"$f":"IF(NOT($AS1385=$AS1386),ROW(),\"\")","v":""},{"$f":"IF(NOT(AS1385=AS1386),AS1386,\"\")","v":""},{"$f":"INDEX($AB$15:$AM$15,MATCH($AS1385,$AB$11:$AM$11,0))","v":"in"},{"$f":"LEFT(AT1385,4)","v":"2005"},{"$f":"LEFT(B1385,6)","v":"200505"}]
[null,{"$f":"'Market Data'!B1376","v":20050525},{"$f":"'Market Data'!C1376","v":5497.5},{"$f":"'Market Data'!D1376","v":5507.5},{"$f":"'Market Data'!E1376","v":5479.5},{"$f":"'Market Data'!F1376","v":5490},null,1372,{"$f":"IF($H1390<($J$6+1),\"\",PFE(OFFSET($F1390,0,0,-$J$6)))","v":8.8212992901092357E-2},null,"Long",{"$error":"#N/A"},{"$error":"#N/A"},null,1,0,"",null,1,null,-437.5,110930.14000000004,null,null,null,null,null,null,null,null,null,null,null,null,null,null,null,null,null,null,null,{"$f":"IF(NOT($AS1390=$AS1391),ROW(),\"\")","v":""},{"$f":"IF(NOT(AS1390=AS1391),AS1391,\"\")","v":""},{"$f":"INDEX($AB$15:$AM$15,MATCH($AS1390,$AB$11:$AM$11,0))","v":"in"},{"$f":"LEFT(AT1390,4)","v":"2005"},{"$f":"LEFT(B1390,6)","v":"200505"}]
[null,{"$f":"'Market Data'!B1383","v":20050603},{"$f":"'Market Data'!C1383","v":5651},{"$f":"'Market Data'!D1383","v":5652},{"$f":"'Market Data'!E1383","v":5593.5},{"$f":"'Market Data'!F1383","v":5603},null,1379,{"$f":"IF($H1397<($J$6+1),\"\",PFE(OFFSET($F1397,0,0,-$J$6)))","v":8.065291437287761E-2},null,"Long",{"$error":"#N/A"},{"$error":"#N/A"},null,1,0,"",null,1,null,-1295,114885.14000000004,null,null,null,null,null,null,null,null,null,null,null,null,null,null,null,null,null,null,null,{"$f":"IF(NOT($AS1397=$AS1398),ROW(),\"\")","v":""},{"$f":"IF(NOT(AS1397=AS1398),AS1398,\"\")","v":""},{"$f":"INDEX($AB$15:$AM$15,MATCH($AS1397,$AB$11:$AM$11,0))","v":"in"},{"$f":"LEFT(AT1397,4)","v":"2005"},{"$f":"LEFT(B1397,6)","v":"200506"}]
[null,{"$f":"'Market Data'!B1385","v":20050607},{"$f":"'Market Data'!C1385","v":5618},{"$f":"'Market Data'!D1385","v":5671},{"$f":"'Market Data'!E1385","v":5614},{"$f":"'Market Data'!F1385","v":5657},null,1381,{"$f":"IF($H1399<($J$6+1),\"\",PFE(OFFSET($F1399,0,0,-$J$6)))","v":9.323965247112817E-2},null,"Long",{"$error":"#N/A"},{"$error":"#N/A"},null,1,0,"",null,1,null,1575,116775.14000000004,null,null,null,null,null,null,null,null,null,null,null,null,null,null,null,null,null,null,null,{"$f":"IF(NOT($AS1399=$AS1400),ROW(),\"\")","v":""},{"$f":"IF(NOT(AS1399=AS1400),AS1400,\"\")","v":""},{"$f":"INDEX($AB$15:$AM$15,MATCH($AS1399,$AB$11:$AM$11,0))","v":"in"},{"$f":"LEFT(AT1399,4)","v":"2005"},{"$f":"LEFT(B1399,6)","v":"200506"}]
[null,{"$f":"'Market Data'!B1394","v":20050620},{"$f":"'Market Data'!C1394","v":5698.5},{"$f":"'Market Data'!D1394","v":5701},{"$f":"'Market Data'!E1394","v":5656.5},{"$f":"'Market Data'!F1394","v":5694},null,1390,{"$f":"IF($H1408<($J$6+1),\"\",PFE(OFFSET($F1408,0,0,-$J$6)))","v":0.11376585929602102},null,"Long",{"$error":"#N/A"},{"$error":"#N/A"},null,1,0,"",null,1,null,-560,118070.14000000004,null,null,null,null,null,null,null,null,null,null,null,null,null,null,null,null,null,null,null,{"$f":"IF(NOT($AS1408=$AS1409),ROW(),\"\")","v":""},{"$f":"IF(NOT(AS1408=AS1409),AS1409,\"\")","v":""},{"$f":"INDEX($AB$15:$AM$15,MATCH($AS1408,$AB$11:$AM$11,0))","v":"in"},{"$f":"LEFT(AT1408,4)","v":"2005"},{"$f":"LEFT(B1408,6)","v":"200506"}]
[null,{"$f":"'Market Data'!B1395","v":20050621},{"$f":"'Market Data'!C1395","v":5703},{"$f":"'Market Data'!D1395","v":5711.5},{"$f":"'Market Data'!E1395","v":5691},{"$f":"'Market Data'!F1395","v":5704},null,1391,{"$f":"IF($H1409<($J$6+1),\"\",PFE(OFFSET($F1409,0,0,-$J$6)))","v":0.15275489382016227},null,"Long",{"$error":"#N/A"},{"$error":"#N/A"},null,1,0,"",null,1,null,350,118420.14000000004,null,null,null,null,null,null,null,null,null,null,null,null,null,null,null,null,null,null,null,{"$f":"IF(NOT($AS1409=$AS1410),ROW(),\"\")","v":""},{"$f":"IF(NOT(AS1409=AS1410),AS1410,\"\")","v":""},{"$f":"INDEX($AB$15:$AM$15,MATCH($AS1409,$AB$11:$AM$11,0))","v":"in"},{"$f":"LEFT(AT1409,4)","v":"2005"},{"$f":"LEFT(B1409,6)","v":"200506"}]
[null,{"$f":"'Market Data'!B1402","v":20050630},{"$f":"'Market Data'!C1402","v":5669},{"$f":"'Market Data'!D1402","v":5701},{"$f":"'Market Data'!E1402","v":5667.5},{"$f":"'Market Data'!F1402","v":5694.5},null,1398,{"$f":"IF($H1416<($J$6+1),\"\",PFE(OFFSET($F1416,0,0,-$J$6)))","v":0.10849032039540654},null,"Long",{"$error":"#N/A"},{"$error":"#N/A"},null,1,0,"",null,1,null,1032.5,118087.64000000004,null,null,null,null,null,null,null,null,null,null,null,null,null,null,null,null,null,null,null,{"$f":"IF(NOT($AS1416=$AS1417),ROW(),\"\")","v":""},{"$f":"IF(NOT(AS1416=AS1417),AS1417,\"\")","v":""},{"$f":"INDEX($AB$15:$AM$15,MATCH($AS1416,$AB$11:$AM$11,0))","v":"in"},{"$f":"LEFT(AT1416,4)","v":"2005"},{"$f":"LEFT(B1416,6)","v":"200506"}]
[null,{"$f":"'Market Data'!B1406","v":20050706},{"$f":"'Market Data'!C1406","v":5706},{"$f":"'Market Data'!D1406","v":5730},{"$f":"'Market Data'!E1406","v":5699},{"$f":"'Market Data'!F1406","v":5709},null,1402,{"$f":"IF($H1420<($J$6+1),\"\",PFE(OFFSET($F1420,0,0,-$J$6)))","v":0.13082038825959758},null,"Long",{"$error":"#N/A"},{"$error":"#N/A"},null,1,0,"",null,1,null,192.5,118595.14000000004,null,null,null,null,null,null,null,null,null,null,null,null,null,null,null,null,null,null,null,{"$f":"IF(NOT($AS1420=$AS1421),ROW(),\"\")","v":""},{"$f":"IF(NOT(AS1420=AS1421),AS1421,\"\")","v":""},{"$f":"INDEX($AB$15:$AM$15,MATCH($AS1420,$AB$11:$AM$11,0))","v":"in"},{"$f":"LEFT(AT1420,4)","v":"2005"},{"$f":"LEFT(B1420,6)","v":"200507"}]
[null,{"$f":"'Market Data'!B1411","v":20050713},{"$f":"'Market Data'!C1411","v":5747},{"$f":"'Market Data'!D1411","v":5774.5},{"$f":"'Market Data'!E1411","v":5746},{"$f":"'Market Data'!F1411","v":5768},null,1407,{"$f":"IF($H1425<($J$6+1),\"\",PFE(OFFSET($F1425,0,0,-$J$6)))","v":0.17841389481591644},null,"Long",{"$error":"#N/A"},{"$error":"#N/A"},null,1,{"$f":"$O1425-S1425","v":0},"",null,1,null,280,120660.14000000004,null,null,null,null,null,null,null,null,null,null,null,null,null,null,null,null,null,null,null,{"$f":"IF(NOT($AS1425=$AS1426),ROW(),\"\")","v":""},{"$f":"IF(NOT(AS1425=AS1426),AS1426,\"\")","v":""},{"$f":"INDEX($AB$15:$AM$15,MATCH($AS1425,$AB$11:$AM$11,0))","v":"in"},{"$f":"LEFT(AT1425,4)","v":"2005"},{"$f":"LEFT(B1425,6)","v":"200507"}]
[null,{"$f":"'Market Data'!B1418","v":20050722},{"$f":"'Market Data'!C1418","v":5917},{"$f":"'Market Data'!D1418","v":5941},{"$f":"'Market Data'!E1418","v":5902.5},{"$f":"'Market Data'!F1418","v":5929},null,1414,{"$f":"IF($H1432<($J$6+1),\"\",PFE(OFFSET($F1432,0,0,-$J$6)))","v":0.2331226121176827},null,"Long",{"$error":"#N/A"},{"$error":"#N/A"},null,1,0,"",null,1,null,350,126295.14000000004,null,null,null,null,null,null,null,null,null,null,null,null,null,null,null,null,null,null,null,{"$f":"IF(NOT($AS1432=$AS1433),ROW(),\"\")","v":""},{"$f":"IF(NOT(AS1432=AS1433),AS1433,\"\")","v":""},{"$f":"INDEX($AB$15:$AM$15,MATCH($AS1432,$AB$11:$AM$11,0))","v":"in"},{"$f":"LEFT(AT1432,4)","v":"2005"},{"$f":"LEFT(B1432,6)","v":"200507"}]
[null,{"$f":"'Market Data'!B1424","v":20050801},{"$f":"'Market Data'!C1424","v":5972},{"$f":"'Market Data'!D1424","v":5999.5},{"$f":"'Market Data'!E1424","v":5963},{"$f":"'Market Data'!F1424","v":5984},null,1420,{"$f":"IF($H1438<($J$6+1),\"\",PFE(OFFSET($F1438,0,0,-$J$6)))","v":0.24522351018485392},null,"Long",{"$error":"#N/A"},{"$error":"#N/A"},null,1,0,"",null,1,null,437.5,128220.14000000004,null,null,null,null,null,null,null,null,null,null,null,null,null,null,null,null,null,null,null,{"$f":"IF(NOT($AS1438=$AS1439),ROW(),\"\")","v":""},{"$f":"IF(NOT(AS1438=AS1439),AS1439,\"\")","v":""},{"$f":"INDEX($AB$15:$AM$15,MATCH($AS1438,$AB$11:$AM$11,0))","v":"in"},{"$f":"LEFT(AT1438,4)","v":"2005"},{"$f":"LEFT(B1438,6)","v":"200508"}]
[null,{"$f":"'Market Data'!B1428","v":20050805},{"$f":"'Market Data'!C1428","v":5933.5},{"$f":"'Market Data'!D1428","v":5952.5},{"$f":"'Market Data'!E1428","v":5903.5},{"$f":"'Market Data'!F1428","v":5912},null,1424,{"$f":"IF($H1442<($J$6+1),\"\",PFE(OFFSET($F1442,0,0,-$J$6)))","v":0.20609584635302625},null,"Long",{"$error":"#N/A"},{"$error":"#N/A"},null,1,0,"",null,1,null,-595,125700.14000000004,null,null,null,null,null,null,null,null,null,null,null,null,null,null,null,null,null,null,null,{"$f":"IF(NOT($AS1442=$AS1443),ROW(),\"\")","v":""},{"$f":"IF(NOT(AS1442=AS1443),AS1443,\"\")","v":""},{"$f":"INDEX($AB$15:$AM$15,MATCH($AS1442,$AB$11:$AM$11,0))","v":"in"},{"$f":"LEFT(AT1442,4)","v":"2005"},{"$f":"LEFT(B1442,6)","v":"200508"}]
[null,{"$f":"'Market Data'!B1435","v":20050816},{"$f":"'Market Data'!C1435","v":6029.5},{"$f":"'Market Data'!D1435","v":6036},{"$f":"'Market Data'!E1435","v":5948.5},{"$f":"'Market Data'!F1435","v":5954},null,1431,{"$f":"IF($H1449<($J$6+1),\"\",PFE(OFFSET($F1449,0,0,-$J$6)))","v":0.30886695310169182},null,"Long",{"$error":"#N/A"},{"$error":"#N/A"},null,1,0,"",null,1,null,-2555,127170.14000000004,null,null,null,null,null,null,null,null,null,null,null,null,null,null,null,null,null,null,null,{"$f":"IF(NOT($AS1449=$AS1450),ROW(),\"\")","v":""},{"$f":"IF(NOT(AS1449=AS1450),AS1450,\"\")","v":""},{"$f":"INDEX($AB$15:$AM$15,MATCH($AS1449,$AB$11:$AM$11,0))","v":"in"},{"$f":"LEFT(AT1449,4)","v":"2005"},{"$f":"LEFT(B1449,6)","v":"200508"}]
[null,{"$f":"'Market Data'!B1443","v":20050826},{"$f":"'Market Data'!C1443","v":5939},{"$f":"'Market Data'!D1443","v":5958},{"$f":"'Market Data'!E1443","v":5858},{"$f":"'Market Data'!F1443","v":5861},null,1439,{"$f":"IF($H1457<($J$6+1),\"\",PFE(OFFSET($F1457,0,0,-$J$6)))","v":0.23965600654980551},null,"Long",{"$error":"#N/A"},{"$error":"#N/A"},null,1,0,"",null,1,null,-2187.5,123915.14000000004,null,null,null,null,null,null,null,null,null,null,null,null,null,null,null,null,null,null,null,{"$f":"IF(NOT($AS1457=$AS1458),ROW(),\"\")","v":""},{"$f":"IF(NOT(AS1457=AS1458),AS1458,\"\")","v":""},{"$f":"INDEX($AB$15:$AM$15,MATCH($AS1457,$AB$11:$AM$11,0))","v":"in"},{"$f":"LEFT(AT1457,4)","v":"2005"},{"$f":"LEFT(B1457,6)","v":"200508"}]
[null,{"$f":"'Market Data'!B1447","v":20050901},{"$f":"'Market Data'!C1447","v":5929},{"$f":"'Market Data'!D1447","v":5951.5},{"$f":"'Market Data'!E1447","v":5890},{"$f":"'Market Data'!F1447","v":5906.5},null,1443,{"$f":"IF($H1461<($J$6+1),\"\",PFE(OFFSET($F1461,0,0,-$J$6)))","v":0.2288502089337939},null,"Long",{"$error":"#N/A"},{"$error":"#N/A"},null,1,0,"",null,1,null,-175,125507.64000000004,null,null,null,null,null,null,null,null,null,null,null,null,null,null,null,null,null,null,null,{"$f":"IF(NOT($AS1461=$AS1462),ROW(),\"\")","v":""},{"$f":"IF(NOT(AS1461=AS1462),AS1462,\"\")","v":""},{"$f":"INDEX($AB$15:$AM$15,MATCH($AS1461,$AB$11:$AM$11,0))","v":"in"},{"$f":"LEFT(AT1461,4)","v":"2005"},{"$f":"LEFT(B1461,6)","v":"200509"}]
[null,{"$f":"'Market Data'!B1454","v":20050912},{"$f":"'Market Data'!C1454","v":6100.5},{"$f":"'Market Data'!D1454","v":6110},{"$f":"'Market Data'!E1454","v":6052.5},{"$f":"'Market Data'!F1454","v":6063},null,1450,{"$f":"IF($H1468<($J$6+1),\"\",PFE(OFFSET($F1468,0,0,-$J$6)))","v":0.27845731657445011},null,"Long",{"$error":"#N/A"},{"$error":"#N/A"},null,1,0,"",null,1,null,-1085,130985.14000000004,null,null,null,null,null,null,null,null,null,null,null,null,null,null,null,null,null,null,null,{"$f":"IF(NOT($AS1468=$AS1469),ROW(),\"\")","v":""},{"$f":"IF(NOT(AS1468=AS1469),AS1469,\"\")","v":""},{"$f":"INDEX($AB$15:$AM$15,MATCH($AS1468,$AB$11:$AM$11,0))","v":"in"},{"$f":"LEFT(AT1468,4)","v":"2005"},{"$f":"LEFT(B1468,6)","v":"200509"}]
[null,{"$f":"'Market Data'!B1459","v":20050919},{"$f":"'Market Data'!C1459","v":5946},{"$f":"'Market Data'!D1459","v":6020.5},{"$f":"'Market Data'!E1459","v":5941},{"$f":"'Market Data'!F1459","v":6003.5},null,1455,{"$f":"IF($H1473<($J$6+1),\"\",PFE(OFFSET($F1473,0,0,-$J$6)))","v":0.21739933271809758},null,"Long",{"$error":"#N/A"},{"$error":"#N/A"},null,1,0,"",null,1,null,-2205,128902.64000000004,null,null,null,null,null,null,null,null,null,null,null,null,null,null,null,null,null,null,null,{"$f":"IF(NOT($AS1473=$AS1474),ROW(),\"\")","v":""},{"$f":"IF(NOT(AS1473=AS1474),AS1474,\"\")","v":""},{"$f":"INDEX($AB$15:$AM$15,MATCH($AS1473,$AB$11:$AM$11,0))","v":"in"},{"$f":"LEFT(AT1473,4)","v":"2005"},{"$f":"LEFT(B1473,6)","v":"200509"}]
[null,{"$f":"'Market Data'!B1464","v":20050926},{"$f":"'Market Data'!C1464","v":6013},{"$f":"'Market Data'!D1464","v":6074},{"$f":"'Market Data'!E1464","v":6010},{"$f":"'Market Data'!F1464","v":6048},null,1460,{"$f":"IF($H1478<($J$6+1),\"\",PFE(OFFSET($F1478,0,0,-$J$6)))","v":0.1708025687166248},null,"Long",{"$error":"#N/A"},{"$error":"#N/A"},null,1,0,"",null,1,null,2625,130460.14000000004,null,null,null,null,null,null,null,null,null,null,null,null,null,null,null,null,null,null,null,{"$f":"IF(NOT($AS1478=$AS1479),ROW(),\"\")","v":""},{"$f":"IF(NOT(AS1478=AS1479),AS1479,\"\")","v":""},{"$f":"INDEX($AB$15:$AM$15,MATCH($AS1478,$AB$11:$AM$11,0))","v":"in"},{"$f":"LEFT(AT1478,4)","v":"2005"},{"$f":"LEFT(B1478,6)","v":"200509"}]
[null,{"$f":"'Market Data'!B1469","v":20051003},{"$f":"'Market Data'!C1469","v":6131.5},{"$f":"'Market Data'!D1469","v":6154},{"$f":"'Market Data'!E1469","v":6117},{"$f":"'Market Data'!F1469","v":6147},null,1465,{"$f":"IF($H1483<($J$6+1),\"\",PFE(OFFSET($F1483,0,0,-$J$6)))","v":0.19901358462662669},null,"Long",{"$error":"#N/A"},{"$error":"#N/A"},null,1,0,"",null,1,null,1207.5,133925.14000000004,null,null,null,null,null,null,null,null,null,null,null,null,null,null,null,null,null,null,null,{"$f":"IF(NOT($AS1483=$AS1484),ROW(),\"\")","v":""},{"$f":"IF(NOT(AS1483=AS1484),AS1484,\"\")","v":""},{"$f":"INDEX($AB$15:$AM$15,MATCH($AS1483,$AB$11:$AM$11,0))","v":"in"},{"$f":"LEFT(AT1483,4)","v":"2005"},{"$f":"LEFT(B1483,6)","v":"200510"}]
[null,{"$f":"'Market Data'!B1471","v":20051005},{"$f":"'Market Data'!C1471","v":6162},{"$f":"'Market Data'!D1471","v":6173.5},{"$f":"'Market Data'!E1471","v":6122},{"$f":"'Market Data'!F1471","v":6133.5},null,1467,{"$f":"IF($H1485<($J$6+1),\"\",PFE(OFFSET($F1485,0,0,-$J$6)))","v":0.17639874615438972},null,"Long",{"$error":"#N/A"},{"$error":"#N/A"},null,1,0,"",null,1,null,-2257.5,133452.64000000004,null,null,null,null,null,null,null,null,null,null,null,null,null,null,null,null,null,null,null,{"$f":"IF(NOT($AS1485=$AS1486),ROW(),\"\")","v":""},{"$f":"IF(NOT(AS1485=AS1486),AS1486,\"\")","v":""},{"$f":"INDEX($AB$15:$AM$15,MATCH($AS1485,$AB$11:$AM$11,0))","v":"in"},{"$f":"LEFT(AT1485,4)","v":"2005"},{"$f":"LEFT(B1485,6)","v":"200510"}]
[null,{"$f":"'Market Data'!B1480","v":20051018},{"$f":"'Market Data'!C1480","v":6050},{"$f":"'Market Data'!D1480","v":6057.5},{"$f":"'Market Data'!E1480","v":5987.5},{"$f":"'Market Data'!F1480","v":5995},null,1476,{"$f":"IF($H1494<($J$6+1),\"\",PFE(OFFSET($F1494,0,0,-$J$6)))","v":0.11213899662582277},null,"Long",{"$error":"#N/A"},{"$error":"#N/A"},null,1,0,"",null,1,null,{"$f":"IF(OR($S1493&$O1493=\"01\",$S1493&$O1493=\"0-1\"),(($F1494-$C1494)*$V$4*$O1493)-(ABS($P1493)*$V$5),IF(OR($S1493&$O1493=\"10\",$S1493&$O1493=\"-10\"),(($C1494-$F1493)*$V$4*$S1493)-(ABS($P1493)*$V$5),IF(OR($S1493&$O1493=\"1-1\",$S1493&$O1493=\"-11\"),(($C1494-$F1493)*$V$4*$S1493)-(ABS($P1493)*$V$5)+(($F1494-$C1494)*$V$4*$S1494),IF(OR($S1493&$O1493=\"11\",$S1493&$O1493=\"-1-1\"),(($F1494-$F1493)*$V$4*$S1494),0))))","v":-875},128605.14000000004,null,null,null,null,null,null,null,null,null,null,null,null,null,null,null,null,null,null,null,{"$f":"IF(NOT($AS1494=$AS1495),ROW(),\"\")","v":""},{"$f":"IF(NOT(AS1494=AS1495),AS1495,\"\")","v":""},{"$f":"INDEX($AB$15:$AM$15,MATCH($AS1494,$AB$11:$AM$11,0))","v":"in"},{"$f":"LEFT(AT1494,4)","v":"2005"},{"$f":"LEFT(B1494,6)","v":"200510"}]
[null,{"$f":"'Market Data'!B1483","v":20051021},{"$f":"'Market Data'!C1483","v":5906},{"$f":"'Market Data'!D1483","v":5933},{"$f":"'Market Data'!E1483","v":5881},{"$f":"'Market Data'!F1483","v":5921},null,1479,{"$f":"IF($H1497<($J$6+1),\"\",PFE(OFFSET($F1497,0,0,-$J$6)))","v":0.10183781874979661},null,"Long",{"$error":"#N/A"},{"$error":"#N/A"},null,1,0,"",null,1,null,455,126015.14000000004,null,null,null,null,null,null,null,null,null,null,null,null,null,null,null,null,null,null,null,{"$f":"IF(NOT($AS1497=$AS1498),ROW(),\"\")","v":""},{"$f":"IF(NOT(AS1497=AS1498),AS1498,\"\")","v":""},{"$f":"INDEX($AB$15:$AM$15,MATCH($AS1497,$AB$11:$AM$11,0))","v":"in"},{"$f":"LEFT(AT1497,4)","v":"2005"},{"$f":"LEFT(B1497,6)","v":"200510"}]
[null,{"$f":"'Market Data'!B1488","v":20051028},{"$f":"'Market Data'!C1488","v":5860.5},{"$f":"'Market Data'!D1488","v":5918.5},{"$f":"'Market Data'!E1488","v":5823},{"$f":"'Market Data'!F1488","v":5915.5},null,1484,{"$f":"IF($H1502<($J$6+1),\"\",PFE(OFFSET($F1502,0,0,-$J$6)))","v":7.8761965485778393E-2},null,"Long",{"$error":"#N/A"},{"$error":"#N/A"},null,1,0,"",null,1,null,1277.5,125822.64000000004,null,null,null,null,null,null,null,null,null,null,null,null,null,null,null,null,null,null,null,{"$f":"IF(NOT($AS1502=$AS1503),ROW(),\"\")","v":""},{"$f":"IF(NOT(AS1502=AS1503),AS1503,\"\")","v":""},{"$f":"INDEX($AB$15:$AM$15,MATCH($AS1502,$AB$11:$AM$11,0))","v":"in"},{"$f":"LEFT(AT1502,4)","v":"2005"},{"$f":"LEFT(B1502,6)","v":"200510"}]
[null,{"$f":"'Market Data'!B1495","v":20051108},{"$f":"'Market Data'!C1495","v":6089.5},{"$f":"'Market Data'!D1495","v":6105},{"$f":"'Market Data'!E1495","v":6049.5},{"$f":"'Market Data'!F1495","v":6068.5},null,1491,{"$f":"IF($H1509<($J$6+1),\"\",PFE(OFFSET($F1509,0,0,-$J$6)))","v":9.9072024030259692E-2},null,"Long",{"$error":"#N/A"},{"$error":"#N/A"},null,1,0,"",null,1,null,-525,131177.64000000004,null,null,null,null,null,null,null,null,null,null,null,null,null,null,null,null,null,null,null,{"$f":"IF(NOT($AS1509=$AS1510),ROW(),\"\")","v":""},{"$f":"IF(NOT(AS1509=AS1510),AS1510,\"\")","v":""},{"$f":"INDEX($AB$15:$AM$15,MATCH($AS1509,$AB$11:$AM$11,0))","v":"in"},{"$f":"LEFT(AT1509,4)","v":"2005"},{"$f":"LEFT(B1509,6)","v":"200511"}]
[null,{"$f":"'Market Data'!B1500","v":20051115},{"$f":"'Market Data'!C1500","v":6138.5},{"$f":"'Market Data'!D1500","v":6183.5},{"$f":"'Market Data'!E1500","v":6132.5},{"$f":"'Market Data'!F1500","v":6161.5},null,1496,{"$f":"IF($H1514<($J$6+1),\"\",PFE(OFFSET($F1514,0,0,-$J$6)))","v":8.8874429891304077E-2},null,"Long",{"$error":"#N/A"},{"$error":"#N/A"},null,1,0,"",null,1,null,507.5,134432.64000000004,null,null,null,null,null,null,null,null,null,null,null,null,null,null,null,null,null,null,null,{"$f":"IF(NOT($AS1514=$AS1515),ROW(),\"\")","v":""},{"$f":"IF(NOT(AS1514=AS1515),AS1515,\"\")","v":""},{"$f":"INDEX($AB$15:$AM$15,MATCH($AS1514,$AB$11:$AM$11,0))","v":"in"},{"$f":"LEFT(AT1514,4)","v":"2005"},{"$f":"LEFT(B1514,6)","v":"200511"}]
[null,{"$f":"'Market Data'!B1506","v":20051123},{"$f":"'Market Data'!C1506","v":6256.5},{"$f":"'Market Data'!D1506","v":6259},{"$f":"'Market Data'!E1506","v":6227},{"$f":"'Market Data'!F1506","v":6249.5},null,1502,{"$f":"IF($H1520<($J$6+1),\"\",PFE(OFFSET($F1520,0,0,-$J$6)))","v":9.9165294987773295E-2},null,"Long",{"$error":"#N/A"},{"$error":"#N/A"},null,1,0,"",null,1,null,682.5,137512.64000000004,null,null,null,null,null,null,null,null,null,null,null,null,null,null,null,null,null,null,null,{"$f":"IF(NOT($AS1520=$AS1521),ROW(),\"\")","v":""},{"$f":"IF(NOT(AS1520=AS1521),AS1521,\"\")","v":""},{"$f":"INDEX($AB$15:$AM$15,MATCH($AS1520,$AB$11:$AM$11,0))","v":"in"},{"$f":"LEFT(AT1520,4)","v":"2005"},{"$f":"LEFT(B1520,6)","v":"200511"}]
[null,{"$f":"'Market Data'!B1512","v":20051201},{"$f":"'Market Data'!C1512","v":6256},{"$f":"'Market Data'!D1512","v":6325},{"$f":"'Market Data'!E1512","v":6256},{"$f":"'Market Data'!F1512","v":6315},null,1508,{"$f":"IF($H1526<($J$6+1),\"\",PFE(OFFSET($F1526,0,0,-$J$6)))","v":0.1446284929764651},null,"Long",{"$error":"#N/A"},{"$error":"#N/A"},null,1,0,"",null,1,null,2135,139805.14000000004,null,null,null,null,null,null,null,null,null,null,null,null,null,null,null,null,null,null,null,{"$f":"IF(NOT($AS1526=$AS1527),ROW(),\"\")","v":""},{"$f":"IF(NOT(AS1526=AS1527),AS1527,\"\")","v":""},{"$f":"INDEX($AB$15:$AM$15,MATCH($AS1526,$AB$11:$AM$11,0))","v":"in"},{"$f":"LEFT(AT1526,4)","v":"2005"},{"$f":"LEFT(B1526,6)","v":"200512"}]
[null,{"$f":"'Market Data'!B1517","v":20051208},{"$f":"'Market Data'!C1517","v":6279},{"$f":"'Market Data'!D1517","v":6345.5},{"$f":"'Market Data'!E1517","v":6271.5},{"$f":"'Market Data'!F1517","v":6332},null,1513,{"$f":"IF($H1531<($J$6+1),\"\",PFE(OFFSET($F1531,0,0,-$J$6)))","v":0.11029913997742423},null,"Long",{"$error":"#N/A"},{"$error":"#N/A"},null,1,0,"",null,1,null,927.5,140400.14000000004,null,null,null,null,null,null,null,null,null,null,null,null,null,null,null,null,null,null,null,{"$f":"IF(NOT($AS1531=$AS1532),ROW(),\"\")","v":""},{"$f":"IF(NOT(AS1531=AS1532),AS1532,\"\")","v":""},{"$f":"INDEX($AB$15:$AM$15,MATCH($AS1531,$AB$11:$AM$11,0))","v":"in"},{"$f":"LEFT(AT1531,4)","v":"2005"},{"$f":"LEFT(B1531,6)","v":"200512"}]
[null,{"$f":"'Market Data'!B1523","v":20051216},{"$f":"'Market Data'!C1523","v":6348.5},{"$f":"'Market Data'!D1523","v":6401.5},{"$f":"'Market Data'!E1523","v":6348.5},{"$f":"'Market Data'!F1523","v":6396},null,1519,{"$f":"IF($H1537<($J$6+1),\"\",PFE(OFFSET($F1537,0,0,-$J$6)))","v":0.15013860480048943},null,"Long",{"$error":"#N/A"},{"$error":"#N/A"},null,1,0,"",null,1,null,2012.5,142640.14000000004,null,null,null,null,null,null,null,null,null,null,null,null,null,null,null,null,null,null,null,{"$f":"IF(NOT($AS1537=$AS1538),ROW(),\"\")","v":""},{"$f":"IF(NOT(AS1537=AS1538),AS1538,\"\")","v":""},{"$f":"INDEX($AB$15:$AM$15,MATCH($AS1537,$AB$11:$AM$11,0))","v":"in"},{"$f":"LEFT(AT1537,4)","v":"2005"},{"$f":"LEFT(B1537,6)","v":"200512"}]
[null,{"$f":"'Market Data'!B1529","v":20051227},{"$f":"'Market Data'!C1529","v":6469},{"$f":"'Market Data'!D1529","v":6499.5},{"$f":"'Market Data'!E1529","v":6463},{"$f":"'Market Data'!F1529","v":6491.5},null,1525,{"$f":"IF($H1543<($J$6+1),\"\",PFE(OFFSET($F1543,0,0,-$J$6)))","v":0.22202955353290263},null,"Long",{"$error":"#N/A"},{"$error":"#N/A"},null,1,0,"",null,1,null,997.5,145982.64000000004,null,null,null,null,null,null,null,null,null,null,null,null,null,null,null,null,null,null,null,{"$f":"IF(NOT($AS1543=$AS1544),ROW(),\"\")","v":""},{"$f":"IF(NOT(AS1543=AS1544),AS1544,\"\")","v":""},{"$f":"INDEX($AB$15:$AM$15,MATCH($AS1543,$AB$11:$AM$11,0))","v":"in"},{"$f":"LEFT(AT1543,4)","v":"2005"},{"$f":"LEFT(B1543,6)","v":"200512"}]
[null,{"$f":"'Market Data'!B1532","v":20051230},{"$f":"'Market Data'!C1532","v":6480},{"$f":"'Market Data'!D1532","v":6487},{"$f":"'Market Data'!E1532","v":6427},{"$f":"'Market Data'!F1532","v":6451},null,1528,{"$f":"IF($H1546<($J$6+1),\"\",PFE(OFFSET($F1546,0,0,-$J$6)))","v":0.18374916238824196},null,"Long",{"$error":"#N/A"},{"$error":"#N/A"},null,1,0,"",null,1,null,-1750,144565.14000000004,null,null,null,null,null,null,null,null,null,null,null,null,null,null,null,null,null,null,null,{"$f":"IF(NOT($AS1546=$AS1547),ROW(),\"\")","v":1546},{"$f":"IF(NOT(AS1546=AS1547),AS1547,\"\")","v":"2006"},{"$f":"INDEX($AB$15:$AM$15,MATCH($AS1546,$AB$11:$AM$11,0))","v":"in"},{"$f":"LEFT(AT1546,4)","v":"2005"},{"$f":"LEFT(B1546,6)","v":"200512"}]
[null,{"$f":"'Market Data'!B1536","v":20060105},{"$f":"'Market Data'!C1536","v":6558.5},{"$f":"'Market Data'!D1536","v":6568.5},{"$f":"'Market Data'!E1536","v":6542},{"$f":"'Market Data'!F1536","v":6553},null,1532,{"$f":"IF($H1550<($J$6+1),\"\",PFE(OFFSET($F1550,0,0,-$J$6)))","v":0.17836064987238431},null,"Long",{"$error":"#N/A"},{"$error":"#N/A"},null,1,0,"",null,1,null,-227.5,148135.14000000004,null,null,null,null,null,null,null,null,null,null,null,null,null,null,null,null,null,null,null,{"$f":"IF(NOT($AS1550=$AS1551),ROW(),\"\")","v":""},{"$f":"IF(NOT(AS1550=AS1551),AS1551,\"\")","v":""},{"$f":"INDEX($AB$15:$AM$15,MATCH($AS1550,$AB$11:$AM$11,0))","v":"out"},{"$f":"LEFT(AT1550,4)","v":"2006"},{"$f":"LEFT(B1550,6)","v":"200601"}]
[null,{"$f":"'Market Data'!B1541","v":20060112},{"$f":"'Market Data'!C1541","v":6561},{"$f":"'Market Data'!D1541","v":6596.5},{"$f":"'Market Data'!E1541","v":6548},{"$f":"'Market Data'!F1541","v":6579.5},null,1537,{"$f":"IF($H1555<($J$6+1),\"\",PFE(OFFSET($F1555,0,0,-$J$6)))","v":0.20694645104977605},null,"Long",{"$f":"IF(AND($K1555=\"Long\",$K1554<>\"Long\"),$F1555,NA())","v":{"$error":"#N/A"}},{"$f":"IF(AND($K1555=\"Short\",$K1554<>\"Short\"),$F1555,NA())","v":{"$error":"#N/A"}},null,1,0,{"$f":"IF(NOT($P1555=0),\"Fill\",\"\")","v":""},null,1,null,472.5,{"$f":"V1554+U1555","v":149062.64000000004},null,null,null,null,null,null,null,null,null,null,null,null,null,null,null,null,null,null,null,{"$f":"IF(NOT($AS1555=$AS1556),ROW(),\"\")","v":""},{"$f":"IF(NOT(AS1555=AS1556),AS1556,\"\")","v":""},{"$f":"INDEX($AB$15:$AM$15,MATCH($AS1555,$AB$11:$AM$11,0))","v":"out"},{"$f":"LEFT(AT1555,4)","v":"2006"},{"$f":"LEFT(B1555,6)","v":"200601"}]
[null,{"$f":"'Market Data'!B1549","v":20060124},{"$f":"'Market Data'!C1549","v":6382.5},{"$f":"'Market Data'!D1549","v":6402.5},{"$f":"'Market Data'!E1549","v":6353},{"$f":"'Market Data'!F1549","v":6368},null,1545,{"$f":"IF($H1563<($J$6+1),\"\",PFE(OFFSET($F1563,0,0,-$J$6)))","v":0.11463787660999811},null,"Long",{"$error":"#N/A"},{"$error":"#N/A"},null,1,0,"",null,1,null,-472.5,141660.14000000004,null,null,null,null,null,null,null,null,null,null,null,null,null,null,null,null,null,null,null,{"$f":"IF(NOT($AS1563=$AS1564),ROW(),\"\")","v":""},{"$f":"IF(NOT(AS1563=AS1564),AS1564,\"\")","v":""},{"$f":"INDEX($AB$15:$AM$15,MATCH($AS1563,$AB$11:$AM$11,0))","v":"out"},{"$f":"LEFT(AT1563,4)","v":"2006"},{"$f":"LEFT(B1563,6)","v":"200601"}]
[null,{"$f":"'Market Data'!B1553","v":20060130},{"$f":"'Market Data'!C1553","v":6670},{"$f":"'Market Data'!D1553","v":6706.5},{"$f":"'Market Data'!E1553","v":6648.5},{"$f":"'Market Data'!F1553","v":6685.5},null,1549,{"$f":"IF($H1567<($J$6+1),\"\",PFE(OFFSET($F1567,0,0,-$J$6)))","v":0.1848254822682287},null,"Long",{"$error":"#N/A"},{"$error":"#N/A"},null,1,0,"",null,1,null,175,152772.64000000004,null,null,null,null,null,null,null,null,null,null,null,null,null,null,null,null,null,null,null,{"$f":"IF(NOT($AS1567=$AS1568),ROW(),\"\")","v":""},{"$f":"IF(NOT(AS1567=AS1568),AS1568,\"\")","v":""},{"$f":"INDEX($AB$15:$AM$15,MATCH($AS1567,$AB$11:$AM$11,0))","v":"out"},{"$f":"LEFT(AT1567,4)","v":"2006"},{"$f":"LEFT(B1567,6)","v":"200601"}]
[null,{"$f":"'Market Data'!B1558","v":20060206},{"$f":"'Market Data'!C1558","v":6714},{"$f":"'Market Data'!D1558","v":6732},{"$f":"'Market Data'!E1558","v":6678},{"$f":"'Market Data'!F1558","v":6694},null,1554,{"$f":"IF($H1572<($J$6+1),\"\",PFE(OFFSET($F1572,0,0,-$J$6)))","v":0.23355756798362229},null,"Long",{"$error":"#N/A"},{"$error":"#N/A"},null,1,0,"",null,1,null,472.5,153070.14000000004,null,null,null,null,null,null,null,null,null,null,null,null,null,null,null,null,null,null,null,{"$f":"IF(NOT($AS1572=$AS1573),ROW(),\"\")","v":""},{"$f":"IF(NOT(AS1572=AS1573),AS1573,\"\")","v":""},{"$f":"INDEX($AB$15:$AM$15,MATCH($AS1572,$AB$11:$AM$11,0))","v":"out"},{"$f":"LEFT(AT1572,4)","v":"2006"},{"$f":"LEFT(B1572,6)","v":"200602"}]
[null,{"$f":"'Market Data'!B1565","v":20060215},{"$f":"'Market Data'!C1565","v":6793},{"$f":"'Market Data'!D1565","v":6816},{"$f":"'Market Data'!E1565","v":6760},{"$f":"'Market Data'!F1565","v":6790.5},null,1561,{"$f":"IF($H1579<($J$6+1),\"\",PFE(OFFSET($F1579,0,0,-$J$6)))","v":0.34884628192509992},null,"Long",{"$error":"#N/A"},{"$error":"#N/A"},null,1,0,"",null,1,null,70,156447.64000000004,null,null,null,null,null,null,null,null,null,null,null,null,null,null,null,null,null,null,null,{"$f":"IF(NOT($AS1579=$AS1580),ROW(),\"\")","v":""},{"$f":"IF(NOT(AS1579=AS1580),AS1580,\"\")","v":""},{"$f":"INDEX($AB$15:$AM$15,MATCH($AS1579,$AB$11:$AM$11,0))","v":"out"},{"$f":"LEFT(AT1579,4)","v":"2006"},{"$f":"LEFT(B1579,6)","v":"200602"}]
[null,{"$f":"'Market Data'!B1573","v":20060227},{"$f":"'Market Data'!C1573","v":6904.5},{"$f":"'Market Data'!D1573","v":6939.5},{"$f":"'Market Data'!E1573","v":6893},{"$f":"'Market Data'!F1573","v":6934.5},null,1569,{"$f":"IF($H1587<($J$6+1),\"\",PFE(OFFSET($F1587,0,0,-$J$6)))","v":0.4132215367388849},null,"Long",{"$error":"#N/A"},{"$error":"#N/A"},null,1,0,"",null,1,null,1697.5,161487.64000000004,null,null,null,null,null,null,null,null,null,null,null,null,null,null,null,null,null,null,null,{"$f":"IF(NOT($AS1587=$AS1588),ROW(),\"\")","v":""},{"$f":"IF(NOT(AS1587=AS1588),AS1588,\"\")","v":""},{"$f":"INDEX($AB$15:$AM$15,MATCH($AS1587,$AB$11:$AM$11,0))","v":"out"},{"$f":"LEFT(AT1587,4)","v":"2006"},{"$f":"LEFT(B1587,6)","v":"200602"}]
[null,{"$f":"'Market Data'!B1576","v":20060302},{"$f":"'Market Data'!C1576","v":6895.5},{"$f":"'Market Data'!D1576","v":6905.5},{"$f":"'Market Data'!E1576","v":6767},{"$f":"'Market Data'!F1576","v":6795},null,1572,{"$f":"IF($H1590<($J$6+1),\"\",PFE(OFFSET($F1590,0,0,-$J$6)))","v":0.30504725349477052},null,"Long",{"$error":"#N/A"},{"$error":"#N/A"},null,1,0,"",null,1,null,-3202.5,156605.14000000004,null,null,null,null,null,null,null,null,null,null,null,null,null,null,null,null,null,null,null,{"$f":"IF(NOT($AS1590=$AS1591),ROW(),\"\")","v":""},{"$f":"IF(NOT(AS1590=AS1591),AS1591,\"\")","v":""},{"$f":"INDEX($AB$15:$AM$15,MATCH($AS1590,$AB$11:$AM$11,0))","v":"out"},{"$f":"LEFT(AT1590,4)","v":"2006"},{"$f":"LEFT(B1590,6)","v":"200603"}]
[null,{"$f":"'Market Data'!B1582","v":20060310},{"$f":"'Market Data'!C1582","v":6732},{"$f":"'Market Data'!D1582","v":6834},{"$f":"'Market Data'!E1582","v":6722.5},{"$f":"'Market Data'!F1582","v":6814.5},null,1578,{"$f":"IF($H1596<($J$6+1),\"\",PFE(OFFSET($F1596,0,0,-$J$6)))","v":0.25594036871892806},null,"Long",{"$error":"#N/A"},{"$error":"#N/A"},null,1,0,"",null,1,null,2485,157287.64000000004,null,null,null,null,null,null,null,null,null,null,null,null,null,null,null,null,null,null,null,{"$f":"IF(NOT($AS1596=$AS1597),ROW(),\"\")","v":""},{"$f":"IF(NOT(AS1596=AS1597),AS1597,\"\")","v":""},{"$f":"INDEX($AB$15:$AM$15,MATCH($AS1596,$AB$11:$AM$11,0))","v":"out"},{"$f":"LEFT(AT1596,4)","v":"2006"},{"$f":"LEFT(B1596,6)","v":"200603"}]
[null,{"$f":"'Market Data'!B1584","v":20060314},{"$f":"'Market Data'!C1584","v":6847},{"$f":"'Market Data'!D1584","v":6890.5},{"$f":"'Market Data'!E1584","v":6838.5},{"$f":"'Market Data'!F1584","v":6881.5},null,1580,{"$f":"IF($H1598<($J$6+1),\"\",PFE(OFFSET($F1598,0,0,-$J$6)))","v":0.28299561569704274},null,"Long",{"$error":"#N/A"},{"$error":"#N/A"},null,1,0,"",null,1,null,507.5,159632.64000000004,null,null,null,null,null,null,null,null,null,null,null,null,null,null,null,null,null,null,null,{"$f":"IF(NOT($AS1598=$AS1599),ROW(),\"\")","v":""},{"$f":"IF(NOT(AS1598=AS1599),AS1599,\"\")","v":""},{"$f":"INDEX($AB$15:$AM$15,MATCH($AS1598,$AB$11:$AM$11,0))","v":"out"},{"$f":"LEFT(AT1598,4)","v":"2006"},{"$f":"LEFT(B1598,6)","v":"200603"}]
[null,{"$f":"'Market Data'!B1593","v":20060327},{"$f":"'Market Data'!C1593","v":6985.5},{"$f":"'Market Data'!D1593","v":6989.5},{"$f":"'Market Data'!E1593","v":6906},{"$f":"'Market Data'!F1593","v":6923},null,1589,{"$f":"IF($H1607<($J$6+1),\"\",PFE(OFFSET($F1607,0,0,-$J$6)))","v":0.25345378616282332},null,"Long",{"$error":"#N/A"},{"$error":"#N/A"},null,1,0,"",null,1,null,-2030,161085.14000000004,null,null,null,null,null,null,null,null,null,null,null,null,null,null,null,null,null,null,null,{"$f":"IF(NOT($AS1607=$AS1608),ROW(),\"\")","v":""},{"$f":"IF(NOT(AS1607=AS1608),AS1608,\"\")","v":""},{"$f":"INDEX($AB$15:$AM$15,MATCH($AS1607,$AB$11:$AM$11,0))","v":"out"},{"$f":"LEFT(AT1607,4)","v":"2006"},{"$f":"LEFT(B1607,6)","v":"200603"}]
[null,{"$f":"'Market Data'!B1599","v":20060404},{"$f":"'Market Data'!C1599","v":7020.5},{"$f":"'Market Data'!D1599","v":7038.5},{"$f":"'Market Data'!E1599","v":7000.5},{"$f":"'Market Data'!F1599","v":7019.5},null,1595,{"$f":"IF($H1613<($J$6+1),\"\",PFE(OFFSET($F1613,0,0,-$J$6)))","v":0.2663008460388},null,"Long",{"$error":"#N/A"},{"$error":"#N/A"},null,1,0,"",null,1,null,-542.5,164462.64000000004,null,null,null,null,null,null,null,null,null,null,null,null,null,null,null,null,null,null,null,{"$f":"IF(NOT($AS1613=$AS1614),ROW(),\"\")","v":""},{"$f":"IF(NOT(AS1613=AS1614),AS1614,\"\")","v":""},{"$f":"INDEX($AB$15:$AM$15,MATCH($AS1613,$AB$11:$AM$11,0))","v":"out"},{"$f":"LEFT(AT1613,4)","v":"2006"},{"$f":"LEFT(B1613,6)","v":"200604"}]
[null,{"$f":"'Market Data'!B1605","v":20060412},{"$f":"'Market Data'!C1605","v":6900.5},{"$f":"'Market Data'!D1605","v":6919},{"$f":"'Market Data'!E1605","v":6861.5},{"$f":"'Market Data'!F1605","v":6901.5},null,1601,{"$f":"IF($H1619<($J$6+1),\"\",PFE(OFFSET($F1619,0,0,-$J$6)))","v":0.19940930807521631},null,"Long",{"$f":"IF(AND($K1619=\"Long\",$K1618<>\"Long\"),$F1619,NA())","v":{"$error":"#N/A"}},{"$f":"IF(AND($K1619=\"Short\",$K1618<>\"Short\"),$F1619,NA())","v":{"$error":"#N/A"}},null,1,0,{"$f":"IF(NOT($P1619=0),\"Fill\",\"\")","v":""},null,1,null,-297.5,{"$f":"V1618+U1619","v":160332.64000000004},null,null,null,null,null,null,null,null,null,null,null,null,null,null,null,null,null,null,null,{"$f":"IF(NOT($AS1619=$AS1620),ROW(),\"\")","v":""},{"$f":"IF(NOT(AS1619=AS1620),AS1620,\"\")","v":""},{"$f":"INDEX($AB$15:$AM$15,MATCH($AS1619,$AB$11:$AM$11,0))","v":"out"},{"$f":"LEFT(AT1619,4)","v":"2006"},{"$f":"LEFT(B1619,6)","v":"200604"}]
[null,{"$f":"'Market Data'!B1606","v":20060413},{"$f":"'Market Data'!C1606","v":6910},{"$f":"'Market Data'!D1606","v":6927},{"$f":"'Market Data'!E1606","v":6873},{"$f":"'Market Data'!F1606","v":6917.5},null,{"$f":"ROW()-ROW(H$18)","v":1602},{"$f":"IF($H1620<($J$6+1),\"\",PFE(OFFSET($F1620,0,0,-$J$6)))","v":0.18776415830227625},null,{"$f":"IF($I1620=\"\",\"\",IF($I1620>$J$4,\"Long\",IF($I1620<$J$5,\"Short\",\"\")))","v":"Long"},{"$error":"#N/A"},{"$error":"#N/A"},null,{"$f":"IF($K1620=\"Short\",-1,IF($K1620=\"Long\",1,0))","v":1},0,"",null,1,null,560,160892.64000000004,null,null,null,null,null,null,null,null,null,null,null,null,null,null,null,null,null,null,null,{"$f":"IF(NOT($AS1620=$AS1621),ROW(),\"\")","v":""},{"$f":"IF(NOT(AS1620=AS1621),AS1621,\"\")","v":""},{"$f":"INDEX($AB$15:$AM$15,MATCH($AS1620,$AB$11:$AM$11,0))","v":"out"},{"$f":"LEFT(AT1620,4)","v":"2006"},{"$f":"LEFT(B1620,6)","v":"200604"}]
[null,{"$f":"'Market Data'!B1616","v":20060502},{"$f":"'Market Data'!C1616","v":6997.5},{"$f":"'Market Data'!D1616","v":7061},{"$f":"'Market Data'!E1616","v":6997.5},{"$f":"'Market Data'!F1616","v":7043.5},null,1612,{"$f":"IF($H1630<($J$6+1),\"\",PFE(OFFSET($F1630,0,0,-$J$6)))","v":0.18518338144872667},null,"Long",{"$error":"#N/A"},{"$error":"#N/A"},null,1,0,"",null,1,null,1505,165302.64000000004,null,null,null,null,null,null,null,null,null,null,null,null,null,null,null,null,null,null,null,{"$f":"IF(NOT($AS1630=$AS1631),ROW(),\"\")","v":""},{"$f":"IF(NOT(AS1630=AS1631),AS1631,\"\")","v":""},{"$f":"INDEX($AB$15:$AM$15,MATCH($AS1630,$AB$11:$AM$11,0))","v":"out"},{"$f":"LEFT(AT1630,4)","v":"2006"},{"$f":"LEFT(B1630,6)","v":"200605"}]
[null,{"$f":"'Market Data'!B1617","v":20060503},{"$f":"'Market Data'!C1617","v":7066.5},{"$f":"'Market Data'!D1617","v":7075},{"$f":"'Market Data'!E1617","v":6954},{"$f":"'Market Data'!F1617","v":6969},null,1613,{"$f":"IF($H1631<($J$6+1),\"\",PFE(OFFSET($F1631,0,0,-$J$6)))","v":0.15534936044489181},null,"Long",{"$error":"#N/A"},{"$error":"#N/A"},null,1,0,"",null,1,null,-2607.5,162695.14000000004,null,null,null,null,null,null,null,null,null,null,null,null,null,null,null,null,null,null,null,{"$f":"IF(NOT($AS1631=$AS1632),ROW(),\"\")","v":""},{"$f":"IF(NOT(AS1631=AS1632),AS1632,\"\")","v":""},{"$f":"INDEX($AB$15:$AM$15,MATCH($AS1631,$AB$11:$AM$11,0))","v":"out"},{"$f":"LEFT(AT1631,4)","v":"2006"},{"$f":"LEFT(B1631,6)","v":"200605"}]
[null,{"$f":"'Market Data'!B1625","v":20060515},{"$f":"'Market Data'!C1625","v":6857},{"$f":"'Market Data'!D1625","v":6892},{"$f":"'Market Data'!E1625","v":6768},{"$f":"'Market Data'!F1625","v":6846},null,1621,{"$f":"IF($H1639<($J$6+1),\"\",PFE(OFFSET($F1639,0,0,-$J$6)))","v":0.10235787267679297},null,"Long",{"$error":"#N/A"},{"$error":"#N/A"},null,1,0,"",null,1,null,-2135,158390.14000000004,null,null,null,null,null,null,null,null,null,null,null,null,null,null,null,null,null,null,null,{"$f":"IF(NOT($AS1639=$AS1640),ROW(),\"\")","v":""},{"$f":"IF(NOT(AS1639=AS1640),AS1640,\"\")","v":""},{"$f":"INDEX($AB$15:$AM$15,MATCH($AS1639,$AB$11:$AM$11,0))","v":"out"},{"$f":"LEFT(AT1639,4)","v":"2006"},{"$f":"LEFT(B1639,6)","v":"200605"}]
[null,{"$f":"'Market Data'!B1629","v":20060519},{"$f":"'Market Data'!C1629","v":6642.5},{"$f":"'Market Data'!D1629","v":6686.5},{"$f":"'Market Data'!E1629","v":6617.5},{"$f":"'Market Data'!F1629","v":6658},null,1625,{"$f":"IF($H1643<($J$6+1),\"\",PFE(OFFSET($F1643,0,0,-$J$6)))","v":6.3034481912104617E-2},null,"Long",{"$error":"#N/A"},{"$error":"#N/A"},null,1,0,"",null,1,null,262.5,151810.14000000004,null,null,null,null,null,null,null,null,null,null,null,null,null,null,null,null,null,null,null,{"$f":"IF(NOT($AS1643=$AS1644),ROW(),\"\")","v":""},{"$f":"IF(NOT(AS1643=AS1644),AS1644,\"\")","v":""},{"$f":"INDEX($AB$15:$AM$15,MATCH($AS1643,$AB$11:$AM$11,0))","v":"out"},{"$f":"LEFT(AT1643,4)","v":"2006"},{"$f":"LEFT(B1643,6)","v":"200605"}]
[null,{"$f":"'Market Data'!B1634","v":20060526},{"$f":"'Market Data'!C1634","v":6725},{"$f":"'Market Data'!D1634","v":6771},{"$f":"'Market Data'!E1634","v":6701},{"$f":"'Market Data'!F1634","v":6765},null,1630,{"$f":"IF($H1648<($J$6+1),\"\",PFE(OFFSET($F1648,0,0,-$J$6)))","v":5.7683230371771012E-2},null,"Long",{"$error":"#N/A"},{"$error":"#N/A"},null,1,0,"",null,1,null,2835,155555.14000000004,null,null,null,null,null,null,null,null,null,null,null,null,null,null,null,null,null,null,null,{"$f":"IF(NOT($AS1648=$AS1649),ROW(),\"\")","v":""},{"$f":"IF(NOT(AS1648=AS1649),AS1649,\"\")","v":""},{"$f":"INDEX($AB$15:$AM$15,MATCH($AS1648,$AB$11:$AM$11,0))","v":"out"},{"$f":"LEFT(AT1648,4)","v":"2006"},{"$f":"LEFT(B1648,6)","v":"200605"}]
[null,{"$f":"'Market Data'!B1642","v":20060607},{"$f":"'Market Data'!C1642","v":6502},{"$f":"'Market Data'!D1642","v":6551},{"$f":"'Market Data'!E1642","v":6450.5},{"$f":"'Market Data'!F1642","v":6521},null,1638,{"$f":"IF($H1656<($J$6+1),\"\",PFE(OFFSET($F1656,0,0,-$J$6)))","v":-5.2289222933017528E-2},null,"Short",{"$error":"#N/A"},{"$error":"#N/A"},null,-1,0,"",null,-1,null,-1435,147638.22000000003,null,null,null,null,null,null,null,null,null,null,null,null,null,null,null,null,null,null,null,{"$f":"IF(NOT($AS1656=$AS1657),ROW(),\"\")","v":""},{"$f":"IF(NOT(AS1656=AS1657),AS1657,\"\")","v":""},{"$f":"INDEX($AB$15:$AM$15,MATCH($AS1656,$AB$11:$AM$11,0))","v":"out"},{"$f":"LEFT(AT1656,4)","v":"2006"},{"$f":"LEFT(B1656,6)","v":"200606"}]
[null,{"$f":"'Market Data'!B1646","v":20060613},{"$f":"'Market Data'!C1646","v":6298},{"$f":"'Market Data'!D1646","v":6310.5},{"$f":"'Market Data'!E1646","v":6236.5},{"$f":"'Market Data'!F1646","v":6263.5},null,1642,{"$f":"IF($H1660<($J$6+1),\"\",PFE(OFFSET($F1660,0,0,-$J$6)))","v":-0.12863539244224823},null,"Short",{"$error":"#N/A"},{"$error":"#N/A"},null,-1,0,"",null,-1,null,3307.5,156650.72000000003,null,null,null,null,null,null,null,null,null,null,null,null,null,null,null,null,null,null,null,{"$f":"IF(NOT($AS1660=$AS1661),ROW(),\"\")","v":""},{"$f":"IF(NOT(AS1660=AS1661),AS1661,\"\")","v":""},{"$f":"INDEX($AB$15:$AM$15,MATCH($AS1660,$AB$11:$AM$11,0))","v":"out"},{"$f":"LEFT(AT1660,4)","v":"2006"},{"$f":"LEFT(B1660,6)","v":"200606"}]
[null,{"$f":"'Market Data'!B1651","v":20060620},{"$f":"'Market Data'!C1651","v":6350.5},{"$f":"'Market Data'!D1651","v":6483},{"$f":"'Market Data'!E1651","v":6348},{"$f":"'Market Data'!F1651","v":6460},null,1647,{"$f":"IF($H1665<($J$6+1),\"\",PFE(OFFSET($F1665,0,0,-$J$6)))","v":-8.5159267632868782E-2},null,"Short",{"$error":"#N/A"},{"$error":"#N/A"},null,-1,0,"",null,-1,null,-1662.5,149773.22000000003,null,null,null,null,null,null,null,null,null,null,null,null,null,null,null,null,null,null,null,{"$f":"IF(NOT($AS1665=$AS1666),ROW(),\"\")","v":""},{"$f":"IF(NOT(AS1665=AS1666),AS1666,\"\")","v":""},{"$f":"INDEX($AB$15:$AM$15,MATCH($AS1665,$AB$11:$AM$11,0))","v":"out"},{"$f":"LEFT(AT1665,4)","v":"2006"},{"$f":"LEFT(B1665,6)","v":"200606"}]
[null,{"$f":"'Market Data'!B1658","v":20060629},{"$f":"'Market Data'!C1658","v":6483.5},{"$f":"'Market Data'!D1658","v":6564},{"$f":"'Market Data'!E1658","v":6451.5},{"$f":"'Market Data'!F1658","v":6547},null,1654,{"$f":"IF($H1672<($J$6+1),\"\",PFE(OFFSET($F1672,0,0,-$J$6)))","v":-8.2158745842006831E-2},null,"Short",{"$error":"#N/A"},{"$error":"#N/A"},null,-1,0,"",null,-1,null,-4200,146728.22000000003,null,null,null,null,null,null,null,null,null,null,null,null,null,null,null,null,null,null,null,{"$f":"IF(NOT($AS1672=$AS1673),ROW(),\"\")","v":""},{"$f":"IF(NOT(AS1672=AS1673),AS1673,\"\")","v":""},{"$f":"INDEX($AB$15:$AM$15,MATCH($AS1672,$AB$11:$AM$11,0))","v":"out"},{"$f":"LEFT(AT1672,4)","v":"2006"},{"$f":"LEFT(B1672,6)","v":"200606"}]
[null,{"$f":"'Market Data'!B1663","v":20060706},{"$f":"'Market Data'!C1663","v":6617.5},{"$f":"'Market Data'!D1663","v":6672},{"$f":"'Market Data'!E1663","v":6598.5},{"$f":"'Market Data'!F1663","v":6659},null,1659,{"$f":"IF($H1677<($J$6+1),\"\",PFE(OFFSET($F1677,0,0,-$J$6)))","v":-2.1134164707783572E-2},null,"Short",{"$error":"#N/A"},{"$error":"#N/A"},null,-1,0,"",null,-1,null,-2327.5,142808.22000000003,null,null,null,null,null,null,null,null,null,null,null,null,null,null,null,null,null,null,null,{"$f":"IF(NOT($AS1677=$AS1678),ROW(),\"\")","v":""},{"$f":"IF(NOT(AS1677=AS1678),AS1678,\"\")","v":""},{"$f":"INDEX($AB$15:$AM$15,MATCH($AS1677,$AB$11:$AM$11,0))","v":"out"},{"$f":"LEFT(AT1677,4)","v":"2006"},{"$f":"LEFT(B1677,6)","v":"200607"}]
[null,{"$f":"'Market Data'!B1668","v":20060713},{"$f":"'Market Data'!C1668","v":6551.5},{"$f":"'Market Data'!D1668","v":6557.5},{"$f":"'Market Data'!E1668","v":6439.5},{"$f":"'Market Data'!F1668","v":6492.5},null,1664,{"$f":"IF($H1682<($J$6+1),\"\",PFE(OFFSET($F1682,0,0,-$J$6)))","v":-9.844674990448804E-2},null,"Short",{"$error":"#N/A"},{"$error":"#N/A"},null,-1,0,"",null,{"$f":"IF($Q1681=\"Fill\",$O1681,$S1681)","v":-1},null,3622.5,148635.72000000003,null,null,null,null,null,null,null,null,null,null,null,null,null,null,null,null,null,null,null,{"$f":"IF(NOT($AS1682=$AS1683),ROW(),\"\")","v":""},{"$f":"IF(NOT(AS1682=AS1683),AS1683,\"\")","v":""},{"$f":"INDEX($AB$15:$AM$15,MATCH($AS1682,$AB$11:$AM$11,0))","v":"out"},{"$f":"LEFT(AT1682,4)","v":"2006"},{"$f":"LEFT(B1682,6)","v":"200607"}]
[null,{"$f":"'Market Data'!B1675","v":20060724},{"$f":"'Market Data'!C1675","v":6423.5},{"$f":"'Market Data'!D1675","v":6548},{"$f":"'Market Data'!E1675","v":6416},{"$f":"'Market Data'!F1675","v":6529.5},null,1671,{"$f":"IF($H1689<($J$6+1),\"\",PFE(OFFSET($F1689,0,0,-$J$6)))","v":-9.6645709080698597E-2},null,"Short",{"$error":"#N/A"},{"$error":"#N/A"},null,-1,0,"",null,-1,null,-4165,147340.72000000003,null,null,null,null,null,null,null,null,null,null,null,null,null,null,null,null,null,null,null,{"$f":"IF(NOT($AS1689=$AS1690),ROW(),\"\")","v":""},{"$f":"IF(NOT(AS1689=AS1690),AS1690,\"\")","v":""},{"$f":"INDEX($AB$15:$AM$15,MATCH($AS1689,$AB$11:$AM$11,0))","v":"out"},{"$f":"LEFT(AT1689,4)","v":"2006"},{"$f":"LEFT(B1689,6)","v":"200607"}]
[null,{"$f":"'Market Data'!B1677","v":20060726},{"$f":"'Market Data'!C1677","v":6544.5},{"$f":"'Market Data'!D1677","v":6559.5},{"$f":"'Market Data'!E1677","v":6513},{"$f":"'Market Data'!F1677","v":6545.5},null,1673,{"$f":"IF($H1691<($J$6+1),\"\",PFE(OFFSET($F1691,0,0,-$J$6)))","v":-7.7481001986974191E-2},null,"Short",{"$error":"#N/A"},{"$error":"#N/A"},null,-1,0,"",null,-1,null,-805,146780.72000000003,null,null,null,null,null,null,null,null,null,null,null,null,null,null,null,null,null,null,null,{"$f":"IF(NOT($AS1691=$AS1692),ROW(),\"\")","v":""},{"$f":"IF(NOT(AS1691=AS1692),AS1692,\"\")","v":""},{"$f":"INDEX($AB$15:$AM$15,MATCH($AS1691,$AB$11:$AM$11,0))","v":"out"},{"$f":"LEFT(AT1691,4)","v":"2006"},{"$f":"LEFT(B1691,6)","v":"200607"}]
[null,{"$f":"'Market Data'!B1682","v":20060802},{"$f":"'Market Data'!C1682","v":6583.5},{"$f":"'Market Data'!D1682","v":6658.5},{"$f":"'Market Data'!E1682","v":6577.5},{"$f":"'Market Data'!F1682","v":6633.5},null,1678,{"$f":"IF($H1696<($J$6+1),\"\",PFE(OFFSET($F1696,0,0,-$J$6)))","v":-8.1989903670988115E-2},null,"Short",{"$error":"#N/A"},{"$error":"#N/A"},null,-1,0,"",null,-1,null,-2782.5,143700.72000000003,null,null,null,null,null,null,null,null,null,null,null,null,null,null,null,null,null,null,null,{"$f":"IF(NOT($AS1696=$AS1697),ROW(),\"\")","v":""},{"$f":"IF(NOT(AS1696=AS1697),AS1697,\"\")","v":""},{"$f":"INDEX($AB$15:$AM$15,MATCH($AS1696,$AB$11:$AM$11,0))","v":"out"},{"$f":"LEFT(AT1696,4)","v":"2006"},{"$f":"LEFT(B1696,6)","v":"200608"}]
[null,{"$f":"'Market Data'!B1687","v":20060809},{"$f":"'Market Data'!C1687","v":6606.5},{"$f":"'Market Data'!D1687","v":6667.5},{"$f":"'Market Data'!E1687","v":6564.5},{"$f":"'Market Data'!F1687","v":6653},null,1683,{"$f":"IF($H1701<($J$6+1),\"\",PFE(OFFSET($F1701,0,0,-$J$6)))","v":-5.577069347664651E-2},null,"Short",{"$error":"#N/A"},{"$error":"#N/A"},null,-1,0,"",null,-1,null,-1750,143018.22000000003,null,null,null,null,null,null,null,null,null,null,null,null,null,null,null,null,null,null,null,{"$f":"IF(NOT($AS1701=$AS1702),ROW(),\"\")","v":""},{"$f":"IF(NOT(AS1701=AS1702),AS1702,\"\")","v":""},{"$f":"INDEX($AB$15:$AM$15,MATCH($AS1701,$AB$11:$AM$11,0))","v":"out"},{"$f":"LEFT(AT1701,4)","v":"2006"},{"$f":"LEFT(B1701,6)","v":"200608"}]
[null,{"$f":"'Market Data'!B1694","v":20060818},{"$f":"'Market Data'!C1694","v":6780},{"$f":"'Market Data'!D1694","v":6797.5},{"$f":"'Market Data'!E1694","v":6750.5},{"$f":"'Market Data'!F1694","v":6765},null,1690,{"$f":"IF($H1708<($J$6+1),\"\",PFE(OFFSET($F1708,0,0,-$J$6)))","v":-6.6149045738155651E-2},null,"Short",{"$error":"#N/A"},{"$error":"#N/A"},null,-1,0,"",null,-1,null,577.5,139098.22000000003,null,null,null,null,null,null,null,null,null,null,null,null,null,null,null,null,null,null,null,{"$f":"IF(NOT($AS1708=$AS1709),ROW(),\"\")","v":""},{"$f":"IF(NOT(AS1708=AS1709),AS1709,\"\")","v":""},{"$f":"INDEX($AB$15:$AM$15,MATCH($AS1708,$AB$11:$AM$11,0))","v":"out"},{"$f":"LEFT(AT1708,4)","v":"2006"},{"$f":"LEFT(B1708,6)","v":"200608"}]
[null,{"$f":"'Market Data'!B1699","v":20060825},{"$f":"'Market Data'!C1699","v":6756.5},{"$f":"'Market Data'!D1699","v":6777.5},{"$f":"'Market Data'!E1699","v":6725},{"$f":"'Market Data'!F1699","v":6757.5},null,1695,{"$f":"IF($H1713<($J$6+1),\"\",PFE(OFFSET($F1713,0,0,-$J$6)))","v":-6.1373902623356381E-2},null,"Short",{"$error":"#N/A"},{"$error":"#N/A"},null,-1,0,"",null,-1,null,105,139360.72000000003,null,null,null,null,null,null,null,null,null,null,null,null,null,null,null,null,null,null,null,{"$f":"IF(NOT($AS1713=$AS1714),ROW(),\"\")","v":""},{"$f":"IF(NOT(AS1713=AS1714),AS1714,\"\")","v":""},{"$f":"INDEX($AB$15:$AM$15,MATCH($AS1713,$AB$11:$AM$11,0))","v":"out"},{"$f":"LEFT(AT1713,4)","v":"2006"},{"$f":"LEFT(B1713,6)","v":"200608"}]
[null,{"$f":"'Market Data'!B1705","v":20060904},{"$f":"'Market Data'!C1705","v":6841},{"$f":"'Market Data'!D1705","v":6858},{"$f":"'Market Data'!E1705","v":6833},{"$f":"'Market Data'!F1705","v":6852},null,1701,{"$f":"IF($H1719<($J$6+1),\"\",PFE(OFFSET($F1719,0,0,-$J$6)))","v":-5.7457270677454972E-2},null,"Short",{"$error":"#N/A"},{"$error":"#N/A"},null,-1,0,"",null,-1,null,-1225,136053.22000000003,null,null,null,null,null,null,null,null,null,null,null,null,null,null,null,null,null,null,null,{"$f":"IF(NOT($AS1719=$AS1720),ROW(),\"\")","v":""},{"$f":"IF(NOT(AS1719=AS1720),AS1720,\"\")","v":""},{"$f":"INDEX($AB$15:$AM$15,MATCH($AS1719,$AB$11:$AM$11,0))","v":"out"},{"$f":"LEFT(AT1719,4)","v":"2006"},{"$f":"LEFT(B1719,6)","v":"200609"}]
[null,{"$f":"'Market Data'!B1711","v":20060912},{"$f":"'Market Data'!C1711","v":6750},{"$f":"'Market Data'!D1711","v":6842},{"$f":"'Market Data'!E1711","v":6710.5},{"$f":"'Market Data'!F1711","v":6810.5},null,1707,{"$f":"IF($H1725<($J$6+1),\"\",PFE(OFFSET($F1725,0,0,-$J$6)))","v":4.0003863410208125E-2},null,"Long",{"$error":"#N/A"},{"$error":"#N/A"},null,1,0,"",null,1,null,1410.58,141558.80000000002,null,null,null,null,null,null,null,null,null,null,null,null,null,null,null,null,null,null,null,{"$f":"IF(NOT($AS1725=$AS1726),ROW(),\"\")","v":""},{"$f":"IF(NOT(AS1725=AS1726),AS1726,\"\")","v":""},{"$f":"INDEX($AB$15:$AM$15,MATCH($AS1725,$AB$11:$AM$11,0))","v":"out"},{"$f":"LEFT(AT1725,4)","v":"2006"},{"$f":"LEFT(B1725,6)","v":"200609"}]
[null,{"$f":"'Market Data'!B1714","v":20060915},{"$f":"'Market Data'!C1714","v":6853},{"$f":"'Market Data'!D1714","v":6890.5},{"$f":"'Market Data'!E1714","v":6841.5},{"$f":"'Market Data'!F1714","v":6866.5},null,1710,{"$f":"IF($H1728<($J$6+1),\"\",PFE(OFFSET($F1728,0,0,-$J$6)))","v":5.4426754040048625E-2},null,"Long",{"$error":"#N/A"},{"$error":"#N/A"},null,1,0,"",null,1,null,770,143518.80000000002,null,null,null,null,null,null,null,null,null,null,null,null,null,null,null,null,null,null,null,{"$f":"IF(NOT($AS1728=$AS1729),ROW(),\"\")","v":""},{"$f":"IF(NOT(AS1728=AS1729),AS1729,\"\")","v":""},{"$f":"INDEX($AB$15:$AM$15,MATCH($AS1728,$AB$11:$AM$11,0))","v":"out"},{"$f":"LEFT(AT1728,4)","v":"2006"},{"$f":"LEFT(B1728,6)","v":"200609"}]
[null,{"$f":"'Market Data'!B1723","v":20060928},{"$f":"'Market Data'!C1723","v":6923.5},{"$f":"'Market Data'!D1723","v":6932},{"$f":"'Market Data'!E1723","v":6901},{"$f":"'Market Data'!F1723","v":6916.5},null,1719,{"$f":"IF($H1737<($J$6+1),\"\",PFE(OFFSET($F1737,0,0,-$J$6)))","v":8.1017737046348751E-2},null,"Long",{"$error":"#N/A"},{"$error":"#N/A"},null,1,0,"",null,1,null,-35,145268.80000000002,null,null,null,null,null,null,null,null,null,null,null,null,null,null,null,null,null,null,null,{"$f":"IF(NOT($AS1737=$AS1738),ROW(),\"\")","v":""},{"$f":"IF(NOT(AS1737=AS1738),AS1738,\"\")","v":""},{"$f":"INDEX($AB$15:$AM$15,MATCH($AS1737,$AB$11:$AM$11,0))","v":"out"},{"$f":"LEFT(AT1737,4)","v":"2006"},{"$f":"LEFT(B1737,6)","v":"200609"}]
[null,{"$f":"'Market Data'!B1728","v":20061005},{"$f":"'Market Data'!C1728","v":7025},{"$f":"'Market Data'!D1728","v":7025.5},{"$f":"'Market Data'!E1728","v":6993.5},{"$f":"'Market Data'!F1728","v":7004},null,1724,{"$f":"IF($H1742<($J$6+1),\"\",PFE(OFFSET($F1742,0,0,-$J$6)))","v":0.17744643005222807},null,"Long",{"$error":"#N/A"},{"$error":"#N/A"},null,1,0,"",null,1,null,962.5,148331.30000000002,null,null,null,null,null,null,null,null,null,null,null,null,null,null,null,null,null,null,null,{"$f":"IF(NOT($AS1742=$AS1743),ROW(),\"\")","v":""},{"$f":"IF(NOT(AS1742=AS1743),AS1743,\"\")","v":""},{"$f":"INDEX($AB$15:$AM$15,MATCH($AS1742,$AB$11:$AM$11,0))","v":"out"},{"$f":"LEFT(AT1742,4)","v":"2006"},{"$f":"LEFT(B1742,6)","v":"200610"}]
[null,{"$f":"'Market Data'!B1731","v":20061010},{"$f":"'Market Data'!C1731","v":7018},{"$f":"'Market Data'!D1731","v":7053.5},{"$f":"'Market Data'!E1731","v":7012.5},{"$f":"'Market Data'!F1731","v":7047},null,1727,{"$f":"IF($H1745<($J$6+1),\"\",PFE(OFFSET($F1745,0,0,-$J$6)))","v":0.18634716570597681},null,"Long",{"$error":"#N/A"},{"$error":"#N/A"},null,1,{"$f":"$O1745-S1745","v":0},"",null,1,null,1417.5,149836.30000000002,null,null,null,null,null,null,null,null,null,null,null,null,null,null,null,null,null,null,null,{"$f":"IF(NOT($AS1745=$AS1746),ROW(),\"\")","v":""},{"$f":"IF(NOT(AS1745=AS1746),AS1746,\"\")","v":""},{"$f":"INDEX($AB$15:$AM$15,MATCH($AS1745,$AB$11:$AM$11,0))","v":"out"},{"$f":"LEFT(AT1745,4)","v":"2006"},{"$f":"LEFT(B1745,6)","v":"200610"}]
[null,{"$f":"'Market Data'!B1740","v":20061023},{"$f":"'Market Data'!C1740","v":7141.5},{"$f":"'Market Data'!D1740","v":7168.5},{"$f":"'Market Data'!E1740","v":7102.5},{"$f":"'Market Data'!F1740","v":7157.5},null,1736,{"$f":"IF($H1754<($J$6+1),\"\",PFE(OFFSET($F1754,0,0,-$J$6)))","v":0.21148630242648364},null,"Long",{"$error":"#N/A"},{"$error":"#N/A"},null,1,0,"",null,1,null,1277.5,153703.80000000002,null,null,null,null,null,null,null,null,null,null,null,null,null,null,null,null,null,null,null,{"$f":"IF(NOT($AS1754=$AS1755),ROW(),\"\")","v":""},{"$f":"IF(NOT(AS1754=AS1755),AS1755,\"\")","v":""},{"$f":"INDEX($AB$15:$AM$15,MATCH($AS1754,$AB$11:$AM$11,0))","v":"out"},{"$f":"LEFT(AT1754,4)","v":"2006"},{"$f":"LEFT(B1754,6)","v":"200610"}]
[null,{"$f":"'Market Data'!B1746","v":20061031},{"$f":"'Market Data'!C1746","v":7175.5},{"$f":"'Market Data'!D1746","v":7201},{"$f":"'Market Data'!E1746","v":7151},{"$f":"'Market Data'!F1746","v":7179},null,1742,{"$f":"IF($H1760<($J$6+1),\"\",PFE(OFFSET($F1760,0,0,-$J$6)))","v":0.16970926508432144},null,"Long",{"$error":"#N/A"},{"$error":"#N/A"},null,1,0,"",null,1,null,140,154456.30000000002,null,null,null,null,null,null,null,null,null,null,null,null,null,null,null,null,null,null,null,{"$f":"IF(NOT($AS1760=$AS1761),ROW(),\"\")","v":""},{"$f":"IF(NOT(AS1760=AS1761),AS1761,\"\")","v":""},{"$f":"INDEX($AB$15:$AM$15,MATCH($AS1760,$AB$11:$AM$11,0))","v":"out"},{"$f":"LEFT(AT1760,4)","v":"2006"},{"$f":"LEFT(B1760,6)","v":"200610"}]
[null,{"$f":"'Market Data'!B1751","v":20061107},{"$f":"'Market Data'!C1751","v":7240.5},{"$f":"'Market Data'!D1751","v":7265.5},{"$f":"'Market Data'!E1751","v":7238},{"$f":"'Market Data'!F1751","v":7271.5},null,1747,{"$f":"IF($H1765<($J$6+1),\"\",PFE(OFFSET($F1765,0,0,-$J$6)))","v":0.25240272635421007},null,"Long",{"$error":"#N/A"},{"$error":"#N/A"},null,1,0,"",null,1,null,1085,157693.80000000002,null,null,null,null,null,null,null,null,null,null,null,null,null,null,null,null,null,null,null,{"$f":"IF(NOT($AS1765=$AS1766),ROW(),\"\")","v":""},{"$f":"IF(NOT(AS1765=AS1766),AS1766,\"\")","v":""},{"$f":"INDEX($AB$15:$AM$15,MATCH($AS1765,$AB$11:$AM$11,0))","v":"out"},{"$f":"LEFT(AT1765,4)","v":"2006"},{"$f":"LEFT(B1765,6)","v":"200611"}]
[null,{"$f":"'Market Data'!B1752","v":20061108},{"$f":"'Market Data'!C1752","v":7251},{"$f":"'Market Data'!D1752","v":7275.5},{"$f":"'Market Data'!E1752","v":7227},{"$f":"'Market Data'!F1752","v":7262.5},null,1748,{"$f":"IF($H1766<($J$6+1),\"\",PFE(OFFSET($F1766,0,0,-$J$6)))","v":0.2919965847364393},null,"Long",{"$error":"#N/A"},{"$error":"#N/A"},null,1,0,"",null,1,null,-315,157378.80000000002,null,null,null,null,null,null,null,null,null,null,null,null,null,null,null,null,null,null,null,{"$f":"IF(NOT($AS1766=$AS1767),ROW(),\"\")","v":""},{"$f":"IF(NOT(AS1766=AS1767),AS1767,\"\")","v":""},{"$f":"INDEX($AB$15:$AM$15,MATCH($AS1766,$AB$11:$AM$11,0))","v":"out"},{"$f":"LEFT(AT1766,4)","v":"2006"},{"$f":"LEFT(B1766,6)","v":"200611"}]
[null,{"$f":"'Market Data'!B1757","v":20061115},{"$f":"'Market Data'!C1757","v":7323.5},{"$f":"'Market Data'!D1757","v":7339},{"$f":"'Market Data'!E1757","v":7311.5},{"$f":"'Market Data'!F1757","v":7334.5},null,1753,{"$f":"IF($H1771<($J$6+1),\"\",PFE(OFFSET($F1771,0,0,-$J$6)))","v":0.3300656838623986},null,"Long",{"$error":"#N/A"},{"$error":"#N/A"},null,1,0,"",null,1,null,1557.5,159898.80000000002,null,null,null,null,null,null,null,null,null,null,null,null,null,null,null,null,null,null,null,{"$f":"IF(NOT($AS1771=$AS1772),ROW(),\"\")","v":""},{"$f":"IF(NOT(AS1771=AS1772),AS1772,\"\")","v":""},{"$f":"INDEX($AB$15:$AM$15,MATCH($AS1771,$AB$11:$AM$11,0))","v":"out"},{"$f":"LEFT(AT1771,4)","v":"2006"},{"$f":"LEFT(B1771,6)","v":"200611"}]
[null,{"$f":"'Market Data'!B1764","v":20061124},{"$f":"'Market Data'!C1764","v":7365.5},{"$f":"'Market Data'!D1764","v":7370},{"$f":"'Market Data'!E1764","v":7265},{"$f":"'Market Data'!F1764","v":7313},null,1760,{"$f":"IF($H1778<($J$6+1),\"\",PFE(OFFSET($F1778,0,0,-$J$6)))","v":0.29469440693500354},null,"Long",{"$error":"#N/A"},{"$error":"#N/A"},null,1,0,"",null,1,null,-2152.5,159146.30000000002,null,null,null,null,null,null,null,null,null,null,null,null,null,null,null,null,null,null,null,{"$f":"IF(NOT($AS1778=$AS1779),ROW(),\"\")","v":""},{"$f":"IF(NOT(AS1778=AS1779),AS1779,\"\")","v":""},{"$f":"INDEX($AB$15:$AM$15,MATCH($AS1778,$AB$11:$AM$11,0))","v":"out"},{"$f":"LEFT(AT1778,4)","v":"2006"},{"$f":"LEFT(B1778,6)","v":"200611"}]
[null,{"$f":"'Market Data'!B1772","v":20061206},{"$f":"'Market Data'!C1772","v":7265.5},{"$f":"'Market Data'!D1772","v":7277.5},{"$f":"'Market Data'!E1772","v":7233},{"$f":"'Market Data'!F1772","v":7264},null,1768,{"$f":"IF($H1786<($J$6+1),\"\",PFE(OFFSET($F1786,0,0,-$J$6)))","v":0.263128388044093},null,"Long",{"$error":"#N/A"},{"$error":"#N/A"},null,1,0,"",null,1,null,-35,157431.30000000002,null,null,null,null,null,null,null,null,null,null,null,null,null,null,null,null,null,null,null,{"$f":"IF(NOT($AS1786=$AS1787),ROW(),\"\")","v":""},{"$f":"IF(NOT(AS1786=AS1787),AS1787,\"\")","v":""},{"$f":"INDEX($AB$15:$AM$15,MATCH($AS1786,$AB$11:$AM$11,0))","v":"out"},{"$f":"LEFT(AT1786,4)","v":"2006"},{"$f":"LEFT(B1786,6)","v":"200612"}]
[null,{"$f":"'Market Data'!B1775","v":20061211},{"$f":"'Market Data'!C1775","v":7327.5},{"$f":"'Market Data'!D1775","v":7367},{"$f":"'Market Data'!E1775","v":7327.5},{"$f":"'Market Data'!F1775","v":7359},null,1771,{"$f":"IF($H1789<($J$6+1),\"\",PFE(OFFSET($F1789,0,0,-$J$6)))","v":0.2380678605736721},null,"Long",{"$error":"#N/A"},{"$error":"#N/A"},null,1,0,"",null,1,null,1522.5,160756.30000000002,null,null,null,null,null,null,null,null,null,null,null,null,null,null,null,null,null,null,null,{"$f":"IF(NOT($AS1789=$AS1790),ROW(),\"\")","v":""},{"$f":"IF(NOT(AS1789=AS1790),AS1790,\"\")","v":""},{"$f":"INDEX($AB$15:$AM$15,MATCH($AS1789,$AB$11:$AM$11,0))","v":"out"},{"$f":"LEFT(AT1789,4)","v":"2006"},{"$f":"LEFT(B1789,6)","v":"200612"}]
[null,{"$f":"'Market Data'!B1781","v":20061219},{"$f":"'Market Data'!C1781","v":7455.5},{"$f":"'Market Data'!D1781","v":7464.5},{"$f":"'Market Data'!E1781","v":7408},{"$f":"'Market Data'!F1781","v":7441},null,1777,{"$f":"IF($H1795<($J$6+1),\"\",PFE(OFFSET($F1795,0,0,-$J$6)))","v":0.27152351738774971},null,"Long",{"$error":"#N/A"},{"$error":"#N/A"},null,1,0,"",null,1,null,-1277.5,163626.30000000002,null,null,null,null,null,null,null,null,null,null,null,null,null,null,null,null,null,null,null,{"$f":"IF(NOT($AS1795=$AS1796),ROW(),\"\")","v":""},{"$f":"IF(NOT(AS1795=AS1796),AS1796,\"\")","v":""},{"$f":"INDEX($AB$15:$AM$15,MATCH($AS1795,$AB$11:$AM$11,0))","v":"out"},{"$f":"LEFT(AT1795,4)","v":"2006"},{"$f":"LEFT(B1795,6)","v":"200612"}]
[null,{"$f":"'Market Data'!B1789","v":20070103},{"$f":"'Market Data'!C1789","v":7555.5},{"$f":"'Market Data'!D1789","v":7579.5},{"$f":"'Market Data'!E1789","v":7544},{"$f":"'Market Data'!F1789","v":7566.5},null,1785,{"$f":"IF($H1803<($J$6+1),\"\",PFE(OFFSET($F1803,0,0,-$J$6)))","v":0.27967586280049805},null,"Long",{"$error":"#N/A"},{"$error":"#N/A"},null,1,0,"",null,1,null,420,168018.80000000002,null,null,null,null,null,null,null,null,null,null,null,null,null,null,null,null,null,null,null,{"$f":"IF(NOT($AS1803=$AS1804),ROW(),\"\")","v":""},{"$f":"IF(NOT(AS1803=AS1804),AS1804,\"\")","v":""},{"$f":"INDEX($AB$15:$AM$15,MATCH($AS1803,$AB$11:$AM$11,0))","v":"in"},{"$f":"LEFT(AT1803,4)","v":"2007"},{"$f":"LEFT(B1803,6)","v":"200701"}]
[null,{"$f":"'Market Data'!B1793","v":20070109},{"$f":"'Market Data'!C1793","v":7515.5},{"$f":"'Market Data'!D1793","v":7539},{"$f":"'Market Data'!E1793","v":7448},{"$f":"'Market Data'!F1793","v":7479.5},null,1789,{"$f":"IF($H1807<($J$6+1),\"\",PFE(OFFSET($F1807,0,0,-$J$6)))","v":0.27956889473369356},null,"Long",{"$error":"#N/A"},{"$error":"#N/A"},null,1,0,"",null,1,null,70,164973.80000000002,null,null,null,null,null,null,null,null,null,null,null,null,null,null,null,null,null,null,null,{"$f":"IF(NOT($AS1807=$AS1808),ROW(),\"\")","v":""},{"$f":"IF(NOT(AS1807=AS1808),AS1808,\"\")","v":""},{"$f":"INDEX($AB$15:$AM$15,MATCH($AS1807,$AB$11:$AM$11,0))","v":"in"},{"$f":"LEFT(AT1807,4)","v":"2007"},{"$f":"LEFT(B1807,6)","v":"200701"}]
[null,{"$f":"'Market Data'!B1798","v":20070116},{"$f":"'Market Data'!C1798","v":7601.5},{"$f":"'Market Data'!D1798","v":7612},{"$f":"'Market Data'!E1798","v":7570.5},{"$f":"'Market Data'!F1798","v":7579},null,{"$f":"ROW()-ROW(H$18)","v":1794},{"$f":"IF($H1812<($J$6+1),\"\",PFE(OFFSET($F1812,0,0,-$J$6)))","v":0.26065221379411951},null,{"$f":"IF($I1812=\"\",\"\",IF($I1812>$J$4,\"Long\",IF($I1812<$J$5,\"Short\",\"\")))","v":"Long"},{"$error":"#N/A"},{"$error":"#N/A"},null,{"$f":"IF($K1812=\"Short\",-1,IF($K1812=\"Long\",1,0))","v":1},0,"",null,1,null,-840,168456.30000000002,null,null,null,null,null,null,null,null,null,null,null,null,null,null,null,null,null,null,null,{"$f":"IF(NOT($AS1812=$AS1813),ROW(),\"\")","v":""},{"$f":"IF(NOT(AS1812=AS1813),AS1813,\"\")","v":""},{"$f":"INDEX($AB$15:$AM$15,MATCH($AS1812,$AB$11:$AM$11,0))","v":"in"},{"$f":"LEFT(AT1812,4)","v":"2007"},{"$f":"LEFT(B1812,6)","v":"200701"}]
[null,{"$f":"'Market Data'!B1804","v":20070124},{"$f":"'Market Data'!C1804","v":7564.5},{"$f":"'Market Data'!D1804","v":7621.5},{"$f":"'Market Data'!E1804","v":7540.5},{"$f":"'Market Data'!F1804","v":7609.5},null,1800,{"$f":"IF($H1818<($J$6+1),\"\",PFE(OFFSET($F1818,0,0,-$J$6)))","v":0.27002314716164239},null,"Long",{"$error":"#N/A"},{"$error":"#N/A"},null,1,0,"",null,1,null,2467.5,169523.80000000002,null,null,null,null,null,null,null,null,null,null,null,null,null,null,null,null,null,null,null,{"$f":"IF(NOT($AS1818=$AS1819),ROW(),\"\")","v":""},{"$f":"IF(NOT(AS1818=AS1819),AS1819,\"\")","v":""},{"$f":"INDEX($AB$15:$AM$15,MATCH($AS1818,$AB$11:$AM$11,0))","v":"in"},{"$f":"LEFT(AT1818,4)","v":"2007"},{"$f":"LEFT(B1818,6)","v":"200701"}]
[null,{"$f":"'Market Data'!B1810","v":20070201},{"$f":"'Market Data'!C1810","v":7681.5},{"$f":"'Market Data'!D1810","v":7730.5},{"$f":"'Market Data'!E1810","v":7679.5},{"$f":"'Market Data'!F1810","v":7706},null,1806,{"$f":"IF($H1824<($J$6+1),\"\",PFE(OFFSET($F1824,0,0,-$J$6)))","v":0.2653384170832972},null,"Long",{"$error":"#N/A"},{"$error":"#N/A"},null,1,0,"",null,1,null,2310,172901.30000000002,null,null,null,null,null,null,null,null,null,null,null,null,null,null,null,null,null,null,null,{"$f":"IF(NOT($AS1824=$AS1825),ROW(),\"\")","v":""},{"$f":"IF(NOT(AS1824=AS1825),AS1825,\"\")","v":""},{"$f":"INDEX($AB$15:$AM$15,MATCH($AS1824,$AB$11:$AM$11,0))","v":"in"},{"$f":"LEFT(AT1824,4)","v":"2007"},{"$f":"LEFT(B1824,6)","v":"200702"}]
[null,{"$f":"'Market Data'!B1815","v":20070208},{"$f":"'Market Data'!C1815","v":7759.5},{"$f":"'Market Data'!D1815","v":7767.5},{"$f":"'Market Data'!E1815","v":7699},{"$f":"'Market Data'!F1815","v":7730},null,1811,{"$f":"IF($H1829<($J$6+1),\"\",PFE(OFFSET($F1829,0,0,-$J$6)))","v":0.24526033904178796},null,"Long",{"$error":"#N/A"},{"$error":"#N/A"},null,1,0,"",null,1,null,-1190,173741.30000000002,null,null,null,null,null,null,null,null,null,null,null,null,null,null,null,null,null,null,null,{"$f":"IF(NOT($AS1829=$AS1830),ROW(),\"\")","v":""},{"$f":"IF(NOT(AS1829=AS1830),AS1830,\"\")","v":""},{"$f":"INDEX($AB$15:$AM$15,MATCH($AS1829,$AB$11:$AM$11,0))","v":"in"},{"$f":"LEFT(AT1829,4)","v":"2007"},{"$f":"LEFT(B1829,6)","v":"200702"}]
[null,{"$f":"'Market Data'!B1821","v":20070216},{"$f":"'Market Data'!C1821","v":7795},{"$f":"'Market Data'!D1821","v":7824.5},{"$f":"'Market Data'!E1821","v":7784.5},{"$f":"'Market Data'!F1821","v":7799},null,1817,{"$f":"IF($H1835<($J$6+1),\"\",PFE(OFFSET($F1835,0,0,-$J$6)))","v":0.25228499456361564},null,"Long",{"$error":"#N/A"},{"$error":"#N/A"},null,1,0,"",null,1,null,-280,176156.30000000002,null,null,null,null,null,null,null,null,null,null,null,null,null,null,null,null,null,null,null,{"$f":"IF(NOT($AS1835=$AS1836),ROW(),\"\")","v":""},{"$f":"IF(NOT(AS1835=AS1836),AS1836,\"\")","v":""},{"$f":"INDEX($AB$15:$AM$15,MATCH($AS1835,$AB$11:$AM$11,0))","v":"in"},{"$f":"LEFT(AT1835,4)","v":"2007"},{"$f":"LEFT(B1835,6)","v":"200702"}]
[null,{"$f":"'Market Data'!B1824","v":20070221},{"$f":"'Market Data'!C1824","v":7841.5},{"$f":"'Market Data'!D1824","v":7846.5},{"$f":"'Market Data'!E1824","v":7763.5},{"$f":"'Market Data'!F1824","v":7782},null,1820,{"$f":"IF($H1838<($J$6+1),\"\",PFE(OFFSET($F1838,0,0,-$J$6)))","v":0.22297423009771211},null,"Long",{"$error":"#N/A"},{"$error":"#N/A"},null,1,0,"",null,1,null,-1487.5,175561.30000000002,null,null,null,null,null,null,null,null,null,null,null,null,null,null,null,null,null,null,null,{"$f":"IF(NOT($AS1838=$AS1839),ROW(),\"\")","v":""},{"$f":"IF(NOT(AS1838=AS1839),AS1839,\"\")","v":""},{"$f":"INDEX($AB$15:$AM$15,MATCH($AS1838,$AB$11:$AM$11,0))","v":"in"},{"$f":"LEFT(AT1838,4)","v":"2007"},{"$f":"LEFT(B1838,6)","v":"200702"}]
[null,{"$f":"'Market Data'!B1828","v":20070227},{"$f":"'Market Data'!C1828","v":7847},{"$f":"'Market Data'!D1828","v":7847.5},{"$f":"'Market Data'!E1828","v":7620.5},{"$f":"'Market Data'!F1828","v":7663},null,1824,{"$f":"IF($H1842<($J$6+1),\"\",PFE(OFFSET($F1842,0,0,-$J$6)))","v":0.163176118484817},null,"Long",{"$error":"#N/A"},{"$error":"#N/A"},null,1,0,"",null,1,null,-7070,171396.30000000002,null,null,null,null,null,null,null,null,null,null,null,null,null,null,null,null,null,null,null,{"$f":"IF(NOT($AS1842=$AS1843),ROW(),\"\")","v":""},{"$f":"IF(NOT(AS1842=AS1843),AS1843,\"\")","v":""},{"$f":"INDEX($AB$15:$AM$15,MATCH($AS1842,$AB$11:$AM$11,0))","v":"in"},{"$f":"LEFT(AT1842,4)","v":"2007"},{"$f":"LEFT(B1842,6)","v":"200702"}]
[null,{"$f":"'Market Data'!B1833","v":20070306},{"$f":"'Market Data'!C1833","v":7370},{"$f":"'Market Data'!D1833","v":7447.5},{"$f":"'Market Data'!E1833","v":7370},{"$f":"'Market Data'!F1833","v":7424},null,1829,{"$f":"IF($H1847<($J$6+1),\"\",PFE(OFFSET($F1847,0,0,-$J$6)))","v":6.3835890570864681E-2},null,"Long",{"$error":"#N/A"},{"$error":"#N/A"},null,1,0,"",null,1,null,1592.5,163031.30000000002,null,null,null,null,null,null,null,null,null,null,null,null,null,null,null,null,null,null,null,{"$f":"IF(NOT($AS1847=$AS1848),ROW(),\"\")","v":""},{"$f":"IF(NOT(AS1847=AS1848),AS1848,\"\")","v":""},{"$f":"INDEX($AB$15:$AM$15,MATCH($AS1847,$AB$11:$AM$11,0))","v":"in"},{"$f":"LEFT(AT1847,4)","v":"2007"},{"$f":"LEFT(B1847,6)","v":"200703"}]
[null,{"$f":"'Market Data'!B1840","v":20070315},{"$f":"'Market Data'!C1840","v":7385},{"$f":"'Market Data'!D1840","v":7421.5},{"$f":"'Market Data'!E1840","v":7330.5},{"$f":"'Market Data'!F1840","v":7396},null,1836,{"$f":"IF($H1854<($J$6+1),\"\",PFE(OFFSET($F1854,0,0,-$J$6)))","v":2.9355152808570133E-2},null,"Long",7396,{"$error":"#N/A"},null,1,2,"Fill",null,-1,null,3003.08,161099.38,null,null,null,null,null,null,null,null,null,null,null,null,null,null,null,null,null,null,null,{"$f":"IF(NOT($AS1854=$AS1855),ROW(),\"\")","v":""},{"$f":"IF(NOT(AS1854=AS1855),AS1855,\"\")","v":""},{"$f":"INDEX($AB$15:$AM$15,MATCH($AS1854,$AB$11:$AM$11,0))","v":"in"},{"$f":"LEFT(AT1854,4)","v":"2007"},{"$f":"LEFT(B1854,6)","v":"200703"}]
[null,{"$f":"'Market Data'!B1845","v":20070322},{"$f":"'Market Data'!C1845","v":7659.5},{"$f":"'Market Data'!D1845","v":7693.5},{"$f":"'Market Data'!E1845","v":7630},{"$f":"'Market Data'!F1845","v":7666.5},null,1841,{"$f":"IF($H1859<($J$6+1),\"\",PFE(OFFSET($F1859,0,0,-$J$6)))","v":8.1265473866368593E-2},null,"Long",{"$error":"#N/A"},{"$error":"#N/A"},null,1,0,"",null,1,null,3657.5,172449.96,null,null,null,null,null,null,null,null,null,null,null,null,null,null,null,null,null,null,null,{"$f":"IF(NOT($AS1859=$AS1860),ROW(),\"\")","v":""},{"$f":"IF(NOT(AS1859=AS1860),AS1860,\"\")","v":""},{"$f":"INDEX($AB$15:$AM$15,MATCH($AS1859,$AB$11:$AM$11,0))","v":"in"},{"$f":"LEFT(AT1859,4)","v":"2007"},{"$f":"LEFT(B1859,6)","v":"200703"}]
[null,{"$f":"'Market Data'!B1850","v":20070329},{"$f":"'Market Data'!C1850","v":7676},{"$f":"'Market Data'!D1850","v":7722.5},{"$f":"'Market Data'!E1850","v":7665.5},{"$f":"'Market Data'!F1850","v":7688.5},null,1846,{"$f":"IF($H1864<($J$6+1),\"\",PFE(OFFSET($F1864,0,0,-$J$6)))","v":0.12265359445813002},null,"Long",{"$error":"#N/A"},{"$error":"#N/A"},null,1,0,"",null,1,null,577.5,173219.96,null,null,null,null,null,null,null,null,null,null,null,null,null,null,null,null,null,null,null,{"$f":"IF(NOT($AS1864=$AS1865),ROW(),\"\")","v":""},{"$f":"IF(NOT(AS1864=AS1865),AS1865,\"\")","v":""},{"$f":"INDEX($AB$15:$AM$15,MATCH($AS1864,$AB$11:$AM$11,0))","v":"in"},{"$f":"LEFT(AT1864,4)","v":"2007"},{"$f":"LEFT(B1864,6)","v":"200703"}]
[null,{"$f":"'Market Data'!B1857","v":20070411},{"$f":"'Market Data'!C1857","v":7976.5},{"$f":"'Market Data'!D1857","v":8013},{"$f":"'Market Data'!E1857","v":7952.5},{"$f":"'Market Data'!F1857","v":7969},null,1853,{"$f":"IF($H1871<($J$6+1),\"\",PFE(OFFSET($F1871,0,0,-$J$6)))","v":0.18479937394964005},null,"Long",{"$error":"#N/A"},{"$error":"#N/A"},null,1,0,"",null,1,null,-245,183037.46,null,null,null,null,null,null,null,null,null,null,null,null,null,null,null,null,null,null,null,{"$f":"IF(NOT($AS1871=$AS1872),ROW(),\"\")","v":""},{"$f":"IF(NOT(AS1871=AS1872),AS1872,\"\")","v":""},{"$f":"INDEX($AB$15:$AM$15,MATCH($AS1871,$AB$11:$AM$11,0))","v":"in"},{"$f":"LEFT(AT1871,4)","v":"2007"},{"$f":"LEFT(B1871,6)","v":"200704"}]
[null,{"$f":"'Market Data'!B1865","v":20070423},{"$f":"'Market Data'!C1865","v":8152},{"$f":"'Market Data'!D1865","v":8163.5},{"$f":"'Market Data'!E1865","v":8109},{"$f":"'Market Data'!F1865","v":8136},null,1861,{"$f":"IF($H1879<($J$6+1),\"\",PFE(OFFSET($F1879,0,0,-$J$6)))","v":0.18351370540124234},null,"Long",{"$error":"#N/A"},{"$error":"#N/A"},null,1,0,"",null,1,null,245,188882.46,null,null,null,null,null,null,null,null,null,null,null,null,null,null,null,null,null,null,null,{"$f":"IF(NOT($AS1879=$AS1880),ROW(),\"\")","v":""},{"$f":"IF(NOT(AS1879=AS1880),AS1880,\"\")","v":""},{"$f":"INDEX($AB$15:$AM$15,MATCH($AS1879,$AB$11:$AM$11,0))","v":"in"},{"$f":"LEFT(AT1879,4)","v":"2007"},{"$f":"LEFT(B1879,6)","v":"200704"}]
[null,{"$f":"'Market Data'!B1869","v":20070427},{"$f":"'Market Data'!C1869","v":8194.5},{"$f":"'Market Data'!D1869","v":8210.5},{"$f":"'Market Data'!E1869","v":8137},{"$f":"'Market Data'!F1869","v":8199.5},null,1865,{"$f":"IF($H1883<($J$6+1),\"\",PFE(OFFSET($F1883,0,0,-$J$6)))","v":0.19855503239707029},null,"Long",{"$error":"#N/A"},{"$error":"#N/A"},null,1,0,"",null,1,null,210,191104.96,null,null,null,null,null,null,null,null,null,null,null,null,null,null,null,null,null,null,null,{"$f":"IF(NOT($AS1883=$AS1884),ROW(),\"\")","v":""},{"$f":"IF(NOT(AS1883=AS1884),AS1884,\"\")","v":""},{"$f":"INDEX($AB$15:$AM$15,MATCH($AS1883,$AB$11:$AM$11,0))","v":"in"},{"$f":"LEFT(AT1883,4)","v":"2007"},{"$f":"LEFT(B1883,6)","v":"200704"}]
[null,{"$f":"'Market Data'!B1874","v":20070507},{"$f":"'Market Data'!C1874","v":8337.5},{"$f":"'Market Data'!D1874","v":8341.5},{"$f":"'Market Data'!E1874","v":8303},{"$f":"'Market Data'!F1874","v":8320},null,1870,{"$f":"IF($H1888<($J$6+1),\"\",PFE(OFFSET($F1888,0,0,-$J$6)))","v":0.24593155085334875},null,"Long",{"$error":"#N/A"},{"$error":"#N/A"},null,1,0,"",null,1,null,280,195322.46,null,null,null,null,null,null,null,null,null,null,null,null,null,null,null,null,null,null,null,{"$f":"IF(NOT($AS1888=$AS1889),ROW(),\"\")","v":""},{"$f":"IF(NOT(AS1888=AS1889),AS1889,\"\")","v":""},{"$f":"INDEX($AB$15:$AM$15,MATCH($AS1888,$AB$11:$AM$11,0))","v":"in"},{"$f":"LEFT(AT1888,4)","v":"2007"},{"$f":"LEFT(B1888,6)","v":"200705"}]
[null,{"$f":"'Market Data'!B1876","v":20070509},{"$f":"'Market Data'!C1876","v":8281},{"$f":"'Market Data'!D1876","v":8285.5},{"$f":"'Market Data'!E1876","v":8221.5},{"$f":"'Market Data'!F1876","v":8276.5},null,1872,{"$f":"IF($H1890<($J$6+1),\"\",PFE(OFFSET($F1890,0,0,-$J$6)))","v":0.22443449090165918},null,"Long",{"$error":"#N/A"},{"$error":"#N/A"},null,1,0,"",null,1,null,665,193799.96,null,null,null,null,null,null,null,null,null,null,null,null,null,null,null,null,null,null,null,{"$f":"IF(NOT($AS1890=$AS1891),ROW(),\"\")","v":""},{"$f":"IF(NOT(AS1890=AS1891),AS1891,\"\")","v":""},{"$f":"INDEX($AB$15:$AM$15,MATCH($AS1890,$AB$11:$AM$11,0))","v":"in"},{"$f":"LEFT(AT1890,4)","v":"2007"},{"$f":"LEFT(B1890,6)","v":"200705"}]
[null,{"$f":"'Market Data'!B1886","v":20070523},{"$f":"'Market Data'!C1886","v":8436},{"$f":"'Market Data'!D1886","v":8530},{"$f":"'Market Data'!E1886","v":8436},{"$f":"'Market Data'!F1886","v":8529.5},null,1882,{"$f":"IF($H1900<($J$6+1),\"\",PFE(OFFSET($F1900,0,0,-$J$6)))","v":0.26776315145221458},null,"Long",{"$error":"#N/A"},{"$error":"#N/A"},null,1,0,"",null,1,null,2870,202654.96,null,null,null,null,null,null,null,null,null,null,null,null,null,null,null,null,null,null,null,{"$f":"IF(NOT($AS1900=$AS1901),ROW(),\"\")","v":""},{"$f":"IF(NOT(AS1900=AS1901),AS1901,\"\")","v":""},{"$f":"INDEX($AB$15:$AM$15,MATCH($AS1900,$AB$11:$AM$11,0))","v":"in"},{"$f":"LEFT(AT1900,4)","v":"2007"},{"$f":"LEFT(B1900,6)","v":"200705"}]
[null,{"$f":"'Market Data'!B1887","v":20070524},{"$f":"'Market Data'!C1887","v":8491},{"$f":"'Market Data'!D1887","v":8557},{"$f":"'Market Data'!E1887","v":8451.5},{"$f":"'Market Data'!F1887","v":8475.5},null,1883,{"$f":"IF($H1901<($J$6+1),\"\",PFE(OFFSET($F1901,0,0,-$J$6)))","v":0.23540452730578121},null,"Long",{"$error":"#N/A"},{"$error":"#N/A"},null,1,0,"",null,1,null,-1890,200764.96,null,null,null,null,null,null,null,null,null,null,null,null,null,null,null,null,null,null,null,{"$f":"IF(NOT($AS1901=$AS1902),ROW(),\"\")","v":""},{"$f":"IF(NOT(AS1901=AS1902),AS1902,\"\")","v":""},{"$f":"INDEX($AB$15:$AM$15,MATCH($AS1901,$AB$11:$AM$11,0))","v":"in"},{"$f":"LEFT(AT1901,4)","v":"2007"},{"$f":"LEFT(B1901,6)","v":"200705"}]
[null,{"$f":"'Market Data'!B1893","v":20070604},{"$f":"'Market Data'!C1893","v":8738.5},{"$f":"'Market Data'!D1893","v":8784.5},{"$f":"'Market Data'!E1893","v":8709},{"$f":"'Market Data'!F1893","v":8753.5},null,1889,{"$f":"IF($H1907<($J$6+1),\"\",PFE(OFFSET($F1907,0,0,-$J$6)))","v":0.27952690568828925},null,"Long",{"$error":"#N/A"},{"$error":"#N/A"},null,1,0,"",null,1,null,577.5,210494.96,null,null,null,null,null,null,null,null,null,null,null,null,null,null,null,null,null,null,null,{"$f":"IF(NOT($AS1907=$AS1908),ROW(),\"\")","v":""},{"$f":"IF(NOT(AS1907=AS1908),AS1908,\"\")","v":""},{"$f":"INDEX($AB$15:$AM$15,MATCH($AS1907,$AB$11:$AM$11,0))","v":"in"},{"$f":"LEFT(AT1907,4)","v":"2007"},{"$f":"LEFT(B1907,6)","v":"200706"}]
[null,{"$f":"'Market Data'!B1898","v":20070611},{"$f":"'Market Data'!C1898","v":8431},{"$f":"'Market Data'!D1898","v":8511.5},{"$f":"'Market Data'!E1898","v":8395.5},{"$f":"'Market Data'!F1898","v":8505},null,1894,{"$f":"IF($H1912<($J$6+1),\"\",PFE(OFFSET($F1912,0,0,-$J$6)))","v":0.18725449089660218},null,"Long",{"$error":"#N/A"},{"$error":"#N/A"},null,1,0,"",null,1,null,4917.5,201797.46,null,null,null,null,null,null,null,null,null,null,null,null,null,null,null,null,null,null,null,{"$f":"IF(NOT($AS1912=$AS1913),ROW(),\"\")","v":""},{"$f":"IF(NOT(AS1912=AS1913),AS1913,\"\")","v":""},{"$f":"INDEX($AB$15:$AM$15,MATCH($AS1912,$AB$11:$AM$11,0))","v":"in"},{"$f":"LEFT(AT1912,4)","v":"2007"},{"$f":"LEFT(B1912,6)","v":"200706"}]
[null,{"$f":"'Market Data'!B1908","v":20070625},{"$f":"'Market Data'!C1908","v":8673},{"$f":"'Market Data'!D1908","v":8728},{"$f":"'Market Data'!E1908","v":8586.5},{"$f":"'Market Data'!F1908","v":8705.5},null,1904,{"$f":"IF($H1922<($J$6+1),\"\",PFE(OFFSET($F1922,0,0,-$J$6)))","v":0.19417221885851838},null,"Long",{"$error":"#N/A"},{"$error":"#N/A"},null,1,0,"",null,1,null,1715,208814.96,null,null,null,null,null,null,null,null,null,null,null,null,null,null,null,null,null,null,null,{"$f":"IF(NOT($AS1922=$AS1923),ROW(),\"\")","v":""},{"$f":"IF(NOT(AS1922=AS1923),AS1923,\"\")","v":""},{"$f":"INDEX($AB$15:$AM$15,MATCH($AS1922,$AB$11:$AM$11,0))","v":"in"},{"$f":"LEFT(AT1922,4)","v":"2007"},{"$f":"LEFT(B1922,6)","v":"200706"}]
[null,{"$f":"'Market Data'!B1910","v":20070627},{"$f":"'Market Data'!C1910","v":8560},{"$f":"'Market Data'!D1910","v":8579},{"$f":"'Market Data'!E1910","v":8505.5},{"$f":"'Market Data'!F1910","v":8557},null,1906,{"$f":"IF($H1924<($J$6+1),\"\",PFE(OFFSET($F1924,0,0,-$J$6)))","v":0.14880331780073755},null,"Long",{"$error":"#N/A"},{"$error":"#N/A"},null,1,0,"",null,1,null,-2607.5,203617.46,null,null,null,null,null,null,null,null,null,null,null,null,null,null,null,null,null,null,null,{"$f":"IF(NOT($AS1924=$AS1925),ROW(),\"\")","v":""},{"$f":"IF(NOT(AS1924=AS1925),AS1925,\"\")","v":""},{"$f":"INDEX($AB$15:$AM$15,MATCH($AS1924,$AB$11:$AM$11,0))","v":"in"},{"$f":"LEFT(AT1924,4)","v":"2007"},{"$f":"LEFT(B1924,6)","v":"200706"}]
[null,{"$f":"'Market Data'!B1919","v":20070710},{"$f":"'Market Data'!C1919","v":8820},{"$f":"'Market Data'!D1919","v":8855},{"$f":"'Market Data'!E1919","v":8678},{"$f":"'Market Data'!F1919","v":8714.5},null,1915,{"$f":"IF($H1933<($J$6+1),\"\",PFE(OFFSET($F1933,0,0,-$J$6)))","v":0.24907397357126981},null,"Long",{"$error":"#N/A"},{"$error":"#N/A"},null,1,0,"",null,1,null,-4305,209129.96,null,null,null,null,null,null,null,null,null,null,null,null,null,null,null,null,null,null,null,{"$f":"IF(NOT($AS1933=$AS1934),ROW(),\"\")","v":""},{"$f":"IF(NOT(AS1933=AS1934),AS1934,\"\")","v":""},{"$f":"INDEX($AB$15:$AM$15,MATCH($AS1933,$AB$11:$AM$11,0))","v":"in"},{"$f":"LEFT(AT1933,4)","v":"2007"},{"$f":"LEFT(B1933,6)","v":"200707"}]
[null,{"$f":"'Market Data'!B1922","v":20070713},{"$f":"'Market Data'!C1922","v":8867.5},{"$f":"'Market Data'!D1922","v":8895},{"$f":"'Market Data'!E1922","v":8803.5},{"$f":"'Market Data'!F1922","v":8830},null,1918,{"$f":"IF($H1936<($J$6+1),\"\",PFE(OFFSET($F1936,0,0,-$J$6)))","v":0.32762243946319819},null,"Long",{"$error":"#N/A"},{"$error":"#N/A"},null,1,0,"",null,1,null,1085,213172.46,null,null,null,null,null,null,null,null,null,null,null,null,null,null,null,null,null,null,null,{"$f":"IF(NOT($AS1936=$AS1937),ROW(),\"\")","v":""},{"$f":"IF(NOT(AS1936=AS1937),AS1937,\"\")","v":""},{"$f":"INDEX($AB$15:$AM$15,MATCH($AS1936,$AB$11:$AM$11,0))","v":"in"},{"$f":"LEFT(AT1936,4)","v":"2007"},{"$f":"LEFT(B1936,6)","v":"200707"}]
[null,{"$f":"'Market Data'!B1927","v":20070720},{"$f":"'Market Data'!C1927","v":8698},{"$f":"'Market Data'!D1927","v":8739.5},{"$f":"'Market Data'!E1927","v":8557},{"$f":"'Market Data'!F1927","v":8565.5},null,1923,{"$f":"IF($H1941<($J$6+1),\"\",PFE(OFFSET($F1941,0,0,-$J$6)))","v":0.20296807605841727},null,"Long",{"$error":"#N/A"},{"$error":"#N/A"},null,1,0,"",null,1,null,-5635,203914.96,null,null,null,null,null,null,null,null,null,null,null,null,null,null,null,null,null,null,null,{"$f":"IF(NOT($AS1941=$AS1942),ROW(),\"\")","v":""},{"$f":"IF(NOT(AS1941=AS1942),AS1942,\"\")","v":""},{"$f":"INDEX($AB$15:$AM$15,MATCH($AS1941,$AB$11:$AM$11,0))","v":"in"},{"$f":"LEFT(AT1941,4)","v":"2007"},{"$f":"LEFT(B1941,6)","v":"200707"}]
[null,{"$f":"'Market Data'!B1930","v":20070725},{"$f":"'Market Data'!C1930","v":8472},{"$f":"'Market Data'!D1930","v":8517},{"$f":"'Market Data'!E1930","v":8390},{"$f":"'Market Data'!F1930","v":8424},null,1926,{"$f":"IF($H1944<($J$6+1),\"\",PFE(OFFSET($F1944,0,0,-$J$6)))","v":0.14880916712386857},null,"Long",{"$error":"#N/A"},{"$error":"#N/A"},null,1,0,"",null,1,null,-5005,198962.46,null,null,null,null,null,null,null,null,null,null,null,null,null,null,null,null,null,null,null,{"$f":"IF(NOT($AS1944=$AS1945),ROW(),\"\")","v":""},{"$f":"IF(NOT(AS1944=AS1945),AS1945,\"\")","v":""},{"$f":"INDEX($AB$15:$AM$15,MATCH($AS1944,$AB$11:$AM$11,0))","v":"in"},{"$f":"LEFT(AT1944,4)","v":"2007"},{"$f":"LEFT(B1944,6)","v":"200707"}]
[null,{"$f":"'Market Data'!B1939","v":20070807},{"$f":"'Market Data'!C1939","v":8230.5},{"$f":"'Market Data'!D1939","v":8291.5},{"$f":"'Market Data'!E1939","v":8181},{"$f":"'Market Data'!F1939","v":8273.5},null,1935,{"$f":"IF($H1953<($J$6+1),\"\",PFE(OFFSET($F1953,0,0,-$J$6)))","v":5.616764944215754E-2},null,"Long",{"$error":"#N/A"},{"$error":"#N/A"},null,1,0,"",null,1,null,2380,193694.96,null,null,null,null,null,null,null,null,null,null,null,null,null,null,null,null,null,null,null,{"$f":"IF(NOT($AS1953=$AS1954),ROW(),\"\")","v":""},{"$f":"IF(NOT(AS1953=AS1954),AS1954,\"\")","v":""},{"$f":"INDEX($AB$15:$AM$15,MATCH($AS1953,$AB$11:$AM$11,0))","v":"in"},{"$f":"LEFT(AT1953,4)","v":"2007"},{"$f":"LEFT(B1953,6)","v":"200708"}]
[null,{"$f":"'Market Data'!B1945","v":20070815},{"$f":"'Market Data'!C1945","v":8077},{"$f":"'Market Data'!D1945","v":8187.5},{"$f":"'Market Data'!E1945","v":8057},{"$f":"'Market Data'!F1945","v":8152},null,1941,{"$f":"IF($H1959<($J$6+1),\"\",PFE(OFFSET($F1959,0,0,-$J$6)))","v":1.9585534753178511E-2},null,"Long",{"$error":"#N/A"},{"$error":"#N/A"},null,1,0,"",null,1,null,-647.5,189442.46,null,null,null,null,null,null,null,null,null,null,null,null,null,null,null,null,null,null,null,{"$f":"IF(NOT($AS1959=$AS1960),ROW(),\"\")","v":""},{"$f":"IF(NOT(AS1959=AS1960),AS1960,\"\")","v":""},{"$f":"INDEX($AB$15:$AM$15,MATCH($AS1959,$AB$11:$AM$11,0))","v":"in"},{"$f":"LEFT(AT1959,4)","v":"2007"},{"$f":"LEFT(B1959,6)","v":"200708"}]
[null,{"$f":"'Market Data'!B1951","v":20070823},{"$f":"'Market Data'!C1951","v":8292},{"$f":"'Market Data'!D1951","v":8303},{"$f":"'Market Data'!E1951","v":8169},{"$f":"'Market Data'!F1951","v":8178},null,1947,{"$f":"IF($H1965<($J$6+1),\"\",PFE(OFFSET($F1965,0,0,-$J$6)))","v":-1.4480796078548259E-2},null,"Short",{"$error":"#N/A"},8178,null,-1,-2,"Fill",null,1,null,17.5,179593.61999999997,null,null,null,null,null,null,null,null,null,null,null,null,null,null,null,null,null,null,null,{"$f":"IF(NOT($AS1965=$AS1966),ROW(),\"\")","v":""},{"$f":"IF(NOT(AS1965=AS1966),AS1966,\"\")","v":""},{"$f":"INDEX($AB$15:$AM$15,MATCH($AS1965,$AB$11:$AM$11,0))","v":"in"},{"$f":"LEFT(AT1965,4)","v":"2007"},{"$f":"LEFT(B1965,6)","v":"200708"}]
[null,{"$f":"'Market Data'!B1956","v":20070830},{"$f":"'Market Data'!C1956","v":8192.5},{"$f":"'Market Data'!D1956","v":8240},{"$f":"'Market Data'!E1956","v":8115.5},{"$f":"'Market Data'!F1956","v":8224},null,1952,{"$f":"IF($H1970<($J$6+1),\"\",PFE(OFFSET($F1970,0,0,-$J$6)))","v":-2.0348112331598674E-2},null,"Short",{"$error":"#N/A"},{"$error":"#N/A"},null,-1,0,"",null,-1,null,-3045,172467.85999999993,null,null,null,null,null,null,null,null,null,null,null,null,null,null,null,null,null,null,null,{"$f":"IF(NOT($AS1970=$AS1971),ROW(),\"\")","v":""},{"$f":"IF(NOT(AS1970=AS1971),AS1971,\"\")","v":""},{"$f":"INDEX($AB$15:$AM$15,MATCH($AS1970,$AB$11:$AM$11,0))","v":"in"},{"$f":"LEFT(AT1970,4)","v":"2007"},{"$f":"LEFT(B1970,6)","v":"200708"}]
[null,{"$f":"'Market Data'!B1962","v":20070907},{"$f":"'Market Data'!C1962","v":8286},{"$f":"'Market Data'!D1962","v":8321.5},{"$f":"'Market Data'!E1962","v":8111},{"$f":"'Market Data'!F1962","v":8154},null,1958,{"$f":"IF($H1976<($J$6+1),\"\",PFE(OFFSET($F1976,0,0,-$J$6)))","v":-2.1819191199016149E-2},null,"Short",{"$error":"#N/A"},8154,null,-1,-2,"Fill",null,1,null,-6335,160350.93999999992,null,null,null,null,null,null,null,null,null,null,null,null,null,null,null,null,null,null,null,{"$f":"IF(NOT($AS1976=$AS1977),ROW(),\"\")","v":""},{"$f":"IF(NOT(AS1976=AS1977),AS1977,\"\")","v":""},{"$f":"INDEX($AB$15:$AM$15,MATCH($AS1976,$AB$11:$AM$11,0))","v":"in"},{"$f":"LEFT(AT1976,4)","v":"2007"},{"$f":"LEFT(B1976,6)","v":"200709"}]
[null,{"$f":"'Market Data'!B1963","v":20070910},{"$f":"'Market Data'!C1963","v":8109.5},{"$f":"'Market Data'!D1963","v":8158.5},{"$f":"'Market Data'!E1963","v":8056},{"$f":"'Market Data'!F1963","v":8078},null,1959,{"$f":"IF($H1977<($J$6+1),\"\",PFE(OFFSET($F1977,0,0,-$J$6)))","v":-3.6904456064519059E-2},null,"Short",{"$error":"#N/A"},{"$error":"#N/A"},null,-1,0,"",null,-1,null,-636.92000000000007,159714.0199999999,null,null,null,null,null,null,null,null,null,null,null,null,null,null,null,null,null,null,null,{"$f":"IF(NOT($AS1977=$AS1978),ROW(),\"\")","v":""},{"$f":"IF(NOT(AS1977=AS1978),AS1978,\"\")","v":""},{"$f":"INDEX($AB$15:$AM$15,MATCH($AS1977,$AB$11:$AM$11,0))","v":"in"},{"$f":"LEFT(AT1977,4)","v":"2007"},{"$f":"LEFT(B1977,6)","v":"200709"}]
[null,{"$f":"'Market Data'!B1971","v":20070920},{"$f":"'Market Data'!C1971","v":8402},{"$f":"'Market Data'!D1971","v":8433},{"$f":"'Market Data'!E1971","v":8377},{"$f":"'Market Data'!F1971","v":8411.5},null,1967,{"$f":"IF($H1985<($J$6+1),\"\",PFE(OFFSET($F1985,0,0,-$J$6)))","v":-2.1577485205955392E-2},null,"Short",{"$error":"#N/A"},{"$error":"#N/A"},null,-1,0,"",null,-1,null,105,148041.5199999999,null,null,null,null,null,null,null,null,null,null,null,null,null,null,null,null,null,null,null,{"$f":"IF(NOT($AS1985=$AS1986),ROW(),\"\")","v":""},{"$f":"IF(NOT(AS1985=AS1986),AS1986,\"\")","v":""},{"$f":"INDEX($AB$15:$AM$15,MATCH($AS1985,$AB$11:$AM$11,0))","v":"in"},{"$f":"LEFT(AT1985,4)","v":"2007"},{"$f":"LEFT(B1985,6)","v":"200709"}]
[null,{"$f":"'Market Data'!B1975","v":20070926},{"$f":"'Market Data'!C1975","v":8483},{"$f":"'Market Data'!D1975","v":8499.5},{"$f":"'Market Data'!E1975","v":8464},{"$f":"'Market Data'!F1975","v":8475.5},null,1971,{"$f":"IF($H1989<($J$6+1),\"\",PFE(OFFSET($F1989,0,0,-$J$6)))","v":-4.4158051390602512E-2},null,"Short",{"$error":"#N/A"},{"$error":"#N/A"},null,-1,0,"",null,-1,null,-945,145801.5199999999,null,null,null,null,null,null,null,null,null,null,null,null,null,null,null,null,null,null,null,{"$f":"IF(NOT($AS1989=$AS1990),ROW(),\"\")","v":""},{"$f":"IF(NOT(AS1989=AS1990),AS1990,\"\")","v":""},{"$f":"INDEX($AB$15:$AM$15,MATCH($AS1989,$AB$11:$AM$11,0))","v":"in"},{"$f":"LEFT(AT1989,4)","v":"2007"},{"$f":"LEFT(B1989,6)","v":"200709"}]
[null,{"$f":"'Market Data'!B1980","v":20071003},{"$f":"'Market Data'!C1980","v":8636},{"$f":"'Market Data'!D1980","v":8641},{"$f":"'Market Data'!E1980","v":8598},{"$f":"'Market Data'!F1980","v":8626.5},null,1976,{"$f":"IF($H1994<($J$6+1),\"\",PFE(OFFSET($F1994,0,0,-$J$6)))","v":4.6121572791672526E-2},null,"Long",{"$error":"#N/A"},{"$error":"#N/A"},null,1,0,"",null,1,null,420,140859.59999999989,null,null,null,null,null,null,null,null,null,null,null,null,null,null,null,null,null,null,null,{"$f":"IF(NOT($AS1994=$AS1995),ROW(),\"\")","v":""},{"$f":"IF(NOT(AS1994=AS1995),AS1995,\"\")","v":""},{"$f":"INDEX($AB$15:$AM$15,MATCH($AS1994,$AB$11:$AM$11,0))","v":"in"},{"$f":"LEFT(AT1994,4)","v":"2007"},{"$f":"LEFT(B1994,6)","v":"200710"}]
[null,{"$f":"'Market Data'!B1986","v":20071011},{"$f":"'Market Data'!C1986","v":8674},{"$f":"'Market Data'!D1986","v":8724.5},{"$f":"'Market Data'!E1986","v":8642},{"$f":"'Market Data'!F1986","v":8701.5},null,1982,{"$f":"IF($H2000<($J$6+1),\"\",PFE(OFFSET($F2000,0,0,-$J$6)))","v":-2.3537468380803762E-2},null,"Short",{"$error":"#N/A"},{"$error":"#N/A"},null,-1,0,"",null,-1,null,220.57999999999993,141377.67999999988,null,null,null,null,null,null,null,null,null,null,null,null,null,null,null,null,null,null,null,{"$f":"IF(NOT($AS2000=$AS2001),ROW(),\"\")","v":""},{"$f":"IF(NOT(AS2000=AS2001),AS2001,\"\")","v":""},{"$f":"INDEX($AB$15:$AM$15,MATCH($AS2000,$AB$11:$AM$11,0))","v":"in"},{"$f":"LEFT(AT2000,4)","v":"2007"},{"$f":"LEFT(B2000,6)","v":"200710"}]
[null,{"$f":"'Market Data'!B1992","v":20071019},{"$f":"'Market Data'!C1992","v":8551},{"$f":"'Market Data'!D1992","v":8596},{"$f":"'Market Data'!E1992","v":8516.5},{"$f":"'Market Data'!F1992","v":8540},null,1988,{"$f":"IF($H2006<($J$6+1),\"\",PFE(OFFSET($F2006,0,0,-$J$6)))","v":-2.2967986902108783E-2},null,"Short",{"$error":"#N/A"},{"$error":"#N/A"},null,-1,0,"",null,-1,null,{"$f":"IF(OR($S2005&$O2005=\"01\",$S2005&$O2005=\"0-1\"),(($F2006-$C2006)*$V$4*$O2005)-(ABS($P2005)*$V$5),IF(OR($S2005&$O2005=\"10\",$S2005&$O2005=\"-10\"),(($C2006-$F2005)*$V$4*$S2005)-(ABS($P2005)*$V$5),IF(OR($S2005&$O2005=\"1-1\",$S2005&$O2005=\"-11\"),(($C2006-$F2005)*$V$4*$S2005)-(ABS($P2005)*$V$5)+(($F2006-$C2006)*$V$4*$S2006),IF(OR($S2005&$O2005=\"11\",$S2005&$O2005=\"-1-1\"),(($F2006-$F2005)*$V$4*$S2006),0))))","v":1417.5},147030.17999999988,null,null,null,null,null,null,null,null,null,null,null,null,null,null,null,null,null,null,null,{"$f":"IF(NOT($AS2006=$AS2007),ROW(),\"\")","v":""},{"$f":"IF(NOT(AS2006=AS2007),AS2007,\"\")","v":""},{"$f":"INDEX($AB$15:$AM$15,MATCH($AS2006,$AB$11:$AM$11,0))","v":"in"},{"$f":"LEFT(AT2006,4)","v":"2007"},{"$f":"LEFT(B2006,6)","v":"200710"}]
[null,{"$f":"'Market Data'!B1997","v":20071026},{"$f":"'Market Data'!C1997","v":8600.5},{"$f":"'Market Data'!D1997","v":8615.5},{"$f":"'Market Data'!E1997","v":8564},{"$f":"'Market Data'!F1997","v":8591},null,1993,{"$f":"IF($H2011<($J$6+1),\"\",PFE(OFFSET($F2011,0,0,-$J$6)))","v":-4.345014808794076E-2},null,"Short",{"$error":"#N/A"},{"$error":"#N/A"},null,-1,0,"",null,-1,null,-1400,145245.17999999988,null,null,null,null,null,null,null,null,null,null,null,null,null,null,null,null,null,null,null,{"$f":"IF(NOT($AS2011=$AS2012),ROW(),\"\")","v":""},{"$f":"IF(NOT(AS2011=AS2012),AS2012,\"\")","v":""},{"$f":"INDEX($AB$15:$AM$15,MATCH($AS2011,$AB$11:$AM$11,0))","v":"in"},{"$f":"LEFT(AT2011,4)","v":"2007"},{"$f":"LEFT(B2011,6)","v":"200710"}]
[null,{"$f":"'Market Data'!B2003","v":20071105},{"$f":"'Market Data'!C2003","v":8454},{"$f":"'Market Data'!D2003","v":8465.5},{"$f":"'Market Data'!E2003","v":8407.5},{"$f":"'Market Data'!F2003","v":8438.5},null,1999,{"$f":"IF($H2017<($J$6+1),\"\",PFE(OFFSET($F2017,0,0,-$J$6)))","v":-4.2106028431142528E-2},null,"Short",{"$error":"#N/A"},{"$error":"#N/A"},null,-1,0,"",null,-1,null,1890,150582.67999999988,null,null,null,null,null,null,null,null,null,null,null,null,null,null,null,null,null,null,null,{"$f":"IF(NOT($AS2017=$AS2018),ROW(),\"\")","v":""},{"$f":"IF(NOT(AS2017=AS2018),AS2018,\"\")","v":""},{"$f":"INDEX($AB$15:$AM$15,MATCH($AS2017,$AB$11:$AM$11,0))","v":"in"},{"$f":"LEFT(AT2017,4)","v":"2007"},{"$f":"LEFT(B2017,6)","v":"200711"}]
[null,{"$f":"'Market Data'!B2006","v":20071108},{"$f":"'Market Data'!C2006","v":8346},{"$f":"'Market Data'!D2006","v":8477.5},{"$f":"'Market Data'!E2006","v":8336},{"$f":"'Market Data'!F2006","v":8439.5},null,2002,{"$f":"IF($H2020<($J$6+1),\"\",PFE(OFFSET($F2020,0,0,-$J$6)))","v":-8.2024232860548607E-2},null,"Short",{"$error":"#N/A"},{"$error":"#N/A"},null,-1,0,"",null,-1,null,-735,150547.67999999988,null,null,null,null,null,null,null,null,null,null,null,null,null,null,null,null,null,null,null,{"$f":"IF(NOT($AS2020=$AS2021),ROW(),\"\")","v":""},{"$f":"IF(NOT(AS2020=AS2021),AS2021,\"\")","v":""},{"$f":"INDEX($AB$15:$AM$15,MATCH($AS2020,$AB$11:$AM$11,0))","v":"in"},{"$f":"LEFT(AT2020,4)","v":"2007"},{"$f":"LEFT(B2020,6)","v":"200711"}]
[null,{"$f":"'Market Data'!B2015","v":20071121},{"$f":"'Market Data'!C2015","v":8162.5},{"$f":"'Market Data'!D2015","v":8188.5},{"$f":"'Market Data'!E2015","v":8095},{"$f":"'Market Data'!F2015","v":8185},null,2011,{"$f":"IF($H2029<($J$6+1),\"\",PFE(OFFSET($F2029,0,0,-$J$6)))","v":1.9567689882049478E-2},null,"Long",{"$error":"#N/A"},{"$error":"#N/A"},null,1,0,"",null,1,null,2390.58,160848.25999999986,null,null,null,null,null,null,null,null,null,null,null,null,null,null,null,null,null,null,null,{"$f":"IF(NOT($AS2029=$AS2030),ROW(),\"\")","v":""},{"$f":"IF(NOT(AS2029=AS2030),AS2030,\"\")","v":""},{"$f":"INDEX($AB$15:$AM$15,MATCH($AS2029,$AB$11:$AM$11,0))","v":"in"},{"$f":"LEFT(AT2029,4)","v":"2007"},{"$f":"LEFT(B2029,6)","v":"200711"}]
[null,{"$f":"'Market Data'!B2021","v":20071129},{"$f":"'Market Data'!C2021","v":8392.5},{"$f":"'Market Data'!D2021","v":8412.5},{"$f":"'Market Data'!E2021","v":8345},{"$f":"'Market Data'!F2021","v":8385.5},null,2017,{"$f":"IF($H2035<($J$6+1),\"\",PFE(OFFSET($F2035,0,0,-$J$6)))","v":4.5874775252897911E-2},null,"Long",{"$error":"#N/A"},{"$error":"#N/A"},null,1,0,"",null,1,null,-1371.92,152486.91999999984,null,null,null,null,null,null,null,null,null,null,null,null,null,null,null,null,null,null,null,{"$f":"IF(NOT($AS2035=$AS2036),ROW(),\"\")","v":""},{"$f":"IF(NOT(AS2035=AS2036),AS2036,\"\")","v":""},{"$f":"INDEX($AB$15:$AM$15,MATCH($AS2035,$AB$11:$AM$11,0))","v":"in"},{"$f":"LEFT(AT2035,4)","v":"2007"},{"$f":"LEFT(B2035,6)","v":"200711"}]
[null,{"$f":"'Market Data'!B2023","v":20071203},{"$f":"'Market Data'!C2023","v":8460},{"$f":"'Market Data'!D2023","v":8506},{"$f":"'Market Data'!E2023","v":8439},{"$f":"'Market Data'!F2023","v":8462},null,2019,{"$f":"IF($H2037<($J$6+1),\"\",PFE(OFFSET($F2037,0,0,-$J$6)))","v":4.126512690828664E-2},null,"Long",{"$error":"#N/A"},{"$error":"#N/A"},null,1,0,"",null,1,null,-997.5,155164.41999999984,null,null,null,null,null,null,null,null,null,null,null,null,null,null,null,null,null,null,null,{"$f":"IF(NOT($AS2037=$AS2038),ROW(),\"\")","v":""},{"$f":"IF(NOT(AS2037=AS2038),AS2038,\"\")","v":""},{"$f":"INDEX($AB$15:$AM$15,MATCH($AS2037,$AB$11:$AM$11,0))","v":"in"},{"$f":"LEFT(AT2037,4)","v":"2007"},{"$f":"LEFT(B2037,6)","v":"200712"}]
[null,{"$f":"'Market Data'!B2032","v":20071214},{"$f":"'Market Data'!C2032","v":8570.5},{"$f":"'Market Data'!D2032","v":8590.5},{"$f":"'Market Data'!E2032","v":8476.5},{"$f":"'Market Data'!F2032","v":8538},null,2028,{"$f":"IF($H2046<($J$6+1),\"\",PFE(OFFSET($F2046,0,0,-$J$6)))","v":0.10521850852007078},null,"Long",{"$error":"#N/A"},{"$error":"#N/A"},null,1,0,"",null,1,null,140,157824.41999999984,null,null,null,null,null,null,null,null,null,null,null,null,null,null,null,null,null,null,null,{"$f":"IF(NOT($AS2046=$AS2047),ROW(),\"\")","v":""},{"$f":"IF(NOT(AS2046=AS2047),AS2047,\"\")","v":""},{"$f":"INDEX($AB$15:$AM$15,MATCH($AS2046,$AB$11:$AM$11,0))","v":"in"},{"$f":"LEFT(AT2046,4)","v":"2007"},{"$f":"LEFT(B2046,6)","v":"200712"}]
[null,{"$f":"'Market Data'!B2038","v":20071227},{"$f":"'Market Data'!C2038","v":8666},{"$f":"'Market Data'!D2038","v":8759.5},{"$f":"'Market Data'!E2038","v":8563.5},{"$f":"'Market Data'!F2038","v":8585.5},null,2034,{"$f":"IF($H2052<($J$6+1),\"\",PFE(OFFSET($F2052,0,0,-$J$6)))","v":0.1094500440335413},null,"Long",{"$error":"#N/A"},{"$error":"#N/A"},null,1,0,"",null,1,null,-280,159486.91999999984,null,null,null,null,null,null,null,null,null,null,null,null,null,null,null,null,null,null,null,{"$f":"IF(NOT($AS2052=$AS2053),ROW(),\"\")","v":""},{"$f":"IF(NOT(AS2052=AS2053),AS2053,\"\")","v":""},{"$f":"INDEX($AB$15:$AM$15,MATCH($AS2052,$AB$11:$AM$11,0))","v":"in"},{"$f":"LEFT(AT2052,4)","v":"2007"},{"$f":"LEFT(B2052,6)","v":"200712"}]
[null,{"$f":"'Market Data'!B2039","v":20071228},{"$f":"'Market Data'!C2039","v":8601.5},{"$f":"'Market Data'!D2039","v":8656.5},{"$f":"'Market Data'!E2039","v":8579.5},{"$f":"'Market Data'!F2039","v":8647},null,2035,{"$f":"IF($H2053<($J$6+1),\"\",PFE(OFFSET($F2053,0,0,-$J$6)))","v":0.10407597107001913},null,"Long",{"$error":"#N/A"},{"$error":"#N/A"},null,1,0,"",null,1,null,2152.5,161639.41999999984,null,null,null,null,null,null,null,null,null,null,null,null,null,null,null,null,null,null,null,{"$f":"IF(NOT($AS2053=$AS2054),ROW(),\"\")","v":2053},{"$f":"IF(NOT(AS2053=AS2054),AS2054,\"\")","v":"2008"},{"$f":"INDEX($AB$15:$AM$15,MATCH($AS2053,$AB$11:$AM$11,0))","v":"in"},{"$f":"LEFT(AT2053,4)","v":"2007"},{"$f":"LEFT(B2053,6)","v":"200712"}]
[null,{"$f":"'Market Data'!B2045","v":20080109},{"$f":"'Market Data'!C2045","v":8375},{"$f":"'Market Data'!D2045","v":8413},{"$f":"'Market Data'!E2045","v":8336.5},{"$f":"'Market Data'!F2045","v":8361},null,2041,{"$f":"IF($H2059<($J$6+1),\"\",PFE(OFFSET($F2059,0,0,-$J$6)))","v":5.6348403385949271E-2},null,"Long",{"$error":"#N/A"},{"$error":"#N/A"},null,1,0,"",null,1,null,-2432.5,147590.57999999981,null,null,null,null,null,null,null,null,null,null,null,null,null,null,null,null,null,null,null,{"$f":"IF(NOT($AS2059=$AS2060),ROW(),\"\")","v":""},{"$f":"IF(NOT(AS2059=AS2060),AS2060,\"\")","v":""},{"$f":"INDEX($AB$15:$AM$15,MATCH($AS2059,$AB$11:$AM$11,0))","v":"out"},{"$f":"LEFT(AT2059,4)","v":"2008"},{"$f":"LEFT(B2059,6)","v":"200801"}]
[null,{"$f":"'Market Data'!B2049","v":20080115},{"$f":"'Market Data'!C2049","v":8266.5},{"$f":"'Market Data'!D2049","v":8292.5},{"$f":"'Market Data'!E2049","v":8124},{"$f":"'Market Data'!F2049","v":8148.5},null,2045,{"$f":"IF($H2063<($J$6+1),\"\",PFE(OFFSET($F2063,0,0,-$J$6)))","v":-2.7141025324590836E-2},null,"Short",{"$error":"#N/A"},8148.5,null,-1,-2,"Fill",null,1,null,-5582.5,140153.07999999981,null,null,null,null,null,null,null,null,null,null,null,null,null,null,null,null,null,null,null,{"$f":"IF(NOT($AS2063=$AS2064),ROW(),\"\")","v":""},{"$f":"IF(NOT(AS2063=AS2064),AS2064,\"\")","v":""},{"$f":"INDEX($AB$15:$AM$15,MATCH($AS2063,$AB$11:$AM$11,0))","v":"out"},{"$f":"LEFT(AT2063,4)","v":"2008"},{"$f":"LEFT(B2063,6)","v":"200801"}]
[null,{"$f":"'Market Data'!B2056","v":20080124},{"$f":"'Market Data'!C2056","v":7258},{"$f":"'Market Data'!D2056","v":7406.5},{"$f":"'Market Data'!E2056","v":7220},{"$f":"'Market Data'!F2056","v":7346.5},null,2052,{"$f":"IF($H2070<($J$6+1),\"\",PFE(OFFSET($F2070,0,0,-$J$6)))","v":-0.21108109790837742},null,"Short",{"$error":"#N/A"},{"$error":"#N/A"},null,-1,0,"",null,-1,null,{"$f":"IF(OR($S2069&$O2069=\"01\",$S2069&$O2069=\"0-1\"),(($F2070-$C2070)*$V$4*$O2069)-(ABS($P2069)*$V$5),IF(OR($S2069&$O2069=\"10\",$S2069&$O2069=\"-10\"),(($C2070-$F2069)*$V$4*$S2069)-(ABS($P2069)*$V$5),IF(OR($S2069&$O2069=\"1-1\",$S2069&$O2069=\"-11\"),(($C2070-$F2069)*$V$4*$S2069)-(ABS($P2069)*$V$5)+(($F2070-$C2070)*$V$4*$S2070),IF(OR($S2069&$O2069=\"11\",$S2069&$O2069=\"-1-1\"),(($F2070-$F2069)*$V$4*$S2070),0))))","v":-15417.5},162896.1599999998,null,null,null,null,null,null,null,null,null,null,null,null,null,null,null,null,null,null,null,{"$f":"IF(NOT($AS2070=$AS2071),ROW(),\"\")","v":""},{"$f":"IF(NOT(AS2070=AS2071),AS2071,\"\")","v":""},{"$f":"INDEX($AB$15:$AM$15,MATCH($AS2070,$AB$11:$AM$11,0))","v":"out"},{"$f":"LEFT(AT2070,4)","v":"2008"},{"$f":"LEFT(B2070,6)","v":"200801"}]
[null,{"$f":"'Market Data'!B2064","v":20080205},{"$f":"'Market Data'!C2064","v":7529},{"$f":"'Market Data'!D2064","v":7537.5},{"$f":"'Market Data'!E2064","v":7284},{"$f":"'Market Data'!F2064","v":7311.5},null,2060,{"$f":"IF($H2078<($J$6+1),\"\",PFE(OFFSET($F2078,0,0,-$J$6)))","v":-0.23669861640010631},null,"Short",{"$error":"#N/A"},{"$error":"#N/A"},null,-1,0,"",null,-1,null,7647.5,164121.1599999998,null,null,null,null,null,null,null,null,null,null,null,null,null,null,null,null,null,null,null,{"$f":"IF(NOT($AS2078=$AS2079),ROW(),\"\")","v":""},{"$f":"IF(NOT(AS2078=AS2079),AS2079,\"\")","v":""},{"$f":"INDEX($AB$15:$AM$15,MATCH($AS2078,$AB$11:$AM$11,0))","v":"out"},{"$f":"LEFT(AT2078,4)","v":"2008"},{"$f":"LEFT(B2078,6)","v":"200802"}]
[null,{"$f":"'Market Data'!B2068","v":20080211},{"$f":"'Market Data'!C2068","v":7265},{"$f":"'Market Data'!D2068","v":7351},{"$f":"'Market Data'!E2068","v":7224.5},{"$f":"'Market Data'!F2068","v":7317},null,2064,{"$f":"IF($H2082<($J$6+1),\"\",PFE(OFFSET($F2082,0,0,-$J$6)))","v":-0.23576086034353297},null,"Short",{"$error":"#N/A"},{"$error":"#N/A"},null,-1,0,"",null,-1,null,-1120,163928.6599999998,null,null,null,null,null,null,null,null,null,null,null,null,null,null,null,null,null,null,null,{"$f":"IF(NOT($AS2082=$AS2083),ROW(),\"\")","v":""},{"$f":"IF(NOT(AS2082=AS2083),AS2083,\"\")","v":""},{"$f":"INDEX($AB$15:$AM$15,MATCH($AS2082,$AB$11:$AM$11,0))","v":"out"},{"$f":"LEFT(AT2082,4)","v":"2008"},{"$f":"LEFT(B2082,6)","v":"200802"}]
[null,{"$f":"'Market Data'!B2073","v":20080218},{"$f":"'Market Data'!C2073","v":7435.5},{"$f":"'Market Data'!D2073","v":7532},{"$f":"'Market Data'!E2073","v":7405.5},{"$f":"'Market Data'!F2073","v":7514.5},null,2069,{"$f":"IF($H2087<($J$6+1),\"\",PFE(OFFSET($F2087,0,0,-$J$6)))","v":-0.18787417310118976},null,"Short",{"$error":"#N/A"},{"$error":"#N/A"},null,-1,0,"",null,-1,null,-4585,157016.1599999998,null,null,null,null,null,null,null,null,null,null,null,null,null,null,null,null,null,null,null,{"$f":"IF(NOT($AS2087=$AS2088),ROW(),\"\")","v":""},{"$f":"IF(NOT(AS2087=AS2088),AS2088,\"\")","v":""},{"$f":"INDEX($AB$15:$AM$15,MATCH($AS2087,$AB$11:$AM$11,0))","v":"out"},{"$f":"LEFT(AT2087,4)","v":"2008"},{"$f":"LEFT(B2087,6)","v":"200802"}]
[null,{"$f":"'Market Data'!B2081","v":20080228},{"$f":"'Market Data'!C2081","v":7479},{"$f":"'Market Data'!D2081","v":7521},{"$f":"'Market Data'!E2081","v":7372.5},{"$f":"'Market Data'!F2081","v":7392.5},null,2077,{"$f":"IF($H2095<($J$6+1),\"\",PFE(OFFSET($F2095,0,0,-$J$6)))","v":-0.20520732331521799},null,"Short",{"$error":"#N/A"},{"$error":"#N/A"},null,-1,0,"",null,-1,null,4147.5,161286.1599999998,null,null,null,null,null,null,null,null,null,null,null,null,null,null,null,null,null,null,null,{"$f":"IF(NOT($AS2095=$AS2096),ROW(),\"\")","v":""},{"$f":"IF(NOT(AS2095=AS2096),AS2096,\"\")","v":""},{"$f":"INDEX($AB$15:$AM$15,MATCH($AS2095,$AB$11:$AM$11,0))","v":"out"},{"$f":"LEFT(AT2095,4)","v":"2008"},{"$f":"LEFT(B2095,6)","v":"200802"}]
[null,{"$f":"'Market Data'!B2085","v":20080305},{"$f":"'Market Data'!C2085","v":7112.5},{"$f":"'Market Data'!D2085","v":7220},{"$f":"'Market Data'!E2085","v":7100.5},{"$f":"'Market Data'!F2085","v":7189.5},null,2081,{"$f":"IF($H2099<($J$6+1),\"\",PFE(OFFSET($F2099,0,0,-$J$6)))","v":-0.20339686970971463},null,"Short",{"$error":"#N/A"},{"$error":"#N/A"},null,-1,0,"",null,-1,null,-4690,168391.1599999998,null,null,null,null,null,null,null,null,null,null,null,null,null,null,null,null,null,null,null,{"$f":"IF(NOT($AS2099=$AS2100),ROW(),\"\")","v":""},{"$f":"IF(NOT(AS2099=AS2100),AS2100,\"\")","v":""},{"$f":"INDEX($AB$15:$AM$15,MATCH($AS2099,$AB$11:$AM$11,0))","v":"out"},{"$f":"LEFT(AT2099,4)","v":"2008"},{"$f":"LEFT(B2099,6)","v":"200803"}]
[null,{"$f":"'Market Data'!B2090","v":20080312},{"$f":"'Market Data'!C2090","v":7115.5},{"$f":"'Market Data'!D2090","v":7182},{"$f":"'Market Data'!E2090","v":7083},{"$f":"'Market Data'!F2090","v":7092.5},null,2086,{"$f":"IF($H2104<($J$6+1),\"\",PFE(OFFSET($F2104,0,0,-$J$6)))","v":-0.20858835481085838},null,"Short",{"$error":"#N/A"},{"$error":"#N/A"},null,-1,0,"",null,-1,null,-1085,171786.1599999998,null,null,null,null,null,null,null,null,null,null,null,null,null,null,null,null,null,null,null,{"$f":"IF(NOT($AS2104=$AS2105),ROW(),\"\")","v":""},{"$f":"IF(NOT(AS2104=AS2105),AS2105,\"\")","v":""},{"$f":"INDEX($AB$15:$AM$15,MATCH($AS2104,$AB$11:$AM$11,0))","v":"out"},{"$f":"LEFT(AT2104,4)","v":"2008"},{"$f":"LEFT(B2104,6)","v":"200803"}]
[null,{"$f":"'Market Data'!B2097","v":20080325},{"$f":"'Market Data'!C2097","v":7039},{"$f":"'Market Data'!D2097","v":7073},{"$f":"'Market Data'!E2097","v":6990},{"$f":"'Market Data'!F2097","v":7067.5},null,2093,{"$f":"IF($H2111<($J$6+1),\"\",PFE(OFFSET($F2111,0,0,-$J$6)))","v":-0.16288741899935041},null,"Short",{"$error":"#N/A"},{"$error":"#N/A"},null,-1,0,"",null,-1,null,-7245,172661.1599999998,null,null,null,null,null,null,null,null,null,null,null,null,null,null,null,null,null,null,null,{"$f":"IF(NOT($AS2111=$AS2112),ROW(),\"\")","v":""},{"$f":"IF(NOT(AS2111=AS2112),AS2112,\"\")","v":""},{"$f":"INDEX($AB$15:$AM$15,MATCH($AS2111,$AB$11:$AM$11,0))","v":"out"},{"$f":"LEFT(AT2111,4)","v":"2008"},{"$f":"LEFT(B2111,6)","v":"200803"}]
[null,{"$f":"'Market Data'!B2102","v":20080401},{"$f":"'Market Data'!C2102","v":7037},{"$f":"'Market Data'!D2102","v":7251.5},{"$f":"'Market Data'!E2102","v":6992.5},{"$f":"'Market Data'!F2102","v":7248.5},null,2098,{"$f":"IF($H2116<($J$6+1),\"\",PFE(OFFSET($F2116,0,0,-$J$6)))","v":-0.1279927193530202},null,"Short",{"$error":"#N/A"},{"$error":"#N/A"},null,-1,0,"",null,-1,null,-6440,166326.1599999998,null,null,null,null,null,null,null,null,null,null,null,null,null,null,null,null,null,null,null,{"$f":"IF(NOT($AS2116=$AS2117),ROW(),\"\")","v":""},{"$f":"IF(NOT(AS2116=AS2117),AS2117,\"\")","v":""},{"$f":"INDEX($AB$15:$AM$15,MATCH($AS2116,$AB$11:$AM$11,0))","v":"out"},{"$f":"LEFT(AT2116,4)","v":"2008"},{"$f":"LEFT(B2116,6)","v":"200804"}]
[null,{"$f":"'Market Data'!B2107","v":20080408},{"$f":"'Market Data'!C2107","v":7273},{"$f":"'Market Data'!D2107","v":7287},{"$f":"'Market Data'!E2107","v":7223.5},{"$f":"'Market Data'!F2107","v":7259.5},null,2103,{"$f":"IF($H2121<($J$6+1),\"\",PFE(OFFSET($F2121,0,0,-$J$6)))","v":-0.16545456422188837},null,"Short",{"$error":"#N/A"},{"$error":"#N/A"},null,-1,0,"",null,-1,null,2887.5,165941.1599999998,null,null,null,null,null,null,null,null,null,null,null,null,null,null,null,null,null,null,null,{"$f":"IF(NOT($AS2121=$AS2122),ROW(),\"\")","v":""},{"$f":"IF(NOT(AS2121=AS2122),AS2122,\"\")","v":""},{"$f":"INDEX($AB$15:$AM$15,MATCH($AS2121,$AB$11:$AM$11,0))","v":"out"},{"$f":"LEFT(AT2121,4)","v":"2008"},{"$f":"LEFT(B2121,6)","v":"200804"}]
[null,{"$f":"'Market Data'!B2109","v":20080410},{"$f":"'Market Data'!C2109","v":7201.5},{"$f":"'Market Data'!D2109","v":7223},{"$f":"'Market Data'!E2109","v":7103.5},{"$f":"'Market Data'!F2109","v":7204.5},null,2105,{"$f":"IF($H2123<($J$6+1),\"\",PFE(OFFSET($F2123,0,0,-$J$6)))","v":-0.19209487928738009},null,"Short",{"$error":"#N/A"},{"$error":"#N/A"},null,-1,0,"",null,-1,null,-332.5,167866.1599999998,null,null,null,null,null,null,null,null,null,null,null,null,null,null,null,null,null,null,null,{"$f":"IF(NOT($AS2123=$AS2124),ROW(),\"\")","v":""},{"$f":"IF(NOT(AS2123=AS2124),AS2124,\"\")","v":""},{"$f":"INDEX($AB$15:$AM$15,MATCH($AS2123,$AB$11:$AM$11,0))","v":"out"},{"$f":"LEFT(AT2123,4)","v":"2008"},{"$f":"LEFT(B2123,6)","v":"200804"}]
[null,{"$f":"'Market Data'!B2118","v":20080423},{"$f":"'Market Data'!C2118","v":7207},{"$f":"'Market Data'!D2118","v":7307},{"$f":"'Market Data'!E2118","v":7143.5},{"$f":"'Market Data'!F2118","v":7250},null,{"$f":"ROW()-ROW(H$18)","v":2114},{"$f":"IF($H2132<($J$6+1),\"\",PFE(OFFSET($F2132,0,0,-$J$6)))","v":-0.16319588678505922},null,{"$f":"IF($I2132=\"\",\"\",IF($I2132>$J$4,\"Long\",IF($I2132<$J$5,\"Short\",\"\")))","v":"Short"},{"$error":"#N/A"},{"$error":"#N/A"},null,{"$f":"IF($K2132=\"Short\",-1,IF($K2132=\"Long\",1,0))","v":-1},0,"",null,-1,null,-2957.5,166273.6599999998,null,null,null,null,null,null,null,null,null,null,null,null,null,null,null,null,null,null,null,{"$f":"IF(NOT($AS2132=$AS2133),ROW(),\"\")","v":""},{"$f":"IF(NOT(AS2132=AS2133),AS2133,\"\")","v":""},{"$f":"INDEX($AB$15:$AM$15,MATCH($AS2132,$AB$11:$AM$11,0))","v":"out"},{"$f":"LEFT(AT2132,4)","v":"2008"},{"$f":"LEFT(B2132,6)","v":"200804"}]
[null,{"$f":"'Market Data'!B2121","v":20080428},{"$f":"'Market Data'!C2121","v":7410.5},{"$f":"'Market Data'!D2121","v":7452},{"$f":"'Market Data'!E2121","v":7392},{"$f":"'Market Data'!F2121","v":7405.5},null,2117,{"$f":"IF($H2135<($J$6+1),\"\",PFE(OFFSET($F2135,0,0,-$J$6)))","v":-0.16251878605737624},null,"Short",{"$error":"#N/A"},{"$error":"#N/A"},null,-1,0,"",null,-1,null,-507.5,160831.1599999998,null,null,null,null,null,null,null,null,null,null,null,null,null,null,null,null,null,null,null,{"$f":"IF(NOT($AS2135=$AS2136),ROW(),\"\")","v":""},{"$f":"IF(NOT(AS2135=AS2136),AS2136,\"\")","v":""},{"$f":"INDEX($AB$15:$AM$15,MATCH($AS2135,$AB$11:$AM$11,0))","v":"out"},{"$f":"LEFT(AT2135,4)","v":"2008"},{"$f":"LEFT(B2135,6)","v":"200804"}]
[null,{"$f":"'Market Data'!B2127","v":20080507},{"$f":"'Market Data'!C2127","v":7526},{"$f":"'Market Data'!D2127","v":7585},{"$f":"'Market Data'!E2127","v":7512},{"$f":"'Market Data'!F2127","v":7545.5},null,2123,{"$f":"IF($H2141<($J$6+1),\"\",PFE(OFFSET($F2141,0,0,-$J$6)))","v":-0.12477234808160176},null,"Short",{"$error":"#N/A"},{"$error":"#N/A"},null,-1,0,"",null,-1,null,-612.5,155931.1599999998,null,null,null,null,null,null,null,null,null,null,null,null,null,null,null,null,null,null,null,{"$f":"IF(NOT($AS2141=$AS2142),ROW(),\"\")","v":""},{"$f":"IF(NOT(AS2141=AS2142),AS2142,\"\")","v":""},{"$f":"INDEX($AB$15:$AM$15,MATCH($AS2141,$AB$11:$AM$11,0))","v":"out"},{"$f":"LEFT(AT2141,4)","v":"2008"},{"$f":"LEFT(B2141,6)","v":"200805"}]
[null,{"$f":"'Market Data'!B2133","v":20080515},{"$f":"'Market Data'!C2133","v":7532},{"$f":"'Market Data'!D2133","v":7591},{"$f":"'Market Data'!E2133","v":7502},{"$f":"'Market Data'!F2133","v":7571.5},null,2129,{"$f":"IF($H2147<($J$6+1),\"\",PFE(OFFSET($F2147,0,0,-$J$6)))","v":-7.0698586409132347E-2},null,"Short",{"$error":"#N/A"},{"$error":"#N/A"},null,-1,0,"",null,-1,null,-542.5,155021.1599999998,null,null,null,null,null,null,null,null,null,null,null,null,null,null,null,null,null,null,null,{"$f":"IF(NOT($AS2147=$AS2148),ROW(),\"\")","v":""},{"$f":"IF(NOT(AS2147=AS2148),AS2148,\"\")","v":""},{"$f":"INDEX($AB$15:$AM$15,MATCH($AS2147,$AB$11:$AM$11,0))","v":"out"},{"$f":"LEFT(AT2147,4)","v":"2008"},{"$f":"LEFT(B2147,6)","v":"200805"}]
[null,{"$f":"'Market Data'!B2138","v":20080522},{"$f":"'Market Data'!C2138","v":7469},{"$f":"'Market Data'!D2138","v":7553.5},{"$f":"'Market Data'!E2138","v":7440},{"$f":"'Market Data'!F2138","v":7529},null,2134,{"$f":"IF($H2152<($J$6+1),\"\",PFE(OFFSET($F2152,0,0,-$J$6)))","v":0.10357463531989564},null,"Long",{"$error":"#N/A"},{"$error":"#N/A"},null,1,0,"",null,1,null,595,152266.73999999979,null,null,null,null,null,null,null,null,null,null,null,null,null,null,null,null,null,null,null,{"$f":"IF(NOT($AS2152=$AS2153),ROW(),\"\")","v":""},{"$f":"IF(NOT(AS2152=AS2153),AS2153,\"\")","v":""},{"$f":"INDEX($AB$15:$AM$15,MATCH($AS2152,$AB$11:$AM$11,0))","v":"out"},{"$f":"LEFT(AT2152,4)","v":"2008"},{"$f":"LEFT(B2152,6)","v":"200805"}]
[null,{"$f":"'Market Data'!B2144","v":20080530},{"$f":"'Market Data'!C2144","v":7534},{"$f":"'Market Data'!D2144","v":7579},{"$f":"'Market Data'!E2144","v":7524},{"$f":"'Market Data'!F2144","v":7546},null,2140,{"$f":"IF($H2158<($J$6+1),\"\",PFE(OFFSET($F2158,0,0,-$J$6)))","v":2.7367796742638135E-2},null,"Long",{"$error":"#N/A"},{"$error":"#N/A"},null,1,0,"",null,1,null,-280,152861.73999999979,null,null,null,null,null,null,null,null,null,null,null,null,null,null,null,null,null,null,null,{"$f":"IF(NOT($AS2158=$AS2159),ROW(),\"\")","v":""},{"$f":"IF(NOT(AS2158=AS2159),AS2159,\"\")","v":""},{"$f":"INDEX($AB$15:$AM$15,MATCH($AS2158,$AB$11:$AM$11,0))","v":"out"},{"$f":"LEFT(AT2158,4)","v":"2008"},{"$f":"LEFT(B2158,6)","v":"200805"}]
[null,{"$f":"'Market Data'!B2150","v":20080609},{"$f":"'Market Data'!C2150","v":7214.5},{"$f":"'Market Data'!D2150","v":7288},{"$f":"'Market Data'!E2150","v":7209.5},{"$f":"'Market Data'!F2150","v":7263},null,2146,{"$f":"IF($H2164<($J$6+1),\"\",PFE(OFFSET($F2164,0,0,-$J$6)))","v":-1.4907363113277401E-2},null,"Short",{"$error":"#N/A"},{"$error":"#N/A"},null,-1,0,"",null,-1,null,-3296.92,139155.97999999975,null,null,null,null,null,null,null,null,null,null,null,null,null,null,null,null,null,null,null,{"$f":"IF(NOT($AS2164=$AS2165),ROW(),\"\")","v":""},{"$f":"IF(NOT(AS2164=AS2165),AS2165,\"\")","v":""},{"$f":"INDEX($AB$15:$AM$15,MATCH($AS2164,$AB$11:$AM$11,0))","v":"out"},{"$f":"LEFT(AT2164,4)","v":"2008"},{"$f":"LEFT(B2164,6)","v":"200806"}]
[null,{"$f":"'Market Data'!B2153","v":20080612},{"$f":"'Market Data'!C2153","v":7088.5},{"$f":"'Market Data'!D2153","v":7177.5},{"$f":"'Market Data'!E2153","v":7086},{"$f":"'Market Data'!F2153","v":7150},null,2149,{"$f":"IF($H2167<($J$6+1),\"\",PFE(OFFSET($F2167,0,0,-$J$6)))","v":-6.7822102272965673E-2},null,"Short",{"$error":"#N/A"},{"$error":"#N/A"},null,-1,0,"",null,-1,null,-1872.5,143110.97999999975,null,null,null,null,null,null,null,null,null,null,null,null,null,null,null,null,null,null,null,{"$f":"IF(NOT($AS2167=$AS2168),ROW(),\"\")","v":""},{"$f":"IF(NOT(AS2167=AS2168),AS2168,\"\")","v":""},{"$f":"INDEX($AB$15:$AM$15,MATCH($AS2167,$AB$11:$AM$11,0))","v":"out"},{"$f":"LEFT(AT2167,4)","v":"2008"},{"$f":"LEFT(B2167,6)","v":"200806"}]
[null,{"$f":"'Market Data'!B2162","v":20080625},{"$f":"'Market Data'!C2162","v":6966.5},{"$f":"'Market Data'!D2162","v":7063.5},{"$f":"'Market Data'!E2162","v":6964.5},{"$f":"'Market Data'!F2162","v":7043.5},null,2158,{"$f":"IF($H2176<($J$6+1),\"\",PFE(OFFSET($F2176,0,0,-$J$6)))","v":-9.2207629819704637E-2},null,"Short",{"$error":"#N/A"},{"$error":"#N/A"},null,-1,0,"",null,-1,null,-2135,146838.47999999975,null,null,null,null,null,null,null,null,null,null,null,null,null,null,null,null,null,null,null,{"$f":"IF(NOT($AS2176=$AS2177),ROW(),\"\")","v":""},{"$f":"IF(NOT(AS2176=AS2177),AS2177,\"\")","v":""},{"$f":"INDEX($AB$15:$AM$15,MATCH($AS2176,$AB$11:$AM$11,0))","v":"out"},{"$f":"LEFT(AT2176,4)","v":"2008"},{"$f":"LEFT(B2176,6)","v":"200806"}]
[null,{"$f":"'Market Data'!B2167","v":20080702},{"$f":"'Market Data'!C2167","v":6728.5},{"$f":"'Market Data'!D2167","v":6822.5},{"$f":"'Market Data'!E2167","v":6709},{"$f":"'Market Data'!F2167","v":6726},null,2163,{"$f":"IF($H2181<($J$6+1),\"\",PFE(OFFSET($F2181,0,0,-$J$6)))","v":-6.3113466297941609E-2},null,"Short",{"$error":"#N/A"},{"$error":"#N/A"},null,-1,0,"",null,-1,null,-1767.5,157950.97999999975,null,null,null,null,null,null,null,null,null,null,null,null,null,null,null,null,null,null,null,{"$f":"IF(NOT($AS2181=$AS2182),ROW(),\"\")","v":""},{"$f":"IF(NOT(AS2181=AS2182),AS2182,\"\")","v":""},{"$f":"INDEX($AB$15:$AM$15,MATCH($AS2181,$AB$11:$AM$11,0))","v":"out"},{"$f":"LEFT(AT2181,4)","v":"2008"},{"$f":"LEFT(B2181,6)","v":"200807"}]
[null,{"$f":"'Market Data'!B2170","v":20080707},{"$f":"'Market Data'!C2170","v":6712.5},{"$f":"'Market Data'!D2170","v":6841.5},{"$f":"'Market Data'!E2170","v":6704.5},{"$f":"'Market Data'!F2170","v":6722},null,2166,{"$f":"IF($H2184<($J$6+1),\"\",PFE(OFFSET($F2184,0,0,-$J$6)))","v":-5.9173574197301973E-2},null,"Short",{"$error":"#N/A"},{"$error":"#N/A"},null,-1,0,"",null,-1,null,-1155,158090.97999999975,null,null,null,null,null,null,null,null,null,null,null,null,null,null,null,null,null,null,null,{"$f":"IF(NOT($AS2184=$AS2185),ROW(),\"\")","v":""},{"$f":"IF(NOT(AS2184=AS2185),AS2185,\"\")","v":""},{"$f":"INDEX($AB$15:$AM$15,MATCH($AS2184,$AB$11:$AM$11,0))","v":"out"},{"$f":"LEFT(AT2184,4)","v":"2008"},{"$f":"LEFT(B2184,6)","v":"200807"}]
[null,{"$f":"'Market Data'!B2174","v":20080711},{"$f":"'Market Data'!C2174","v":6762.5},{"$f":"'Market Data'!D2174","v":6768.5},{"$f":"'Market Data'!E2174","v":6546},{"$f":"'Market Data'!F2174","v":6554.5},null,2170,{"$f":"IF($H2188<($J$6+1),\"\",PFE(OFFSET($F2188,0,0,-$J$6)))","v":-9.8015281079562047E-2},null,"Short",{"$error":"#N/A"},{"$error":"#N/A"},null,-1,0,"",null,-1,null,5880,163953.47999999975,null,null,null,null,null,null,null,null,null,null,null,null,null,null,null,null,null,null,null,{"$f":"IF(NOT($AS2188=$AS2189),ROW(),\"\")","v":""},{"$f":"IF(NOT(AS2188=AS2189),AS2189,\"\")","v":""},{"$f":"INDEX($AB$15:$AM$15,MATCH($AS2188,$AB$11:$AM$11,0))","v":"out"},{"$f":"LEFT(AT2188,4)","v":"2008"},{"$f":"LEFT(B2188,6)","v":"200807"}]
[null,{"$f":"'Market Data'!B2179","v":20080718},{"$f":"'Market Data'!C2179","v":6672.5},{"$f":"'Market Data'!D2179","v":6803},{"$f":"'Market Data'!E2179","v":6645},{"$f":"'Market Data'!F2179","v":6774.5},null,2175,{"$f":"IF($H2193<($J$6+1),\"\",PFE(OFFSET($F2193,0,0,-$J$6)))","v":-2.4339960678028912E-2},null,"Short",{"$error":"#N/A"},{"$error":"#N/A"},null,-1,{"$f":"$O2193-S2193","v":0},"",null,-1,null,-2975,156253.47999999975,null,null,null,null,null,null,null,null,null,null,null,null,null,null,null,null,null,null,null,{"$f":"IF(NOT($AS2193=$AS2194),ROW(),\"\")","v":""},{"$f":"IF(NOT(AS2193=AS2194),AS2194,\"\")","v":""},{"$f":"INDEX($AB$15:$AM$15,MATCH($AS2193,$AB$11:$AM$11,0))","v":"out"},{"$f":"LEFT(AT2193,4)","v":"2008"},{"$f":"LEFT(B2193,6)","v":"200807"}]
[null,{"$f":"'Market Data'!B2185","v":20080728},{"$f":"'Market Data'!C2185","v":6826.5},{"$f":"'Market Data'!D2185","v":6837.5},{"$f":"'Market Data'!E2185","v":6706},{"$f":"'Market Data'!F2185","v":6712.5},null,2181,{"$f":"IF($H2199<($J$6+1),\"\",PFE(OFFSET($F2199,0,0,-$J$6)))","v":-0.11463573897565456},null,"Short",{"$error":"#N/A"},{"$error":"#N/A"},null,-1,0,"",null,-1,null,4515,158423.47999999975,null,null,null,null,null,null,null,null,null,null,null,null,null,null,null,null,null,null,null,{"$f":"IF(NOT($AS2199=$AS2200),ROW(),\"\")","v":""},{"$f":"IF(NOT(AS2199=AS2200),AS2200,\"\")","v":""},{"$f":"INDEX($AB$15:$AM$15,MATCH($AS2199,$AB$11:$AM$11,0))","v":"out"},{"$f":"LEFT(AT2199,4)","v":"2008"},{"$f":"LEFT(B2199,6)","v":"200807"}]
[null,{"$f":"'Market Data'!B2191","v":20080805},{"$f":"'Market Data'!C2191","v":6758.5},{"$f":"'Market Data'!D2191","v":6933},{"$f":"'Market Data'!E2191","v":6741},{"$f":"'Market Data'!F2191","v":6923.5},null,2187,{"$f":"IF($H2205<($J$6+1),\"\",PFE(OFFSET($F2205,0,0,-$J$6)))","v":-5.8166097949549939E-2},null,"Short",{"$error":"#N/A"},{"$error":"#N/A"},null,-1,0,"",null,-1,null,-5757.5,151038.47999999975,null,null,null,null,null,null,null,null,null,null,null,null,null,null,null,null,null,null,null,{"$f":"IF(NOT($AS2205=$AS2206),ROW(),\"\")","v":""},{"$f":"IF(NOT(AS2205=AS2206),AS2206,\"\")","v":""},{"$f":"INDEX($AB$15:$AM$15,MATCH($AS2205,$AB$11:$AM$11,0))","v":"out"},{"$f":"LEFT(AT2205,4)","v":"2008"},{"$f":"LEFT(B2205,6)","v":"200808"}]
[null,{"$f":"'Market Data'!B2196","v":20080812},{"$f":"'Market Data'!C2196","v":6982},{"$f":"'Market Data'!D2196","v":7022},{"$f":"'Market Data'!E2196","v":6938.5},{"$f":"'Market Data'!F2196","v":6989},null,2192,{"$f":"IF($H2210<($J$6+1),\"\",PFE(OFFSET($F2210,0,0,-$J$6)))","v":-4.7170635353475876E-2},null,"Short",{"$error":"#N/A"},{"$error":"#N/A"},null,-1,0,"",null,-1,null,787.5,148745.97999999975,null,null,null,null,null,null,null,null,null,null,null,null,null,null,null,null,null,null,null,{"$f":"IF(NOT($AS2210=$AS2211),ROW(),\"\")","v":""},{"$f":"IF(NOT(AS2210=AS2211),AS2211,\"\")","v":""},{"$f":"INDEX($AB$15:$AM$15,MATCH($AS2210,$AB$11:$AM$11,0))","v":"out"},{"$f":"LEFT(AT2210,4)","v":"2008"},{"$f":"LEFT(B2210,6)","v":"200808"}]
[null,{"$f":"'Market Data'!B2203","v":20080821},{"$f":"'Market Data'!C2203","v":6664},{"$f":"'Market Data'!D2203","v":6681.5},{"$f":"'Market Data'!E2203","v":6602},{"$f":"'Market Data'!F2203","v":6634},null,2199,{"$f":"IF($H2217<($J$6+1),\"\",PFE(OFFSET($F2217,0,0,-$J$6)))","v":-0.16232856929474163},null,"Short",{"$error":"#N/A"},{"$error":"#N/A"},null,-1,0,"",null,-1,null,1557.5,161170.97999999975,null,null,null,null,null,null,null,null,null,null,null,null,null,null,null,null,null,null,null,{"$f":"IF(NOT($AS2217=$AS2218),ROW(),\"\")","v":""},{"$f":"IF(NOT(AS2217=AS2218),AS2218,\"\")","v":""},{"$f":"INDEX($AB$15:$AM$15,MATCH($AS2217,$AB$11:$AM$11,0))","v":"out"},{"$f":"LEFT(AT2217,4)","v":"2008"},{"$f":"LEFT(B2217,6)","v":"200808"}]
[null,{"$f":"'Market Data'!B2211","v":20080902},{"$f":"'Market Data'!C2211","v":6767},{"$f":"'Market Data'!D2211","v":6930.5},{"$f":"'Market Data'!E2211","v":6752},{"$f":"'Market Data'!F2211","v":6858},null,2207,{"$f":"IF($H2225<($J$6+1),\"\",PFE(OFFSET($F2225,0,0,-$J$6)))","v":-0.14219954599884752},null,"Short",{"$error":"#N/A"},{"$error":"#N/A"},null,-1,0,"",null,-1,null,-2117.5,153330.97999999975,null,null,null,null,null,null,null,null,null,null,null,null,null,null,null,null,null,null,null,{"$f":"IF(NOT($AS2225=$AS2226),ROW(),\"\")","v":""},{"$f":"IF(NOT(AS2225=AS2226),AS2226,\"\")","v":""},{"$f":"INDEX($AB$15:$AM$15,MATCH($AS2225,$AB$11:$AM$11,0))","v":"out"},{"$f":"LEFT(AT2225,4)","v":"2008"},{"$f":"LEFT(B2225,6)","v":"200809"}]
[null,{"$f":"'Market Data'!B2214","v":20080905},{"$f":"'Market Data'!C2214","v":6585.5},{"$f":"'Market Data'!D2214","v":6623},{"$f":"'Market Data'!E2214","v":6462.5},{"$f":"'Market Data'!F2214","v":6538.5},null,2210,{"$f":"IF($H2228<($J$6+1),\"\",PFE(OFFSET($F2228,0,0,-$J$6)))","v":-0.19959211685956488},null,"Short",{"$error":"#N/A"},{"$error":"#N/A"},null,-1,0,"",null,-1,null,3307.5,164513.47999999975,null,null,null,null,null,null,null,null,null,null,null,null,null,null,null,null,null,null,null,{"$f":"IF(NOT($AS2228=$AS2229),ROW(),\"\")","v":""},{"$f":"IF(NOT(AS2228=AS2229),AS2229,\"\")","v":""},{"$f":"INDEX($AB$15:$AM$15,MATCH($AS2228,$AB$11:$AM$11,0))","v":"out"},{"$f":"LEFT(AT2228,4)","v":"2008"},{"$f":"LEFT(B2228,6)","v":"200809"}]
[null,{"$f":"'Market Data'!B2220","v":20080915},{"$f":"'Market Data'!C2220","v":6364.5},{"$f":"'Market Data'!D2220","v":6448.5},{"$f":"'Market Data'!E2220","v":6305},{"$f":"'Market Data'!F2220","v":6417.5},null,2216,{"$f":"IF($H2234<($J$6+1),\"\",PFE(OFFSET($F2234,0,0,-$J$6)))","v":-0.21837703731576824},null,"Short",{"$error":"#N/A"},{"$error":"#N/A"},null,-1,0,"",null,-1,null,5215,168748.47999999975,null,null,null,null,null,null,null,null,null,null,null,null,null,null,null,null,null,null,null,{"$f":"IF(NOT($AS2234=$AS2235),ROW(),\"\")","v":""},{"$f":"IF(NOT(AS2234=AS2235),AS2235,\"\")","v":""},{"$f":"INDEX($AB$15:$AM$15,MATCH($AS2234,$AB$11:$AM$11,0))","v":"out"},{"$f":"LEFT(AT2234,4)","v":"2008"},{"$f":"LEFT(B2234,6)","v":"200809"}]
[null,{"$f":"'Market Data'!B2222","v":20080917},{"$f":"'Market Data'!C2222","v":6372},{"$f":"'Market Data'!D2222","v":6411.5},{"$f":"'Market Data'!E2222","v":6168},{"$f":"'Market Data'!F2222","v":6208},null,2218,{"$f":"IF($H2236<($J$6+1),\"\",PFE(OFFSET($F2236,0,0,-$J$6)))","v":-0.23378359276706892},null,"Short",{"$error":"#N/A"},{"$error":"#N/A"},null,-1,0,"",null,-1,null,4847.5,176080.97999999975,null,null,null,null,null,null,null,null,null,null,null,null,null,null,null,null,null,null,null,{"$f":"IF(NOT($AS2236=$AS2237),ROW(),\"\")","v":""},{"$f":"IF(NOT(AS2236=AS2237),AS2237,\"\")","v":""},{"$f":"INDEX($AB$15:$AM$15,MATCH($AS2236,$AB$11:$AM$11,0))","v":"out"},{"$f":"LEFT(AT2236,4)","v":"2008"},{"$f":"LEFT(B2236,6)","v":"200809"}]
[null,{"$f":"'Market Data'!B2231","v":20080930},{"$f":"'Market Data'!C2231","v":5984.5},{"$f":"'Market Data'!D2231","v":6247},{"$f":"'Market Data'!E2231","v":5969.5},{"$f":"'Market Data'!F2231","v":6239.5},null,2227,{"$f":"IF($H2245<($J$6+1),\"\",PFE(OFFSET($F2245,0,0,-$J$6)))","v":-0.19793617851539488},null,"Short",{"$error":"#N/A"},{"$error":"#N/A"},null,-1,0,"",null,-1,null,-1627.5,174978.47999999975,null,null,null,null,null,null,null,null,null,null,null,null,null,null,null,null,null,null,null,{"$f":"IF(NOT($AS2245=$AS2246),ROW(),\"\")","v":""},{"$f":"IF(NOT(AS2245=AS2246),AS2246,\"\")","v":""},{"$f":"INDEX($AB$15:$AM$15,MATCH($AS2245,$AB$11:$AM$11,0))","v":"out"},{"$f":"LEFT(AT2245,4)","v":"2008"},{"$f":"LEFT(B2245,6)","v":"200809"}]
[null,{"$f":"'Market Data'!B2237","v":20081008},{"$f":"'Market Data'!C2237","v":5483},{"$f":"'Market Data'!D2237","v":5693},{"$f":"'Market Data'!E2237","v":5220},{"$f":"'Market Data'!F2237","v":5332},null,2233,{"$f":"IF($H2251<($J$6+1),\"\",PFE(OFFSET($F2251,0,0,-$J$6)))","v":-0.27777700647373138},null,"Short",{"$error":"#N/A"},{"$error":"#N/A"},null,-1,0,"",null,-1,null,10885,206740.97999999975,null,null,null,null,null,null,null,null,null,null,null,null,null,null,null,null,null,null,null,{"$f":"IF(NOT($AS2251=$AS2252),ROW(),\"\")","v":""},{"$f":"IF(NOT(AS2251=AS2252),AS2252,\"\")","v":""},{"$f":"INDEX($AB$15:$AM$15,MATCH($AS2251,$AB$11:$AM$11,0))","v":"out"},{"$f":"LEFT(AT2251,4)","v":"2008"},{"$f":"LEFT(B2251,6)","v":"200810"}]
[null,{"$f":"'Market Data'!B2243","v":20081016},{"$f":"'Market Data'!C2243","v":4863},{"$f":"'Market Data'!D2243","v":5234},{"$f":"'Market Data'!E2243","v":4854.5},{"$f":"'Market Data'!F2243","v":5010},null,2239,{"$f":"IF($H2257<($J$6+1),\"\",PFE(OFFSET($F2257,0,0,-$J$6)))","v":-0.25237293225264851},null,"Short",{"$error":"#N/A"},{"$error":"#N/A"},null,-1,{"$f":"$O2257-S2257","v":0},"",null,-1,null,6370,218010.97999999975,null,null,null,null,null,null,null,null,null,null,null,null,null,null,null,null,null,null,null,{"$f":"IF(NOT($AS2257=$AS2258),ROW(),\"\")","v":""},{"$f":"IF(NOT(AS2257=AS2258),AS2258,\"\")","v":""},{"$f":"INDEX($AB$15:$AM$15,MATCH($AS2257,$AB$11:$AM$11,0))","v":"out"},{"$f":"LEFT(AT2257,4)","v":"2008"},{"$f":"LEFT(B2257,6)","v":"200810"}]
[null,{"$f":"'Market Data'!B2246","v":20081021},{"$f":"'Market Data'!C2246","v":5260},{"$f":"'Market Data'!D2246","v":5265.5},{"$f":"'Market Data'!E2246","v":5007.5},{"$f":"'Market Data'!F2246","v":5021.5},null,{"$f":"ROW()-ROW(H$18)","v":2242},{"$f":"IF($H2260<($J$6+1),\"\",PFE(OFFSET($F2260,0,0,-$J$6)))","v":-0.22617197112609441},null,{"$f":"IF($I2260=\"\",\"\",IF($I2260>$J$4,\"Long\",IF($I2260<$J$5,\"Short\",\"\")))","v":"Short"},{"$error":"#N/A"},{"$error":"#N/A"},null,{"$f":"IF($K2260=\"Short\",-1,IF($K2260=\"Long\",1,0))","v":-1},0,"",null,-1,null,6475,217608.47999999975,null,null,null,null,null,null,null,null,null,null,null,null,null,null,null,null,null,null,null,{"$f":"IF(NOT($AS2260=$AS2261),ROW(),\"\")","v":""},{"$f":"IF(NOT(AS2260=AS2261),AS2261,\"\")","v":""},{"$f":"INDEX($AB$15:$AM$15,MATCH($AS2260,$AB$11:$AM$11,0))","v":"out"},{"$f":"LEFT(AT2260,4)","v":"2008"},{"$f":"LEFT(B2260,6)","v":"200810"}]
[null,{"$f":"'Market Data'!B2250","v":20081027},{"$f":"'Market Data'!C2250","v":4505.5},{"$f":"'Market Data'!D2250","v":4811.5},{"$f":"'Market Data'!E2250","v":4388},{"$f":"'Market Data'!F2250","v":4671.5},null,2246,{"$f":"IF($H2264<($J$6+1),\"\",PFE(OFFSET($F2264,0,0,-$J$6)))","v":-0.24496969947374383},null,"Short",{"$error":"#N/A"},{"$error":"#N/A"},null,-1,0,"",null,-1,null,-2152.5,229858.47999999975,null,null,null,null,null,null,null,null,null,null,null,null,null,null,null,null,null,null,null,{"$f":"IF(NOT($AS2264=$AS2265),ROW(),\"\")","v":""},{"$f":"IF(NOT(AS2264=AS2265),AS2265,\"\")","v":""},{"$f":"INDEX($AB$15:$AM$15,MATCH($AS2264,$AB$11:$AM$11,0))","v":"out"},{"$f":"LEFT(AT2264,4)","v":"2008"},{"$f":"LEFT(B2264,6)","v":"200810"}]
[null,{"$f":"'Market Data'!B2255","v":20081103},{"$f":"'Market Data'!C2255","v":5403},{"$f":"'Market Data'!D2255","v":5427},{"$f":"'Market Data'!E2255","v":5295.5},{"$f":"'Market Data'!F2255","v":5364.5},null,2251,{"$f":"IF($H2269<($J$6+1),\"\",PFE(OFFSET($F2269,0,0,-$J$6)))","v":-0.15897814918630743},null,"Short",{"$error":"#N/A"},{"$error":"#N/A"},null,-1,0,"",null,-1,null,1242.5,205603.47999999975,null,null,null,null,null,null,null,null,null,null,null,null,null,null,null,null,null,null,null,{"$f":"IF(NOT($AS2269=$AS2270),ROW(),\"\")","v":""},{"$f":"IF(NOT(AS2269=AS2270),AS2270,\"\")","v":""},{"$f":"INDEX($AB$15:$AM$15,MATCH($AS2269,$AB$11:$AM$11,0))","v":"out"},{"$f":"LEFT(AT2269,4)","v":"2008"},{"$f":"LEFT(B2269,6)","v":"200811"}]
[null,{"$f":"'Market Data'!B2263","v":20081113},{"$f":"'Market Data'!C2263","v":4928},{"$f":"'Market Data'!D2263","v":5037.5},{"$f":"'Market Data'!E2263","v":4820.5},{"$f":"'Market Data'!F2263","v":4823},null,2259,{"$f":"IF($H2277<($J$6+1),\"\",PFE(OFFSET($F2277,0,0,-$J$6)))","v":-0.20291957588117715},null,"Short",{"$error":"#N/A"},{"$error":"#N/A"},null,-1,0,"",null,-1,null,5145,224555.97999999975,null,null,null,null,null,null,null,null,null,null,null,null,null,null,null,null,null,null,null,{"$f":"IF(NOT($AS2277=$AS2278),ROW(),\"\")","v":""},{"$f":"IF(NOT(AS2277=AS2278),AS2278,\"\")","v":""},{"$f":"INDEX($AB$15:$AM$15,MATCH($AS2277,$AB$11:$AM$11,0))","v":"out"},{"$f":"LEFT(AT2277,4)","v":"2008"},{"$f":"LEFT(B2277,6)","v":"200811"}]
[null,{"$f":"'Market Data'!B2267","v":20081119},{"$f":"'Market Data'!C2267","v":4932.5},{"$f":"'Market Data'!D2267","v":4946},{"$f":"'Market Data'!E2267","v":4650},{"$f":"'Market Data'!F2267","v":4686},null,2263,{"$f":"IF($H2281<($J$6+1),\"\",PFE(OFFSET($F2281,0,0,-$J$6)))","v":-0.21157580924639224},null,"Short",{"$error":"#N/A"},{"$error":"#N/A"},null,-1,0,"",null,-1,null,6650,229350.97999999975,null,null,null,null,null,null,null,null,null,null,null,null,null,null,null,null,null,null,null,{"$f":"IF(NOT($AS2281=$AS2282),ROW(),\"\")","v":""},{"$f":"IF(NOT(AS2281=AS2282),AS2282,\"\")","v":""},{"$f":"INDEX($AB$15:$AM$15,MATCH($AS2281,$AB$11:$AM$11,0))","v":"out"},{"$f":"LEFT(AT2281,4)","v":"2008"},{"$f":"LEFT(B2281,6)","v":"200811"}]
[null,{"$f":"'Market Data'!B2272","v":20081126},{"$f":"'Market Data'!C2272","v":4842},{"$f":"'Market Data'!D2272","v":4934},{"$f":"'Market Data'!E2272","v":4735.5},{"$f":"'Market Data'!F2272","v":4897.5},null,2268,{"$f":"IF($H2286<($J$6+1),\"\",PFE(OFFSET($F2286,0,0,-$J$6)))","v":-0.17671771610632567},null,"Short",{"$error":"#N/A"},{"$error":"#N/A"},null,-1,0,"",null,-1,null,-3080,221948.47999999975,null,null,null,null,null,null,null,null,null,null,null,null,null,null,null,null,null,null,null,{"$f":"IF(NOT($AS2286=$AS2287),ROW(),\"\")","v":""},{"$f":"IF(NOT(AS2286=AS2287),AS2287,\"\")","v":""},{"$f":"INDEX($AB$15:$AM$15,MATCH($AS2286,$AB$11:$AM$11,0))","v":"out"},{"$f":"LEFT(AT2286,4)","v":"2008"},{"$f":"LEFT(B2286,6)","v":"200811"}]
[null,{"$f":"'Market Data'!B2279","v":20081205},{"$f":"'Market Data'!C2279","v":4808},{"$f":"'Market Data'!D2279","v":4843},{"$f":"'Market Data'!E2279","v":4633.5},{"$f":"'Market Data'!F2279","v":4704},null,2275,{"$f":"IF($H2293<($J$6+1),\"\",PFE(OFFSET($F2293,0,0,-$J$6)))","v":-0.20597757494219962},null,"Short",{"$error":"#N/A"},{"$error":"#N/A"},null,-1,0,"",null,-1,null,5180,228720.97999999975,null,null,null,null,null,null,null,null,null,null,null,null,null,null,null,null,null,null,null,{"$f":"IF(NOT($AS2293=$AS2294),ROW(),\"\")","v":""},{"$f":"IF(NOT(AS2293=AS2294),AS2294,\"\")","v":""},{"$f":"INDEX($AB$15:$AM$15,MATCH($AS2293,$AB$11:$AM$11,0))","v":"out"},{"$f":"LEFT(AT2293,4)","v":"2008"},{"$f":"LEFT(B2293,6)","v":"200812"}]
[null,{"$f":"'Market Data'!B2284","v":20081212},{"$f":"'Market Data'!C2284","v":4889},{"$f":"'Market Data'!D2284","v":5048},{"$f":"'Market Data'!E2284","v":4831},{"$f":"'Market Data'!F2284","v":5041},null,2280,{"$f":"IF($H2298<($J$6+1),\"\",PFE(OFFSET($F2298,0,0,-$J$6)))","v":-0.14555342097879845},null,"Short",{"$error":"#N/A"},{"$error":"#N/A"},null,-1,0,"",null,-1,null,2082.5,216925.97999999975,null,null,null,null,null,null,null,null,null,null,null,null,null,null,null,null,null,null,null,{"$f":"IF(NOT($AS2298=$AS2299),ROW(),\"\")","v":""},{"$f":"IF(NOT(AS2298=AS2299),AS2299,\"\")","v":""},{"$f":"INDEX($AB$15:$AM$15,MATCH($AS2298,$AB$11:$AM$11,0))","v":"out"},{"$f":"LEFT(AT2298,4)","v":"2008"},{"$f":"LEFT(B2298,6)","v":"200812"}]
[null,{"$f":"'Market Data'!B2289","v":20081219},{"$f":"'Market Data'!C2289","v":5020},{"$f":"'Market Data'!D2289","v":5103.5},{"$f":"'Market Data'!E2289","v":4959},{"$f":"'Market Data'!F2289","v":4995},null,2285,{"$f":"IF($H2303<($J$6+1),\"\",PFE(OFFSET($F2303,0,0,-$J$6)))","v":-0.15486404751810978},null,"Short",{"$error":"#N/A"},{"$error":"#N/A"},null,-1,0,"",null,-1,null,3185,218535.97999999975,null,null,null,null,null,null,null,null,null,null,null,null,null,null,null,null,null,null,null,{"$f":"IF(NOT($AS2303=$AS2304),ROW(),\"\")","v":""},{"$f":"IF(NOT(AS2303=AS2304),AS2304,\"\")","v":""},{"$f":"INDEX($AB$15:$AM$15,MATCH($AS2303,$AB$11:$AM$11,0))","v":"out"},{"$f":"LEFT(AT2303,4)","v":"2008"},{"$f":"LEFT(B2303,6)","v":"200812"}]
[null,{"$f":"'Market Data'!B2296","v":20090106},{"$f":"'Market Data'!C2296","v":5313},{"$f":"'Market Data'!D2296","v":5429.5},{"$f":"'Market Data'!E2296","v":5269.5},{"$f":"'Market Data'!F2296","v":5350},null,2292,{"$f":"IF($H2310<($J$6+1),\"\",PFE(OFFSET($F2310,0,0,-$J$6)))","v":-0.11412933556804507},null,"Short",{"$error":"#N/A"},{"$error":"#N/A"},null,-1,0,"",null,-1,null,-1592.5,206110.97999999975,null,null,null,null,null,null,null,null,null,null,null,null,null,null,null,null,null,null,null,{"$f":"IF(NOT($AS2310=$AS2311),ROW(),\"\")","v":""},{"$f":"IF(NOT(AS2310=AS2311),AS2311,\"\")","v":""},{"$f":"INDEX($AB$15:$AM$15,MATCH($AS2310,$AB$11:$AM$11,0))","v":"in"},{"$f":"LEFT(AT2310,4)","v":"2009"},{"$f":"LEFT(B2310,6)","v":"200901"}]
[null,{"$f":"'Market Data'!B2300","v":20090112},{"$f":"'Market Data'!C2300","v":5056},{"$f":"'Market Data'!D2300","v":5100},{"$f":"'Market Data'!E2300","v":5001},{"$f":"'Market Data'!F2300","v":5010},null,2296,{"$f":"IF($H2314<($J$6+1),\"\",PFE(OFFSET($F2314,0,0,-$J$6)))","v":-0.13857386559817192},null,"Short",{"$error":"#N/A"},{"$error":"#N/A"},null,-1,0,"",null,-1,null,2695,218010.97999999975,null,null,null,null,null,null,null,null,null,null,null,null,null,null,null,null,null,null,null,{"$f":"IF(NOT($AS2314=$AS2315),ROW(),\"\")","v":""},{"$f":"IF(NOT(AS2314=AS2315),AS2315,\"\")","v":""},{"$f":"INDEX($AB$15:$AM$15,MATCH($AS2314,$AB$11:$AM$11,0))","v":"in"},{"$f":"LEFT(AT2314,4)","v":"2009"},{"$f":"LEFT(B2314,6)","v":"200901"}]
[null,{"$f":"'Market Data'!B2308","v":20090122},{"$f":"'Market Data'!C2308","v":4641},{"$f":"'Market Data'!D2308","v":4668.5},{"$f":"'Market Data'!E2308","v":4485.5},{"$f":"'Market Data'!F2308","v":4518},null,2304,{"$f":"IF($H2322<($J$6+1),\"\",PFE(OFFSET($F2322,0,0,-$J$6)))","v":-0.17767473221519006},null,"Short",{"$error":"#N/A"},{"$error":"#N/A"},null,-1,0,"",null,{"$f":"IF($Q2321=\"Fill\",$O2321,$S2321)","v":-1},null,2275,235230.97999999975,null,null,null,null,null,null,null,null,null,null,null,null,null,null,null,null,null,null,null,{"$f":"IF(NOT($AS2322=$AS2323),ROW(),\"\")","v":""},{"$f":"IF(NOT(AS2322=AS2323),AS2323,\"\")","v":""},{"$f":"INDEX($AB$15:$AM$15,MATCH($AS2322,$AB$11:$AM$11,0))","v":"in"},{"$f":"LEFT(AT2322,4)","v":"2009"},{"$f":"LEFT(B2322,6)","v":"200901"}]
[null,{"$f":"'Market Data'!B2313","v":20090129},{"$f":"'Market Data'!C2313","v":4821},{"$f":"'Market Data'!D2313","v":4827.5},{"$f":"'Market Data'!E2313","v":4682.5},{"$f":"'Market Data'!F2313","v":4685},null,2309,{"$f":"IF($H2327<($J$6+1),\"\",PFE(OFFSET($F2327,0,0,-$J$6)))","v":-0.13898228468003102},null,"Short",{"$error":"#N/A"},{"$error":"#N/A"},null,-1,0,"",null,-1,null,4410,229385.97999999975,null,null,null,null,null,null,null,null,null,null,null,null,null,null,null,null,null,null,null,{"$f":"IF(NOT($AS2327=$AS2328),ROW(),\"\")","v":""},{"$f":"IF(NOT(AS2327=AS2328),AS2328,\"\")","v":""},{"$f":"INDEX($AB$15:$AM$15,MATCH($AS2327,$AB$11:$AM$11,0))","v":"in"},{"$f":"LEFT(AT2327,4)","v":"2009"},{"$f":"LEFT(B2327,6)","v":"200901"}]
[null,{"$f":"'Market Data'!B2315","v":20090202},{"$f":"'Market Data'!C2315","v":4605.5},{"$f":"'Market Data'!D2315","v":4606},{"$f":"'Market Data'!E2315","v":4493.5},{"$f":"'Market Data'!F2315","v":4595.5},null,2311,{"$f":"IF($H2329<($J$6+1),\"\",PFE(OFFSET($F2329,0,0,-$J$6)))","v":-0.14940404574047841},null,"Short",{"$error":"#N/A"},{"$error":"#N/A"},null,-1,0,"",null,-1,null,2520,232518.47999999975,null,null,null,null,null,null,null,null,null,null,null,null,null,null,null,null,null,null,null,{"$f":"IF(NOT($AS2329=$AS2330),ROW(),\"\")","v":""},{"$f":"IF(NOT(AS2329=AS2330),AS2330,\"\")","v":""},{"$f":"INDEX($AB$15:$AM$15,MATCH($AS2329,$AB$11:$AM$11,0))","v":"in"},{"$f":"LEFT(AT2329,4)","v":"2009"},{"$f":"LEFT(B2329,6)","v":"200902"}]
[null,{"$f":"'Market Data'!B2320","v":20090209},{"$f":"'Market Data'!C2320","v":4910.5},{"$f":"'Market Data'!D2320","v":4985},{"$f":"'Market Data'!E2320","v":4892},{"$f":"'Market Data'!F2320","v":4970},null,2316,{"$f":"IF($H2334<($J$6+1),\"\",PFE(OFFSET($F2334,0,0,-$J$6)))","v":-3.6911382062897645E-2},null,"Short",{"$error":"#N/A"},{"$error":"#N/A"},null,-1,0,"",null,-1,null,-770,219410.97999999975,null,null,null,null,null,null,null,null,null,null,null,null,null,null,null,null,null,null,null,{"$f":"IF(NOT($AS2334=$AS2335),ROW(),\"\")","v":""},{"$f":"IF(NOT(AS2334=AS2335),AS2335,\"\")","v":""},{"$f":"INDEX($AB$15:$AM$15,MATCH($AS2334,$AB$11:$AM$11,0))","v":"in"},{"$f":"LEFT(AT2334,4)","v":"2009"},{"$f":"LEFT(B2334,6)","v":"200902"}]
[null,{"$f":"'Market Data'!B2326","v":20090217},{"$f":"'Market Data'!C2326","v":4630.5},{"$f":"'Market Data'!D2326","v":4636.5},{"$f":"'Market Data'!E2326","v":4489.5},{"$f":"'Market Data'!F2326","v":4513},null,2322,{"$f":"IF($H2340<($J$6+1),\"\",PFE(OFFSET($F2340,0,0,-$J$6)))","v":-5.6427073786807745E-2},null,"Short",{"$error":"#N/A"},{"$error":"#N/A"},null,-1,0,"",null,-1,null,4952.5,235405.97999999975,null,null,null,null,null,null,null,null,null,null,null,null,null,null,null,null,null,null,null,{"$f":"IF(NOT($AS2340=$AS2341),ROW(),\"\")","v":""},{"$f":"IF(NOT(AS2340=AS2341),AS2341,\"\")","v":""},{"$f":"INDEX($AB$15:$AM$15,MATCH($AS2340,$AB$11:$AM$11,0))","v":"in"},{"$f":"LEFT(AT2340,4)","v":"2009"},{"$f":"LEFT(B2340,6)","v":"200902"}]
[null,{"$f":"'Market Data'!B2332","v":20090225},{"$f":"'Market Data'!C2332","v":4220},{"$f":"'Market Data'!D2332","v":4271},{"$f":"'Market Data'!E2332","v":4081.5},{"$f":"'Market Data'!F2332","v":4122},null,2328,{"$f":"IF($H2346<($J$6+1),\"\",PFE(OFFSET($F2346,0,0,-$J$6)))","v":-5.8243097392800904E-2},null,"Short",{"$error":"#N/A"},{"$error":"#N/A"},null,-1,0,"",null,-1,null,2467.5,249090.97999999975,null,null,null,null,null,null,null,null,null,null,null,null,null,null,null,null,null,null,null,{"$f":"IF(NOT($AS2346=$AS2347),ROW(),\"\")","v":""},{"$f":"IF(NOT(AS2346=AS2347),AS2347,\"\")","v":""},{"$f":"INDEX($AB$15:$AM$15,MATCH($AS2346,$AB$11:$AM$11,0))","v":"in"},{"$f":"LEFT(AT2346,4)","v":"2009"},{"$f":"LEFT(B2346,6)","v":"200902"}]
[null,{"$f":"'Market Data'!B2337","v":20090304},{"$f":"'Market Data'!C2337","v":4021},{"$f":"'Market Data'!D2337","v":4194},{"$f":"'Market Data'!E2337","v":4016},{"$f":"'Market Data'!F2337","v":4163.5},null,2333,{"$f":"IF($H2351<($J$6+1),\"\",PFE(OFFSET($F2351,0,0,-$J$6)))","v":-0.15099348670966758},null,"Short",{"$error":"#N/A"},{"$error":"#N/A"},null,-1,0,"",null,-1,null,-5810,247638.47999999975,null,null,null,null,null,null,null,null,null,null,null,null,null,null,null,null,null,null,null,{"$f":"IF(NOT($AS2351=$AS2352),ROW(),\"\")","v":""},{"$f":"IF(NOT(AS2351=AS2352),AS2352,\"\")","v":""},{"$f":"INDEX($AB$15:$AM$15,MATCH($AS2351,$AB$11:$AM$11,0))","v":"in"},{"$f":"LEFT(AT2351,4)","v":"2009"},{"$f":"LEFT(B2351,6)","v":"200903"}]
[null,{"$f":"'Market Data'!B2341","v":20090310},{"$f":"'Market Data'!C2341","v":3972.5},{"$f":"'Market Data'!D2341","v":4199},{"$f":"'Market Data'!E2341","v":3958},{"$f":"'Market Data'!F2341","v":4161},null,2337,{"$f":"IF($H2355<($J$6+1),\"\",PFE(OFFSET($F2355,0,0,-$J$6)))","v":-0.11836532951415149},null,"Short",{"$error":"#N/A"},{"$error":"#N/A"},null,-1,0,"",null,-1,null,-7140,247725.97999999975,null,null,null,null,null,null,null,null,null,null,null,null,null,null,null,null,null,null,null,{"$f":"IF(NOT($AS2355=$AS2356),ROW(),\"\")","v":""},{"$f":"IF(NOT(AS2355=AS2356),AS2356,\"\")","v":""},{"$f":"INDEX($AB$15:$AM$15,MATCH($AS2355,$AB$11:$AM$11,0))","v":"in"},{"$f":"LEFT(AT2355,4)","v":"2009"},{"$f":"LEFT(B2355,6)","v":"200903"}]
[null,{"$f":"'Market Data'!B2349","v":20090320},{"$f":"'Market Data'!C2349","v":4302.5},{"$f":"'Market Data'!D2349","v":4380},{"$f":"'Market Data'!E2349","v":4287.5},{"$f":"'Market Data'!F2349","v":4302},null,2345,{"$f":"IF($H2363<($J$6+1),\"\",PFE(OFFSET($F2363,0,0,-$J$6)))","v":-8.1556726731977391E-2},null,"Short",{"$error":"#N/A"},{"$error":"#N/A"},null,-1,0,"",null,-1,null,1330,242790.97999999975,null,null,null,null,null,null,null,null,null,null,null,null,null,null,null,null,null,null,null,{"$f":"IF(NOT($AS2363=$AS2364),ROW(),\"\")","v":""},{"$f":"IF(NOT(AS2363=AS2364),AS2364,\"\")","v":""},{"$f":"INDEX($AB$15:$AM$15,MATCH($AS2363,$AB$11:$AM$11,0))","v":"in"},{"$f":"LEFT(AT2363,4)","v":"2009"},{"$f":"LEFT(B2363,6)","v":"200903"}]
[null,{"$f":"'Market Data'!B2352","v":20090325},{"$f":"'Market Data'!C2352","v":4475.5},{"$f":"'Market Data'!D2352","v":4561.5},{"$f":"'Market Data'!E2352","v":4435},{"$f":"'Market Data'!F2352","v":4486},null,2348,{"$f":"IF($H2366<($J$6+1),\"\",PFE(OFFSET($F2366,0,0,-$J$6)))","v":1.4123967982376043E-2},null,"Long",4486,{"$error":"#N/A"},null,1,2,"Fill",null,-1,null,420,236350.97999999975,null,null,null,null,null,null,null,null,null,null,null,null,null,null,null,null,null,null,null,{"$f":"IF(NOT($AS2366=$AS2367),ROW(),\"\")","v":""},{"$f":"IF(NOT(AS2366=AS2367),AS2367,\"\")","v":""},{"$f":"INDEX($AB$15:$AM$15,MATCH($AS2366,$AB$11:$AM$11,0))","v":"in"},{"$f":"LEFT(AT2366,4)","v":"2009"},{"$f":"LEFT(B2366,6)","v":"200903"}]
[null,{"$f":"'Market Data'!B2361","v":20090407},{"$f":"'Market Data'!C2361","v":4674.5},{"$f":"'Market Data'!D2361","v":4680.5},{"$f":"'Market Data'!E2361","v":4567},{"$f":"'Market Data'!F2361","v":4603},null,2357,{"$f":"IF($H2375<($J$6+1),\"\",PFE(OFFSET($F2375,0,0,-$J$6)))","v":-3.9947961630527315E-2},null,"Short",{"$error":"#N/A"},{"$error":"#N/A"},null,-1,0,"",null,-1,null,962.5,232872.13999999972,null,null,null,null,null,null,null,null,null,null,null,null,null,null,null,null,null,null,null,{"$f":"IF(NOT($AS2375=$AS2376),ROW(),\"\")","v":""},{"$f":"IF(NOT(AS2375=AS2376),AS2376,\"\")","v":""},{"$f":"INDEX($AB$15:$AM$15,MATCH($AS2375,$AB$11:$AM$11,0))","v":"in"},{"$f":"LEFT(AT2375,4)","v":"2009"},{"$f":"LEFT(B2375,6)","v":"200904"}]
[null,{"$f":"'Market Data'!B2366","v":20090416},{"$f":"'Market Data'!C2366","v":4863.5},{"$f":"'Market Data'!D2366","v":4935},{"$f":"'Market Data'!E2366","v":4821},{"$f":"'Market Data'!F2366","v":4904},null,2362,{"$f":"IF($H2380<($J$6+1),\"\",PFE(OFFSET($F2380,0,0,-$J$6)))","v":-3.3913812354459401E-2},null,"Short",{"$error":"#N/A"},{"$error":"#N/A"},null,-1,0,"",null,-1,null,-1295,222337.13999999972,null,null,null,null,null,null,null,null,null,null,null,null,null,null,null,null,null,null,null,{"$f":"IF(NOT($AS2380=$AS2381),ROW(),\"\")","v":""},{"$f":"IF(NOT(AS2380=AS2381),AS2381,\"\")","v":""},{"$f":"INDEX($AB$15:$AM$15,MATCH($AS2380,$AB$11:$AM$11,0))","v":"in"},{"$f":"LEFT(AT2380,4)","v":"2009"},{"$f":"LEFT(B2380,6)","v":"200904"}]
[null,{"$f":"'Market Data'!B2369","v":20090421},{"$f":"'Market Data'!C2369","v":4795.5},{"$f":"'Market Data'!D2369","v":4834.5},{"$f":"'Market Data'!E2369","v":4681.5},{"$f":"'Market Data'!F2369","v":4823},null,2365,{"$f":"IF($H2383<($J$6+1),\"\",PFE(OFFSET($F2383,0,0,-$J$6)))","v":-3.6391242018050649E-2},null,"Short",{"$error":"#N/A"},{"$error":"#N/A"},null,-1,0,"",null,-1,null,-1260,225172.13999999972,null,null,null,null,null,null,null,null,null,null,null,null,null,null,null,null,null,null,null,{"$f":"IF(NOT($AS2383=$AS2384),ROW(),\"\")","v":""},{"$f":"IF(NOT(AS2383=AS2384),AS2384,\"\")","v":""},{"$f":"INDEX($AB$15:$AM$15,MATCH($AS2383,$AB$11:$AM$11,0))","v":"in"},{"$f":"LEFT(AT2383,4)","v":"2009"},{"$f":"LEFT(B2383,6)","v":"200904"}]
[null,{"$f":"'Market Data'!B2378","v":20090505},{"$f":"'Market Data'!C2378","v":5188.5},{"$f":"'Market Data'!D2378","v":5218.5},{"$f":"'Market Data'!E2378","v":5132.5},{"$f":"'Market Data'!F2378","v":5146},null,2374,{"$f":"IF($H2392<($J$6+1),\"\",PFE(OFFSET($F2392,0,0,-$J$6)))","v":-2.7957107329660256E-2},null,"Short",{"$error":"#N/A"},{"$error":"#N/A"},null,-1,0,"",null,-1,null,927.5,213363.2999999997,null,null,null,null,null,null,null,null,null,null,null,null,null,null,null,null,null,null,null,{"$f":"IF(NOT($AS2392=$AS2393),ROW(),\"\")","v":""},{"$f":"IF(NOT(AS2392=AS2393),AS2393,\"\")","v":""},{"$f":"INDEX($AB$15:$AM$15,MATCH($AS2392,$AB$11:$AM$11,0))","v":"in"},{"$f":"LEFT(AT2392,4)","v":"2009"},{"$f":"LEFT(B2392,6)","v":"200905"}]
[null,{"$f":"'Market Data'!B2384","v":20090513},{"$f":"'Market Data'!C2384","v":5192},{"$f":"'Market Data'!D2384","v":5196},{"$f":"'Market Data'!E2384","v":4994},{"$f":"'Market Data'!F2384","v":4999},null,2380,{"$f":"IF($H2398<($J$6+1),\"\",PFE(OFFSET($F2398,0,0,-$J$6)))","v":1.5927716491542159E-2},null,"Long",{"$error":"#N/A"},{"$error":"#N/A"},null,1,0,"",null,1,null,-4147.5,203871.37999999968,null,null,null,null,null,null,null,null,null,null,null,null,null,null,null,null,null,null,null,{"$f":"IF(NOT($AS2398=$AS2399),ROW(),\"\")","v":""},{"$f":"IF(NOT(AS2398=AS2399),AS2399,\"\")","v":""},{"$f":"INDEX($AB$15:$AM$15,MATCH($AS2398,$AB$11:$AM$11,0))","v":"in"},{"$f":"LEFT(AT2398,4)","v":"2009"},{"$f":"LEFT(B2398,6)","v":"200905"}]
[null,{"$f":"'Market Data'!B2385","v":20090514},{"$f":"'Market Data'!C2385","v":5010.5},{"$f":"'Market Data'!D2385","v":5054},{"$f":"'Market Data'!E2385","v":4939},{"$f":"'Market Data'!F2385","v":5047.5},null,2381,{"$f":"IF($H2399<($J$6+1),\"\",PFE(OFFSET($F2399,0,0,-$J$6)))","v":5.2909411011323473E-2},null,"Long",{"$error":"#N/A"},{"$error":"#N/A"},null,1,0,"",null,1,null,1697.5,205568.87999999968,null,null,null,null,null,null,null,null,null,null,null,null,null,null,null,null,null,null,null,{"$f":"IF(NOT($AS2399=$AS2400),ROW(),\"\")","v":""},{"$f":"IF(NOT(AS2399=AS2400),AS2400,\"\")","v":""},{"$f":"INDEX($AB$15:$AM$15,MATCH($AS2399,$AB$11:$AM$11,0))","v":"in"},{"$f":"LEFT(AT2399,4)","v":"2009"},{"$f":"LEFT(B2399,6)","v":"200905"}]
[null,{"$f":"'Market Data'!B2393","v":20090526},{"$f":"'Market Data'!C2393","v":5172.5},{"$f":"'Market Data'!D2393","v":5286.5},{"$f":"'Market Data'!E2393","v":5086.5},{"$f":"'Market Data'!F2393","v":5281},null,2389,{"$f":"IF($H2407<($J$6+1),\"\",PFE(OFFSET($F2407,0,0,-$J$6)))","v":0.1066155598687268},null,"Long",{"$error":"#N/A"},{"$error":"#N/A"},null,1,0,"",null,1,null,2817.5,213741.37999999968,null,null,null,null,null,null,null,null,null,null,null,null,null,null,null,null,null,null,null,{"$f":"IF(NOT($AS2407=$AS2408),ROW(),\"\")","v":""},{"$f":"IF(NOT(AS2407=AS2408),AS2408,\"\")","v":""},{"$f":"INDEX($AB$15:$AM$15,MATCH($AS2407,$AB$11:$AM$11,0))","v":"in"},{"$f":"LEFT(AT2407,4)","v":"2009"},{"$f":"LEFT(B2407,6)","v":"200905"}]
[null,{"$f":"'Market Data'!B2396","v":20090529},{"$f":"'Market Data'!C2396","v":5257.5},{"$f":"'Market Data'!D2396","v":5294.5},{"$f":"'Market Data'!E2396","v":5200.5},{"$f":"'Market Data'!F2396","v":5221.5},null,2392,{"$f":"IF($H2410<($J$6+1),\"\",PFE(OFFSET($F2410,0,0,-$J$6)))","v":8.9791863539228869E-2},null,"Long",{"$error":"#N/A"},{"$error":"#N/A"},null,1,0,"",null,1,null,525,211658.87999999968,null,null,null,null,null,null,null,null,null,null,null,null,null,null,null,null,null,null,null,{"$f":"IF(NOT($AS2410=$AS2411),ROW(),\"\")","v":""},{"$f":"IF(NOT(AS2410=AS2411),AS2411,\"\")","v":""},{"$f":"INDEX($AB$15:$AM$15,MATCH($AS2410,$AB$11:$AM$11,0))","v":"in"},{"$f":"LEFT(AT2410,4)","v":"2009"},{"$f":"LEFT(B2410,6)","v":"200905"}]
[null,{"$f":"'Market Data'!B2402","v":20090608},{"$f":"'Market Data'!C2402","v":5335.5},{"$f":"'Market Data'!D2402","v":5343},{"$f":"'Market Data'!E2402","v":5249},{"$f":"'Market Data'!F2402","v":5287},null,2398,{"$f":"IF($H2416<($J$6+1),\"\",PFE(OFFSET($F2416,0,0,-$J$6)))","v":5.7883492621493463E-2},null,"Long",{"$error":"#N/A"},{"$error":"#N/A"},null,1,0,"",null,1,null,-2747.5,213951.37999999968,null,null,null,null,null,null,null,null,null,null,null,null,null,null,null,null,null,null,null,{"$f":"IF(NOT($AS2416=$AS2417),ROW(),\"\")","v":""},{"$f":"IF(NOT(AS2416=AS2417),AS2417,\"\")","v":""},{"$f":"INDEX($AB$15:$AM$15,MATCH($AS2416,$AB$11:$AM$11,0))","v":"in"},{"$f":"LEFT(AT2416,4)","v":"2009"},{"$f":"LEFT(B2416,6)","v":"200906"}]
[null,{"$f":"'Market Data'!B2410","v":20090618},{"$f":"'Market Data'!C2410","v":5097},{"$f":"'Market Data'!D2410","v":5140},{"$f":"'Market Data'!E2410","v":5051},{"$f":"'Market Data'!F2410","v":5127.5},null,2406,{"$f":"IF($H2424<($J$6+1),\"\",PFE(OFFSET($F2424,0,0,-$J$6)))","v":0.10503358166866614},null,"Long",{"$error":"#N/A"},{"$error":"#N/A"},null,1,0,"",null,1,null,1207.5,208368.87999999968,null,null,null,null,null,null,null,null,null,null,null,null,null,null,null,null,null,null,null,{"$f":"IF(NOT($AS2424=$AS2425),ROW(),\"\")","v":""},{"$f":"IF(NOT(AS2424=AS2425),AS2425,\"\")","v":""},{"$f":"INDEX($AB$15:$AM$15,MATCH($AS2424,$AB$11:$AM$11,0))","v":"in"},{"$f":"LEFT(AT2424,4)","v":"2009"},{"$f":"LEFT(B2424,6)","v":"200906"}]
[null,{"$f":"'Market Data'!B2413","v":20090623},{"$f":"'Market Data'!C2413","v":4961},{"$f":"'Market Data'!D2413","v":5034},{"$f":"'Market Data'!E2413","v":4950},{"$f":"'Market Data'!F2413","v":5003.5},null,2409,{"$f":"IF($H2427<($J$6+1),\"\",PFE(OFFSET($F2427,0,0,-$J$6)))","v":0.14371312863327587},null,"Long",{"$error":"#N/A"},{"$error":"#N/A"},null,1,0,"",null,1,null,997.5,204028.87999999968,null,null,null,null,null,null,null,null,null,null,null,null,null,null,null,null,null,null,null,{"$f":"IF(NOT($AS2427=$AS2428),ROW(),\"\")","v":""},{"$f":"IF(NOT(AS2427=AS2428),AS2428,\"\")","v":""},{"$f":"INDEX($AB$15:$AM$15,MATCH($AS2427,$AB$11:$AM$11,0))","v":"in"},{"$f":"LEFT(AT2427,4)","v":"2009"},{"$f":"LEFT(B2427,6)","v":"200906"}]
[null,{"$f":"'Market Data'!B2419","v":20090701},{"$f":"'Market Data'!C2419","v":5096.5},{"$f":"'Market Data'!D2419","v":5208.5},{"$f":"'Market Data'!E2419","v":5084},{"$f":"'Market Data'!F2419","v":5180},null,2415,{"$f":"IF($H2433<($J$6+1),\"\",PFE(OFFSET($F2433,0,0,-$J$6)))","v":0.20686959424083676},null,"Long",{"$error":"#N/A"},{"$error":"#N/A"},null,1,0,"",null,1,null,3062.5,210206.37999999968,null,null,null,null,null,null,null,null,null,null,null,null,null,null,null,null,null,null,null,{"$f":"IF(NOT($AS2433=$AS2434),ROW(),\"\")","v":""},{"$f":"IF(NOT(AS2433=AS2434),AS2434,\"\")","v":""},{"$f":"INDEX($AB$15:$AM$15,MATCH($AS2433,$AB$11:$AM$11,0))","v":"in"},{"$f":"LEFT(AT2433,4)","v":"2009"},{"$f":"LEFT(B2433,6)","v":"200907"}]
[null,{"$f":"'Market Data'!B2425","v":20090709},{"$f":"'Market Data'!C2425","v":4867.5},{"$f":"'Market Data'!D2425","v":4948.5},{"$f":"'Market Data'!E2425","v":4865.5},{"$f":"'Market Data'!F2425","v":4918.5},null,2421,{"$f":"IF($H2439<($J$6+1),\"\",PFE(OFFSET($F2439,0,0,-$J$6)))","v":0.13059458576375707},null,"Long",{"$error":"#N/A"},{"$error":"#N/A"},null,1,0,"",null,1,null,2852.5,201053.87999999968,null,null,null,null,null,null,null,null,null,null,null,null,null,null,null,null,null,null,null,{"$f":"IF(NOT($AS2439=$AS2440),ROW(),\"\")","v":""},{"$f":"IF(NOT(AS2439=AS2440),AS2440,\"\")","v":""},{"$f":"INDEX($AB$15:$AM$15,MATCH($AS2439,$AB$11:$AM$11,0))","v":"in"},{"$f":"LEFT(AT2439,4)","v":"2009"},{"$f":"LEFT(B2439,6)","v":"200907"}]
[null,{"$f":"'Market Data'!B2431","v":20090717},{"$f":"'Market Data'!C2431","v":5286.5},{"$f":"'Market Data'!D2431","v":5300.5},{"$f":"'Market Data'!E2431","v":5237},{"$f":"'Market Data'!F2431","v":5269},null,2427,{"$f":"IF($H2445<($J$6+1),\"\",PFE(OFFSET($F2445,0,0,-$J$6)))","v":0.16290025521165155},null,"Long",{"$error":"#N/A"},{"$error":"#N/A"},null,1,0,"",null,1,null,717.5,213321.37999999968,null,null,null,null,null,null,null,null,null,null,null,null,null,null,null,null,null,null,null,{"$f":"IF(NOT($AS2445=$AS2446),ROW(),\"\")","v":""},{"$f":"IF(NOT(AS2445=AS2446),AS2446,\"\")","v":""},{"$f":"INDEX($AB$15:$AM$15,MATCH($AS2445,$AB$11:$AM$11,0))","v":"in"},{"$f":"LEFT(AT2445,4)","v":"2009"},{"$f":"LEFT(B2445,6)","v":"200907"}]
[null,{"$f":"'Market Data'!B2436","v":20090724},{"$f":"'Market Data'!C2436","v":5506},{"$f":"'Market Data'!D2436","v":5584},{"$f":"'Market Data'!E2436","v":5479},{"$f":"'Market Data'!F2436","v":5511.5},null,2432,{"$f":"IF($H2450<($J$6+1),\"\",PFE(OFFSET($F2450,0,0,-$J$6)))","v":0.16539094134909446},null,"Long",{"$error":"#N/A"},{"$error":"#N/A"},null,1,0,"",null,{"$f":"IF($Q2449=\"Fill\",$O2449,$S2449)","v":1},null,-1032.5,221808.87999999968,null,null,null,null,null,null,null,null,null,null,null,null,null,null,null,null,null,null,null,{"$f":"IF(NOT($AS2450=$AS2451),ROW(),\"\")","v":""},{"$f":"IF(NOT(AS2450=AS2451),AS2451,\"\")","v":""},{"$f":"INDEX($AB$15:$AM$15,MATCH($AS2450,$AB$11:$AM$11,0))","v":"in"},{"$f":"LEFT(AT2450,4)","v":"2009"},{"$f":"LEFT(B2450,6)","v":"200907"}]
[null,{"$f":"'Market Data'!B2442","v":20090803},{"$f":"'Market Data'!C2442","v":5639},{"$f":"'Market Data'!D2442","v":5743.5},{"$f":"'Market Data'!E2442","v":5585},{"$f":"'Market Data'!F2442","v":5711.5},null,2438,{"$f":"IF($H2456<($J$6+1),\"\",PFE(OFFSET($F2456,0,0,-$J$6)))","v":0.18915733546098026},null,"Long",{"$error":"#N/A"},{"$error":"#N/A"},null,1,0,"",null,1,null,3605,228808.87999999968,null,null,null,null,null,null,null,null,null,null,null,null,null,null,null,null,null,null,null,{"$f":"IF(NOT($AS2456=$AS2457),ROW(),\"\")","v":""},{"$f":"IF(NOT(AS2456=AS2457),AS2457,\"\")","v":""},{"$f":"INDEX($AB$15:$AM$15,MATCH($AS2456,$AB$11:$AM$11,0))","v":"in"},{"$f":"LEFT(AT2456,4)","v":"2009"},{"$f":"LEFT(B2456,6)","v":"200908"}]
[null,{"$f":"'Market Data'!B2445","v":20090806},{"$f":"'Market Data'!C2445","v":5677},{"$f":"'Market Data'!D2445","v":5704},{"$f":"'Market Data'!E2445","v":5619},{"$f":"'Market Data'!F2445","v":5635},null,2441,{"$f":"IF($H2459<($J$6+1),\"\",PFE(OFFSET($F2459,0,0,-$J$6)))","v":0.18259236034864074},null,"Long",{"$error":"#N/A"},{"$error":"#N/A"},null,1,0,"",null,1,null,87.5,226131.37999999968,null,null,null,null,null,null,null,null,null,null,null,null,null,null,null,null,null,null,null,{"$f":"IF(NOT($AS2459=$AS2460),ROW(),\"\")","v":""},{"$f":"IF(NOT(AS2459=AS2460),AS2460,\"\")","v":""},{"$f":"INDEX($AB$15:$AM$15,MATCH($AS2459,$AB$11:$AM$11,0))","v":"in"},{"$f":"LEFT(AT2459,4)","v":"2009"},{"$f":"LEFT(B2459,6)","v":"200908"}]
[null,{"$f":"'Market Data'!B2454","v":20090819},{"$f":"'Market Data'!C2454","v":5497},{"$f":"'Market Data'!D2454","v":5556.5},{"$f":"'Market Data'!E2454","v":5437},{"$f":"'Market Data'!F2454","v":5551},null,2450,{"$f":"IF($H2468<($J$6+1),\"\",PFE(OFFSET($F2468,0,0,-$J$6)))","v":0.13411681734792905},null,"Long",{"$error":"#N/A"},{"$error":"#N/A"},null,1,0,"",null,1,null,805,223191.37999999968,null,null,null,null,null,null,null,null,null,null,null,null,null,null,null,null,null,null,null,{"$f":"IF(NOT($AS2468=$AS2469),ROW(),\"\")","v":""},{"$f":"IF(NOT(AS2468=AS2469),AS2469,\"\")","v":""},{"$f":"INDEX($AB$15:$AM$15,MATCH($AS2468,$AB$11:$AM$11,0))","v":"in"},{"$f":"LEFT(AT2468,4)","v":"2009"},{"$f":"LEFT(B2468,6)","v":"200908"}]
[null,{"$f":"'Market Data'!B2455","v":20090820},{"$f":"'Market Data'!C2455","v":5565},{"$f":"'Market Data'!D2455","v":5604.5},{"$f":"'Market Data'!E2455","v":5543},{"$f":"'Market Data'!F2455","v":5590},null,2451,{"$f":"IF($H2469<($J$6+1),\"\",PFE(OFFSET($F2469,0,0,-$J$6)))","v":0.12032961376726474},null,"Long",{"$error":"#N/A"},{"$error":"#N/A"},null,1,0,"",null,1,null,1365,224556.37999999968,null,null,null,null,null,null,null,null,null,null,null,null,null,null,null,null,null,null,null,{"$f":"IF(NOT($AS2469=$AS2470),ROW(),\"\")","v":""},{"$f":"IF(NOT(AS2469=AS2470),AS2470,\"\")","v":""},{"$f":"INDEX($AB$15:$AM$15,MATCH($AS2469,$AB$11:$AM$11,0))","v":"in"},{"$f":"LEFT(AT2469,4)","v":"2009"},{"$f":"LEFT(B2469,6)","v":"200908"}]
[null,{"$f":"'Market Data'!B2462","v":20090831},{"$f":"'Market Data'!C2462","v":5757},{"$f":"'Market Data'!D2462","v":5774},{"$f":"'Market Data'!E2462","v":5714.5},{"$f":"'Market Data'!F2462","v":5742.5},null,2458,{"$f":"IF($H2476<($J$6+1),\"\",PFE(OFFSET($F2476,0,0,-$J$6)))","v":0.10886412798908886},null,"Long",{"$error":"#N/A"},{"$error":"#N/A"},null,1,0,"",null,1,null,-1225,229893.87999999968,null,null,null,null,null,null,null,null,null,null,null,null,null,null,null,null,null,null,null,{"$f":"IF(NOT($AS2476=$AS2477),ROW(),\"\")","v":""},{"$f":"IF(NOT(AS2476=AS2477),AS2477,\"\")","v":""},{"$f":"INDEX($AB$15:$AM$15,MATCH($AS2476,$AB$11:$AM$11,0))","v":"in"},{"$f":"LEFT(AT2476,4)","v":"2009"},{"$f":"LEFT(B2476,6)","v":"200908"}]
[null,{"$f":"'Market Data'!B2466","v":20090904},{"$f":"'Market Data'!C2466","v":5600},{"$f":"'Market Data'!D2466","v":5708},{"$f":"'Market Data'!E2466","v":5598},{"$f":"'Market Data'!F2466","v":5698.5},null,2462,{"$f":"IF($H2480<($J$6+1),\"\",PFE(OFFSET($F2480,0,0,-$J$6)))","v":0.11442380338919184},null,"Long",{"$error":"#N/A"},{"$error":"#N/A"},null,1,0,"",null,1,null,3955,228353.87999999968,null,null,null,null,null,null,null,null,null,null,null,null,null,null,null,null,null,null,null,{"$f":"IF(NOT($AS2480=$AS2481),ROW(),\"\")","v":""},{"$f":"IF(NOT(AS2480=AS2481),AS2481,\"\")","v":""},{"$f":"INDEX($AB$15:$AM$15,MATCH($AS2480,$AB$11:$AM$11,0))","v":"in"},{"$f":"LEFT(AT2480,4)","v":"2009"},{"$f":"LEFT(B2480,6)","v":"200909"}]
[null,{"$f":"'Market Data'!B2471","v":20090911},{"$f":"'Market Data'!C2471","v":5887},{"$f":"'Market Data'!D2471","v":5930.5},{"$f":"'Market Data'!E2471","v":5875.5},{"$f":"'Market Data'!F2471","v":5887.5},null,2467,{"$f":"IF($H2485<($J$6+1),\"\",PFE(OFFSET($F2485,0,0,-$J$6)))","v":0.13545446060833657},null,"Long",{"$error":"#N/A"},{"$error":"#N/A"},null,1,0,"",null,1,null,227.5,234968.87999999968,null,null,null,null,null,null,null,null,null,null,null,null,null,null,null,null,null,null,null,{"$f":"IF(NOT($AS2485=$AS2486),ROW(),\"\")","v":""},{"$f":"IF(NOT(AS2485=AS2486),AS2486,\"\")","v":""},{"$f":"INDEX($AB$15:$AM$15,MATCH($AS2485,$AB$11:$AM$11,0))","v":"in"},{"$f":"LEFT(AT2485,4)","v":"2009"},{"$f":"LEFT(B2485,6)","v":"200909"}]
[null,{"$f":"'Market Data'!B2478","v":20090922},{"$f":"'Market Data'!C2478","v":5980.5},{"$f":"'Market Data'!D2478","v":6030.5},{"$f":"'Market Data'!E2478","v":5968.5},{"$f":"'Market Data'!F2478","v":5992.5},null,2474,{"$f":"IF($H2492<($J$6+1),\"\",PFE(OFFSET($F2492,0,0,-$J$6)))","v":0.16544901891608466},null,"Long",{"$error":"#N/A"},{"$error":"#N/A"},null,1,0,"",null,1,null,1662.5,238643.87999999968,null,null,null,null,null,null,null,null,null,null,null,null,null,null,null,null,null,null,null,{"$f":"IF(NOT($AS2492=$AS2493),ROW(),\"\")","v":""},{"$f":"IF(NOT(AS2492=AS2493),AS2493,\"\")","v":""},{"$f":"INDEX($AB$15:$AM$15,MATCH($AS2492,$AB$11:$AM$11,0))","v":"in"},{"$f":"LEFT(AT2492,4)","v":"2009"},{"$f":"LEFT(B2492,6)","v":"200909"}]
[null,{"$f":"'Market Data'!B2483","v":20090929},{"$f":"'Market Data'!C2483","v":6010.5},{"$f":"'Market Data'!D2483","v":6035.5},{"$f":"'Market Data'!E2483","v":5967},{"$f":"'Market Data'!F2483","v":5995},null,2479,{"$f":"IF($H2497<($J$6+1),\"\",PFE(OFFSET($F2497,0,0,-$J$6)))","v":0.13545640122334487},null,"Long",{"$error":"#N/A"},{"$error":"#N/A"},null,1,0,"",null,1,null,-542.5,238731.37999999968,null,null,null,null,null,null,null,null,null,null,null,null,null,null,null,null,null,null,null,{"$f":"IF(NOT($AS2497=$AS2498),ROW(),\"\")","v":""},{"$f":"IF(NOT(AS2497=AS2498),AS2498,\"\")","v":""},{"$f":"INDEX($AB$15:$AM$15,MATCH($AS2497,$AB$11:$AM$11,0))","v":"in"},{"$f":"LEFT(AT2497,4)","v":"2009"},{"$f":"LEFT(B2497,6)","v":"200909"}]
[null,{"$f":"'Market Data'!B2488","v":20091006},{"$f":"'Market Data'!C2488","v":5796.5},{"$f":"'Market Data'!D2488","v":5941.5},{"$f":"'Market Data'!E2488","v":5795.5},{"$f":"'Market Data'!F2488","v":5922},null,2484,{"$f":"IF($H2502<($J$6+1),\"\",PFE(OFFSET($F2502,0,0,-$J$6)))","v":0.10756925576102871},null,"Long",{"$error":"#N/A"},{"$error":"#N/A"},null,1,0,"",null,1,null,3867.5,236176.37999999968,null,null,null,null,null,null,null,null,null,null,null,null,null,null,null,null,null,null,null,{"$f":"IF(NOT($AS2502=$AS2503),ROW(),\"\")","v":""},{"$f":"IF(NOT(AS2502=AS2503),AS2503,\"\")","v":""},{"$f":"INDEX($AB$15:$AM$15,MATCH($AS2502,$AB$11:$AM$11,0))","v":"in"},{"$f":"LEFT(AT2502,4)","v":"2009"},{"$f":"LEFT(B2502,6)","v":"200910"}]
[null,{"$f":"'Market Data'!B2495","v":20091015},{"$f":"'Market Data'!C2495","v":6138.5},{"$f":"'Market Data'!D2495","v":6149.5},{"$f":"'Market Data'!E2495","v":6085.5},{"$f":"'Market Data'!F2495","v":6118},null,2491,{"$f":"IF($H2509<($J$6+1),\"\",PFE(OFFSET($F2509,0,0,-$J$6)))","v":0.23690298313995398},null,"Long",{"$error":"#N/A"},{"$error":"#N/A"},null,1,0,"",null,1,null,-280,243036.37999999968,null,null,null,null,null,null,null,null,null,null,null,null,null,null,null,null,null,null,null,{"$f":"IF(NOT($AS2509=$AS2510),ROW(),\"\")","v":""},{"$f":"IF(NOT(AS2509=AS2510),AS2510,\"\")","v":""},{"$f":"INDEX($AB$15:$AM$15,MATCH($AS2509,$AB$11:$AM$11,0))","v":"in"},{"$f":"LEFT(AT2509,4)","v":"2009"},{"$f":"LEFT(B2509,6)","v":"200910"}]
[null,{"$f":"'Market Data'!B2503","v":20091027},{"$f":"'Market Data'!C2503","v":5932.5},{"$f":"'Market Data'!D2503","v":5953.5},{"$f":"'Market Data'!E2503","v":5877},{"$f":"'Market Data'!F2503","v":5898.5},null,2499,{"$f":"IF($H2517<($J$6+1),\"\",PFE(OFFSET($F2517,0,0,-$J$6)))","v":0.19058178327319344},null,"Long",{"$error":"#N/A"},{"$error":"#N/A"},null,1,0,"",null,1,null,-997.5,235353.87999999968,null,null,null,null,null,null,null,null,null,null,null,null,null,null,null,null,null,null,null,{"$f":"IF(NOT($AS2517=$AS2518),ROW(),\"\")","v":""},{"$f":"IF(NOT(AS2517=AS2518),AS2518,\"\")","v":""},{"$f":"INDEX($AB$15:$AM$15,MATCH($AS2517,$AB$11:$AM$11,0))","v":"in"},{"$f":"LEFT(AT2517,4)","v":"2009"},{"$f":"LEFT(B2517,6)","v":"200910"}]
[null,{"$f":"'Market Data'!B2507","v":20091102},{"$f":"'Market Data'!C2507","v":5689.5},{"$f":"'Market Data'!D2507","v":5752.5},{"$f":"'Market Data'!E2507","v":5616.5},{"$f":"'Market Data'!F2507","v":5616.5},null,2503,{"$f":"IF($H2521<($J$6+1),\"\",PFE(OFFSET($F2521,0,0,-$J$6)))","v":0.15477995561726784},null,"Long",{"$error":"#N/A"},{"$error":"#N/A"},null,1,0,"",null,1,null,-2065,225483.87999999968,null,null,null,null,null,null,null,null,null,null,null,null,null,null,null,null,null,null,null,{"$f":"IF(NOT($AS2521=$AS2522),ROW(),\"\")","v":""},{"$f":"IF(NOT(AS2521=AS2522),AS2522,\"\")","v":""},{"$f":"INDEX($AB$15:$AM$15,MATCH($AS2521,$AB$11:$AM$11,0))","v":"in"},{"$f":"LEFT(AT2521,4)","v":"2009"},{"$f":"LEFT(B2521,6)","v":"200911"}]
[null,{"$f":"'Market Data'!B2514","v":20091111},{"$f":"'Market Data'!C2514","v":5933.5},{"$f":"'Market Data'!D2514","v":5985},{"$f":"'Market Data'!E2514","v":5922.5},{"$f":"'Market Data'!F2514","v":5950},null,2510,{"$f":"IF($H2528<($J$6+1),\"\",PFE(OFFSET($F2528,0,0,-$J$6)))","v":0.13943380134675873},null,"Long",{"$error":"#N/A"},{"$error":"#N/A"},null,1,0,"",null,1,null,2257.5,237156.37999999968,null,null,null,null,null,null,null,null,null,null,null,null,null,null,null,null,null,null,null,{"$f":"IF(NOT($AS2528=$AS2529),ROW(),\"\")","v":""},{"$f":"IF(NOT(AS2528=AS2529),AS2529,\"\")","v":""},{"$f":"INDEX($AB$15:$AM$15,MATCH($AS2528,$AB$11:$AM$11,0))","v":"in"},{"$f":"LEFT(AT2528,4)","v":"2009"},{"$f":"LEFT(B2528,6)","v":"200911"}]
[null,{"$f":"'Market Data'!B2519","v":20091118},{"$f":"'Market Data'!C2519","v":6086},{"$f":"'Market Data'!D2519","v":6124},{"$f":"'Market Data'!E2519","v":6048.5},{"$f":"'Market Data'!F2519","v":6066},null,2515,{"$f":"IF($H2533<($J$6+1),\"\",PFE(OFFSET($F2533,0,0,-$J$6)))","v":0.11768932633928481},null,"Long",{"$error":"#N/A"},{"$error":"#N/A"},null,1,0,"",null,1,null,-245,241216.37999999968,null,null,null,null,null,null,null,null,null,null,null,null,null,null,null,null,null,null,null,{"$f":"IF(NOT($AS2533=$AS2534),ROW(),\"\")","v":""},{"$f":"IF(NOT(AS2533=AS2534),AS2534,\"\")","v":""},{"$f":"INDEX($AB$15:$AM$15,MATCH($AS2533,$AB$11:$AM$11,0))","v":"in"},{"$f":"LEFT(AT2533,4)","v":"2009"},{"$f":"LEFT(B2533,6)","v":"200911"}]
[null,{"$f":"'Market Data'!B2524","v":20091125},{"$f":"'Market Data'!C2524","v":6106.5},{"$f":"'Market Data'!D2524","v":6112.5},{"$f":"'Market Data'!E2524","v":6031},{"$f":"'Market Data'!F2524","v":6072.5},null,2520,{"$f":"IF($H2538<($J$6+1),\"\",PFE(OFFSET($F2538,0,0,-$J$6)))","v":9.8931703719119857E-2},null,"Long",{"$error":"#N/A"},{"$error":"#N/A"},null,1,0,"",null,1,null,822.5,241443.87999999968,null,null,null,null,null,null,null,null,null,null,null,null,null,null,null,null,null,null,null,{"$f":"IF(NOT($AS2538=$AS2539),ROW(),\"\")","v":""},{"$f":"IF(NOT(AS2538=AS2539),AS2539,\"\")","v":""},{"$f":"INDEX($AB$15:$AM$15,MATCH($AS2538,$AB$11:$AM$11,0))","v":"in"},{"$f":"LEFT(AT2538,4)","v":"2009"},{"$f":"LEFT(B2538,6)","v":"200911"}]
[null,{"$f":"'Market Data'!B2529","v":20091202},{"$f":"'Market Data'!C2529","v":6051.5},{"$f":"'Market Data'!D2529","v":6092.5},{"$f":"'Market Data'!E2529","v":6030},{"$f":"'Market Data'!F2529","v":6053},null,2525,{"$f":"IF($H2543<($J$6+1),\"\",PFE(OFFSET($F2543,0,0,-$J$6)))","v":6.6062757310637946E-2},null,"Long",{"$error":"#N/A"},{"$error":"#N/A"},null,1,0,"",null,1,null,52.5,240761.37999999968,null,null,null,null,null,null,null,null,null,null,null,null,null,null,null,null,null,null,null,{"$f":"IF(NOT($AS2543=$AS2544),ROW(),\"\")","v":""},{"$f":"IF(NOT(AS2543=AS2544),AS2544,\"\")","v":""},{"$f":"INDEX($AB$15:$AM$15,MATCH($AS2543,$AB$11:$AM$11,0))","v":"in"},{"$f":"LEFT(AT2543,4)","v":"2009"},{"$f":"LEFT(B2543,6)","v":"200912"}]
[null,{"$f":"'Market Data'!B2531","v":20091204},{"$f":"'Market Data'!C2531","v":6020.5},{"$f":"'Market Data'!D2531","v":6138.5},{"$f":"'Market Data'!E2531","v":6001},{"$f":"'Market Data'!F2531","v":6075.5},null,2527,{"$f":"IF($H2545<($J$6+1),\"\",PFE(OFFSET($F2545,0,0,-$J$6)))","v":0.10774434928438875},null,"Long",{"$error":"#N/A"},{"$error":"#N/A"},null,1,0,"",null,1,null,735,241548.87999999968,null,null,null,null,null,null,null,null,null,null,null,null,null,null,null,null,null,null,null,{"$f":"IF(NOT($AS2545=$AS2546),ROW(),\"\")","v":""},{"$f":"IF(NOT(AS2545=AS2546),AS2546,\"\")","v":""},{"$f":"INDEX($AB$15:$AM$15,MATCH($AS2545,$AB$11:$AM$11,0))","v":"in"},{"$f":"LEFT(AT2545,4)","v":"2009"},{"$f":"LEFT(B2545,6)","v":"200912"}]
[null,{"$f":"'Market Data'!B2540","v":20091217},{"$f":"'Market Data'!C2540","v":6138.5},{"$f":"'Market Data'!D2540","v":6168.5},{"$f":"'Market Data'!E2540","v":6099},{"$f":"'Market Data'!F2540","v":6106},null,2536,{"$f":"IF($H2554<($J$6+1),\"\",PFE(OFFSET($F2554,0,0,-$J$6)))","v":7.3056139946669749E-2},null,"Long",{"$error":"#N/A"},{"$error":"#N/A"},null,1,0,"",null,1,null,-2397.5,242616.37999999968,null,null,null,null,null,null,null,null,null,null,null,null,null,null,null,null,null,null,null,{"$f":"IF(NOT($AS2554=$AS2555),ROW(),\"\")","v":""},{"$f":"IF(NOT(AS2554=AS2555),AS2555,\"\")","v":""},{"$f":"INDEX($AB$15:$AM$15,MATCH($AS2554,$AB$11:$AM$11,0))","v":"in"},{"$f":"LEFT(AT2554,4)","v":"2009"},{"$f":"LEFT(B2554,6)","v":"200912"}]
[null,{"$f":"'Market Data'!B2543","v":20091222},{"$f":"'Market Data'!C2543","v":6210},{"$f":"'Market Data'!D2543","v":6258.5},{"$f":"'Market Data'!E2543","v":6203},{"$f":"'Market Data'!F2543","v":6237},null,2539,{"$f":"IF($H2557<($J$6+1),\"\",PFE(OFFSET($F2557,0,0,-$J$6)))","v":9.9444889183129201E-2},null,"Long",{"$error":"#N/A"},{"$error":"#N/A"},null,1,0,"",null,1,null,1067.5,247201.37999999968,null,null,null,null,null,null,null,null,null,null,null,null,null,null,null,null,null,null,null,{"$f":"IF(NOT($AS2557=$AS2558),ROW(),\"\")","v":""},{"$f":"IF(NOT(AS2557=AS2558),AS2558,\"\")","v":""},{"$f":"INDEX($AB$15:$AM$15,MATCH($AS2557,$AB$11:$AM$11,0))","v":"in"},{"$f":"LEFT(AT2557,4)","v":"2009"},{"$f":"LEFT(B2557,6)","v":"200912"}]
[null,{"$f":"'Market Data'!B2548","v":20100104},{"$f":"'Market Data'!C2548","v":6271.5},{"$f":"'Market Data'!D2548","v":6331.5},{"$f":"'Market Data'!E2548","v":6249},{"$f":"'Market Data'!F2548","v":6323.5},null,2544,{"$f":"IF($H2562<($J$6+1),\"\",PFE(OFFSET($F2562,0,0,-$J$6)))","v":0.15856810170291533},null,"Long",{"$error":"#N/A"},{"$error":"#N/A"},null,1,0,"",null,1,null,3342.5,250228.87999999968,null,null,null,null,null,null,null,null,null,null,null,null,null,null,null,null,null,null,null,{"$f":"IF(NOT($AS2562=$AS2563),ROW(),\"\")","v":""},{"$f":"IF(NOT(AS2562=AS2563),AS2563,\"\")","v":""},{"$f":"INDEX($AB$15:$AM$15,MATCH($AS2562,$AB$11:$AM$11,0))","v":"out"},{"$f":"LEFT(AT2562,4)","v":"2010"},{"$f":"LEFT(B2562,6)","v":"201001"}]
[null,{"$f":"'Market Data'!B2557","v":20100115},{"$f":"'Market Data'!C2557","v":6264},{"$f":"'Market Data'!D2557","v":6301.5},{"$f":"'Market Data'!E2557","v":6132.5},{"$f":"'Market Data'!F2557","v":6140.5},null,2553,{"$f":"IF($H2571<($J$6+1),\"\",PFE(OFFSET($F2571,0,0,-$J$6)))","v":3.7379724137265043E-2},null,"Long",{"$error":"#N/A"},{"$error":"#N/A"},null,1,0,"",null,1,null,-4392.5,243823.87999999968,null,null,null,null,null,null,null,null,null,null,null,null,null,null,null,null,null,null,null,{"$f":"IF(NOT($AS2571=$AS2572),ROW(),\"\")","v":""},{"$f":"IF(NOT(AS2571=AS2572),AS2572,\"\")","v":""},{"$f":"INDEX($AB$15:$AM$15,MATCH($AS2571,$AB$11:$AM$11,0))","v":"out"},{"$f":"LEFT(AT2571,4)","v":"2010"},{"$f":"LEFT(B2571,6)","v":"201001"}]
[null,{"$f":"'Market Data'!B2560","v":20100120},{"$f":"'Market Data'!C2560","v":6234.5},{"$f":"'Market Data'!D2560","v":6246},{"$f":"'Market Data'!E2560","v":6103},{"$f":"'Market Data'!F2560","v":6129.5},null,2556,{"$f":"IF($H2574<($J$6+1),\"\",PFE(OFFSET($F2574,0,0,-$J$6)))","v":4.216926427561387E-2},null,"Long",{"$error":"#N/A"},{"$error":"#N/A"},null,1,0,"",null,1,null,-4602.5,243438.87999999968,null,null,null,null,null,null,null,null,null,null,null,null,null,null,null,null,null,null,null,{"$f":"IF(NOT($AS2574=$AS2575),ROW(),\"\")","v":""},{"$f":"IF(NOT(AS2574=AS2575),AS2575,\"\")","v":""},{"$f":"INDEX($AB$15:$AM$15,MATCH($AS2574,$AB$11:$AM$11,0))","v":"out"},{"$f":"LEFT(AT2574,4)","v":"2010"},{"$f":"LEFT(B2574,6)","v":"201001"}]
[null,{"$f":"'Market Data'!B2566","v":20100128},{"$f":"'Market Data'!C2566","v":5976.5},{"$f":"'Market Data'!D2566","v":5997.5},{"$f":"'Market Data'!E2566","v":5804.5},{"$f":"'Market Data'!F2566","v":5837.5},null,{"$f":"ROW()-ROW(H$18)","v":2562},{"$f":"IF($H2580<($J$6+1),\"\",PFE(OFFSET($F2580,0,0,-$J$6)))","v":-3.7148198129343758E-2},null,{"$f":"IF($I2580=\"\",\"\",IF($I2580>$J$4,\"Long\",IF($I2580<$J$5,\"Short\",\"\")))","v":"Short"},{"$error":"#N/A"},{"$error":"#N/A"},null,{"$f":"IF($K2580=\"Short\",-1,IF($K2580=\"Long\",1,0))","v":-1},0,"",null,-1,null,7168.08,254233.11999999965,null,null,null,null,null,null,null,null,null,null,null,null,null,null,null,null,null,null,null,{"$f":"IF(NOT($AS2580=$AS2581),ROW(),\"\")","v":""},{"$f":"IF(NOT(AS2580=AS2581),AS2581,\"\")","v":""},{"$f":"INDEX($AB$15:$AM$15,MATCH($AS2580,$AB$11:$AM$11,0))","v":"out"},{"$f":"LEFT(AT2580,4)","v":"2010"},{"$f":"LEFT(B2580,6)","v":"201001"}]
[null,{"$f":"'Market Data'!B2572","v":20100205},{"$f":"'Market Data'!C2572","v":5804.5},{"$f":"'Market Data'!D2572","v":5805.5},{"$f":"'Market Data'!E2572","v":5688.5},{"$f":"'Market Data'!F2572","v":5706},null,2568,{"$f":"IF($H2586<($J$6+1),\"\",PFE(OFFSET($F2586,0,0,-$J$6)))","v":-4.8518296424483104E-2},null,"Short",{"$error":"#N/A"},{"$error":"#N/A"},null,-1,0,"",null,-1,null,3178.08,251051.77999999962,null,null,null,null,null,null,null,null,null,null,null,null,null,null,null,null,null,null,null,{"$f":"IF(NOT($AS2586=$AS2587),ROW(),\"\")","v":""},{"$f":"IF(NOT(AS2586=AS2587),AS2587,\"\")","v":""},{"$f":"INDEX($AB$15:$AM$15,MATCH($AS2586,$AB$11:$AM$11,0))","v":"out"},{"$f":"LEFT(AT2586,4)","v":"2010"},{"$f":"LEFT(B2586,6)","v":"201002"}]
[null,{"$f":"'Market Data'!B2577","v":20100212},{"$f":"'Market Data'!C2577","v":5837.5},{"$f":"'Market Data'!D2577","v":5838.5},{"$f":"'Market Data'!E2577","v":5729},{"$f":"'Market Data'!F2577","v":5784},null,2573,{"$f":"IF($H2591<($J$6+1),\"\",PFE(OFFSET($F2591,0,0,-$J$6)))","v":-7.6159873244009815E-2},null,"Short",{"$error":"#N/A"},{"$error":"#N/A"},null,-1,0,"",null,-1,null,752.5,248321.77999999962,null,null,null,null,null,null,null,null,null,null,null,null,null,null,null,null,null,null,null,{"$f":"IF(NOT($AS2591=$AS2592),ROW(),\"\")","v":""},{"$f":"IF(NOT(AS2591=AS2592),AS2592,\"\")","v":""},{"$f":"INDEX($AB$15:$AM$15,MATCH($AS2591,$AB$11:$AM$11,0))","v":"out"},{"$f":"LEFT(AT2591,4)","v":"2010"},{"$f":"LEFT(B2591,6)","v":"201002"}]
[null,{"$f":"'Market Data'!B2583","v":20100222},{"$f":"'Market Data'!C2583","v":5993.5},{"$f":"'Market Data'!D2583","v":6026},{"$f":"'Market Data'!E2583","v":5951.5},{"$f":"'Market Data'!F2583","v":5963.5},null,2579,{"$f":"IF($H2597<($J$6+1),\"\",PFE(OFFSET($F2597,0,0,-$J$6)))","v":-2.6863916238128019E-2},null,"Short",{"$error":"#N/A"},{"$error":"#N/A"},null,-1,0,"",null,-1,null,840,242039.27999999962,null,null,null,null,null,null,null,null,null,null,null,null,null,null,null,null,null,null,null,{"$f":"IF(NOT($AS2597=$AS2598),ROW(),\"\")","v":""},{"$f":"IF(NOT(AS2597=AS2598),AS2598,\"\")","v":""},{"$f":"INDEX($AB$15:$AM$15,MATCH($AS2597,$AB$11:$AM$11,0))","v":"out"},{"$f":"LEFT(AT2597,4)","v":"2010"},{"$f":"LEFT(B2597,6)","v":"201002"}]
[null,{"$f":"'Market Data'!B2589","v":20100302},{"$f":"'Market Data'!C2589","v":5993.5},{"$f":"'Market Data'!D2589","v":6052},{"$f":"'Market Data'!E2589","v":5979.5},{"$f":"'Market Data'!F2589","v":6041.5},null,2585,{"$f":"IF($H2603<($J$6+1),\"\",PFE(OFFSET($F2603,0,0,-$J$6)))","v":8.665240211453748E-2},null,"Long",{"$error":"#N/A"},{"$error":"#N/A"},null,1,0,"",null,1,null,2152.5,248297.35999999961,null,null,null,null,null,null,null,null,null,null,null,null,null,null,null,null,null,null,null,{"$f":"IF(NOT($AS2603=$AS2604),ROW(),\"\")","v":""},{"$f":"IF(NOT(AS2603=AS2604),AS2604,\"\")","v":""},{"$f":"INDEX($AB$15:$AM$15,MATCH($AS2603,$AB$11:$AM$11,0))","v":"out"},{"$f":"LEFT(AT2603,4)","v":"2010"},{"$f":"LEFT(B2603,6)","v":"201003"}]
[null,{"$f":"'Market Data'!B2592","v":20100305},{"$f":"'Market Data'!C2592","v":6083.5},{"$f":"'Market Data'!D2592","v":6150.5},{"$f":"'Market Data'!E2592","v":6077},{"$f":"'Market Data'!F2592","v":6143.5},null,2588,{"$f":"IF($H2606<($J$6+1),\"\",PFE(OFFSET($F2606,0,0,-$J$6)))","v":0.10234873447559428},null,"Long",{"$error":"#N/A"},{"$error":"#N/A"},null,1,0,"",null,1,null,2800,251867.35999999961,null,null,null,null,null,null,null,null,null,null,null,null,null,null,null,null,null,null,null,{"$f":"IF(NOT($AS2606=$AS2607),ROW(),\"\")","v":""},{"$f":"IF(NOT(AS2606=AS2607),AS2607,\"\")","v":""},{"$f":"INDEX($AB$15:$AM$15,MATCH($AS2606,$AB$11:$AM$11,0))","v":"out"},{"$f":"LEFT(AT2606,4)","v":"2010"},{"$f":"LEFT(B2606,6)","v":"201003"}]
[null,{"$f":"'Market Data'!B2600","v":20100317},{"$f":"'Market Data'!C2600","v":6267},{"$f":"'Market Data'!D2600","v":6305.5},{"$f":"'Market Data'!E2600","v":6259},{"$f":"'Market Data'!F2600","v":6300.5},null,2596,{"$f":"IF($H2614<($J$6+1),\"\",PFE(OFFSET($F2614,0,0,-$J$6)))","v":5.8246973685753989E-2},null,"Long",{"$error":"#N/A"},{"$error":"#N/A"},null,1,0,"",null,1,null,2502.5,257362.35999999961,null,null,null,null,null,null,null,null,null,null,null,null,null,null,null,null,null,null,null,{"$f":"IF(NOT($AS2614=$AS2615),ROW(),\"\")","v":""},{"$f":"IF(NOT(AS2614=AS2615),AS2615,\"\")","v":""},{"$f":"INDEX($AB$15:$AM$15,MATCH($AS2614,$AB$11:$AM$11,0))","v":"out"},{"$f":"LEFT(AT2614,4)","v":"2010"},{"$f":"LEFT(B2614,6)","v":"201003"}]
[null,{"$f":"'Market Data'!B2601","v":20100318},{"$f":"'Market Data'!C2601","v":6278.5},{"$f":"'Market Data'!D2601","v":6309},{"$f":"'Market Data'!E2601","v":6264},{"$f":"'Market Data'!F2601","v":6292},null,2597,{"$f":"IF($H2615<($J$6+1),\"\",PFE(OFFSET($F2615,0,0,-$J$6)))","v":5.7515004722879438E-2},null,"Long",{"$error":"#N/A"},{"$error":"#N/A"},null,1,0,"",null,1,null,-297.5,257064.85999999961,null,null,null,null,null,null,null,null,null,null,null,null,null,null,null,null,null,null,null,{"$f":"IF(NOT($AS2615=$AS2616),ROW(),\"\")","v":""},{"$f":"IF(NOT(AS2615=AS2616),AS2616,\"\")","v":""},{"$f":"INDEX($AB$15:$AM$15,MATCH($AS2615,$AB$11:$AM$11,0))","v":"out"},{"$f":"LEFT(AT2615,4)","v":"2010"},{"$f":"LEFT(B2615,6)","v":"201003"}]
[null,{"$f":"'Market Data'!B2609","v":20100330},{"$f":"'Market Data'!C2609","v":6426},{"$f":"'Market Data'!D2609","v":6474.5},{"$f":"'Market Data'!E2609","v":6402.5},{"$f":"'Market Data'!F2609","v":6422},null,2605,{"$f":"IF($H2623<($J$6+1),\"\",PFE(OFFSET($F2623,0,0,-$J$6)))","v":0.12635758420861815},null,"Long",{"$error":"#N/A"},{"$error":"#N/A"},null,1,0,"",null,1,null,192.5,261614.85999999961,null,null,null,null,null,null,null,null,null,null,null,null,null,null,null,null,null,null,null,{"$f":"IF(NOT($AS2623=$AS2624),ROW(),\"\")","v":""},{"$f":"IF(NOT(AS2623=AS2624),AS2624,\"\")","v":""},{"$f":"INDEX($AB$15:$AM$15,MATCH($AS2623,$AB$11:$AM$11,0))","v":"out"},{"$f":"LEFT(AT2623,4)","v":"2010"},{"$f":"LEFT(B2623,6)","v":"201003"}]
[null,{"$f":"'Market Data'!B2613","v":20100407},{"$f":"'Market Data'!C2613","v":6524.5},{"$f":"'Market Data'!D2613","v":6525},{"$f":"'Market Data'!E2613","v":6475},{"$f":"'Market Data'!F2613","v":6489.5},null,2609,{"$f":"IF($H2627<($J$6+1),\"\",PFE(OFFSET($F2627,0,0,-$J$6)))","v":0.11921596208685174},null,"Long",{"$error":"#N/A"},{"$error":"#N/A"},null,1,0,"",null,1,null,-980,263977.35999999964,null,null,null,null,null,null,null,null,null,null,null,null,null,null,null,null,null,null,null,{"$f":"IF(NOT($AS2627=$AS2628),ROW(),\"\")","v":""},{"$f":"IF(NOT(AS2627=AS2628),AS2628,\"\")","v":""},{"$f":"INDEX($AB$15:$AM$15,MATCH($AS2627,$AB$11:$AM$11,0))","v":"out"},{"$f":"LEFT(AT2627,4)","v":"2010"},{"$f":"LEFT(B2627,6)","v":"201004"}]
[null,{"$f":"'Market Data'!B2618","v":20100414},{"$f":"'Market Data'!C2618","v":6532.5},{"$f":"'Market Data'!D2618","v":6573.5},{"$f":"'Market Data'!E2618","v":6517},{"$f":"'Market Data'!F2618","v":6546},null,2614,{"$f":"IF($H2632<($J$6+1),\"\",PFE(OFFSET($F2632,0,0,-$J$6)))","v":0.15705369745608996},null,"Long",{"$error":"#N/A"},{"$error":"#N/A"},null,1,0,"",null,1,null,1505,265954.85999999964,null,null,null,null,null,null,null,null,null,null,null,null,null,null,null,null,null,null,null,{"$f":"IF(NOT($AS2632=$AS2633),ROW(),\"\")","v":""},{"$f":"IF(NOT(AS2632=AS2633),AS2633,\"\")","v":""},{"$f":"INDEX($AB$15:$AM$15,MATCH($AS2632,$AB$11:$AM$11,0))","v":"out"},{"$f":"LEFT(AT2632,4)","v":"2010"},{"$f":"LEFT(B2632,6)","v":"201004"}]
[null,{"$f":"'Market Data'!B2624","v":20100422},{"$f":"'Market Data'!C2624","v":6494.5},{"$f":"'Market Data'!D2624","v":6553.5},{"$f":"'Market Data'!E2624","v":6406},{"$f":"'Market Data'!F2624","v":6446},null,2620,{"$f":"IF($H2638<($J$6+1),\"\",PFE(OFFSET($F2638,0,0,-$J$6)))","v":9.2862859586934382E-2},null,"Long",{"$error":"#N/A"},{"$error":"#N/A"},null,1,0,"",null,1,null,-2310,262454.85999999964,null,null,null,null,null,null,null,null,null,null,null,null,null,null,null,null,null,null,null,{"$f":"IF(NOT($AS2638=$AS2639),ROW(),\"\")","v":""},{"$f":"IF(NOT(AS2638=AS2639),AS2639,\"\")","v":""},{"$f":"INDEX($AB$15:$AM$15,MATCH($AS2638,$AB$11:$AM$11,0))","v":"out"},{"$f":"LEFT(AT2638,4)","v":"2010"},{"$f":"LEFT(B2638,6)","v":"201004"}]
[null,{"$f":"'Market Data'!B2630","v":20100430},{"$f":"'Market Data'!C2630","v":6405.5},{"$f":"'Market Data'!D2630","v":6478.5},{"$f":"'Market Data'!E2630","v":6349.5},{"$f":"'Market Data'!F2630","v":6369.5},null,{"$f":"ROW()-ROW(H$18)","v":2626},{"$f":"IF($H2644<($J$6+1),\"\",PFE(OFFSET($F2644,0,0,-$J$6)))","v":4.1360175788590733E-2},null,{"$f":"IF($I2644=\"\",\"\",IF($I2644>$J$4,\"Long\",IF($I2644<$J$5,\"Short\",\"\")))","v":"Long"},{"$error":"#N/A"},{"$error":"#N/A"},null,{"$f":"IF($K2644=\"Short\",-1,IF($K2644=\"Long\",1,0))","v":1},0,"",null,1,null,-1802.5,259777.35999999964,null,null,null,null,null,null,null,null,null,null,null,null,null,null,null,null,null,null,null,{"$f":"IF(NOT($AS2644=$AS2645),ROW(),\"\")","v":""},{"$f":"IF(NOT(AS2644=AS2645),AS2645,\"\")","v":""},{"$f":"INDEX($AB$15:$AM$15,MATCH($AS2644,$AB$11:$AM$11,0))","v":"out"},{"$f":"LEFT(AT2644,4)","v":"2010"},{"$f":"LEFT(B2644,6)","v":"201004"}]
[null,{"$f":"'Market Data'!B2635","v":20100507},{"$f":"'Market Data'!C2635","v":6009.5},{"$f":"'Market Data'!D2635","v":6169},{"$f":"'Market Data'!E2635","v":5919.5},{"$f":"'Market Data'!F2635","v":5988},null,2631,{"$f":"IF($H2649<($J$6+1),\"\",PFE(OFFSET($F2649,0,0,-$J$6)))","v":-7.4726819588003368E-2},null,"Short",{"$error":"#N/A"},{"$error":"#N/A"},null,-1,0,"",null,-1,null,7210,266962.93999999959,null,null,null,null,null,null,null,null,null,null,null,null,null,null,null,null,null,null,null,{"$f":"IF(NOT($AS2649=$AS2650),ROW(),\"\")","v":""},{"$f":"IF(NOT(AS2649=AS2650),AS2650,\"\")","v":""},{"$f":"INDEX($AB$15:$AM$15,MATCH($AS2649,$AB$11:$AM$11,0))","v":"out"},{"$f":"LEFT(AT2649,4)","v":"2010"},{"$f":"LEFT(B2649,6)","v":"201005"}]
[null,{"$f":"'Market Data'!B2642","v":20100518},{"$f":"'Market Data'!C2642","v":6375.5},{"$f":"'Market Data'!D2642","v":6447.5},{"$f":"'Market Data'!E2642","v":6373.5},{"$f":"'Market Data'!F2642","v":6423.5},null,2638,{"$f":"IF($H2656<($J$6+1),\"\",PFE(OFFSET($F2656,0,0,-$J$6)))","v":3.7673695282059737E-2},null,"Long",{"$error":"#N/A"},{"$error":"#N/A"},null,1,0,"",null,1,null,4427.5,261198.51999999961,null,null,null,null,null,null,null,null,null,null,null,null,null,null,null,null,null,null,null,{"$f":"IF(NOT($AS2656=$AS2657),ROW(),\"\")","v":""},{"$f":"IF(NOT(AS2656=AS2657),AS2657,\"\")","v":""},{"$f":"INDEX($AB$15:$AM$15,MATCH($AS2656,$AB$11:$AM$11,0))","v":"out"},{"$f":"LEFT(AT2656,4)","v":"2010"},{"$f":"LEFT(B2656,6)","v":"201005"}]
[null,{"$f":"'Market Data'!B2644","v":20100520},{"$f":"'Market Data'!C2644","v":6259.5},{"$f":"'Market Data'!D2644","v":6308},{"$f":"'Market Data'!E2644","v":6042.5},{"$f":"'Market Data'!F2644","v":6069.5},null,2640,{"$f":"IF($H2658<($J$6+1),\"\",PFE(OFFSET($F2658,0,0,-$J$6)))","v":2.3917836091693911E-2},null,"Long",{"$error":"#N/A"},{"$error":"#N/A"},null,1,0,"",null,1,null,-7245,248808.51999999961,null,null,null,null,null,null,null,null,null,null,null,null,null,null,null,null,null,null,null,{"$f":"IF(NOT($AS2658=$AS2659),ROW(),\"\")","v":""},{"$f":"IF(NOT(AS2658=AS2659),AS2659,\"\")","v":""},{"$f":"INDEX($AB$15:$AM$15,MATCH($AS2658,$AB$11:$AM$11,0))","v":"out"},{"$f":"LEFT(AT2658,4)","v":"2010"},{"$f":"LEFT(B2658,6)","v":"201005"}]
[null,{"$f":"'Market Data'!B2653","v":20100602},{"$f":"'Market Data'!C2653","v":6181.5},{"$f":"'Market Data'!D2653","v":6259.5},{"$f":"'Market Data'!E2653","v":6128.5},{"$f":"'Market Data'!F2653","v":6250},null,2649,{"$f":"IF($H2667<($J$6+1),\"\",PFE(OFFSET($F2667,0,0,-$J$6)))","v":6.2886055044187913E-2},null,"Long",{"$error":"#N/A"},{"$error":"#N/A"},null,1,0,"",null,1,null,1050,252627.17999999959,null,null,null,null,null,null,null,null,null,null,null,null,null,null,null,null,null,null,null,{"$f":"IF(NOT($AS2667=$AS2668),ROW(),\"\")","v":""},{"$f":"IF(NOT(AS2667=AS2668),AS2668,\"\")","v":""},{"$f":"INDEX($AB$15:$AM$15,MATCH($AS2667,$AB$11:$AM$11,0))","v":"out"},{"$f":"LEFT(AT2667,4)","v":"2010"},{"$f":"LEFT(B2667,6)","v":"201006"}]
[null,{"$f":"'Market Data'!B2659","v":20100610},{"$f":"'Market Data'!C2659","v":6211.5},{"$f":"'Market Data'!D2659","v":6350.5},{"$f":"'Market Data'!E2659","v":6184.5},{"$f":"'Market Data'!F2659","v":6291.5},null,2655,{"$f":"IF($H2673<($J$6+1),\"\",PFE(OFFSET($F2673,0,0,-$J$6)))","v":9.8920509086056679E-2},null,"Long",{"$error":"#N/A"},{"$error":"#N/A"},null,1,0,"",null,1,null,2187.5,254079.67999999959,null,null,null,null,null,null,null,null,null,null,null,null,null,null,null,null,null,null,null,{"$f":"IF(NOT($AS2673=$AS2674),ROW(),\"\")","v":""},{"$f":"IF(NOT(AS2673=AS2674),AS2674,\"\")","v":""},{"$f":"INDEX($AB$15:$AM$15,MATCH($AS2673,$AB$11:$AM$11,0))","v":"out"},{"$f":"LEFT(AT2673,4)","v":"2010"},{"$f":"LEFT(B2673,6)","v":"201006"}]
[null,{"$f":"'Market Data'!B2665","v":20100618},{"$f":"'Market Data'!C2665","v":6495.5},{"$f":"'Market Data'!D2665","v":6519},{"$f":"'Market Data'!E2665","v":6449},{"$f":"'Market Data'!F2665","v":6469.5},null,2661,{"$f":"IF($H2679<($J$6+1),\"\",PFE(OFFSET($F2679,0,0,-$J$6)))","v":9.8505955574998388E-2},null,"Long",{"$error":"#N/A"},{"$error":"#N/A"},null,1,0,"",null,1,null,-490,260309.67999999959,null,null,null,null,null,null,null,null,null,null,null,null,null,null,null,null,null,null,null,{"$f":"IF(NOT($AS2679=$AS2680),ROW(),\"\")","v":""},{"$f":"IF(NOT(AS2679=AS2680),AS2680,\"\")","v":""},{"$f":"INDEX($AB$15:$AM$15,MATCH($AS2679,$AB$11:$AM$11,0))","v":"out"},{"$f":"LEFT(AT2679,4)","v":"2010"},{"$f":"LEFT(B2679,6)","v":"201006"}]
[null,{"$f":"'Market Data'!B2670","v":20100625},{"$f":"'Market Data'!C2670","v":6397.5},{"$f":"'Market Data'!D2670","v":6413},{"$f":"'Market Data'!E2670","v":6301.5},{"$f":"'Market Data'!F2670","v":6336.5},null,2666,{"$f":"IF($H2684<($J$6+1),\"\",PFE(OFFSET($F2684,0,0,-$J$6)))","v":9.6321932950687736E-2},null,"Long",{"$error":"#N/A"},{"$error":"#N/A"},null,1,0,"",null,1,null,-2047.5,255654.67999999959,null,null,null,null,null,null,null,null,null,null,null,null,null,null,null,null,null,null,null,{"$f":"IF(NOT($AS2684=$AS2685),ROW(),\"\")","v":""},{"$f":"IF(NOT(AS2684=AS2685),AS2685,\"\")","v":""},{"$f":"INDEX($AB$15:$AM$15,MATCH($AS2684,$AB$11:$AM$11,0))","v":"out"},{"$f":"LEFT(AT2684,4)","v":"2010"},{"$f":"LEFT(B2684,6)","v":"201006"}]
[null,{"$f":"'Market Data'!B2676","v":20100705},{"$f":"'Market Data'!C2676","v":6089.5},{"$f":"'Market Data'!D2676","v":6127.5},{"$f":"'Market Data'!E2676","v":6069},{"$f":"'Market Data'!F2676","v":6077},null,2672,{"$f":"IF($H2690<($J$6+1),\"\",PFE(OFFSET($F2690,0,0,-$J$6)))","v":-2.1909874724509788E-2},null,"Short",{"$error":"#N/A"},{"$error":"#N/A"},null,-1,0,"",null,-1,null,675.58,247265.25999999957,null,null,null,null,null,null,null,null,null,null,null,null,null,null,null,null,null,null,null,{"$f":"IF(NOT($AS2690=$AS2691),ROW(),\"\")","v":""},{"$f":"IF(NOT(AS2690=AS2691),AS2691,\"\")","v":""},{"$f":"INDEX($AB$15:$AM$15,MATCH($AS2690,$AB$11:$AM$11,0))","v":"out"},{"$f":"LEFT(AT2690,4)","v":"2010"},{"$f":"LEFT(B2690,6)","v":"201007"}]
[null,{"$f":"'Market Data'!B2677","v":20100706},{"$f":"'Market Data'!C2677","v":6104},{"$f":"'Market Data'!D2677","v":6258},{"$f":"'Market Data'!E2677","v":6102},{"$f":"'Market Data'!F2677","v":6174.5},null,2673,{"$f":"IF($H2691<($J$6+1),\"\",PFE(OFFSET($F2691,0,0,-$J$6)))","v":-1.6028201364824812E-2},null,"Short",{"$error":"#N/A"},{"$error":"#N/A"},null,-1,0,"",null,-1,null,-3412.5,243852.75999999957,null,null,null,null,null,null,null,null,null,null,null,null,null,null,null,null,null,null,null,{"$f":"IF(NOT($AS2691=$AS2692),ROW(),\"\")","v":""},{"$f":"IF(NOT(AS2691=AS2692),AS2692,\"\")","v":""},{"$f":"INDEX($AB$15:$AM$15,MATCH($AS2691,$AB$11:$AM$11,0))","v":"out"},{"$f":"LEFT(AT2691,4)","v":"2010"},{"$f":"LEFT(B2691,6)","v":"201007"}]
[null,{"$f":"'Market Data'!B2685","v":20100716},{"$f":"'Market Data'!C2685","v":6411},{"$f":"'Market Data'!D2685","v":6467.5},{"$f":"'Market Data'!E2685","v":6275.5},{"$f":"'Market Data'!F2685","v":6295.5},null,2681,{"$f":"IF($H2699<($J$6+1),\"\",PFE(OFFSET($F2699,0,0,-$J$6)))","v":1.7321030805492622E-2},null,"Long",{"$error":"#N/A"},{"$error":"#N/A"},null,1,0,"",null,1,null,-4025,239015.83999999956,null,null,null,null,null,null,null,null,null,null,null,null,null,null,null,null,null,null,null,{"$f":"IF(NOT($AS2699=$AS2700),ROW(),\"\")","v":""},{"$f":"IF(NOT(AS2699=AS2700),AS2700,\"\")","v":""},{"$f":"INDEX($AB$15:$AM$15,MATCH($AS2699,$AB$11:$AM$11,0))","v":"out"},{"$f":"LEFT(AT2699,4)","v":"2010"},{"$f":"LEFT(B2699,6)","v":"201007"}]
[null,{"$f":"'Market Data'!B2689","v":20100722},{"$f":"'Market Data'!C2689","v":6225.5},{"$f":"'Market Data'!D2689","v":6410},{"$f":"'Market Data'!E2689","v":6210},{"$f":"'Market Data'!F2689","v":6392.5},null,2685,{"$f":"IF($H2703<($J$6+1),\"\",PFE(OFFSET($F2703,0,0,-$J$6)))","v":1.5033200630588198E-2},null,"Long",6392.5,{"$error":"#N/A"},null,1,2,"Fill",null,-1,null,-4480,233303.91999999955,null,null,null,null,null,null,null,null,null,null,null,null,null,null,null,null,null,null,null,{"$f":"IF(NOT($AS2703=$AS2704),ROW(),\"\")","v":""},{"$f":"IF(NOT(AS2703=AS2704),AS2704,\"\")","v":""},{"$f":"INDEX($AB$15:$AM$15,MATCH($AS2703,$AB$11:$AM$11,0))","v":"out"},{"$f":"LEFT(AT2703,4)","v":"2010"},{"$f":"LEFT(B2703,6)","v":"201007"}]
[null,{"$f":"'Market Data'!B2694","v":20100729},{"$f":"'Market Data'!C2694","v":6445.5},{"$f":"'Market Data'!D2694","v":6505},{"$f":"'Market Data'!E2694","v":6347.5},{"$f":"'Market Data'!F2694","v":6376.5},null,{"$f":"ROW()-ROW(H$18)","v":2690},{"$f":"IF($H2708<($J$6+1),\"\",PFE(OFFSET($F2708,0,0,-$J$6)))","v":-2.6724765888556903E-2},null,{"$f":"IF($I2708=\"\",\"\",IF($I2708>$J$4,\"Long\",IF($I2708<$J$5,\"Short\",\"\")))","v":"Short"},{"$error":"#N/A"},6376.5,null,{"$f":"IF($K2708=\"Short\",-1,IF($K2708=\"Long\",1,0))","v":-1},-2,"Fill",null,1,null,-2695,232351.99999999953,null,null,null,null,null,null,null,null,null,null,null,null,null,null,null,null,null,null,null,{"$f":"IF(NOT($AS2708=$AS2709),ROW(),\"\")","v":""},{"$f":"IF(NOT(AS2708=AS2709),AS2709,\"\")","v":""},{"$f":"INDEX($AB$15:$AM$15,MATCH($AS2708,$AB$11:$AM$11,0))","v":"out"},{"$f":"LEFT(AT2708,4)","v":"2010"},{"$f":"LEFT(B2708,6)","v":"201007"}]
[null,{"$f":"'Market Data'!B2702","v":20100810},{"$f":"'Market Data'!C2702","v":6595.5},{"$f":"'Market Data'!D2702","v":6597.5},{"$f":"'Market Data'!E2702","v":6506},{"$f":"'Market Data'!F2702","v":6547.5},null,2698,{"$f":"IF($H2716<($J$6+1),\"\",PFE(OFFSET($F2716,0,0,-$J$6)))","v":-1.4482904328120249E-2},null,"Short",{"$error":"#N/A"},6547.5,null,-1,-2,"Fill",null,1,null,-2117.5,225723.15999999951,null,null,null,null,null,null,null,null,null,null,null,null,null,null,null,null,null,null,null,{"$f":"IF(NOT($AS2716=$AS2717),ROW(),\"\")","v":""},{"$f":"IF(NOT(AS2716=AS2717),AS2717,\"\")","v":""},{"$f":"INDEX($AB$15:$AM$15,MATCH($AS2716,$AB$11:$AM$11,0))","v":"out"},{"$f":"LEFT(AT2716,4)","v":"2010"},{"$f":"LEFT(B2716,6)","v":"201008"}]
[null,{"$f":"'Market Data'!B2706","v":20100816},{"$f":"'Market Data'!C2706","v":6382.5},{"$f":"'Market Data'!D2706","v":6414.5},{"$f":"'Market Data'!E2706","v":6319},{"$f":"'Market Data'!F2706","v":6376},null,2702,{"$f":"IF($H2720<($J$6+1),\"\",PFE(OFFSET($F2720,0,0,-$J$6)))","v":-2.7909547482533496E-2},null,"Short",{"$error":"#N/A"},{"$error":"#N/A"},null,-1,0,"",null,-1,null,87.5,230493.7399999995,null,null,null,null,null,null,null,null,null,null,null,null,null,null,null,null,null,null,null,{"$f":"IF(NOT($AS2720=$AS2721),ROW(),\"\")","v":""},{"$f":"IF(NOT(AS2720=AS2721),AS2721,\"\")","v":""},{"$f":"INDEX($AB$15:$AM$15,MATCH($AS2720,$AB$11:$AM$11,0))","v":"out"},{"$f":"LEFT(AT2720,4)","v":"2010"},{"$f":"LEFT(B2720,6)","v":"201008"}]
[null,{"$f":"'Market Data'!B2713","v":20100825},{"$f":"'Market Data'!C2713","v":6164.5},{"$f":"'Market Data'!D2713","v":6213},{"$f":"'Market Data'!E2713","v":6092},{"$f":"'Market Data'!F2713","v":6145.5},null,2709,{"$f":"IF($H2727<($J$6+1),\"\",PFE(OFFSET($F2727,0,0,-$J$6)))","v":-4.3072115311796964E-2},null,"Short",{"$error":"#N/A"},{"$error":"#N/A"},null,-1,0,"",null,-1,null,1435,239947.39999999947,null,null,null,null,null,null,null,null,null,null,null,null,null,null,null,null,null,null,null,{"$f":"IF(NOT($AS2727=$AS2728),ROW(),\"\")","v":""},{"$f":"IF(NOT(AS2727=AS2728),AS2728,\"\")","v":""},{"$f":"INDEX($AB$15:$AM$15,MATCH($AS2727,$AB$11:$AM$11,0))","v":"out"},{"$f":"LEFT(AT2727,4)","v":"2010"},{"$f":"LEFT(B2727,6)","v":"201008"}]
[null,{"$f":"'Market Data'!B2718","v":20100901},{"$f":"'Market Data'!C2718","v":6187.5},{"$f":"'Market Data'!D2718","v":6344},{"$f":"'Market Data'!E2718","v":6131.5},{"$f":"'Market Data'!F2718","v":6324.5},null,2714,{"$f":"IF($H2732<($J$6+1),\"\",PFE(OFFSET($F2732,0,0,-$J$6)))","v":6.6462078913841705E-2},null,"Long",6324.5,{"$error":"#N/A"},null,1,2,"Fill",null,-1,null,-5582.5,233682.39999999947,null,null,null,null,null,null,null,null,null,null,null,null,null,null,null,null,null,null,null,{"$f":"IF(NOT($AS2732=$AS2733),ROW(),\"\")","v":""},{"$f":"IF(NOT(AS2732=AS2733),AS2733,\"\")","v":""},{"$f":"INDEX($AB$15:$AM$15,MATCH($AS2732,$AB$11:$AM$11,0))","v":"out"},{"$f":"LEFT(AT2732,4)","v":"2010"},{"$f":"LEFT(B2732,6)","v":"201009"}]
[null,{"$f":"'Market Data'!B2723","v":20100908},{"$f":"'Market Data'!C2723","v":6359.5},{"$f":"'Market Data'!D2723","v":6437.5},{"$f":"'Market Data'!E2723","v":6318.5},{"$f":"'Market Data'!F2723","v":6426},null,2719,{"$f":"IF($H2737<($J$6+1),\"\",PFE(OFFSET($F2737,0,0,-$J$6)))","v":2.4185612734357192E-2},null,"Long",6426,{"$error":"#N/A"},null,1,2,"Fill",null,-1,null,-2100,236451.05999999944,null,null,null,null,null,null,null,null,null,null,null,null,null,null,null,null,null,null,null,{"$f":"IF(NOT($AS2737=$AS2738),ROW(),\"\")","v":""},{"$f":"IF(NOT(AS2737=AS2738),AS2738,\"\")","v":""},{"$f":"INDEX($AB$15:$AM$15,MATCH($AS2737,$AB$11:$AM$11,0))","v":"out"},{"$f":"LEFT(AT2737,4)","v":"2010"},{"$f":"LEFT(B2737,6)","v":"201009"}]
[null,{"$f":"'Market Data'!B2728","v":20100915},{"$f":"'Market Data'!C2728","v":6535},{"$f":"'Market Data'!D2728","v":6543.5},{"$f":"'Market Data'!E2728","v":6484},{"$f":"'Market Data'!F2728","v":6523},null,2724,{"$f":"IF($H2742<($J$6+1),\"\",PFE(OFFSET($F2742,0,0,-$J$6)))","v":0.10531419760871367},null,"Long",{"$error":"#N/A"},{"$error":"#N/A"},null,1,0,"",null,1,null,-192.5,241519.13999999943,null,null,null,null,null,null,null,null,null,null,null,null,null,null,null,null,null,null,null,{"$f":"IF(NOT($AS2742=$AS2743),ROW(),\"\")","v":""},{"$f":"IF(NOT(AS2742=AS2743),AS2743,\"\")","v":""},{"$f":"INDEX($AB$15:$AM$15,MATCH($AS2742,$AB$11:$AM$11,0))","v":"out"},{"$f":"LEFT(AT2742,4)","v":"2010"},{"$f":"LEFT(B2742,6)","v":"201009"}]
[null,{"$f":"'Market Data'!B2735","v":20100924},{"$f":"'Market Data'!C2735","v":6429.5},{"$f":"'Market Data'!D2735","v":6568},{"$f":"'Market Data'!E2735","v":6400},{"$f":"'Market Data'!F2735","v":6552},null,2731,{"$f":"IF($H2749<($J$6+1),\"\",PFE(OFFSET($F2749,0,0,-$J$6)))","v":8.1322245194491341E-2},null,"Long",{"$error":"#N/A"},{"$error":"#N/A"},null,1,0,"",null,1,null,3955,242534.13999999943,null,null,null,null,null,null,null,null,null,null,null,null,null,null,null,null,null,null,null,{"$f":"IF(NOT($AS2749=$AS2750),ROW(),\"\")","v":""},{"$f":"IF(NOT(AS2749=AS2750),AS2750,\"\")","v":""},{"$f":"INDEX($AB$15:$AM$15,MATCH($AS2749,$AB$11:$AM$11,0))","v":"out"},{"$f":"LEFT(AT2749,4)","v":"2010"},{"$f":"LEFT(B2749,6)","v":"201009"}]
[null,{"$f":"'Market Data'!B2739","v":20100930},{"$f":"'Market Data'!C2739","v":6479},{"$f":"'Market Data'!D2739","v":6595.5},{"$f":"'Market Data'!E2739","v":6441},{"$f":"'Market Data'!F2739","v":6491},null,2735,{"$f":"IF($H2753<($J$6+1),\"\",PFE(OFFSET($F2753,0,0,-$J$6)))","v":7.9257202041173092E-2},null,"Long",{"$error":"#N/A"},{"$error":"#N/A"},null,1,0,"",null,1,null,-752.5,240399.13999999943,null,null,null,null,null,null,null,null,null,null,null,null,null,null,null,null,null,null,null,{"$f":"IF(NOT($AS2753=$AS2754),ROW(),\"\")","v":""},{"$f":"IF(NOT(AS2753=AS2754),AS2754,\"\")","v":""},{"$f":"INDEX($AB$15:$AM$15,MATCH($AS2753,$AB$11:$AM$11,0))","v":"out"},{"$f":"LEFT(AT2753,4)","v":"2010"},{"$f":"LEFT(B2753,6)","v":"201009"}]
[null,{"$f":"'Market Data'!B2742","v":20101005},{"$f":"'Market Data'!C2742","v":6411.5},{"$f":"'Market Data'!D2742","v":6491.5},{"$f":"'Market Data'!E2742","v":6372.5},{"$f":"'Market Data'!F2742","v":6486},null,2738,{"$f":"IF($H2756<($J$6+1),\"\",PFE(OFFSET($F2756,0,0,-$J$6)))","v":5.1820752421109256E-2},null,"Long",{"$error":"#N/A"},{"$error":"#N/A"},null,1,0,"",null,1,null,3675,240224.13999999943,null,null,null,null,null,null,null,null,null,null,null,null,null,null,null,null,null,null,null,{"$f":"IF(NOT($AS2756=$AS2757),ROW(),\"\")","v":""},{"$f":"IF(NOT(AS2756=AS2757),AS2757,\"\")","v":""},{"$f":"INDEX($AB$15:$AM$15,MATCH($AS2756,$AB$11:$AM$11,0))","v":"out"},{"$f":"LEFT(AT2756,4)","v":"2010"},{"$f":"LEFT(B2756,6)","v":"201010"}]
[null,{"$f":"'Market Data'!B2747","v":20101012},{"$f":"'Market Data'!C2747","v":6525.5},{"$f":"'Market Data'!D2747","v":6574},{"$f":"'Market Data'!E2747","v":6477.5},{"$f":"'Market Data'!F2747","v":6555},null,2743,{"$f":"IF($H2761<($J$6+1),\"\",PFE(OFFSET($F2761,0,0,-$J$6)))","v":2.7488092497574248E-2},null,"Long",{"$error":"#N/A"},{"$error":"#N/A"},null,1,0,"",null,1,null,-455,242639.13999999943,null,null,null,null,null,null,null,null,null,null,null,null,null,null,null,null,null,null,null,{"$f":"IF(NOT($AS2761=$AS2762),ROW(),\"\")","v":""},{"$f":"IF(NOT(AS2761=AS2762),AS2762,\"\")","v":""},{"$f":"INDEX($AB$15:$AM$15,MATCH($AS2761,$AB$11:$AM$11,0))","v":"out"},{"$f":"LEFT(AT2761,4)","v":"2010"},{"$f":"LEFT(B2761,6)","v":"201010"}]
[null,{"$f":"'Market Data'!B2754","v":20101021},{"$f":"'Market Data'!C2754","v":6772.5},{"$f":"'Market Data'!D2754","v":6879},{"$f":"'Market Data'!E2754","v":6761.5},{"$f":"'Market Data'!F2754","v":6846.5},null,2750,{"$f":"IF($H2768<($J$6+1),\"\",PFE(OFFSET($F2768,0,0,-$J$6)))","v":0.11242593968868232},null,"Long",{"$error":"#N/A"},{"$error":"#N/A"},null,1,0,"",null,1,null,2170,252841.63999999943,null,null,null,null,null,null,null,null,null,null,null,null,null,null,null,null,null,null,null,{"$f":"IF(NOT($AS2768=$AS2769),ROW(),\"\")","v":""},{"$f":"IF(NOT(AS2768=AS2769),AS2769,\"\")","v":""},{"$f":"INDEX($AB$15:$AM$15,MATCH($AS2768,$AB$11:$AM$11,0))","v":"out"},{"$f":"LEFT(AT2768,4)","v":"2010"},{"$f":"LEFT(B2768,6)","v":"201010"}]
[null,{"$f":"'Market Data'!B2759","v":20101028},{"$f":"'Market Data'!C2759","v":6858.5},{"$f":"'Market Data'!D2759","v":6905},{"$f":"'Market Data'!E2759","v":6832.5},{"$f":"'Market Data'!F2759","v":6845.5},null,2755,{"$f":"IF($H2773<($J$6+1),\"\",PFE(OFFSET($F2773,0,0,-$J$6)))","v":0.20658119929119528},null,"Long",{"$error":"#N/A"},{"$error":"#N/A"},null,1,0,"",null,1,null,752.5,252806.63999999943,null,null,null,null,null,null,null,null,null,null,null,null,null,null,null,null,null,null,null,{"$f":"IF(NOT($AS2773=$AS2774),ROW(),\"\")","v":""},{"$f":"IF(NOT(AS2773=AS2774),AS2774,\"\")","v":""},{"$f":"INDEX($AB$15:$AM$15,MATCH($AS2773,$AB$11:$AM$11,0))","v":"out"},{"$f":"LEFT(AT2773,4)","v":"2010"},{"$f":"LEFT(B2773,6)","v":"201010"}]
[null,{"$f":"'Market Data'!B2765","v":20101105},{"$f":"'Market Data'!C2765","v":6992.5},{"$f":"'Market Data'!D2765","v":7033.5},{"$f":"'Market Data'!E2765","v":6967.5},{"$f":"'Market Data'!F2765","v":7015},null,2761,{"$f":"IF($H2779<($J$6+1),\"\",PFE(OFFSET($F2779,0,0,-$J$6)))","v":0.15898956013978338},null,"Long",{"$error":"#N/A"},{"$error":"#N/A"},null,1,0,"",null,1,null,822.5,258739.13999999943,null,null,null,null,null,null,null,null,null,null,null,null,null,null,null,null,null,null,null,{"$f":"IF(NOT($AS2779=$AS2780),ROW(),\"\")","v":""},{"$f":"IF(NOT(AS2779=AS2780),AS2780,\"\")","v":""},{"$f":"INDEX($AB$15:$AM$15,MATCH($AS2779,$AB$11:$AM$11,0))","v":"out"},{"$f":"LEFT(AT2779,4)","v":"2010"},{"$f":"LEFT(B2779,6)","v":"201011"}]
[null,{"$f":"'Market Data'!B2771","v":20101115},{"$f":"'Market Data'!C2771","v":6957.5},{"$f":"'Market Data'!D2771","v":7068},{"$f":"'Market Data'!E2771","v":6932.5},{"$f":"'Market Data'!F2771","v":7050},null,2767,{"$f":"IF($H2785<($J$6+1),\"\",PFE(OFFSET($F2785,0,0,-$J$6)))","v":0.22420937052659975},null,"Long",{"$error":"#N/A"},{"$error":"#N/A"},null,1,0,"",null,1,null,3080,259964.13999999943,null,null,null,null,null,null,null,null,null,null,null,null,null,null,null,null,null,null,null,{"$f":"IF(NOT($AS2785=$AS2786),ROW(),\"\")","v":""},{"$f":"IF(NOT(AS2785=AS2786),AS2786,\"\")","v":""},{"$f":"INDEX($AB$15:$AM$15,MATCH($AS2785,$AB$11:$AM$11,0))","v":"out"},{"$f":"LEFT(AT2785,4)","v":"2010"},{"$f":"LEFT(B2785,6)","v":"201011"}]
[null,{"$f":"'Market Data'!B2776","v":20101122},{"$f":"'Market Data'!C2776","v":7135},{"$f":"'Market Data'!D2776","v":7155},{"$f":"'Market Data'!E2776","v":7044.5},{"$f":"'Market Data'!F2776","v":7057.5},null,2772,{"$f":"IF($H2790<($J$6+1),\"\",PFE(OFFSET($F2790,0,0,-$J$6)))","v":0.16719950606327724},null,"Long",{"$error":"#N/A"},{"$error":"#N/A"},null,1,0,"",null,1,null,-1452.5,260226.63999999943,null,null,null,null,null,null,null,null,null,null,null,null,null,null,null,null,null,null,null,{"$f":"IF(NOT($AS2790=$AS2791),ROW(),\"\")","v":""},{"$f":"IF(NOT(AS2790=AS2791),AS2791,\"\")","v":""},{"$f":"INDEX($AB$15:$AM$15,MATCH($AS2790,$AB$11:$AM$11,0))","v":"out"},{"$f":"LEFT(AT2790,4)","v":"2010"},{"$f":"LEFT(B2790,6)","v":"201011"}]
[null,{"$f":"'Market Data'!B2782","v":20101130},{"$f":"'Market Data'!C2782","v":6975.5},{"$f":"'Market Data'!D2782","v":7014},{"$f":"'Market Data'!E2782","v":6908},{"$f":"'Market Data'!F2782","v":6962.5},null,2778,{"$f":"IF($H2796<($J$6+1),\"\",PFE(OFFSET($F2796,0,0,-$J$6)))","v":9.9800210438539885E-2},null,"Long",{"$error":"#N/A"},{"$error":"#N/A"},null,1,0,"",null,1,null,17.5,256901.63999999943,null,null,null,null,null,null,null,null,null,null,null,null,null,null,null,null,null,null,null,{"$f":"IF(NOT($AS2796=$AS2797),ROW(),\"\")","v":""},{"$f":"IF(NOT(AS2796=AS2797),AS2797,\"\")","v":""},{"$f":"INDEX($AB$15:$AM$15,MATCH($AS2796,$AB$11:$AM$11,0))","v":"out"},{"$f":"LEFT(AT2796,4)","v":"2010"},{"$f":"LEFT(B2796,6)","v":"201011"}]
[null,{"$f":"'Market Data'!B2788","v":20101208},{"$f":"'Market Data'!C2788","v":7229},{"$f":"'Market Data'!D2788","v":7262},{"$f":"'Market Data'!E2788","v":7204.5},{"$f":"'Market Data'!F2788","v":7223},null,2784,{"$f":"IF($H2802<($J$6+1),\"\",PFE(OFFSET($F2802,0,0,-$J$6)))","v":0.22966055692726092},null,"Long",{"$error":"#N/A"},{"$error":"#N/A"},null,1,0,"",null,1,null,-1295,266019.13999999943,null,null,null,null,null,null,null,null,null,null,null,null,null,null,null,null,null,null,null,{"$f":"IF(NOT($AS2802=$AS2803),ROW(),\"\")","v":""},{"$f":"IF(NOT(AS2802=AS2803),AS2803,\"\")","v":""},{"$f":"INDEX($AB$15:$AM$15,MATCH($AS2802,$AB$11:$AM$11,0))","v":"out"},{"$f":"LEFT(AT2802,4)","v":"2010"},{"$f":"LEFT(B2802,6)","v":"201012"}]
[null,{"$f":"'Market Data'!B2791","v":20101213},{"$f":"'Market Data'!C2791","v":7260.5},{"$f":"'Market Data'!D2791","v":7293.5},{"$f":"'Market Data'!E2791","v":7260.5},{"$f":"'Market Data'!F2791","v":7278.5},null,2787,{"$f":"IF($H2805<($J$6+1),\"\",PFE(OFFSET($F2805,0,0,-$J$6)))","v":0.22368590050634232},null,"Long",{"$error":"#N/A"},{"$error":"#N/A"},null,1,0,"",null,1,null,700,267961.63999999943,null,null,null,null,null,null,null,null,null,null,null,null,null,null,null,null,null,null,null,{"$f":"IF(NOT($AS2805=$AS2806),ROW(),\"\")","v":""},{"$f":"IF(NOT(AS2805=AS2806),AS2806,\"\")","v":""},{"$f":"INDEX($AB$15:$AM$15,MATCH($AS2805,$AB$11:$AM$11,0))","v":"out"},{"$f":"LEFT(AT2805,4)","v":"2010"},{"$f":"LEFT(B2805,6)","v":"201012"}]
[null,{"$f":"'Market Data'!B2800","v":20101227},{"$f":"'Market Data'!C2800","v":7309.5},{"$f":"'Market Data'!D2800","v":7312.5},{"$f":"'Market Data'!E2800","v":7144},{"$f":"'Market Data'!F2800","v":7218},null,2796,{"$f":"IF($H2814<($J$6+1),\"\",PFE(OFFSET($F2814,0,0,-$J$6)))","v":0.30168655113646653},null,"Long",{"$error":"#N/A"},{"$error":"#N/A"},null,1,0,"",null,1,null,-2922.5,265844.13999999943,null,null,null,null,null,null,null,null,null,null,null,null,null,null,null,null,null,null,null,{"$f":"IF(NOT($AS2814=$AS2815),ROW(),\"\")","v":""},{"$f":"IF(NOT(AS2814=AS2815),AS2815,\"\")","v":""},{"$f":"INDEX($AB$15:$AM$15,MATCH($AS2814,$AB$11:$AM$11,0))","v":"out"},{"$f":"LEFT(AT2814,4)","v":"2010"},{"$f":"LEFT(B2814,6)","v":"201012"}]
[null,{"$f":"'Market Data'!B2806","v":20110105},{"$f":"'Market Data'!C2806","v":7189.5},{"$f":"'Market Data'!D2806","v":7210},{"$f":"'Market Data'!E2806","v":7081.5},{"$f":"'Market Data'!F2806","v":7187.5},null,2802,{"$f":"IF($H2820<($J$6+1),\"\",PFE(OFFSET($F2820,0,0,-$J$6)))","v":0.22770204841459296},null,"Long",{"$error":"#N/A"},{"$error":"#N/A"},null,1,0,"",null,1,null,-560,264776.63999999943,null,null,null,null,null,null,null,null,null,null,null,null,null,null,null,null,null,null,null,{"$f":"IF(NOT($AS2820=$AS2821),ROW(),\"\")","v":""},{"$f":"IF(NOT(AS2820=AS2821),AS2821,\"\")","v":""},{"$f":"INDEX($AB$15:$AM$15,MATCH($AS2820,$AB$11:$AM$11,0))","v":"in"},{"$f":"LEFT(AT2820,4)","v":"2011"},{"$f":"LEFT(B2820,6)","v":"201101"}]
[null,{"$f":"'Market Data'!B2811","v":20110112},{"$f":"'Market Data'!C2811","v":7193.5},{"$f":"'Market Data'!D2811","v":7338},{"$f":"'Market Data'!E2811","v":7193},{"$f":"'Market Data'!F2811","v":7318.5},null,2807,{"$f":"IF($H2825<($J$6+1),\"\",PFE(OFFSET($F2825,0,0,-$J$6)))","v":0.22180476467991933},null,"Long",{"$error":"#N/A"},{"$error":"#N/A"},null,1,0,"",null,1,null,4357.5,269361.63999999943,null,null,null,null,null,null,null,null,null,null,null,null,null,null,null,null,null,null,null,{"$f":"IF(NOT($AS2825=$AS2826),ROW(),\"\")","v":""},{"$f":"IF(NOT(AS2825=AS2826),AS2826,\"\")","v":""},{"$f":"INDEX($AB$15:$AM$15,MATCH($AS2825,$AB$11:$AM$11,0))","v":"in"},{"$f":"LEFT(AT2825,4)","v":"2011"},{"$f":"LEFT(B2825,6)","v":"201101"}]
[null,{"$f":"'Market Data'!B2812","v":20110113},{"$f":"'Market Data'!C2812","v":7335.5},{"$f":"'Market Data'!D2812","v":7339},{"$f":"'Market Data'!E2812","v":7286.5},{"$f":"'Market Data'!F2812","v":7317},null,2808,{"$f":"IF($H2826<($J$6+1),\"\",PFE(OFFSET($F2826,0,0,-$J$6)))","v":0.22483254663715294},null,"Long",{"$error":"#N/A"},{"$error":"#N/A"},null,1,0,"",null,1,null,-52.5,269309.13999999943,null,null,null,null,null,null,null,null,null,null,null,null,null,null,null,null,null,null,null,{"$f":"IF(NOT($AS2826=$AS2827),ROW(),\"\")","v":""},{"$f":"IF(NOT(AS2826=AS2827),AS2827,\"\")","v":""},{"$f":"INDEX($AB$15:$AM$15,MATCH($AS2826,$AB$11:$AM$11,0))","v":"in"},{"$f":"LEFT(AT2826,4)","v":"2011"},{"$f":"LEFT(B2826,6)","v":"201101"}]
[null,{"$f":"'Market Data'!B2817","v":20110120},{"$f":"'Market Data'!C2817","v":7321},{"$f":"'Market Data'!D2817","v":7336},{"$f":"'Market Data'!E2817","v":7256.5},{"$f":"'Market Data'!F2817","v":7274.5},null,2813,{"$f":"IF($H2831<($J$6+1),\"\",PFE(OFFSET($F2831,0,0,-$J$6)))","v":0.23610017073497974},null,"Long",{"$error":"#N/A"},{"$error":"#N/A"},null,1,0,"",null,1,null,-1960,267821.63999999943,null,null,null,null,null,null,null,null,null,null,null,null,null,null,null,null,null,null,null,{"$f":"IF(NOT($AS2831=$AS2832),ROW(),\"\")","v":""},{"$f":"IF(NOT(AS2831=AS2832),AS2832,\"\")","v":""},{"$f":"INDEX($AB$15:$AM$15,MATCH($AS2831,$AB$11:$AM$11,0))","v":"in"},{"$f":"LEFT(AT2831,4)","v":"2011"},{"$f":"LEFT(B2831,6)","v":"201101"}]
[null,{"$f":"'Market Data'!B2824","v":20110131},{"$f":"'Market Data'!C2824","v":7341},{"$f":"'Market Data'!D2824","v":7357},{"$f":"'Market Data'!E2824","v":7282},{"$f":"'Market Data'!F2824","v":7337},null,2820,{"$f":"IF($H2838<($J$6+1),\"\",PFE(OFFSET($F2838,0,0,-$J$6)))","v":0.27466687785379512},null,"Long",{"$error":"#N/A"},{"$error":"#N/A"},null,1,0,"",null,1,null,{"$f":"IF(OR($S2837&$O2837=\"01\",$S2837&$O2837=\"0-1\"),(($F2838-$C2838)*$V$4*$O2837)-(ABS($P2837)*$V$5),IF(OR($S2837&$O2837=\"10\",$S2837&$O2837=\"-10\"),(($C2838-$F2837)*$V$4*$S2837)-(ABS($P2837)*$V$5),IF(OR($S2837&$O2837=\"1-1\",$S2837&$O2837=\"-11\"),(($C2838-$F2837)*$V$4*$S2837)-(ABS($P2837)*$V$5)+(($F2838-$C2838)*$V$4*$S2838),IF(OR($S2837&$O2837=\"11\",$S2837&$O2837=\"-1-1\"),(($F2838-$F2837)*$V$4*$S2838),0))))","v":-665},270009.13999999943,null,null,null,null,null,null,null,null,null,null,null,null,null,null,null,null,null,null,null,{"$f":"IF(NOT($AS2838=$AS2839),ROW(),\"\")","v":""},{"$f":"IF(NOT(AS2838=AS2839),AS2839,\"\")","v":""},{"$f":"INDEX($AB$15:$AM$15,MATCH($AS2838,$AB$11:$AM$11,0))","v":"in"},{"$f":"LEFT(AT2838,4)","v":"2011"},{"$f":"LEFT(B2838,6)","v":"201101"}]
[null,{"$f":"'Market Data'!B2832","v":20110210},{"$f":"'Market Data'!C2832","v":7577},{"$f":"'Market Data'!D2832","v":7601},{"$f":"'Market Data'!E2832","v":7516},{"$f":"'Market Data'!F2832","v":7582},null,2828,{"$f":"IF($H2846<($J$6+1),\"\",PFE(OFFSET($F2846,0,0,-$J$6)))","v":0.25838720984471786},null,"Long",{"$error":"#N/A"},{"$error":"#N/A"},null,1,0,"",null,1,null,700,278584.13999999943,null,null,null,null,null,null,null,null,null,null,null,null,null,null,null,null,null,null,null,{"$f":"IF(NOT($AS2846=$AS2847),ROW(),\"\")","v":""},{"$f":"IF(NOT(AS2846=AS2847),AS2847,\"\")","v":""},{"$f":"INDEX($AB$15:$AM$15,MATCH($AS2846,$AB$11:$AM$11,0))","v":"in"},{"$f":"LEFT(AT2846,4)","v":"2011"},{"$f":"LEFT(B2846,6)","v":"201102"}]
[null,{"$f":"'Market Data'!B2835","v":20110215},{"$f":"'Market Data'!C2835","v":7654},{"$f":"'Market Data'!D2835","v":7668},{"$f":"'Market Data'!E2835","v":7623},{"$f":"'Market Data'!F2835","v":7647},null,2831,{"$f":"IF($H2849<($J$6+1),\"\",PFE(OFFSET($F2849,0,0,-$J$6)))","v":0.26630865890832311},null,"Long",{"$error":"#N/A"},{"$error":"#N/A"},null,1,0,"",null,1,null,227.5,280859.13999999943,null,null,null,null,null,null,null,null,null,null,null,null,null,null,null,null,null,null,null,{"$f":"IF(NOT($AS2849=$AS2850),ROW(),\"\")","v":""},{"$f":"IF(NOT(AS2849=AS2850),AS2850,\"\")","v":""},{"$f":"INDEX($AB$15:$AM$15,MATCH($AS2849,$AB$11:$AM$11,0))","v":"in"},{"$f":"LEFT(AT2849,4)","v":"2011"},{"$f":"LEFT(B2849,6)","v":"201102"}]
[null,{"$f":"'Market Data'!B2841","v":20110223},{"$f":"'Market Data'!C2841","v":7524},{"$f":"'Market Data'!D2841","v":7557},{"$f":"'Market Data'!E2841","v":7390},{"$f":"'Market Data'!F2841","v":7449},null,2837,{"$f":"IF($H2855<($J$6+1),\"\",PFE(OFFSET($F2855,0,0,-$J$6)))","v":0.18326264413510493},null,"Long",{"$error":"#N/A"},{"$error":"#N/A"},null,1,0,"",null,1,null,-4112.5,273929.13999999943,null,null,null,null,null,null,null,null,null,null,null,null,null,null,null,null,null,null,null,{"$f":"IF(NOT($AS2855=$AS2856),ROW(),\"\")","v":""},{"$f":"IF(NOT(AS2855=AS2856),AS2856,\"\")","v":""},{"$f":"INDEX($AB$15:$AM$15,MATCH($AS2855,$AB$11:$AM$11,0))","v":"in"},{"$f":"LEFT(AT2855,4)","v":"2011"},{"$f":"LEFT(B2855,6)","v":"201102"}]
[null,{"$f":"'Market Data'!B2849","v":20110307},{"$f":"'Market Data'!C2849","v":7387},{"$f":"'Market Data'!D2849","v":7515},{"$f":"'Market Data'!E2849","v":7365.5},{"$f":"'Market Data'!F2849","v":7406},null,2845,{"$f":"IF($H2863<($J$6+1),\"\",PFE(OFFSET($F2863,0,0,-$J$6)))","v":0.11377565792359015},null,"Long",{"$error":"#N/A"},{"$error":"#N/A"},null,1,0,"",null,1,null,-280,272424.13999999943,null,null,null,null,null,null,null,null,null,null,null,null,null,null,null,null,null,null,null,{"$f":"IF(NOT($AS2863=$AS2864),ROW(),\"\")","v":""},{"$f":"IF(NOT(AS2863=AS2864),AS2864,\"\")","v":""},{"$f":"INDEX($AB$15:$AM$15,MATCH($AS2863,$AB$11:$AM$11,0))","v":"in"},{"$f":"LEFT(AT2863,4)","v":"2011"},{"$f":"LEFT(B2863,6)","v":"201103"}]
[null,{"$f":"'Market Data'!B2852","v":20110310},{"$f":"'Market Data'!C2852","v":7328.5},{"$f":"'Market Data'!D2852","v":7352.5},{"$f":"'Market Data'!E2852","v":7264},{"$f":"'Market Data'!F2852","v":7296},null,2848,{"$f":"IF($H2866<($J$6+1),\"\",PFE(OFFSET($F2866,0,0,-$J$6)))","v":8.9484770557198653E-2},null,"Long",{"$error":"#N/A"},{"$error":"#N/A"},null,1,0,"",null,1,null,-2555,268574.13999999943,null,null,null,null,null,null,null,null,null,null,null,null,null,null,null,null,null,null,null,{"$f":"IF(NOT($AS2866=$AS2867),ROW(),\"\")","v":""},{"$f":"IF(NOT(AS2866=AS2867),AS2867,\"\")","v":""},{"$f":"INDEX($AB$15:$AM$15,MATCH($AS2866,$AB$11:$AM$11,0))","v":"in"},{"$f":"LEFT(AT2866,4)","v":"2011"},{"$f":"LEFT(B2866,6)","v":"201103"}]
[null,{"$f":"'Market Data'!B2858","v":20110318},{"$f":"'Market Data'!C2858","v":6962},{"$f":"'Market Data'!D2858","v":7002.5},{"$f":"'Market Data'!E2858","v":6862},{"$f":"'Market Data'!F2858","v":6912.5},null,2854,{"$f":"IF($H2872<($J$6+1),\"\",PFE(OFFSET($F2872,0,0,-$J$6)))","v":-5.3355172910259853E-2},null,"Short",{"$error":"#N/A"},{"$error":"#N/A"},null,-1,0,"",null,-1,null,-647.5,251504.71999999942,null,null,null,null,null,null,null,null,null,null,null,null,null,null,null,null,null,null,null,{"$f":"IF(NOT($AS2872=$AS2873),ROW(),\"\")","v":""},{"$f":"IF(NOT(AS2872=AS2873),AS2873,\"\")","v":""},{"$f":"INDEX($AB$15:$AM$15,MATCH($AS2872,$AB$11:$AM$11,0))","v":"in"},{"$f":"LEFT(AT2872,4)","v":"2011"},{"$f":"LEFT(B2872,6)","v":"201103"}]
[null,{"$f":"'Market Data'!B2864","v":20110328},{"$f":"'Market Data'!C2864","v":7181},{"$f":"'Market Data'!D2864","v":7221.5},{"$f":"'Market Data'!E2864","v":7153},{"$f":"'Market Data'!F2864","v":7178.5},null,2860,{"$f":"IF($H2878<($J$6+1),\"\",PFE(OFFSET($F2878,0,0,-$J$6)))","v":6.1764210505086924E-2},null,"Long",{"$error":"#N/A"},{"$error":"#N/A"},null,1,0,"",null,1,null,-735,241543.95999999938,null,null,null,null,null,null,null,null,null,null,null,null,null,null,null,null,null,null,null,{"$f":"IF(NOT($AS2878=$AS2879),ROW(),\"\")","v":""},{"$f":"IF(NOT(AS2878=AS2879),AS2879,\"\")","v":""},{"$f":"INDEX($AB$15:$AM$15,MATCH($AS2878,$AB$11:$AM$11,0))","v":"in"},{"$f":"LEFT(AT2878,4)","v":"2011"},{"$f":"LEFT(B2878,6)","v":"201103"}]
[null,{"$f":"'Market Data'!B2870","v":20110405},{"$f":"'Market Data'!C2870","v":7431.5},{"$f":"'Market Data'!D2870","v":7435},{"$f":"'Market Data'!E2870","v":7366},{"$f":"'Market Data'!F2870","v":7416.5},null,2866,{"$f":"IF($H2884<($J$6+1),\"\",PFE(OFFSET($F2884,0,0,-$J$6)))","v":4.7904709847873095E-2},null,"Long",{"$error":"#N/A"},{"$error":"#N/A"},null,1,0,"",null,1,null,-35,249873.95999999938,null,null,null,null,null,null,null,null,null,null,null,null,null,null,null,null,null,null,null,{"$f":"IF(NOT($AS2884=$AS2885),ROW(),\"\")","v":""},{"$f":"IF(NOT(AS2884=AS2885),AS2885,\"\")","v":""},{"$f":"INDEX($AB$15:$AM$15,MATCH($AS2884,$AB$11:$AM$11,0))","v":"in"},{"$f":"LEFT(AT2884,4)","v":"2011"},{"$f":"LEFT(B2884,6)","v":"201104"}]
[null,{"$f":"'Market Data'!B2875","v":20110412},{"$f":"'Market Data'!C2875","v":7393},{"$f":"'Market Data'!D2875","v":7418.5},{"$f":"'Market Data'!E2875","v":7327},{"$f":"'Market Data'!F2875","v":7346},null,2871,{"$f":"IF($H2889<($J$6+1),\"\",PFE(OFFSET($F2889,0,0,-$J$6)))","v":2.8022410816671662E-2},null,"Long",{"$error":"#N/A"},{"$error":"#N/A"},null,1,0,"",null,1,null,-3447.5,247406.45999999938,null,null,null,null,null,null,null,null,null,null,null,null,null,null,null,null,null,null,null,{"$f":"IF(NOT($AS2889=$AS2890),ROW(),\"\")","v":""},{"$f":"IF(NOT(AS2889=AS2890),AS2890,\"\")","v":""},{"$f":"INDEX($AB$15:$AM$15,MATCH($AS2889,$AB$11:$AM$11,0))","v":"in"},{"$f":"LEFT(AT2889,4)","v":"2011"},{"$f":"LEFT(B2889,6)","v":"201104"}]
[null,{"$f":"'Market Data'!B2881","v":20110420},{"$f":"'Market Data'!C2881","v":7354},{"$f":"'Market Data'!D2881","v":7499.5},{"$f":"'Market Data'!E2881","v":7346},{"$f":"'Market Data'!F2881","v":7475.5},null,2877,{"$f":"IF($H2895<($J$6+1),\"\",PFE(OFFSET($F2895,0,0,-$J$6)))","v":4.2286524441301383E-2},null,"Long",7475.5,{"$error":"#N/A"},null,1,2,"Fill",null,-1,null,-7297.5,237302.03999999937,null,null,null,null,null,null,null,null,null,null,null,null,null,null,null,null,null,null,null,{"$f":"IF(NOT($AS2895=$AS2896),ROW(),\"\")","v":""},{"$f":"IF(NOT(AS2895=AS2896),AS2896,\"\")","v":""},{"$f":"INDEX($AB$15:$AM$15,MATCH($AS2895,$AB$11:$AM$11,0))","v":"in"},{"$f":"LEFT(AT2895,4)","v":"2011"},{"$f":"LEFT(B2895,6)","v":"201104"}]
[null,{"$f":"'Market Data'!B2884","v":20110427},{"$f":"'Market Data'!C2884","v":7603.5},{"$f":"'Market Data'!D2884","v":7697},{"$f":"'Market Data'!E2884","v":7591.5},{"$f":"'Market Data'!F2884","v":7636},null,2880,{"$f":"IF($H2898<($J$6+1),\"\",PFE(OFFSET($F2898,0,0,-$J$6)))","v":0.10214395210181755},null,"Long",{"$error":"#N/A"},{"$error":"#N/A"},null,1,0,"",null,{"$f":"IF($Q2897=\"Fill\",$O2897,$S2897)","v":1},null,1610,239412.61999999936,null,null,null,null,null,null,null,null,null,null,null,null,null,null,null,null,null,null,null,{"$f":"IF(NOT($AS2898=$AS2899),ROW(),\"\")","v":""},{"$f":"IF(NOT(AS2898=AS2899),AS2899,\"\")","v":""},{"$f":"INDEX($AB$15:$AM$15,MATCH($AS2898,$AB$11:$AM$11,0))","v":"in"},{"$f":"LEFT(AT2898,4)","v":"2011"},{"$f":"LEFT(B2898,6)","v":"201104"}]
[null,{"$f":"'Market Data'!B2888","v":20110503},{"$f":"'Market Data'!C2888","v":7743},{"$f":"'Market Data'!D2888","v":7763.5},{"$f":"'Market Data'!E2888","v":7687.5},{"$f":"'Market Data'!F2888","v":7738},null,2884,{"$f":"IF($H2902<($J$6+1),\"\",PFE(OFFSET($F2902,0,0,-$J$6)))","v":0.12998624321473776},null,"Long",{"$error":"#N/A"},{"$error":"#N/A"},null,1,0,"",null,1,null,{"$f":"IF(OR($S2901&$O2901=\"01\",$S2901&$O2901=\"0-1\"),(($F2902-$C2902)*$V$4*$O2901)-(ABS($P2901)*$V$5),IF(OR($S2901&$O2901=\"10\",$S2901&$O2901=\"-10\"),(($C2902-$F2901)*$V$4*$S2901)-(ABS($P2901)*$V$5),IF(OR($S2901&$O2901=\"1-1\",$S2901&$O2901=\"-11\"),(($C2902-$F2901)*$V$4*$S2901)-(ABS($P2901)*$V$5)+(($F2902-$C2902)*$V$4*$S2902),IF(OR($S2901&$O2901=\"11\",$S2901&$O2901=\"-1-1\"),(($F2902-$F2901)*$V$4*$S2902),0))))","v":-1225},242982.61999999936,null,null,null,null,null,null,null,null,null,null,null,null,null,null,null,null,null,null,null,{"$f":"IF(NOT($AS2902=$AS2903),ROW(),\"\")","v":""},{"$f":"IF(NOT(AS2902=AS2903),AS2903,\"\")","v":""},{"$f":"INDEX($AB$15:$AM$15,MATCH($AS2902,$AB$11:$AM$11,0))","v":"in"},{"$f":"LEFT(AT2902,4)","v":"2011"},{"$f":"LEFT(B2902,6)","v":"201105"}]
[null,{"$f":"'Market Data'!B2893","v":20110510},{"$f":"'Market Data'!C2893","v":7647.5},{"$f":"'Market Data'!D2893","v":7765},{"$f":"'Market Data'!E2893","v":7644},{"$f":"'Market Data'!F2893","v":7725},null,2889,{"$f":"IF($H2907<($J$6+1),\"\",PFE(OFFSET($F2907,0,0,-$J$6)))","v":0.12412848938497943},null,"Long",{"$error":"#N/A"},{"$error":"#N/A"},null,1,0,"",null,1,null,2817.5,242527.61999999936,null,null,null,null,null,null,null,null,null,null,null,null,null,null,null,null,null,null,null,{"$f":"IF(NOT($AS2907=$AS2908),ROW(),\"\")","v":""},{"$f":"IF(NOT(AS2907=AS2908),AS2908,\"\")","v":""},{"$f":"INDEX($AB$15:$AM$15,MATCH($AS2907,$AB$11:$AM$11,0))","v":"in"},{"$f":"LEFT(AT2907,4)","v":"2011"},{"$f":"LEFT(B2907,6)","v":"201105"}]
[null,{"$f":"'Market Data'!B2901","v":20110520},{"$f":"'Market Data'!C2901","v":7602},{"$f":"'Market Data'!D2901","v":7635.5},{"$f":"'Market Data'!E2901","v":7450.5},{"$f":"'Market Data'!F2901","v":7489.5},null,2897,{"$f":"IF($H2915<($J$6+1),\"\",PFE(OFFSET($F2915,0,0,-$J$6)))","v":4.5191438748635626E-2},null,"Long",{"$error":"#N/A"},{"$error":"#N/A"},null,1,0,"",null,1,null,-2870,234285.11999999936,null,null,null,null,null,null,null,null,null,null,null,null,null,null,null,null,null,null,null,{"$f":"IF(NOT($AS2915=$AS2916),ROW(),\"\")","v":""},{"$f":"IF(NOT(AS2915=AS2916),AS2916,\"\")","v":""},{"$f":"INDEX($AB$15:$AM$15,MATCH($AS2915,$AB$11:$AM$11,0))","v":"in"},{"$f":"LEFT(AT2915,4)","v":"2011"},{"$f":"LEFT(B2915,6)","v":"201105"}]
[null,{"$f":"'Market Data'!B2905","v":20110526},{"$f":"'Market Data'!C2905","v":7418.5},{"$f":"'Market Data'!D2905","v":7439.5},{"$f":"'Market Data'!E2905","v":7309},{"$f":"'Market Data'!F2905","v":7336.5},null,2901,{"$f":"IF($H2919<($J$6+1),\"\",PFE(OFFSET($F2919,0,0,-$J$6)))","v":-2.3912489738267994E-2},null,"Short",{"$error":"#N/A"},7336.5,null,-1,-2,"Fill",null,1,null,-2170,228930.11999999936,null,null,null,null,null,null,null,null,null,null,null,null,null,null,null,null,null,null,null,{"$f":"IF(NOT($AS2919=$AS2920),ROW(),\"\")","v":""},{"$f":"IF(NOT(AS2919=AS2920),AS2920,\"\")","v":""},{"$f":"INDEX($AB$15:$AM$15,MATCH($AS2919,$AB$11:$AM$11,0))","v":"in"},{"$f":"LEFT(AT2919,4)","v":"2011"},{"$f":"LEFT(B2919,6)","v":"201105"}]
[null,{"$f":"'Market Data'!B2910","v":20110602},{"$f":"'Market Data'!C2910","v":7363},{"$f":"'Market Data'!D2910","v":7379},{"$f":"'Market Data'!E2910","v":7287.5},{"$f":"'Market Data'!F2910","v":7306},null,2906,{"$f":"IF($H2924<($J$6+1),\"\",PFE(OFFSET($F2924,0,0,-$J$6)))","v":-3.2096021214740637E-2},null,"Short",{"$error":"#N/A"},7306,null,-1,-2,"Fill",null,1,null,-4847.5,230053.77999999933,null,null,null,null,null,null,null,null,null,null,null,null,null,null,null,null,null,null,null,{"$f":"IF(NOT($AS2924=$AS2925),ROW(),\"\")","v":""},{"$f":"IF(NOT(AS2924=AS2925),AS2925,\"\")","v":""},{"$f":"INDEX($AB$15:$AM$15,MATCH($AS2924,$AB$11:$AM$11,0))","v":"in"},{"$f":"LEFT(AT2924,4)","v":"2011"},{"$f":"LEFT(B2924,6)","v":"201106"}]
[null,{"$f":"'Market Data'!B2917","v":20110613},{"$f":"'Market Data'!C2917","v":7284},{"$f":"'Market Data'!D2917","v":7343.5},{"$f":"'Market Data'!E2917","v":7260},{"$f":"'Market Data'!F2917","v":7310.5},null,2913,{"$f":"IF($H2931<($J$6+1),\"\",PFE(OFFSET($F2931,0,0,-$J$6)))","v":-7.1087071627817744E-2},null,"Short",{"$error":"#N/A"},{"$error":"#N/A"},null,-1,0,"",null,-1,null,-647.5,230554.35999999932,null,null,null,null,null,null,null,null,null,null,null,null,null,null,null,null,null,null,null,{"$f":"IF(NOT($AS2931=$AS2932),ROW(),\"\")","v":""},{"$f":"IF(NOT(AS2931=AS2932),AS2932,\"\")","v":""},{"$f":"INDEX($AB$15:$AM$15,MATCH($AS2931,$AB$11:$AM$11,0))","v":"in"},{"$f":"LEFT(AT2931,4)","v":"2011"},{"$f":"LEFT(B2931,6)","v":"201106"}]
[null,{"$f":"'Market Data'!B2921","v":20110617},{"$f":"'Market Data'!C2921","v":7294.5},{"$f":"'Market Data'!D2921","v":7445},{"$f":"'Market Data'!E2921","v":7254.5},{"$f":"'Market Data'!F2921","v":7393.5},null,2917,{"$f":"IF($H2935<($J$6+1),\"\",PFE(OFFSET($F2935,0,0,-$J$6)))","v":-5.6374236161777461E-2},null,"Short",{"$error":"#N/A"},{"$error":"#N/A"},null,-1,0,"",null,-1,null,-2397.5,227649.35999999932,null,null,null,null,null,null,null,null,null,null,null,null,null,null,null,null,null,null,null,{"$f":"IF(NOT($AS2935=$AS2936),ROW(),\"\")","v":""},{"$f":"IF(NOT(AS2935=AS2936),AS2936,\"\")","v":""},{"$f":"INDEX($AB$15:$AM$15,MATCH($AS2935,$AB$11:$AM$11,0))","v":"in"},{"$f":"LEFT(AT2935,4)","v":"2011"},{"$f":"LEFT(B2935,6)","v":"201106"}]
[null,{"$f":"'Market Data'!B2929","v":20110629},{"$f":"'Market Data'!C2929","v":7416},{"$f":"'Market Data'!D2929","v":7537},{"$f":"'Market Data'!E2929","v":7415.5},{"$f":"'Market Data'!F2929","v":7514.5},null,2925,{"$f":"IF($H2943<($J$6+1),\"\",PFE(OFFSET($F2943,0,0,-$J$6)))","v":2.333316416926556E-2},null,"Long",7514.5,{"$error":"#N/A"},null,1,2,"Fill",null,-1,null,-4480,222875.51999999929,null,null,null,null,null,null,null,null,null,null,null,null,null,null,null,null,null,null,null,{"$f":"IF(NOT($AS2943=$AS2944),ROW(),\"\")","v":""},{"$f":"IF(NOT(AS2943=AS2944),AS2944,\"\")","v":""},{"$f":"INDEX($AB$15:$AM$15,MATCH($AS2943,$AB$11:$AM$11,0))","v":"in"},{"$f":"LEFT(AT2943,4)","v":"2011"},{"$f":"LEFT(B2943,6)","v":"201106"}]
[null,{"$f":"'Market Data'!B2934","v":20110706},{"$f":"'Market Data'!C2934","v":7682.5},{"$f":"'Market Data'!D2934","v":7687},{"$f":"'Market Data'!E2934","v":7611},{"$f":"'Market Data'!F2934","v":7642.5},null,2930,{"$f":"IF($H2948<($J$6+1),\"\",PFE(OFFSET($F2948,0,0,-$J$6)))","v":5.6670444899308399E-2},null,"Long",{"$error":"#N/A"},{"$error":"#N/A"},null,1,0,"",null,1,null,-717.5,225668.59999999928,null,null,null,null,null,null,null,null,null,null,null,null,null,null,null,null,null,null,null,{"$f":"IF(NOT($AS2948=$AS2949),ROW(),\"\")","v":""},{"$f":"IF(NOT(AS2948=AS2949),AS2949,\"\")","v":""},{"$f":"INDEX($AB$15:$AM$15,MATCH($AS2948,$AB$11:$AM$11,0))","v":"in"},{"$f":"LEFT(AT2948,4)","v":"2011"},{"$f":"LEFT(B2948,6)","v":"201107"}]
[null,{"$f":"'Market Data'!B2936","v":20110708},{"$f":"'Market Data'!C2936","v":7716.5},{"$f":"'Market Data'!D2936","v":7739},{"$f":"'Market Data'!E2936","v":7603},{"$f":"'Market Data'!F2936","v":7619},null,2932,{"$f":"IF($H2950<($J$6+1),\"\",PFE(OFFSET($F2950,0,0,-$J$6)))","v":8.0557341594484771E-2},null,"Long",{"$error":"#N/A"},{"$error":"#N/A"},null,1,0,"",null,1,null,-2485,224846.09999999928,null,null,null,null,null,null,null,null,null,null,null,null,null,null,null,null,null,null,null,{"$f":"IF(NOT($AS2950=$AS2951),ROW(),\"\")","v":""},{"$f":"IF(NOT(AS2950=AS2951),AS2951,\"\")","v":""},{"$f":"INDEX($AB$15:$AM$15,MATCH($AS2950,$AB$11:$AM$11,0))","v":"in"},{"$f":"LEFT(AT2950,4)","v":"2011"},{"$f":"LEFT(B2950,6)","v":"201107"}]
[null,{"$f":"'Market Data'!B2946","v":20110722},{"$f":"'Market Data'!C2946","v":7551},{"$f":"'Market Data'!D2946","v":7565.5},{"$f":"'Market Data'!E2946","v":7473.5},{"$f":"'Market Data'!F2946","v":7528.5},null,2942,{"$f":"IF($H2960<($J$6+1),\"\",PFE(OFFSET($F2960,0,0,-$J$6)))","v":7.1133322872756699E-2},null,"Long",{"$error":"#N/A"},{"$error":"#N/A"},null,1,0,"",null,1,null,875,221678.59999999928,null,null,null,null,null,null,null,null,null,null,null,null,null,null,null,null,null,null,null,{"$f":"IF(NOT($AS2960=$AS2961),ROW(),\"\")","v":""},{"$f":"IF(NOT(AS2960=AS2961),AS2961,\"\")","v":""},{"$f":"INDEX($AB$15:$AM$15,MATCH($AS2960,$AB$11:$AM$11,0))","v":"in"},{"$f":"LEFT(AT2960,4)","v":"2011"},{"$f":"LEFT(B2960,6)","v":"201107"}]
[null,{"$f":"'Market Data'!B2947","v":20110725},{"$f":"'Market Data'!C2947","v":7480},{"$f":"'Market Data'!D2947","v":7576.5},{"$f":"'Market Data'!E2947","v":7466.5},{"$f":"'Market Data'!F2947","v":7562.5},null,2943,{"$f":"IF($H2961<($J$6+1),\"\",PFE(OFFSET($F2961,0,0,-$J$6)))","v":8.2137968643595655E-2},null,"Long",{"$error":"#N/A"},{"$error":"#N/A"},null,1,{"$f":"$O2961-S2961","v":0},"",null,1,null,1190,222868.59999999928,null,null,null,null,null,null,null,null,null,null,null,null,null,null,null,null,null,null,null,{"$f":"IF(NOT($AS2961=$AS2962),ROW(),\"\")","v":""},{"$f":"IF(NOT(AS2961=AS2962),AS2962,\"\")","v":""},{"$f":"INDEX($AB$15:$AM$15,MATCH($AS2961,$AB$11:$AM$11,0))","v":"in"},{"$f":"LEFT(AT2961,4)","v":"2011"},{"$f":"LEFT(B2961,6)","v":"201107"}]
[null,{"$f":"'Market Data'!B2953","v":20110802},{"$f":"'Market Data'!C2953","v":7149},{"$f":"'Market Data'!D2953","v":7164.5},{"$f":"'Market Data'!E2953","v":6906.5},{"$f":"'Market Data'!F2953","v":7014.5},null,2949,{"$f":"IF($H2967<($J$6+1),\"\",PFE(OFFSET($F2967,0,0,-$J$6)))","v":-8.0678340338739371E-2},null,"Short",{"$error":"#N/A"},{"$error":"#N/A"},null,-1,0,"",null,-1,null,6370,234131.67999999927,null,null,null,null,null,null,null,null,null,null,null,null,null,null,null,null,null,null,null,{"$f":"IF(NOT($AS2967=$AS2968),ROW(),\"\")","v":""},{"$f":"IF(NOT(AS2967=AS2968),AS2968,\"\")","v":""},{"$f":"INDEX($AB$15:$AM$15,MATCH($AS2967,$AB$11:$AM$11,0))","v":"in"},{"$f":"LEFT(AT2967,4)","v":"2011"},{"$f":"LEFT(B2967,6)","v":"201108"}]
[null,{"$f":"'Market Data'!B2958","v":20110809},{"$f":"'Market Data'!C2958","v":5940},{"$f":"'Market Data'!D2958","v":6226.5},{"$f":"'Market Data'!E2958","v":5689.5},{"$f":"'Market Data'!F2958","v":6133},null,2954,{"$f":"IF($H2972<($J$6+1),\"\",PFE(OFFSET($F2972,0,0,-$J$6)))","v":-0.21069185996310921},null,"Short",{"$error":"#N/A"},{"$error":"#N/A"},null,-1,0,"",null,-1,null,752.5,264984.17999999924,null,null,null,null,null,null,null,null,null,null,null,null,null,null,null,null,null,null,null,{"$f":"IF(NOT($AS2972=$AS2973),ROW(),\"\")","v":""},{"$f":"IF(NOT(AS2972=AS2973),AS2973,\"\")","v":""},{"$f":"INDEX($AB$15:$AM$15,MATCH($AS2972,$AB$11:$AM$11,0))","v":"in"},{"$f":"LEFT(AT2972,4)","v":"2011"},{"$f":"LEFT(B2972,6)","v":"201108"}]
[null,{"$f":"'Market Data'!B2964","v":20110817},{"$f":"'Market Data'!C2964","v":6156},{"$f":"'Market Data'!D2964","v":6215},{"$f":"'Market Data'!E2964","v":6067},{"$f":"'Market Data'!F2964","v":6148},null,2960,{"$f":"IF($H2978<($J$6+1),\"\",PFE(OFFSET($F2978,0,0,-$J$6)))","v":-0.21794088054947633},null,"Short",{"$error":"#N/A"},{"$error":"#N/A"},null,-1,0,"",null,-1,null,1505,264459.17999999924,null,null,null,null,null,null,null,null,null,null,null,null,null,null,null,null,null,null,null,{"$f":"IF(NOT($AS2978=$AS2979),ROW(),\"\")","v":""},{"$f":"IF(NOT(AS2978=AS2979),AS2979,\"\")","v":""},{"$f":"INDEX($AB$15:$AM$15,MATCH($AS2978,$AB$11:$AM$11,0))","v":"in"},{"$f":"LEFT(AT2978,4)","v":"2011"},{"$f":"LEFT(B2978,6)","v":"201108"}]
[null,{"$f":"'Market Data'!B2970","v":20110825},{"$f":"'Market Data'!C2970","v":5881.5},{"$f":"'Market Data'!D2970","v":5971.5},{"$f":"'Market Data'!E2970","v":5611},{"$f":"'Market Data'!F2970","v":5780.5},null,2966,{"$f":"IF($H2984<($J$6+1),\"\",PFE(OFFSET($F2984,0,0,-$J$6)))","v":-0.3036753250037772},null,"Short",{"$error":"#N/A"},{"$error":"#N/A"},null,-1,0,"",null,-1,null,2940,277321.67999999924,null,null,null,null,null,null,null,null,null,null,null,null,null,null,null,null,null,null,null,{"$f":"IF(NOT($AS2984=$AS2985),ROW(),\"\")","v":""},{"$f":"IF(NOT(AS2984=AS2985),AS2985,\"\")","v":""},{"$f":"INDEX($AB$15:$AM$15,MATCH($AS2984,$AB$11:$AM$11,0))","v":"in"},{"$f":"LEFT(AT2984,4)","v":"2011"},{"$f":"LEFT(B2984,6)","v":"201108"}]
[null,{"$f":"'Market Data'!B2979","v":20110907},{"$f":"'Market Data'!C2979","v":5507.5},{"$f":"'Market Data'!D2979","v":5646},{"$f":"'Market Data'!E2979","v":5469},{"$f":"'Market Data'!F2979","v":5592.5},null,2975,{"$f":"IF($H2993<($J$6+1),\"\",PFE(OFFSET($F2993,0,0,-$J$6)))","v":-0.28355098065084966},null,"Short",{"$error":"#N/A"},{"$error":"#N/A"},null,-1,0,"",null,-1,null,-7087.5,283901.67999999924,null,null,null,null,null,null,null,null,null,null,null,null,null,null,null,null,null,null,null,{"$f":"IF(NOT($AS2993=$AS2994),ROW(),\"\")","v":""},{"$f":"IF(NOT(AS2993=AS2994),AS2994,\"\")","v":""},{"$f":"INDEX($AB$15:$AM$15,MATCH($AS2993,$AB$11:$AM$11,0))","v":"in"},{"$f":"LEFT(AT2993,4)","v":"2011"},{"$f":"LEFT(B2993,6)","v":"201109"}]
[null,{"$f":"'Market Data'!B2982","v":20110912},{"$f":"'Market Data'!C2982","v":5271},{"$f":"'Market Data'!D2982","v":5341},{"$f":"'Market Data'!E2982","v":5154},{"$f":"'Market Data'!F2982","v":5272},null,2978,{"$f":"IF($H2996<($J$6+1),\"\",PFE(OFFSET($F2996,0,0,-$J$6)))","v":-0.30732919785308938},null,"Short",{"$error":"#N/A"},{"$error":"#N/A"},null,-1,0,"",null,-1,null,3692.5,295119.17999999924,null,null,null,null,null,null,null,null,null,null,null,null,null,null,null,null,null,null,null,{"$f":"IF(NOT($AS2996=$AS2997),ROW(),\"\")","v":""},{"$f":"IF(NOT(AS2996=AS2997),AS2997,\"\")","v":""},{"$f":"INDEX($AB$15:$AM$15,MATCH($AS2996,$AB$11:$AM$11,0))","v":"in"},{"$f":"LEFT(AT2996,4)","v":"2011"},{"$f":"LEFT(B2996,6)","v":"201109"}]
[null,{"$f":"'Market Data'!B2987","v":20110919},{"$f":"'Market Data'!C2987","v":5669.5},{"$f":"'Market Data'!D2987","v":5689.5},{"$f":"'Market Data'!E2987","v":5552.5},{"$f":"'Market Data'!F2987","v":5627},null,2983,{"$f":"IF($H3001<($J$6+1),\"\",PFE(OFFSET($F3001,0,0,-$J$6)))","v":-0.23194917292243075},null,"Short",{"$error":"#N/A"},{"$error":"#N/A"},null,-1,0,"",null,-1,null,4060,282694.17999999924,null,null,null,null,null,null,null,null,null,null,null,null,null,null,null,null,null,null,null,{"$f":"IF(NOT($AS3001=$AS3002),ROW(),\"\")","v":""},{"$f":"IF(NOT(AS3001=AS3002),AS3002,\"\")","v":""},{"$f":"INDEX($AB$15:$AM$15,MATCH($AS3001,$AB$11:$AM$11,0))","v":"in"},{"$f":"LEFT(AT3001,4)","v":"2011"},{"$f":"LEFT(B3001,6)","v":"201109"}]
[null,{"$f":"'Market Data'!B2990","v":20110922},{"$f":"'Market Data'!C2990","v":5470.5},{"$f":"'Market Data'!D2990","v":5495},{"$f":"'Market Data'!E2990","v":5290},{"$f":"'Market Data'!F2990","v":5359},null,2986,{"$f":"IF($H3004<($J$6+1),\"\",PFE(OFFSET($F3004,0,0,-$J$6)))","v":-0.25144824363972901},null,"Short",{"$error":"#N/A"},{"$error":"#N/A"},null,-1,0,"",null,-1,null,9345,292074.17999999924,null,null,null,null,null,null,null,null,null,null,null,null,null,null,null,null,null,null,null,{"$f":"IF(NOT($AS3004=$AS3005),ROW(),\"\")","v":""},{"$f":"IF(NOT(AS3004=AS3005),AS3005,\"\")","v":""},{"$f":"INDEX($AB$15:$AM$15,MATCH($AS3004,$AB$11:$AM$11,0))","v":"in"},{"$f":"LEFT(AT3004,4)","v":"2011"},{"$f":"LEFT(B3004,6)","v":"201109"}]
[null,{"$f":"'Market Data'!B2999","v":20111005},{"$f":"'Market Data'!C2999","v":5497.5},{"$f":"'Market Data'!D2999","v":5707},{"$f":"'Market Data'!E2999","v":5454.5},{"$f":"'Market Data'!F2999","v":5654.5},null,2995,{"$f":"IF($H3013<($J$6+1),\"\",PFE(OFFSET($F3013,0,0,-$J$6)))","v":-0.18984556215025317},null,"Short",{"$error":"#N/A"},{"$error":"#N/A"},null,-1,0,"",null,-1,null,-8382.5,281731.67999999924,null,null,null,null,null,null,null,null,null,null,null,null,null,null,null,null,null,null,null,{"$f":"IF(NOT($AS3013=$AS3014),ROW(),\"\")","v":""},{"$f":"IF(NOT(AS3013=AS3014),AS3014,\"\")","v":""},{"$f":"INDEX($AB$15:$AM$15,MATCH($AS3013,$AB$11:$AM$11,0))","v":"in"},{"$f":"LEFT(AT3013,4)","v":"2011"},{"$f":"LEFT(B3013,6)","v":"201110"}]
[null,{"$f":"'Market Data'!B3005","v":20111013},{"$f":"'Market Data'!C3005","v":6162},{"$f":"'Market Data'!D3005","v":6228.5},{"$f":"'Market Data'!E3005","v":6067.5},{"$f":"'Market Data'!F3005","v":6094},null,3001,{"$f":"IF($H3019<($J$6+1),\"\",PFE(OFFSET($F3019,0,0,-$J$6)))","v":-0.14335091108760395},null,"Short",{"$error":"#N/A"},{"$error":"#N/A"},null,-1,0,"",null,-1,null,2905,266349.17999999924,null,null,null,null,null,null,null,null,null,null,null,null,null,null,null,null,null,null,null,{"$f":"IF(NOT($AS3019=$AS3020),ROW(),\"\")","v":""},{"$f":"IF(NOT(AS3019=AS3020),AS3020,\"\")","v":""},{"$f":"INDEX($AB$15:$AM$15,MATCH($AS3019,$AB$11:$AM$11,0))","v":"in"},{"$f":"LEFT(AT3019,4)","v":"2011"},{"$f":"LEFT(B3019,6)","v":"201110"}]
[null,{"$f":"'Market Data'!B3010","v":20111020},{"$f":"'Market Data'!C3010","v":6007.5},{"$f":"'Market Data'!D3010","v":6107.5},{"$f":"'Market Data'!E3010","v":5936.5},{"$f":"'Market Data'!F3010","v":5964.5},null,3006,{"$f":"IF($H3024<($J$6+1),\"\",PFE(OFFSET($F3024,0,0,-$J$6)))","v":-0.15197726629953312},null,"Short",{"$error":"#N/A"},{"$error":"#N/A"},null,-1,0,"",null,-1,null,4795,270881.67999999924,null,null,null,null,null,null,null,null,null,null,null,null,null,null,null,null,null,null,null,{"$f":"IF(NOT($AS3024=$AS3025),ROW(),\"\")","v":""},{"$f":"IF(NOT(AS3024=AS3025),AS3025,\"\")","v":""},{"$f":"INDEX($AB$15:$AM$15,MATCH($AS3024,$AB$11:$AM$11,0))","v":"in"},{"$f":"LEFT(AT3024,4)","v":"2011"},{"$f":"LEFT(B3024,6)","v":"201110"}]
[null,{"$f":"'Market Data'!B3016","v":20111028},{"$f":"'Market Data'!C3016","v":6584.5},{"$f":"'Market Data'!D3016","v":6622.5},{"$f":"'Market Data'!E3016","v":6496},{"$f":"'Market Data'!F3016","v":6534},null,3012,{"$f":"IF($H3030<($J$6+1),\"\",PFE(OFFSET($F3030,0,0,-$J$6)))","v":-0.12193555934426219},null,"Short",{"$error":"#N/A"},{"$error":"#N/A"},null,-1,0,"",null,-1,null,{"$f":"IF(OR($S3029&$O3029=\"01\",$S3029&$O3029=\"0-1\"),(($F3030-$C3030)*$V$4*$O3029)-(ABS($P3029)*$V$5),IF(OR($S3029&$O3029=\"10\",$S3029&$O3029=\"-10\"),(($C3030-$F3029)*$V$4*$S3029)-(ABS($P3029)*$V$5),IF(OR($S3029&$O3029=\"1-1\",$S3029&$O3029=\"-11\"),(($C3030-$F3029)*$V$4*$S3029)-(ABS($P3029)*$V$5)+(($F3030-$C3030)*$V$4*$S3030),IF(OR($S3029&$O3029=\"11\",$S3029&$O3029=\"-1-1\"),(($F3030-$F3029)*$V$4*$S3030),0))))","v":-717.5},250949.17999999924,null,null,null,null,null,null,null,null,null,null,null,null,null,null,null,null,null,null,null,{"$f":"IF(NOT($AS3030=$AS3031),ROW(),\"\")","v":""},{"$f":"IF(NOT(AS3030=AS3031),AS3031,\"\")","v":""},{"$f":"INDEX($AB$15:$AM$15,MATCH($AS3030,$AB$11:$AM$11,0))","v":"in"},{"$f":"LEFT(AT3030,4)","v":"2011"},{"$f":"LEFT(B3030,6)","v":"201110"}]
[null,{"$f":"'Market Data'!B3022","v":20111107},{"$f":"'Market Data'!C3022","v":6186},{"$f":"'Market Data'!D3022","v":6217},{"$f":"'Market Data'!E3022","v":6020},{"$f":"'Market Data'!F3022","v":6111},null,3018,{"$f":"IF($H3036<($J$6+1),\"\",PFE(OFFSET($F3036,0,0,-$J$6)))","v":-0.1389612520170074},null,"Short",{"$error":"#N/A"},{"$error":"#N/A"},null,-1,0,"",null,-1,null,2030,265754.17999999924,null,null,null,null,null,null,null,null,null,null,null,null,null,null,null,null,null,null,null,{"$f":"IF(NOT($AS3036=$AS3037),ROW(),\"\")","v":""},{"$f":"IF(NOT(AS3036=AS3037),AS3037,\"\")","v":""},{"$f":"INDEX($AB$15:$AM$15,MATCH($AS3036,$AB$11:$AM$11,0))","v":"in"},{"$f":"LEFT(AT3036,4)","v":"2011"},{"$f":"LEFT(B3036,6)","v":"201111"}]
[null,{"$f":"'Market Data'!B3023","v":20111108},{"$f":"'Market Data'!C3023","v":6137.5},{"$f":"'Market Data'!D3023","v":6276},{"$f":"'Market Data'!E3023","v":6120},{"$f":"'Market Data'!F3023","v":6157},null,3019,{"$f":"IF($H3037<($J$6+1),\"\",PFE(OFFSET($F3037,0,0,-$J$6)))","v":-0.12975279644550072},null,"Short",{"$error":"#N/A"},{"$error":"#N/A"},null,-1,0,"",null,-1,null,-1610,264144.17999999924,null,null,null,null,null,null,null,null,null,null,null,null,null,null,null,null,null,null,null,{"$f":"IF(NOT($AS3037=$AS3038),ROW(),\"\")","v":""},{"$f":"IF(NOT(AS3037=AS3038),AS3038,\"\")","v":""},{"$f":"INDEX($AB$15:$AM$15,MATCH($AS3037,$AB$11:$AM$11,0))","v":"in"},{"$f":"LEFT(AT3037,4)","v":"2011"},{"$f":"LEFT(B3037,6)","v":"201111"}]
[null,{"$f":"'Market Data'!B3031","v":20111118},{"$f":"'Market Data'!C3031","v":5940.5},{"$f":"'Market Data'!D3031","v":6086.5},{"$f":"'Market Data'!E3031","v":5937.5},{"$f":"'Market Data'!F3031","v":6002.5},null,3027,{"$f":"IF($H3045<($J$6+1),\"\",PFE(OFFSET($F3045,0,0,-$J$6)))","v":-0.15449230543335898},null,"Short",{"$error":"#N/A"},{"$error":"#N/A"},null,-1,0,"",null,-1,null,1015,269551.67999999924,null,null,null,null,null,null,null,null,null,null,null,null,null,null,null,null,null,null,null,{"$f":"IF(NOT($AS3045=$AS3046),ROW(),\"\")","v":""},{"$f":"IF(NOT(AS3045=AS3046),AS3046,\"\")","v":""},{"$f":"INDEX($AB$15:$AM$15,MATCH($AS3045,$AB$11:$AM$11,0))","v":"in"},{"$f":"LEFT(AT3045,4)","v":"2011"},{"$f":"LEFT(B3045,6)","v":"201111"}]
[null,{"$f":"'Market Data'!B3034","v":20111123},{"$f":"'Market Data'!C3034","v":5666},{"$f":"'Market Data'!D3034","v":5775},{"$f":"'Market Data'!E3034","v":5635.5},{"$f":"'Market Data'!F3034","v":5662},null,3030,{"$f":"IF($H3048<($J$6+1),\"\",PFE(OFFSET($F3048,0,0,-$J$6)))","v":-0.1669137226171824},null,"Short",{"$error":"#N/A"},{"$error":"#N/A"},null,-1,0,"",null,-1,null,2730,281469.17999999924,null,null,null,null,null,null,null,null,null,null,null,null,null,null,null,null,null,null,null,{"$f":"IF(NOT($AS3048=$AS3049),ROW(),\"\")","v":""},{"$f":"IF(NOT(AS3048=AS3049),AS3049,\"\")","v":""},{"$f":"INDEX($AB$15:$AM$15,MATCH($AS3048,$AB$11:$AM$11,0))","v":"in"},{"$f":"LEFT(AT3048,4)","v":"2011"},{"$f":"LEFT(B3048,6)","v":"201111"}]
[null,{"$f":"'Market Data'!B3040","v":20111201},{"$f":"'Market Data'!C3040","v":6301},{"$f":"'Market Data'!D3040","v":6309},{"$f":"'Market Data'!E3040","v":6200},{"$f":"'Market Data'!F3040","v":6222.5},null,3036,{"$f":"IF($H3054<($J$6+1),\"\",PFE(OFFSET($F3054,0,0,-$J$6)))","v":1.098595719027564E-2},null,"Long",6222.5,{"$error":"#N/A"},null,1,2,"Fill",null,-1,null,1487.5,261851.67999999924,null,null,null,null,null,null,null,null,null,null,null,null,null,null,null,null,null,null,null,{"$f":"IF(NOT($AS3054=$AS3055),ROW(),\"\")","v":""},{"$f":"IF(NOT(AS3054=AS3055),AS3055,\"\")","v":""},{"$f":"INDEX($AB$15:$AM$15,MATCH($AS3054,$AB$11:$AM$11,0))","v":"in"},{"$f":"LEFT(AT3054,4)","v":"2011"},{"$f":"LEFT(B3054,6)","v":"201112"}]
[null,{"$f":"'Market Data'!B3048","v":20111213},{"$f":"'Market Data'!C3048","v":6001.5},{"$f":"'Market Data'!D3048","v":6037},{"$f":"'Market Data'!E3048","v":5882.5},{"$f":"'Market Data'!F3048","v":5952},null,3044,{"$f":"IF($H3062<($J$6+1),\"\",PFE(OFFSET($F3062,0,0,-$J$6)))","v":1.9912385003978354E-2},null,"Long",5952,{"$error":"#N/A"},null,1,2,"Fill",null,-1,null,980,269555.33999999921,null,null,null,null,null,null,null,null,null,null,null,null,null,null,null,null,null,null,null,{"$f":"IF(NOT($AS3062=$AS3063),ROW(),\"\")","v":""},{"$f":"IF(NOT(AS3062=AS3063),AS3063,\"\")","v":""},{"$f":"INDEX($AB$15:$AM$15,MATCH($AS3062,$AB$11:$AM$11,0))","v":"in"},{"$f":"LEFT(AT3062,4)","v":"2011"},{"$f":"LEFT(B3062,6)","v":"201112"}]
[null,{"$f":"'Market Data'!B3052","v":20111219},{"$f":"'Market Data'!C3052","v":5806},{"$f":"'Market Data'!D3052","v":5960},{"$f":"'Market Data'!E3052","v":5788.5},{"$f":"'Market Data'!F3052","v":5848},null,3048,{"$f":"IF($H3066<($J$6+1),\"\",PFE(OFFSET($F3066,0,0,-$J$6)))","v":-9.280606823800313E-3},null,"Short",{"$error":"#N/A"},5848,null,-1,-2,"Fill",null,1,null,-1610,269548.41999999923,null,null,null,null,null,null,null,null,null,null,null,null,null,null,null,null,null,null,null,{"$f":"IF(NOT($AS3066=$AS3067),ROW(),\"\")","v":""},{"$f":"IF(NOT(AS3066=AS3067),AS3067,\"\")","v":""},{"$f":"INDEX($AB$15:$AM$15,MATCH($AS3066,$AB$11:$AM$11,0))","v":"in"},{"$f":"LEFT(AT3066,4)","v":"2011"},{"$f":"LEFT(B3066,6)","v":"201112"}]
[null,{"$f":"'Market Data'!B3057","v":20111227},{"$f":"'Market Data'!C3057","v":6079},{"$f":"'Market Data'!D3057","v":6106},{"$f":"'Market Data'!E3057","v":6058.5},{"$f":"'Market Data'!F3057","v":6080.5},null,3053,{"$f":"IF($H3071<($J$6+1),\"\",PFE(OFFSET($F3071,0,0,-$J$6)))","v":1.4114858349024954E-2},null,"Long",{"$error":"#N/A"},{"$error":"#N/A"},null,1,0,"",null,1,null,717.5,262202.07999999926,null,null,null,null,null,null,null,null,null,null,null,null,null,null,null,null,null,null,null,{"$f":"IF(NOT($AS3071=$AS3072),ROW(),\"\")","v":""},{"$f":"IF(NOT(AS3071=AS3072),AS3072,\"\")","v":""},{"$f":"INDEX($AB$15:$AM$15,MATCH($AS3071,$AB$11:$AM$11,0))","v":"in"},{"$f":"LEFT(AT3071,4)","v":"2011"},{"$f":"LEFT(B3071,6)","v":"201112"}]
[null,{"$f":"'Market Data'!B3063","v":20120104},{"$f":"'Market Data'!C3063","v":6307.5},{"$f":"'Market Data'!D3063","v":6344},{"$f":"'Market Data'!E3063","v":6266.5},{"$f":"'Market Data'!F3063","v":6296.5},null,3059,{"$f":"IF($H3077<($J$6+1),\"\",PFE(OFFSET($F3077,0,0,-$J$6)))","v":8.0506629873435653E-2},null,"Long",{"$error":"#N/A"},{"$error":"#N/A"},null,1,0,"",null,1,null,-1767.5,269762.07999999926,null,null,null,null,null,null,null,null,null,null,null,null,null,null,null,null,null,null,null,{"$f":"IF(NOT($AS3077=$AS3078),ROW(),\"\")","v":""},{"$f":"IF(NOT(AS3077=AS3078),AS3078,\"\")","v":""},{"$f":"INDEX($AB$15:$AM$15,MATCH($AS3077,$AB$11:$AM$11,0))","v":"out"},{"$f":"LEFT(AT3077,4)","v":"2012"},{"$f":"LEFT(B3077,6)","v":"201201"}]
[null,{"$f":"'Market Data'!B3066","v":20120109},{"$f":"'Market Data'!C3066","v":6196.5},{"$f":"'Market Data'!D3066","v":6257.5},{"$f":"'Market Data'!E3066","v":6166.5},{"$f":"'Market Data'!F3066","v":6201.5},null,3062,{"$f":"IF($H3080<($J$6+1),\"\",PFE(OFFSET($F3080,0,0,-$J$6)))","v":0.10267151937086415},null,"Long",{"$error":"#N/A"},{"$error":"#N/A"},null,1,0,"",null,1,null,-1155,266437.07999999926,null,null,null,null,null,null,null,null,null,null,null,null,null,null,null,null,null,null,null,{"$f":"IF(NOT($AS3080=$AS3081),ROW(),\"\")","v":""},{"$f":"IF(NOT(AS3080=AS3081),AS3081,\"\")","v":""},{"$f":"INDEX($AB$15:$AM$15,MATCH($AS3080,$AB$11:$AM$11,0))","v":"out"},{"$f":"LEFT(AT3080,4)","v":"2012"},{"$f":"LEFT(B3080,6)","v":"201201"}]
[null,{"$f":"'Market Data'!B3075","v":20120120},{"$f":"'Market Data'!C3075","v":6601},{"$f":"'Market Data'!D3075","v":6614},{"$f":"'Market Data'!E3075","v":6550},{"$f":"'Market Data'!F3075","v":6587.5},null,3071,{"$f":"IF($H3089<($J$6+1),\"\",PFE(OFFSET($F3089,0,0,-$J$6)))","v":0.13618079563811039},null,"Long",{"$error":"#N/A"},{"$error":"#N/A"},null,1,{"$f":"$O3089-S3089","v":0},"",null,1,null,-140,279947.07999999926,null,null,null,null,null,null,null,null,null,null,null,null,null,null,null,null,null,null,null,{"$f":"IF(NOT($AS3089=$AS3090),ROW(),\"\")","v":""},{"$f":"IF(NOT(AS3089=AS3090),AS3090,\"\")","v":""},{"$f":"INDEX($AB$15:$AM$15,MATCH($AS3089,$AB$11:$AM$11,0))","v":"out"},{"$f":"LEFT(AT3089,4)","v":"2012"},{"$f":"LEFT(B3089,6)","v":"201201"}]
[null,{"$f":"'Market Data'!B3080","v":20120127},{"$f":"'Market Data'!C3080","v":6698},{"$f":"'Market Data'!D3080","v":6753},{"$f":"'Market Data'!E3080","v":6660},{"$f":"'Market Data'!F3080","v":6697},null,3076,{"$f":"IF($H3094<($J$6+1),\"\",PFE(OFFSET($F3094,0,0,-$J$6)))","v":0.1533473928959431},null,"Long",{"$error":"#N/A"},{"$error":"#N/A"},null,1,0,"",null,1,null,{"$f":"IF(OR($S3093&$O3093=\"01\",$S3093&$O3093=\"0-1\"),(($F3094-$C3094)*$V$4*$O3093)-(ABS($P3093)*$V$5),IF(OR($S3093&$O3093=\"10\",$S3093&$O3093=\"-10\"),(($C3094-$F3093)*$V$4*$S3093)-(ABS($P3093)*$V$5),IF(OR($S3093&$O3093=\"1-1\",$S3093&$O3093=\"-11\"),(($C3094-$F3093)*$V$4*$S3093)-(ABS($P3093)*$V$5)+(($F3094-$C3094)*$V$4*$S3094),IF(OR($S3093&$O3093=\"11\",$S3093&$O3093=\"-1-1\"),(($F3094-$F3093)*$V$4*$S3094),0))))","v":-665},283779.57999999926,null,null,null,null,null,null,null,null,null,null,null,null,null,null,null,null,null,null,null,{"$f":"IF(NOT($AS3094=$AS3095),ROW(),\"\")","v":""},{"$f":"IF(NOT(AS3094=AS3095),AS3095,\"\")","v":""},{"$f":"INDEX($AB$15:$AM$15,MATCH($AS3094,$AB$11:$AM$11,0))","v":"out"},{"$f":"LEFT(AT3094,4)","v":"2012"},{"$f":"LEFT(B3094,6)","v":"201201"}]
[null,{"$f":"'Market Data'!B3083","v":20120201},{"$f":"'Market Data'!C3083","v":6649},{"$f":"'Market Data'!D3083","v":6810},{"$f":"'Market Data'!E3083","v":6639.5},{"$f":"'Market Data'!F3083","v":6785.5},null,3079,{"$f":"IF($H3097<($J$6+1),\"\",PFE(OFFSET($F3097,0,0,-$J$6)))","v":0.13751986927914381},null,"Long",{"$error":"#N/A"},{"$error":"#N/A"},null,1,0,"",null,1,null,5005,286877.07999999926,null,null,null,null,null,null,null,null,null,null,null,null,null,null,null,null,null,null,null,{"$f":"IF(NOT($AS3097=$AS3098),ROW(),\"\")","v":""},{"$f":"IF(NOT(AS3097=AS3098),AS3098,\"\")","v":""},{"$f":"INDEX($AB$15:$AM$15,MATCH($AS3097,$AB$11:$AM$11,0))","v":"out"},{"$f":"LEFT(AT3097,4)","v":"2012"},{"$f":"LEFT(B3097,6)","v":"201202"}]
[null,{"$f":"'Market Data'!B3092","v":20120214},{"$f":"'Market Data'!C3092","v":6896},{"$f":"'Market Data'!D3092","v":6970},{"$f":"'Market Data'!E3092","v":6868},{"$f":"'Market Data'!F3092","v":6906.5},null,3088,{"$f":"IF($H3106<($J$6+1),\"\",PFE(OFFSET($F3106,0,0,-$J$6)))","v":0.12080626862529742},null,"Long",{"$error":"#N/A"},{"$error":"#N/A"},null,1,0,"",null,1,null,35,291112.07999999926,null,null,null,null,null,null,null,null,null,null,null,null,null,null,null,null,null,null,null,{"$f":"IF(NOT($AS3106=$AS3107),ROW(),\"\")","v":""},{"$f":"IF(NOT(AS3106=AS3107),AS3107,\"\")","v":""},{"$f":"INDEX($AB$15:$AM$15,MATCH($AS3106,$AB$11:$AM$11,0))","v":"out"},{"$f":"LEFT(AT3106,4)","v":"2012"},{"$f":"LEFT(B3106,6)","v":"201202"}]
[null,{"$f":"'Market Data'!B3098","v":20120222},{"$f":"'Market Data'!C3098","v":7079.5},{"$f":"'Market Data'!D3098","v":7096.5},{"$f":"'Market Data'!E3098","v":6995},{"$f":"'Market Data'!F3098","v":7023.5},null,3094,{"$f":"IF($H3112<($J$6+1),\"\",PFE(OFFSET($F3112,0,0,-$J$6)))","v":8.25296184452467E-2},null,"Long",{"$error":"#N/A"},{"$error":"#N/A"},null,1,0,"",null,1,null,-2327.5,295207.07999999926,null,null,null,null,null,null,null,null,null,null,null,null,null,null,null,null,null,null,null,{"$f":"IF(NOT($AS3112=$AS3113),ROW(),\"\")","v":""},{"$f":"IF(NOT(AS3112=AS3113),AS3113,\"\")","v":""},{"$f":"INDEX($AB$15:$AM$15,MATCH($AS3112,$AB$11:$AM$11,0))","v":"out"},{"$f":"LEFT(AT3112,4)","v":"2012"},{"$f":"LEFT(B3112,6)","v":"201202"}]
[null,{"$f":"'Market Data'!B3099","v":20120223},{"$f":"'Market Data'!C3099","v":7024},{"$f":"'Market Data'!D3099","v":7082},{"$f":"'Market Data'!E3099","v":6906},{"$f":"'Market Data'!F3099","v":6986},null,3095,{"$f":"IF($H3113<($J$6+1),\"\",PFE(OFFSET($F3113,0,0,-$J$6)))","v":7.3202523134261302E-2},null,"Long",{"$error":"#N/A"},{"$error":"#N/A"},null,1,0,"",null,1,null,-1312.5,293894.57999999926,null,null,null,null,null,null,null,null,null,null,null,null,null,null,null,null,null,null,null,{"$f":"IF(NOT($AS3113=$AS3114),ROW(),\"\")","v":""},{"$f":"IF(NOT(AS3113=AS3114),AS3114,\"\")","v":""},{"$f":"INDEX($AB$15:$AM$15,MATCH($AS3113,$AB$11:$AM$11,0))","v":"out"},{"$f":"LEFT(AT3113,4)","v":"2012"},{"$f":"LEFT(B3113,6)","v":"201202"}]
[null,{"$f":"'Market Data'!B3104","v":20120301},{"$f":"'Market Data'!C3104","v":6997},{"$f":"'Market Data'!D3104","v":7136},{"$f":"'Market Data'!E3104","v":6991},{"$f":"'Market Data'!F3104","v":7108},null,3100,{"$f":"IF($H3118<($J$6+1),\"\",PFE(OFFSET($F3118,0,0,-$J$6)))","v":0.17198506895018648},null,"Long",{"$error":"#N/A"},{"$error":"#N/A"},null,1,0,"",null,1,null,2782.5,298164.57999999926,null,null,null,null,null,null,null,null,null,null,null,null,null,null,null,null,null,null,null,{"$f":"IF(NOT($AS3118=$AS3119),ROW(),\"\")","v":""},{"$f":"IF(NOT(AS3118=AS3119),AS3119,\"\")","v":""},{"$f":"INDEX($AB$15:$AM$15,MATCH($AS3118,$AB$11:$AM$11,0))","v":"out"},{"$f":"LEFT(AT3118,4)","v":"2012"},{"$f":"LEFT(B3118,6)","v":"201203"}]
[null,{"$f":"'Market Data'!B3109","v":20120308},{"$f":"'Market Data'!C3109","v":6874},{"$f":"'Market Data'!D3109","v":7049},{"$f":"'Market Data'!E3109","v":6873},{"$f":"'Market Data'!F3109","v":7008},null,3105,{"$f":"IF($H3123<($J$6+1),\"\",PFE(OFFSET($F3123,0,0,-$J$6)))","v":0.14259178990538102},null,"Long",{"$error":"#N/A"},{"$error":"#N/A"},null,1,0,"",null,1,null,5530,294664.57999999926,null,null,null,null,null,null,null,null,null,null,null,null,null,null,null,null,null,null,null,{"$f":"IF(NOT($AS3123=$AS3124),ROW(),\"\")","v":""},{"$f":"IF(NOT(AS3123=AS3124),AS3124,\"\")","v":""},{"$f":"INDEX($AB$15:$AM$15,MATCH($AS3123,$AB$11:$AM$11,0))","v":"out"},{"$f":"LEFT(AT3123,4)","v":"2012"},{"$f":"LEFT(B3123,6)","v":"201203"}]
[null,{"$f":"'Market Data'!B3116","v":20120319},{"$f":"'Market Data'!C3116","v":7344},{"$f":"'Market Data'!D3116","v":7346},{"$f":"'Market Data'!E3116","v":7265},{"$f":"'Market Data'!F3116","v":7324.5},null,3112,{"$f":"IF($H3130<($J$6+1),\"\",PFE(OFFSET($F3130,0,0,-$J$6)))","v":0.29875832452644141},null,"Long",{"$error":"#N/A"},{"$error":"#N/A"},null,1,0,"",null,1,null,-87.5,305742.07999999926,null,null,null,null,null,null,null,null,null,null,null,null,null,null,null,null,null,null,null,{"$f":"IF(NOT($AS3130=$AS3131),ROW(),\"\")","v":""},{"$f":"IF(NOT(AS3130=AS3131),AS3131,\"\")","v":""},{"$f":"INDEX($AB$15:$AM$15,MATCH($AS3130,$AB$11:$AM$11,0))","v":"out"},{"$f":"LEFT(AT3130,4)","v":"2012"},{"$f":"LEFT(B3130,6)","v":"201203"}]
[null,{"$f":"'Market Data'!B3124","v":20120329},{"$f":"'Market Data'!C3124","v":7140.5},{"$f":"'Market Data'!D3124","v":7165.5},{"$f":"'Market Data'!E3124","v":7012.5},{"$f":"'Market Data'!F3124","v":7051},null,3120,{"$f":"IF($H3138<($J$6+1),\"\",PFE(OFFSET($F3138,0,0,-$J$6)))","v":0.15956547288833078},null,"Long",{"$error":"#N/A"},{"$error":"#N/A"},null,1,0,"",null,1,null,-4392.5,296169.57999999926,null,null,null,null,null,null,null,null,null,null,null,null,null,null,null,null,null,null,null,{"$f":"IF(NOT($AS3138=$AS3139),ROW(),\"\")","v":""},{"$f":"IF(NOT(AS3138=AS3139),AS3139,\"\")","v":""},{"$f":"INDEX($AB$15:$AM$15,MATCH($AS3138,$AB$11:$AM$11,0))","v":"out"},{"$f":"LEFT(AT3138,4)","v":"2012"},{"$f":"LEFT(B3138,6)","v":"201203"}]
[null,{"$f":"'Market Data'!B3128","v":20120404},{"$f":"'Market Data'!C3128","v":7090},{"$f":"'Market Data'!D3128","v":7116},{"$f":"'Market Data'!E3128","v":6940},{"$f":"'Market Data'!F3128","v":6944.5},null,3124,{"$f":"IF($H3142<($J$6+1),\"\",PFE(OFFSET($F3142,0,0,-$J$6)))","v":0.17178522157684767},null,"Long",{"$error":"#N/A"},{"$error":"#N/A"},null,1,0,"",null,1,null,-7385,292442.07999999926,null,null,null,null,null,null,null,null,null,null,null,null,null,null,null,null,null,null,null,{"$f":"IF(NOT($AS3142=$AS3143),ROW(),\"\")","v":""},{"$f":"IF(NOT(AS3142=AS3143),AS3143,\"\")","v":""},{"$f":"INDEX($AB$15:$AM$15,MATCH($AS3142,$AB$11:$AM$11,0))","v":"out"},{"$f":"LEFT(AT3142,4)","v":"2012"},{"$f":"LEFT(B3142,6)","v":"201204"}]
[null,{"$f":"'Market Data'!B3133","v":20120413},{"$f":"'Market Data'!C3133","v":6922},{"$f":"'Market Data'!D3133","v":6922},{"$f":"'Market Data'!E3133","v":6716},{"$f":"'Market Data'!F3133","v":6746},null,3129,{"$f":"IF($H3147<($J$6+1),\"\",PFE(OFFSET($F3147,0,0,-$J$6)))","v":0.16010584082279597},null,"Long",{"$error":"#N/A"},{"$error":"#N/A"},null,1,0,"",null,1,null,-5845,285494.57999999926,null,null,null,null,null,null,null,null,null,null,null,null,null,null,null,null,null,null,null,{"$f":"IF(NOT($AS3147=$AS3148),ROW(),\"\")","v":""},{"$f":"IF(NOT(AS3147=AS3148),AS3148,\"\")","v":""},{"$f":"INDEX($AB$15:$AM$15,MATCH($AS3147,$AB$11:$AM$11,0))","v":"out"},{"$f":"LEFT(AT3147,4)","v":"2012"},{"$f":"LEFT(B3147,6)","v":"201204"}]
[null,{"$f":"'Market Data'!B3141","v":20120425},{"$f":"'Market Data'!C3141","v":6772},{"$f":"'Market Data'!D3141","v":6899},{"$f":"'Market Data'!E3141","v":6760},{"$f":"'Market Data'!F3141","v":6878.5},null,3137,{"$f":"IF($H3155<($J$6+1),\"\",PFE(OFFSET($F3155,0,0,-$J$6)))","v":0.16967667371942166},null,"Long",{"$f":"IF(AND($K3155=\"Long\",$K3154<>\"Long\"),$F3155,NA())","v":{"$error":"#N/A"}},{"$f":"IF(AND($K3155=\"Short\",$K3154<>\"Short\"),$F3155,NA())","v":{"$error":"#N/A"}},null,1,0,{"$f":"IF(NOT($P3155=0),\"Fill\",\"\")","v":""},null,1,null,4060,{"$f":"V3154+U3155","v":290132.07999999926},null,null,null,null,null,null,null,null,null,null,null,null,null,null,null,null,null,null,null,{"$f":"IF(NOT($AS3155=$AS3156),ROW(),\"\")","v":""},{"$f":"IF(NOT(AS3155=AS3156),AS3156,\"\")","v":""},{"$f":"INDEX($AB$15:$AM$15,MATCH($AS3155,$AB$11:$AM$11,0))","v":"out"},{"$f":"LEFT(AT3155,4)","v":"2012"},{"$f":"LEFT(B3155,6)","v":"201204"}]
[null,{"$f":"'Market Data'!B3145","v":20120502},{"$f":"'Market Data'!C3145","v":6988},{"$f":"'Market Data'!D3145","v":7043},{"$f":"'Market Data'!E3145","v":6826.5},{"$f":"'Market Data'!F3145","v":6868},null,3141,{"$f":"IF($H3159<($J$6+1),\"\",PFE(OFFSET($F3159,0,0,-$J$6)))","v":0.10141852614580228},null,"Long",{"$error":"#N/A"},{"$error":"#N/A"},null,1,0,"",null,1,null,-2275,289764.57999999926,null,null,null,null,null,null,null,null,null,null,null,null,null,null,null,null,null,null,null,{"$f":"IF(NOT($AS3159=$AS3160),ROW(),\"\")","v":""},{"$f":"IF(NOT(AS3159=AS3160),AS3160,\"\")","v":""},{"$f":"INDEX($AB$15:$AM$15,MATCH($AS3159,$AB$11:$AM$11,0))","v":"out"},{"$f":"LEFT(AT3159,4)","v":"2012"},{"$f":"LEFT(B3159,6)","v":"201205"}]
[null,{"$f":"'Market Data'!B3152","v":20120511},{"$f":"'Market Data'!C3152","v":6619},{"$f":"'Market Data'!D3152","v":6751},{"$f":"'Market Data'!E3152","v":6606},{"$f":"'Market Data'!F3152","v":6743},null,3148,{"$f":"IF($H3166<($J$6+1),\"\",PFE(OFFSET($F3166,0,0,-$J$6)))","v":7.4535305114492537E-2},null,"Long",{"$error":"#N/A"},{"$error":"#N/A"},null,1,0,"",null,1,null,2292.5,285389.57999999926,null,null,null,null,null,null,null,null,null,null,null,null,null,null,null,null,null,null,null,{"$f":"IF(NOT($AS3166=$AS3167),ROW(),\"\")","v":""},{"$f":"IF(NOT(AS3166=AS3167),AS3167,\"\")","v":""},{"$f":"INDEX($AB$15:$AM$15,MATCH($AS3166,$AB$11:$AM$11,0))","v":"out"},{"$f":"LEFT(AT3166,4)","v":"2012"},{"$f":"LEFT(B3166,6)","v":"201205"}]
[null,{"$f":"'Market Data'!B3157","v":20120518},{"$f":"'Market Data'!C3157","v":6383},{"$f":"'Market Data'!D3157","v":6496},{"$f":"'Market Data'!E3157","v":6379.5},{"$f":"'Market Data'!F3157","v":6432.5},null,3153,{"$f":"IF($H3171<($J$6+1),\"\",PFE(OFFSET($F3171,0,0,-$J$6)))","v":-3.4130811278736753E-2},null,"Short",{"$error":"#N/A"},{"$error":"#N/A"},null,-1,0,"",null,-1,null,-5186.92,270875.15999999928,null,null,null,null,null,null,null,null,null,null,null,null,null,null,null,null,null,null,null,{"$f":"IF(NOT($AS3171=$AS3172),ROW(),\"\")","v":""},{"$f":"IF(NOT(AS3171=AS3172),AS3172,\"\")","v":""},{"$f":"INDEX($AB$15:$AM$15,MATCH($AS3171,$AB$11:$AM$11,0))","v":"out"},{"$f":"LEFT(AT3171,4)","v":"2012"},{"$f":"LEFT(B3171,6)","v":"201205"}]
[null,{"$f":"'Market Data'!B3162","v":20120525},{"$f":"'Market Data'!C3162","v":6450.5},{"$f":"'Market Data'!D3162","v":6567},{"$f":"'Market Data'!E3162","v":6437},{"$f":"'Market Data'!F3162","v":6502.5},null,3158,{"$f":"IF($H3176<($J$6+1),\"\",PFE(OFFSET($F3176,0,0,-$J$6)))","v":-4.1981816808112783E-2},null,"Short",{"$error":"#N/A"},{"$error":"#N/A"},null,-1,0,"",null,-1,null,-735,268425.15999999928,null,null,null,null,null,null,null,null,null,null,null,null,null,null,null,null,null,null,null,{"$f":"IF(NOT($AS3176=$AS3177),ROW(),\"\")","v":""},{"$f":"IF(NOT(AS3176=AS3177),AS3177,\"\")","v":""},{"$f":"INDEX($AB$15:$AM$15,MATCH($AS3176,$AB$11:$AM$11,0))","v":"out"},{"$f":"LEFT(AT3176,4)","v":"2012"},{"$f":"LEFT(B3176,6)","v":"201205"}]
[null,{"$f":"'Market Data'!B3167","v":20120601},{"$f":"'Market Data'!C3167","v":6403},{"$f":"'Market Data'!D3167","v":6419.5},{"$f":"'Market Data'!E3167","v":6166.5},{"$f":"'Market Data'!F3167","v":6222.5},null,3163,{"$f":"IF($H3181<($J$6+1),\"\",PFE(OFFSET($F3181,0,0,-$J$6)))","v":-0.11076347203467729},null,"Short",{"$error":"#N/A"},{"$error":"#N/A"},null,-1,0,"",null,-1,null,6107.5,278225.15999999928,null,null,null,null,null,null,null,null,null,null,null,null,null,null,null,null,null,null,null,{"$f":"IF(NOT($AS3181=$AS3182),ROW(),\"\")","v":""},{"$f":"IF(NOT(AS3181=AS3182),AS3182,\"\")","v":""},{"$f":"INDEX($AB$15:$AM$15,MATCH($AS3181,$AB$11:$AM$11,0))","v":"out"},{"$f":"LEFT(AT3181,4)","v":"2012"},{"$f":"LEFT(B3181,6)","v":"201206"}]
[null,{"$f":"'Market Data'!B3169","v":20120605},{"$f":"'Market Data'!C3169","v":6169.5},{"$f":"'Market Data'!D3169","v":6185},{"$f":"'Market Data'!E3169","v":6071},{"$f":"'Market Data'!F3169","v":6124.5},null,3165,{"$f":"IF($H3183<($J$6+1),\"\",PFE(OFFSET($F3183,0,0,-$J$6)))","v":-0.14700359471627078},null,"Short",{"$error":"#N/A"},{"$error":"#N/A"},null,-1,0,"",null,-1,null,455,281655.15999999928,null,null,null,null,null,null,null,null,null,null,null,null,null,null,null,null,null,null,null,{"$f":"IF(NOT($AS3183=$AS3184),ROW(),\"\")","v":""},{"$f":"IF(NOT(AS3183=AS3184),AS3184,\"\")","v":""},{"$f":"INDEX($AB$15:$AM$15,MATCH($AS3183,$AB$11:$AM$11,0))","v":"out"},{"$f":"LEFT(AT3183,4)","v":"2012"},{"$f":"LEFT(B3183,6)","v":"201206"}]
[null,{"$f":"'Market Data'!B3178","v":20120618},{"$f":"'Market Data'!C3178","v":6475.5},{"$f":"'Market Data'!D3178","v":6493},{"$f":"'Market Data'!E3178","v":6379},{"$f":"'Market Data'!F3178","v":6401.5},null,3174,{"$f":"IF($H3192<($J$6+1),\"\",PFE(OFFSET($F3192,0,0,-$J$6)))","v":-0.11043835739051},null,"Short",{"$error":"#N/A"},{"$error":"#N/A"},null,-1,0,"",null,-1,null,-577.5,271960.15999999928,null,null,null,null,null,null,null,null,null,null,null,null,null,null,null,null,null,null,null,{"$f":"IF(NOT($AS3192=$AS3193),ROW(),\"\")","v":""},{"$f":"IF(NOT(AS3192=AS3193),AS3193,\"\")","v":""},{"$f":"INDEX($AB$15:$AM$15,MATCH($AS3192,$AB$11:$AM$11,0))","v":"out"},{"$f":"LEFT(AT3192,4)","v":"2012"},{"$f":"LEFT(B3192,6)","v":"201206"}]
[null,{"$f":"'Market Data'!B3181","v":20120621},{"$f":"'Market Data'!C3181","v":6516.5},{"$f":"'Market Data'!D3181","v":6585},{"$f":"'Market Data'!E3181","v":6420.5},{"$f":"'Market Data'!F3181","v":6509},null,3177,{"$f":"IF($H3195<($J$6+1),\"\",PFE(OFFSET($F3195,0,0,-$J$6)))","v":-9.2968077508529937E-2},null,"Short",{"$error":"#N/A"},{"$error":"#N/A"},null,-1,0,"",null,-1,null,1347.5,268197.65999999928,null,null,null,null,null,null,null,null,null,null,null,null,null,null,null,null,null,null,null,{"$f":"IF(NOT($AS3195=$AS3196),ROW(),\"\")","v":""},{"$f":"IF(NOT(AS3195=AS3196),AS3196,\"\")","v":""},{"$f":"INDEX($AB$15:$AM$15,MATCH($AS3195,$AB$11:$AM$11,0))","v":"out"},{"$f":"LEFT(AT3195,4)","v":"2012"},{"$f":"LEFT(B3195,6)","v":"201206"}]
[null,{"$f":"'Market Data'!B3187","v":20120629},{"$f":"'Market Data'!C3187","v":6443.5},{"$f":"'Market Data'!D3187","v":6592},{"$f":"'Market Data'!E3187","v":6417.5},{"$f":"'Market Data'!F3187","v":6565},null,3183,{"$f":"IF($H3201<($J$6+1),\"\",PFE(OFFSET($F3201,0,0,-$J$6)))","v":-9.1763864507392559E-2},null,"Short",{"$error":"#N/A"},{"$error":"#N/A"},null,-1,0,"",null,-1,null,-9117.5,266237.65999999928,null,null,null,null,null,null,null,null,null,null,null,null,null,null,null,null,null,null,null,{"$f":"IF(NOT($AS3201=$AS3202),ROW(),\"\")","v":""},{"$f":"IF(NOT(AS3201=AS3202),AS3202,\"\")","v":""},{"$f":"INDEX($AB$15:$AM$15,MATCH($AS3201,$AB$11:$AM$11,0))","v":"out"},{"$f":"LEFT(AT3201,4)","v":"2012"},{"$f":"LEFT(B3201,6)","v":"201206"}]
[null,{"$f":"'Market Data'!B3191","v":20120705},{"$f":"'Market Data'!C3191","v":6711},{"$f":"'Market Data'!D3191","v":6801},{"$f":"'Market Data'!E3191","v":6631.5},{"$f":"'Market Data'!F3191","v":6691.5},null,3187,{"$f":"IF($H3205<($J$6+1),\"\",PFE(OFFSET($F3205,0,0,-$J$6)))","v":-3.0327159624153624E-2},null,"Short",{"$error":"#N/A"},{"$error":"#N/A"},null,-1,0,"",null,-1,null,822.5,261810.15999999928,null,null,null,null,null,null,null,null,null,null,null,null,null,null,null,null,null,null,null,{"$f":"IF(NOT($AS3205=$AS3206),ROW(),\"\")","v":""},{"$f":"IF(NOT(AS3205=AS3206),AS3206,\"\")","v":""},{"$f":"INDEX($AB$15:$AM$15,MATCH($AS3205,$AB$11:$AM$11,0))","v":"out"},{"$f":"LEFT(AT3205,4)","v":"2012"},{"$f":"LEFT(B3205,6)","v":"201207"}]
[null,{"$f":"'Market Data'!B3192","v":20120706},{"$f":"'Market Data'!C3192","v":6670.5},{"$f":"'Market Data'!D3192","v":6690.5},{"$f":"'Market Data'!E3192","v":6559.5},{"$f":"'Market Data'!F3192","v":6568},null,3188,{"$f":"IF($H3206<($J$6+1),\"\",PFE(OFFSET($F3206,0,0,-$J$6)))","v":-7.6343627753180598E-2},null,"Short",{"$error":"#N/A"},{"$error":"#N/A"},null,-1,0,"",null,-1,null,4322.5,266132.65999999928,null,null,null,null,null,null,null,null,null,null,null,null,null,null,null,null,null,null,null,{"$f":"IF(NOT($AS3206=$AS3207),ROW(),\"\")","v":""},{"$f":"IF(NOT(AS3206=AS3207),AS3207,\"\")","v":""},{"$f":"INDEX($AB$15:$AM$15,MATCH($AS3206,$AB$11:$AM$11,0))","v":"out"},{"$f":"LEFT(AT3206,4)","v":"2012"},{"$f":"LEFT(B3206,6)","v":"201207"}]
[null,{"$f":"'Market Data'!B3193","v":20120709},{"$f":"'Market Data'!C3193","v":6559.5},{"$f":"'Market Data'!D3193","v":6578.5},{"$f":"'Market Data'!E3193","v":6531.5},{"$f":"'Market Data'!F3193","v":6553},null,3189,{"$f":"IF($H3207<($J$6+1),\"\",PFE(OFFSET($F3207,0,0,-$J$6)))","v":-8.8796598058000553E-2},null,"Short",{"$error":"#N/A"},{"$error":"#N/A"},null,-1,0,"",null,-1,null,525,266657.65999999928,null,null,null,null,null,null,null,null,null,null,null,null,null,null,null,null,null,null,null,{"$f":"IF(NOT($AS3207=$AS3208),ROW(),\"\")","v":""},{"$f":"IF(NOT(AS3207=AS3208),AS3208,\"\")","v":""},{"$f":"INDEX($AB$15:$AM$15,MATCH($AS3207,$AB$11:$AM$11,0))","v":"out"},{"$f":"LEFT(AT3207,4)","v":"2012"},{"$f":"LEFT(B3207,6)","v":"201207"}]
[null,{"$f":"'Market Data'!B3194","v":20120710},{"$f":"'Market Data'!C3194","v":6548},{"$f":"'Market Data'!D3194","v":6648},{"$f":"'Market Data'!E3194","v":6504},{"$f":"'Market Data'!F3194","v":6603.5},null,3190,{"$f":"IF($H3208<($J$6+1),\"\",PFE(OFFSET($F3208,0,0,-$J$6)))","v":-8.1103294592604208E-2},null,"Short",{"$error":"#N/A"},{"$error":"#N/A"},null,-1,0,"",null,-1,null,-1767.5,264890.15999999928,null,null,null,null,null,null,null,null,null,null,null,null,null,null,null,null,null,null,null,{"$f":"IF(NOT($AS3208=$AS3209),ROW(),\"\")","v":""},{"$f":"IF(NOT(AS3208=AS3209),AS3209,\"\")","v":""},{"$f":"INDEX($AB$15:$AM$15,MATCH($AS3208,$AB$11:$AM$11,0))","v":"out"},{"$f":"LEFT(AT3208,4)","v":"2012"},{"$f":"LEFT(B3208,6)","v":"201207"}]
[null,{"$f":"'Market Data'!B3195","v":20120711},{"$f":"'Market Data'!C3195","v":6572.5},{"$f":"'Market Data'!D3195","v":6657},{"$f":"'Market Data'!E3195","v":6555},{"$f":"'Market Data'!F3195","v":6605},null,3191,{"$f":"IF($H3209<($J$6+1),\"\",PFE(OFFSET($F3209,0,0,-$J$6)))","v":-9.9814967026553791E-2},null,"Short",{"$error":"#N/A"},{"$error":"#N/A"},null,-1,0,"",null,-1,null,-52.5,264837.65999999928,null,null,null,null,null,null,null,null,null,null,null,null,null,null,null,null,null,null,null,{"$f":"IF(NOT($AS3209=$AS3210),ROW(),\"\")","v":""},{"$f":"IF(NOT(AS3209=AS3210),AS3210,\"\")","v":""},{"$f":"INDEX($AB$15:$AM$15,MATCH($AS3209,$AB$11:$AM$11,0))","v":"out"},{"$f":"LEFT(AT3209,4)","v":"2012"},{"$f":"LEFT(B3209,6)","v":"201207"}]
[null,{"$f":"'Market Data'!B3196","v":20120712},{"$f":"'Market Data'!C3196","v":6581.5},{"$f":"'Market Data'!D3196","v":6616.5},{"$f":"'Market Data'!E3196","v":6520.5},{"$f":"'Market Data'!F3196","v":6578.5},null,3192,{"$f":"IF($H3210<($J$6+1),\"\",PFE(OFFSET($F3210,0,0,-$J$6)))","v":-0.12039787364952355},null,"Short",{"$error":"#N/A"},{"$error":"#N/A"},null,-1,0,"",null,-1,null,927.5,265765.15999999928,null,null,null,null,null,null,null,null,null,null,null,null,null,null,null,null,null,null,null,{"$f":"IF(NOT($AS3210=$AS3211),ROW(),\"\")","v":""},{"$f":"IF(NOT(AS3210=AS3211),AS3211,\"\")","v":""},{"$f":"INDEX($AB$15:$AM$15,MATCH($AS3210,$AB$11:$AM$11,0))","v":"out"},{"$f":"LEFT(AT3210,4)","v":"2012"},{"$f":"LEFT(B3210,6)","v":"201207"}]
[null,{"$f":"'Market Data'!B3197","v":20120713},{"$f":"'Market Data'!C3197","v":6617.5},{"$f":"'Market Data'!D3197","v":6731},{"$f":"'Market Data'!E3197","v":6591},{"$f":"'Market Data'!F3197","v":6696},null,3193,{"$f":"IF($H3211<($J$6+1),\"\",PFE(OFFSET($F3211,0,0,-$J$6)))","v":-0.10901426446529178},null,"Short",{"$error":"#N/A"},{"$error":"#N/A"},null,-1,0,"",null,-1,null,-4112.5,261652.65999999928,null,null,null,null,null,null,null,null,null,null,null,null,null,null,null,null,null,null,null,{"$f":"IF(NOT($AS3211=$AS3212),ROW(),\"\")","v":""},{"$f":"IF(NOT(AS3211=AS3212),AS3212,\"\")","v":""},{"$f":"INDEX($AB$15:$AM$15,MATCH($AS3211,$AB$11:$AM$11,0))","v":"out"},{"$f":"LEFT(AT3211,4)","v":"2012"},{"$f":"LEFT(B3211,6)","v":"201207"}]
[null,{"$f":"'Market Data'!B3198","v":20120716},{"$f":"'Market Data'!C3198","v":6708.5},{"$f":"'Market Data'!D3198","v":6732},{"$f":"'Market Data'!E3198","v":6664},{"$f":"'Market Data'!F3198","v":6729.5},null,3194,{"$f":"IF($H3212<($J$6+1),\"\",PFE(OFFSET($F3212,0,0,-$J$6)))","v":-0.10417175687377492},null,"Short",{"$error":"#N/A"},{"$error":"#N/A"},null,-1,0,"",null,-1,null,-1172.5,260480.15999999928,null,null,null,null,null,null,null,null,null,null,null,null,null,null,null,null,null,null,null,{"$f":"IF(NOT($AS3212=$AS3213),ROW(),\"\")","v":""},{"$f":"IF(NOT(AS3212=AS3213),AS3213,\"\")","v":""},{"$f":"INDEX($AB$15:$AM$15,MATCH($AS3212,$AB$11:$AM$11,0))","v":"out"},{"$f":"LEFT(AT3212,4)","v":"2012"},{"$f":"LEFT(B3212,6)","v":"201207"}]
[null,{"$f":"'Market Data'!B3199","v":20120717},{"$f":"'Market Data'!C3199","v":6740},{"$f":"'Market Data'!D3199","v":6783.5},{"$f":"'Market Data'!E3199","v":6695.5},{"$f":"'Market Data'!F3199","v":6721.5},null,3195,{"$f":"IF($H3213<($J$6+1),\"\",PFE(OFFSET($F3213,0,0,-$J$6)))","v":-0.1050152097887975},null,"Short",{"$error":"#N/A"},{"$error":"#N/A"},null,-1,0,"",null,-1,null,280,260760.15999999928,null,null,null,null,null,null,null,null,null,null,null,null,null,null,null,null,null,null,null,{"$f":"IF(NOT($AS3213=$AS3214),ROW(),\"\")","v":""},{"$f":"IF(NOT(AS3213=AS3214),AS3214,\"\")","v":""},{"$f":"INDEX($AB$15:$AM$15,MATCH($AS3213,$AB$11:$AM$11,0))","v":"out"},{"$f":"LEFT(AT3213,4)","v":"2012"},{"$f":"LEFT(B3213,6)","v":"201207"}]
[null,{"$f":"'Market Data'!B3200","v":20120718},{"$f":"'Market Data'!C3200","v":6743.5},{"$f":"'Market Data'!D3200","v":6852},{"$f":"'Market Data'!E3200","v":6733},{"$f":"'Market Data'!F3200","v":6835},null,3196,{"$f":"IF($H3214<($J$6+1),\"\",PFE(OFFSET($F3214,0,0,-$J$6)))","v":-6.8705279397084512E-2},null,"Short",{"$error":"#N/A"},{"$error":"#N/A"},null,-1,0,"",null,-1,null,-3972.5,256787.65999999928,null,null,null,null,null,null,null,null,null,null,null,null,null,null,null,null,null,null,null,{"$f":"IF(NOT($AS3214=$AS3215),ROW(),\"\")","v":""},{"$f":"IF(NOT(AS3214=AS3215),AS3215,\"\")","v":""},{"$f":"INDEX($AB$15:$AM$15,MATCH($AS3214,$AB$11:$AM$11,0))","v":"out"},{"$f":"LEFT(AT3214,4)","v":"2012"},{"$f":"LEFT(B3214,6)","v":"201207"}]
[null,{"$f":"'Market Data'!B3201","v":20120719},{"$f":"'Market Data'!C3201","v":6866.5},{"$f":"'Market Data'!D3201","v":6930},{"$f":"'Market Data'!E3201","v":6852.5},{"$f":"'Market Data'!F3201","v":6906.5},null,3197,{"$f":"IF($H3215<($J$6+1),\"\",PFE(OFFSET($F3215,0,0,-$J$6)))","v":-5.9712588803379776E-2},null,"Short",{"$error":"#N/A"},{"$error":"#N/A"},null,-1,0,"",null,-1,null,-2502.5,254285.15999999928,null,null,null,null,null,null,null,null,null,null,null,null,null,null,null,null,null,null,null,{"$f":"IF(NOT($AS3215=$AS3216),ROW(),\"\")","v":""},{"$f":"IF(NOT(AS3215=AS3216),AS3216,\"\")","v":""},{"$f":"INDEX($AB$15:$AM$15,MATCH($AS3215,$AB$11:$AM$11,0))","v":"out"},{"$f":"LEFT(AT3215,4)","v":"2012"},{"$f":"LEFT(B3215,6)","v":"201207"}]
[null,{"$f":"'Market Data'!B3202","v":20120720},{"$f":"'Market Data'!C3202","v":6895.5},{"$f":"'Market Data'!D3202","v":6935},{"$f":"'Market Data'!E3202","v":6774.5},{"$f":"'Market Data'!F3202","v":6787},null,3198,{"$f":"IF($H3216<($J$6+1),\"\",PFE(OFFSET($F3216,0,0,-$J$6)))","v":-6.398010859468313E-2},null,"Short",{"$error":"#N/A"},{"$error":"#N/A"},null,-1,0,"",null,-1,null,4182.5,258467.65999999928,null,null,null,null,null,null,null,null,null,null,null,null,null,null,null,null,null,null,null,{"$f":"IF(NOT($AS3216=$AS3217),ROW(),\"\")","v":""},{"$f":"IF(NOT(AS3216=AS3217),AS3217,\"\")","v":""},{"$f":"INDEX($AB$15:$AM$15,MATCH($AS3216,$AB$11:$AM$11,0))","v":"out"},{"$f":"LEFT(AT3216,4)","v":"2012"},{"$f":"LEFT(B3216,6)","v":"201207"}]
[null,{"$f":"'Market Data'!B3203","v":20120723},{"$f":"'Market Data'!C3203","v":6699.5},{"$f":"'Market Data'!D3203","v":6729},{"$f":"'Market Data'!E3203","v":6524.5},{"$f":"'Market Data'!F3203","v":6580.5},null,3199,{"$f":"IF($H3217<($J$6+1),\"\",PFE(OFFSET($F3217,0,0,-$J$6)))","v":-9.881532786346986E-2},null,"Short",{"$error":"#N/A"},{"$error":"#N/A"},null,-1,{"$f":"$O3217-S3217","v":0},"",null,-1,null,7227.5,265695.15999999928,null,null,null,null,null,null,null,null,null,null,null,null,null,null,null,null,null,null,null,{"$f":"IF(NOT($AS3217=$AS3218),ROW(),\"\")","v":""},{"$f":"IF(NOT(AS3217=AS3218),AS3218,\"\")","v":""},{"$f":"INDEX($AB$15:$AM$15,MATCH($AS3217,$AB$11:$AM$11,0))","v":"out"},{"$f":"LEFT(AT3217,4)","v":"2012"},{"$f":"LEFT(B3217,6)","v":"201207"}]
[null,{"$f":"'Market Data'!B3204","v":20120724},{"$f":"'Market Data'!C3204","v":6593.5},{"$f":"'Market Data'!D3204","v":6611},{"$f":"'Market Data'!E3204","v":6467.5},{"$f":"'Market Data'!F3204","v":6559},null,3200,{"$f":"IF($H3218<($J$6+1),\"\",PFE(OFFSET($F3218,0,0,-$J$6)))","v":-0.11577134845928219},null,"Short",{"$error":"#N/A"},{"$error":"#N/A"},null,-1,0,"",null,{"$f":"IF($Q3217=\"Fill\",$O3217,$S3217)","v":-1},null,752.5,266447.65999999928,null,null,null,null,null,null,null,null,null,null,null,null,null,null,null,null,null,null,null,{"$f":"IF(NOT($AS3218=$AS3219),ROW(),\"\")","v":""},{"$f":"IF(NOT(AS3218=AS3219),AS3219,\"\")","v":""},{"$f":"INDEX($AB$15:$AM$15,MATCH($AS3218,$AB$11:$AM$11,0))","v":"out"},{"$f":"LEFT(AT3218,4)","v":"2012"},{"$f":"LEFT(B3218,6)","v":"201207"}]
[null,{"$f":"'Market Data'!B3205","v":20120725},{"$f":"'Market Data'!C3205","v":6498.5},{"$f":"'Market Data'!D3205","v":6630.5},{"$f":"'Market Data'!E3205","v":6495},{"$f":"'Market Data'!F3205","v":6556},null,3201,{"$f":"IF($H3219<($J$6+1),\"\",PFE(OFFSET($F3219,0,0,-$J$6)))","v":-0.11606750671043203},null,"Short",{"$f":"IF(AND($K3219=\"Long\",$K3218<>\"Long\"),$F3219,NA())","v":{"$error":"#N/A"}},{"$f":"IF(AND($K3219=\"Short\",$K3218<>\"Short\"),$F3219,NA())","v":{"$error":"#N/A"}},null,-1,0,{"$f":"IF(NOT($P3219=0),\"Fill\",\"\")","v":""},null,-1,null,105,{"$f":"V3218+U3219","v":266552.65999999928},null,null,null,null,null,null,null,null,null,null,null,null,null,null,null,null,null,null,null,{"$f":"IF(NOT($AS3219=$AS3220),ROW(),\"\")","v":""},{"$f":"IF(NOT(AS3219=AS3220),AS3220,\"\")","v":""},{"$f":"INDEX($AB$15:$AM$15,MATCH($AS3219,$AB$11:$AM$11,0))","v":"out"},{"$f":"LEFT(AT3219,4)","v":"2012"},{"$f":"LEFT(B3219,6)","v":"201207"}]
[null,{"$f":"'Market Data'!B3206","v":20120726},{"$f":"'Market Data'!C3206","v":6561},{"$f":"'Market Data'!D3206","v":6751},{"$f":"'Market Data'!E3206","v":6476.5},{"$f":"'Market Data'!F3206","v":6728.5},null,{"$f":"ROW()-ROW(H$18)","v":3202},{"$f":"IF($H3220<($J$6+1),\"\",PFE(OFFSET($F3220,0,0,-$J$6)))","v":-7.4437560235038669E-2},null,{"$f":"IF($I3220=\"\",\"\",IF($I3220>$J$4,\"Long\",IF($I3220<$J$5,\"Short\",\"\")))","v":"Short"},{"$error":"#N/A"},{"$error":"#N/A"},null,{"$f":"IF($K3220=\"Short\",-1,IF($K3220=\"Long\",1,0))","v":-1},0,"",null,-1,null,-6037.5,260515.15999999928,null,null,null,null,null,null,null,null,null,null,null,null,null,null,null,null,null,null,null,{"$f":"IF(NOT($AS3220=$AS3221),ROW(),\"\")","v":""},{"$f":"IF(NOT(AS3220=AS3221),AS3221,\"\")","v":""},{"$f":"INDEX($AB$15:$AM$15,MATCH($AS3220,$AB$11:$AM$11,0))","v":"out"},{"$f":"LEFT(AT3220,4)","v":"2012"},{"$f":"LEFT(B3220,6)","v":"201207"}]
[null,{"$f":"'Market Data'!B3207","v":20120727},{"$f":"'Market Data'!C3207","v":6766},{"$f":"'Market Data'!D3207","v":6971},{"$f":"'Market Data'!E3207","v":6667},{"$f":"'Market Data'!F3207","v":6836},null,3203,{"$f":"IF($H3221<($J$6+1),\"\",PFE(OFFSET($F3221,0,0,-$J$6)))","v":-3.7763241718700297E-2},null,"Short",{"$error":"#N/A"},{"$error":"#N/A"},null,-1,0,"",null,-1,null,-3762.5,256752.65999999928,null,null,null,null,null,null,null,null,null,null,null,null,null,null,null,null,null,null,null,{"$f":"IF(NOT($AS3221=$AS3222),ROW(),\"\")","v":""},{"$f":"IF(NOT(AS3221=AS3222),AS3222,\"\")","v":""},{"$f":"INDEX($AB$15:$AM$15,MATCH($AS3221,$AB$11:$AM$11,0))","v":"out"},{"$f":"LEFT(AT3221,4)","v":"2012"},{"$f":"LEFT(B3221,6)","v":"201207"}]
[null,{"$f":"'Market Data'!B3208","v":20120730},{"$f":"'Market Data'!C3208","v":6910},{"$f":"'Market Data'!D3208","v":6951.5},{"$f":"'Market Data'!E3208","v":6856.5},{"$f":"'Market Data'!F3208","v":6936},null,3204,{"$f":"IF($H3222<($J$6+1),\"\",PFE(OFFSET($F3222,0,0,-$J$6)))","v":-3.2754131834107303E-2},null,"Short",{"$error":"#N/A"},{"$error":"#N/A"},null,-1,0,"",null,-1,null,{"$f":"IF(OR($S3221&$O3221=\"01\",$S3221&$O3221=\"0-1\"),(($F3222-$C3222)*$V$4*$O3221)-(ABS($P3221)*$V$5),IF(OR($S3221&$O3221=\"10\",$S3221&$O3221=\"-10\"),(($C3222-$F3221)*$V$4*$S3221)-(ABS($P3221)*$V$5),IF(OR($S3221&$O3221=\"1-1\",$S3221&$O3221=\"-11\"),(($C3222-$F3221)*$V$4*$S3221)-(ABS($P3221)*$V$5)+(($F3222-$C3222)*$V$4*$S3222),IF(OR($S3221&$O3221=\"11\",$S3221&$O3221=\"-1-1\"),(($F3222-$F3221)*$V$4*$S3222),0))))","v":-3500},253252.65999999928,null,null,null,null,null,null,null,null,null,null,null,null,null,null,null,null,null,null,null,{"$f":"IF(NOT($AS3222=$AS3223),ROW(),\"\")","v":""},{"$f":"IF(NOT(AS3222=AS3223),AS3223,\"\")","v":""},{"$f":"INDEX($AB$15:$AM$15,MATCH($AS3222,$AB$11:$AM$11,0))","v":"out"},{"$f":"LEFT(AT3222,4)","v":"2012"},{"$f":"LEFT(B3222,6)","v":"201207"}]
[null,{"$f":"'Market Data'!B3209","v":20120731},{"$f":"'Market Data'!C3209","v":6964},{"$f":"'Market Data'!D3209","v":6991.5},{"$f":"'Market Data'!E3209","v":6908.5},{"$f":"'Market Data'!F3209","v":6937.5},null,3205,{"$f":"IF($H3223<($J$6+1),\"\",PFE(OFFSET($F3223,0,0,-$J$6)))","v":-4.9536028662877901E-2},null,"Short",{"$error":"#N/A"},{"$error":"#N/A"},null,-1,0,"",null,-1,null,-52.5,253200.15999999928,null,null,null,null,null,null,null,null,null,null,null,null,null,null,null,null,null,null,null,{"$f":"IF(NOT($AS3223=$AS3224),ROW(),\"\")","v":""},{"$f":"IF(NOT(AS3223=AS3224),AS3224,\"\")","v":""},{"$f":"INDEX($AB$15:$AM$15,MATCH($AS3223,$AB$11:$AM$11,0))","v":"out"},{"$f":"LEFT(AT3223,4)","v":"2012"},{"$f":"LEFT(B3223,6)","v":"201207"}]
[null,{"$f":"'Market Data'!B3210","v":20120801},{"$f":"'Market Data'!C3210","v":6930},{"$f":"'Market Data'!D3210","v":6957},{"$f":"'Market Data'!E3210","v":6879.5},{"$f":"'Market Data'!F3210","v":6911.5},null,3206,{"$f":"IF($H3224<($J$6+1),\"\",PFE(OFFSET($F3224,0,0,-$J$6)))","v":-4.3039772407111751E-2},null,"Short",{"$error":"#N/A"},{"$error":"#N/A"},null,-1,0,"",null,-1,null,910,254110.15999999928,null,null,null,null,null,null,null,null,null,null,null,null,null,null,null,null,null,null,null,{"$f":"IF(NOT($AS3224=$AS3225),ROW(),\"\")","v":""},{"$f":"IF(NOT(AS3224=AS3225),AS3225,\"\")","v":""},{"$f":"INDEX($AB$15:$AM$15,MATCH($AS3224,$AB$11:$AM$11,0))","v":"out"},{"$f":"LEFT(AT3224,4)","v":"2012"},{"$f":"LEFT(B3224,6)","v":"201208"}]
[null,{"$f":"'Market Data'!B3211","v":20120802},{"$f":"'Market Data'!C3211","v":6920},{"$f":"'Market Data'!D3211","v":7017.5},{"$f":"'Market Data'!E3211","v":6705.5},{"$f":"'Market Data'!F3211","v":6766.5},null,3207,{"$f":"IF($H3225<($J$6+1),\"\",PFE(OFFSET($F3225,0,0,-$J$6)))","v":-3.316339979114559E-2},null,"Short",{"$error":"#N/A"},{"$error":"#N/A"},null,-1,0,"",null,-1,null,5075,259185.15999999928,null,null,null,null,null,null,null,null,null,null,null,null,null,null,null,null,null,null,null,{"$f":"IF(NOT($AS3225=$AS3226),ROW(),\"\")","v":""},{"$f":"IF(NOT(AS3225=AS3226),AS3226,\"\")","v":""},{"$f":"INDEX($AB$15:$AM$15,MATCH($AS3225,$AB$11:$AM$11,0))","v":"out"},{"$f":"LEFT(AT3225,4)","v":"2012"},{"$f":"LEFT(B3225,6)","v":"201208"}]
[null,{"$f":"'Market Data'!B3212","v":20120803},{"$f":"'Market Data'!C3212","v":6765.5},{"$f":"'Market Data'!D3212","v":7044},{"$f":"'Market Data'!E3212","v":6760},{"$f":"'Market Data'!F3212","v":7021},null,3208,{"$f":"IF($H3226<($J$6+1),\"\",PFE(OFFSET($F3226,0,0,-$J$6)))","v":1.7906051080824183E-2},null,"Long",7021,{"$error":"#N/A"},null,1,2,"Fill",null,-1,null,-8907.5,250277.65999999928,null,null,null,null,null,null,null,null,null,null,null,null,null,null,null,null,null,null,null,{"$f":"IF(NOT($AS3226=$AS3227),ROW(),\"\")","v":""},{"$f":"IF(NOT(AS3226=AS3227),AS3227,\"\")","v":""},{"$f":"INDEX($AB$15:$AM$15,MATCH($AS3226,$AB$11:$AM$11,0))","v":"out"},{"$f":"LEFT(AT3226,4)","v":"2012"},{"$f":"LEFT(B3226,6)","v":"201208"}]
[null,{"$f":"'Market Data'!B3213","v":20120806},{"$f":"'Market Data'!C3213","v":7022.5},{"$f":"'Market Data'!D3213","v":7098.5},{"$f":"'Market Data'!E3213","v":7000.5},{"$f":"'Market Data'!F3213","v":7074.5},null,3209,{"$f":"IF($H3227<($J$6+1),\"\",PFE(OFFSET($F3227,0,0,-$J$6)))","v":4.7674066923114398E-2},null,"Long",{"$error":"#N/A"},{"$error":"#N/A"},null,1,0,"",null,1,null,1585.58,251863.23999999926,null,null,null,null,null,null,null,null,null,null,null,null,null,null,null,null,null,null,null,{"$f":"IF(NOT($AS3227=$AS3228),ROW(),\"\")","v":""},{"$f":"IF(NOT(AS3227=AS3228),AS3228,\"\")","v":""},{"$f":"INDEX($AB$15:$AM$15,MATCH($AS3227,$AB$11:$AM$11,0))","v":"out"},{"$f":"LEFT(AT3227,4)","v":"2012"},{"$f":"LEFT(B3227,6)","v":"201208"}]
[null,{"$f":"'Market Data'!B3214","v":20120807},{"$f":"'Market Data'!C3214","v":7063.5},{"$f":"'Market Data'!D3214","v":7143.5},{"$f":"'Market Data'!E3214","v":7050},{"$f":"'Market Data'!F3214","v":7118},null,3210,{"$f":"IF($H3228<($J$6+1),\"\",PFE(OFFSET($F3228,0,0,-$J$6)))","v":4.9097431163664912E-2},null,"Long",{"$error":"#N/A"},{"$error":"#N/A"},null,1,0,"",null,1,null,1522.5,253385.73999999926,null,null,null,null,null,null,null,null,null,null,null,null,null,null,null,null,null,null,null,{"$f":"IF(NOT($AS3228=$AS3229),ROW(),\"\")","v":""},{"$f":"IF(NOT(AS3228=AS3229),AS3229,\"\")","v":""},{"$f":"INDEX($AB$15:$AM$15,MATCH($AS3228,$AB$11:$AM$11,0))","v":"out"},{"$f":"LEFT(AT3228,4)","v":"2012"},{"$f":"LEFT(B3228,6)","v":"201208"}]
[null,{"$f":"'Market Data'!B3215","v":20120808},{"$f":"'Market Data'!C3215","v":7112},{"$f":"'Market Data'!D3215","v":7125.5},{"$f":"'Market Data'!E3215","v":7061},{"$f":"'Market Data'!F3215","v":7114.5},null,3211,{"$f":"IF($H3229<($J$6+1),\"\",PFE(OFFSET($F3229,0,0,-$J$6)))","v":3.6280340554071797E-2},null,"Long",{"$error":"#N/A"},{"$error":"#N/A"},null,1,0,"",null,1,null,-122.5,253263.23999999926,null,null,null,null,null,null,null,null,null,null,null,null,null,null,null,null,null,null,null,{"$f":"IF(NOT($AS3229=$AS3230),ROW(),\"\")","v":""},{"$f":"IF(NOT(AS3229=AS3230),AS3230,\"\")","v":""},{"$f":"INDEX($AB$15:$AM$15,MATCH($AS3229,$AB$11:$AM$11,0))","v":"out"},{"$f":"LEFT(AT3229,4)","v":"2012"},{"$f":"LEFT(B3229,6)","v":"201208"}]
[null,{"$f":"'Market Data'!B3216","v":20120809},{"$f":"'Market Data'!C3216","v":7135.5},{"$f":"'Market Data'!D3216","v":7157.5},{"$f":"'Market Data'!E3216","v":7044},{"$f":"'Market Data'!F3216","v":7114},null,3212,{"$f":"IF($H3230<($J$6+1),\"\",PFE(OFFSET($F3230,0,0,-$J$6)))","v":6.4587629295920504E-2},null,"Long",{"$error":"#N/A"},{"$error":"#N/A"},null,1,0,"",null,1,null,-17.5,253245.73999999926,null,null,null,null,null,null,null,null,null,null,null,null,null,null,null,null,null,null,null,{"$f":"IF(NOT($AS3230=$AS3231),ROW(),\"\")","v":""},{"$f":"IF(NOT(AS3230=AS3231),AS3231,\"\")","v":""},{"$f":"INDEX($AB$15:$AM$15,MATCH($AS3230,$AB$11:$AM$11,0))","v":"out"},{"$f":"LEFT(AT3230,4)","v":"2012"},{"$f":"LEFT(B3230,6)","v":"201208"}]
[null,{"$f":"'Market Data'!B3217","v":20120810},{"$f":"'Market Data'!C3217","v":7079},{"$f":"'Market Data'!D3217","v":7122},{"$f":"'Market Data'!E3217","v":7044.5},{"$f":"'Market Data'!F3217","v":7105},null,3213,{"$f":"IF($H3231<($J$6+1),\"\",PFE(OFFSET($F3231,0,0,-$J$6)))","v":5.2808819200454993E-2},null,"Long",{"$error":"#N/A"},{"$error":"#N/A"},null,1,0,"",null,1,null,-315,252930.73999999926,null,null,null,null,null,null,null,null,null,null,null,null,null,null,null,null,null,null,null,{"$f":"IF(NOT($AS3231=$AS3232),ROW(),\"\")","v":""},{"$f":"IF(NOT(AS3231=AS3232),AS3232,\"\")","v":""},{"$f":"INDEX($AB$15:$AM$15,MATCH($AS3231,$AB$11:$AM$11,0))","v":"out"},{"$f":"LEFT(AT3231,4)","v":"2012"},{"$f":"LEFT(B3231,6)","v":"201208"}]
[null,{"$f":"'Market Data'!B3218","v":20120813},{"$f":"'Market Data'!C3218","v":7093.5},{"$f":"'Market Data'!D3218","v":7132.5},{"$f":"'Market Data'!E3218","v":7035.5},{"$f":"'Market Data'!F3218","v":7067.5},null,3214,{"$f":"IF($H3232<($J$6+1),\"\",PFE(OFFSET($F3232,0,0,-$J$6)))","v":2.3938750788979411E-2},null,"Long",{"$error":"#N/A"},{"$error":"#N/A"},null,1,0,"",null,1,null,-1312.5,251618.23999999926,null,null,null,null,null,null,null,null,null,null,null,null,null,null,null,null,null,null,null,{"$f":"IF(NOT($AS3232=$AS3233),ROW(),\"\")","v":""},{"$f":"IF(NOT(AS3232=AS3233),AS3233,\"\")","v":""},{"$f":"INDEX($AB$15:$AM$15,MATCH($AS3232,$AB$11:$AM$11,0))","v":"out"},{"$f":"LEFT(AT3232,4)","v":"2012"},{"$f":"LEFT(B3232,6)","v":"201208"}]
[null,{"$f":"'Market Data'!B3219","v":20120814},{"$f":"'Market Data'!C3219","v":7116},{"$f":"'Market Data'!D3219","v":7150.5},{"$f":"'Market Data'!E3219","v":7092.5},{"$f":"'Market Data'!F3219","v":7123},null,3215,{"$f":"IF($H3233<($J$6+1),\"\",PFE(OFFSET($F3233,0,0,-$J$6)))","v":4.1974065057207063E-2},null,"Long",{"$error":"#N/A"},{"$error":"#N/A"},null,1,0,"",null,1,null,1942.5,253560.73999999926,null,null,null,null,null,null,null,null,null,null,null,null,null,null,null,null,null,null,null,{"$f":"IF(NOT($AS3233=$AS3234),ROW(),\"\")","v":""},{"$f":"IF(NOT(AS3233=AS3234),AS3234,\"\")","v":""},{"$f":"INDEX($AB$15:$AM$15,MATCH($AS3233,$AB$11:$AM$11,0))","v":"out"},{"$f":"LEFT(AT3233,4)","v":"2012"},{"$f":"LEFT(B3233,6)","v":"201208"}]
[null,{"$f":"'Market Data'!B3220","v":20120815},{"$f":"'Market Data'!C3220","v":7097},{"$f":"'Market Data'!D3220","v":7128.5},{"$f":"'Market Data'!E3220","v":7061},{"$f":"'Market Data'!F3220","v":7105.5},null,3216,{"$f":"IF($H3234<($J$6+1),\"\",PFE(OFFSET($F3234,0,0,-$J$6)))","v":4.8994797731036745E-2},null,"Long",{"$error":"#N/A"},{"$error":"#N/A"},null,1,0,"",null,1,null,-612.5,252948.23999999926,null,null,null,null,null,null,null,null,null,null,null,null,null,null,null,null,null,null,null,{"$f":"IF(NOT($AS3234=$AS3235),ROW(),\"\")","v":""},{"$f":"IF(NOT(AS3234=AS3235),AS3235,\"\")","v":""},{"$f":"INDEX($AB$15:$AM$15,MATCH($AS3234,$AB$11:$AM$11,0))","v":"out"},{"$f":"LEFT(AT3234,4)","v":"2012"},{"$f":"LEFT(B3234,6)","v":"201208"}]
[null,{"$f":"'Market Data'!B3221","v":20120816},{"$f":"'Market Data'!C3221","v":7137.5},{"$f":"'Market Data'!D3221","v":7171.5},{"$f":"'Market Data'!E3221","v":7082},{"$f":"'Market Data'!F3221","v":7146},null,3217,{"$f":"IF($H3235<($J$6+1),\"\",PFE(OFFSET($F3235,0,0,-$J$6)))","v":4.4577909661202092E-2},null,"Long",{"$error":"#N/A"},{"$error":"#N/A"},null,1,0,"",null,1,null,1417.5,254365.73999999926,null,null,null,null,null,null,null,null,null,null,null,null,null,null,null,null,null,null,null,{"$f":"IF(NOT($AS3235=$AS3236),ROW(),\"\")","v":""},{"$f":"IF(NOT(AS3235=AS3236),AS3236,\"\")","v":""},{"$f":"INDEX($AB$15:$AM$15,MATCH($AS3235,$AB$11:$AM$11,0))","v":"out"},{"$f":"LEFT(AT3235,4)","v":"2012"},{"$f":"LEFT(B3235,6)","v":"201208"}]
[null,{"$f":"'Market Data'!B3222","v":20120817},{"$f":"'Market Data'!C3222","v":7163.5},{"$f":"'Market Data'!D3222","v":7208.5},{"$f":"'Market Data'!E3222","v":7153},{"$f":"'Market Data'!F3222","v":7189},null,3218,{"$f":"IF($H3236<($J$6+1),\"\",PFE(OFFSET($F3236,0,0,-$J$6)))","v":9.4160826995365571E-2},null,"Long",{"$error":"#N/A"},{"$error":"#N/A"},null,1,0,"",null,1,null,1505,255870.73999999926,null,null,null,null,null,null,null,null,null,null,null,null,null,null,null,null,null,null,null,{"$f":"IF(NOT($AS3236=$AS3237),ROW(),\"\")","v":""},{"$f":"IF(NOT(AS3236=AS3237),AS3237,\"\")","v":""},{"$f":"INDEX($AB$15:$AM$15,MATCH($AS3236,$AB$11:$AM$11,0))","v":"out"},{"$f":"LEFT(AT3236,4)","v":"2012"},{"$f":"LEFT(B3236,6)","v":"201208"}]
[null,{"$f":"'Market Data'!B3223","v":20120820},{"$f":"'Market Data'!C3223","v":7200.5},{"$f":"'Market Data'!D3223","v":7240.5},{"$f":"'Market Data'!E3223","v":7163.5},{"$f":"'Market Data'!F3223","v":7188.5},null,3219,{"$f":"IF($H3237<($J$6+1),\"\",PFE(OFFSET($F3237,0,0,-$J$6)))","v":8.1221927425784129E-2},null,"Long",{"$error":"#N/A"},{"$error":"#N/A"},null,1,0,"",null,1,null,-17.5,255853.23999999926,null,null,null,null,null,null,null,null,null,null,null,null,null,null,null,null,null,null,null,{"$f":"IF(NOT($AS3237=$AS3238),ROW(),\"\")","v":""},{"$f":"IF(NOT(AS3237=AS3238),AS3238,\"\")","v":""},{"$f":"INDEX($AB$15:$AM$15,MATCH($AS3237,$AB$11:$AM$11,0))","v":"out"},{"$f":"LEFT(AT3237,4)","v":"2012"},{"$f":"LEFT(B3237,6)","v":"201208"}]
[null,{"$f":"'Market Data'!B3224","v":20120821},{"$f":"'Market Data'!C3224","v":7202.5},{"$f":"'Market Data'!D3224","v":7261.5},{"$f":"'Market Data'!E3224","v":7195.5},{"$f":"'Market Data'!F3224","v":7246.5},null,3220,{"$f":"IF($H3238<($J$6+1),\"\",PFE(OFFSET($F3238,0,0,-$J$6)))","v":7.1373146747745767E-2},null,"Long",{"$error":"#N/A"},{"$error":"#N/A"},null,1,0,"",null,1,null,2030,257883.23999999926,null,null,null,null,null,null,null,null,null,null,null,null,null,null,null,null,null,null,null,{"$f":"IF(NOT($AS3238=$AS3239),ROW(),\"\")","v":""},{"$f":"IF(NOT(AS3238=AS3239),AS3239,\"\")","v":""},{"$f":"INDEX($AB$15:$AM$15,MATCH($AS3238,$AB$11:$AM$11,0))","v":"out"},{"$f":"LEFT(AT3238,4)","v":"2012"},{"$f":"LEFT(B3238,6)","v":"201208"}]
[null,{"$f":"'Market Data'!B3225","v":20120822},{"$f":"'Market Data'!C3225","v":7201},{"$f":"'Market Data'!D3225","v":7215.5},{"$f":"'Market Data'!E3225","v":7158.5},{"$f":"'Market Data'!F3225","v":7176.5},null,3221,{"$f":"IF($H3239<($J$6+1),\"\",PFE(OFFSET($F3239,0,0,-$J$6)))","v":5.3698798585387203E-2},null,"Long",{"$error":"#N/A"},{"$error":"#N/A"},null,1,0,"",null,1,null,-2450,255433.23999999926,null,null,null,null,null,null,null,null,null,null,null,null,null,null,null,null,null,null,null,{"$f":"IF(NOT($AS3239=$AS3240),ROW(),\"\")","v":""},{"$f":"IF(NOT(AS3239=AS3240),AS3240,\"\")","v":""},{"$f":"INDEX($AB$15:$AM$15,MATCH($AS3239,$AB$11:$AM$11,0))","v":"out"},{"$f":"LEFT(AT3239,4)","v":"2012"},{"$f":"LEFT(B3239,6)","v":"201208"}]
[null,{"$f":"'Market Data'!B3226","v":20120823},{"$f":"'Market Data'!C3226","v":7233},{"$f":"'Market Data'!D3226","v":7236.5},{"$f":"'Market Data'!E3226","v":7077},{"$f":"'Market Data'!F3226","v":7116.5},null,3222,{"$f":"IF($H3240<($J$6+1),\"\",PFE(OFFSET($F3240,0,0,-$J$6)))","v":3.3051683078500475E-2},null,"Long",{"$error":"#N/A"},{"$error":"#N/A"},null,1,0,"",null,1,null,-2100,253333.23999999926,null,null,null,null,null,null,null,null,null,null,null,null,null,null,null,null,null,null,null,{"$f":"IF(NOT($AS3240=$AS3241),ROW(),\"\")","v":""},{"$f":"IF(NOT(AS3240=AS3241),AS3241,\"\")","v":""},{"$f":"INDEX($AB$15:$AM$15,MATCH($AS3240,$AB$11:$AM$11,0))","v":"out"},{"$f":"LEFT(AT3240,4)","v":"2012"},{"$f":"LEFT(B3240,6)","v":"201208"}]
[null,{"$f":"'Market Data'!B3227","v":20120824},{"$f":"'Market Data'!C3227","v":7113.5},{"$f":"'Market Data'!D3227","v":7146.5},{"$f":"'Market Data'!E3227","v":7039},{"$f":"'Market Data'!F3227","v":7131.5},null,3223,{"$f":"IF($H3241<($J$6+1),\"\",PFE(OFFSET($F3241,0,0,-$J$6)))","v":4.0442345873174877E-2},null,"Long",{"$error":"#N/A"},{"$error":"#N/A"},null,1,0,"",null,1,null,525,253858.23999999926,null,null,null,null,null,null,null,null,null,null,null,null,null,null,null,null,null,null,null,{"$f":"IF(NOT($AS3241=$AS3242),ROW(),\"\")","v":""},{"$f":"IF(NOT(AS3241=AS3242),AS3242,\"\")","v":""},{"$f":"INDEX($AB$15:$AM$15,MATCH($AS3241,$AB$11:$AM$11,0))","v":"out"},{"$f":"LEFT(AT3241,4)","v":"2012"},{"$f":"LEFT(B3241,6)","v":"201208"}]
[null,{"$f":"'Market Data'!B3228","v":20120827},{"$f":"'Market Data'!C3228","v":7122},{"$f":"'Market Data'!D3228","v":7205},{"$f":"'Market Data'!E3228","v":7099.5},{"$f":"'Market Data'!F3228","v":7198.5},null,3224,{"$f":"IF($H3242<($J$6+1),\"\",PFE(OFFSET($F3242,0,0,-$J$6)))","v":6.4028861163965306E-2},null,"Long",{"$error":"#N/A"},{"$error":"#N/A"},null,1,0,"",null,1,null,2345,256203.23999999926,null,null,null,null,null,null,null,null,null,null,null,null,null,null,null,null,null,null,null,{"$f":"IF(NOT($AS3242=$AS3243),ROW(),\"\")","v":""},{"$f":"IF(NOT(AS3242=AS3243),AS3243,\"\")","v":""},{"$f":"INDEX($AB$15:$AM$15,MATCH($AS3242,$AB$11:$AM$11,0))","v":"out"},{"$f":"LEFT(AT3242,4)","v":"2012"},{"$f":"LEFT(B3242,6)","v":"201208"}]
[null,{"$f":"'Market Data'!B3229","v":20120828},{"$f":"'Market Data'!C3229","v":7163.5},{"$f":"'Market Data'!D3229","v":7185},{"$f":"'Market Data'!E3229","v":7128.5},{"$f":"'Market Data'!F3229","v":7157},null,3225,{"$f":"IF($H3243<($J$6+1),\"\",PFE(OFFSET($F3243,0,0,-$J$6)))","v":5.8058869598894489E-2},null,"Long",{"$error":"#N/A"},{"$error":"#N/A"},null,1,0,"",null,1,null,-1452.5,254750.73999999926,null,null,null,null,null,null,null,null,null,null,null,null,null,null,null,null,null,null,null,{"$f":"IF(NOT($AS3243=$AS3244),ROW(),\"\")","v":""},{"$f":"IF(NOT(AS3243=AS3244),AS3244,\"\")","v":""},{"$f":"INDEX($AB$15:$AM$15,MATCH($AS3243,$AB$11:$AM$11,0))","v":"out"},{"$f":"LEFT(AT3243,4)","v":"2012"},{"$f":"LEFT(B3243,6)","v":"201208"}]
[null,{"$f":"'Market Data'!B3230","v":20120829},{"$f":"'Market Data'!C3230","v":7163.5},{"$f":"'Market Data'!D3230","v":7186},{"$f":"'Market Data'!E3230","v":7098.5},{"$f":"'Market Data'!F3230","v":7154.5},null,3226,{"$f":"IF($H3244<($J$6+1),\"\",PFE(OFFSET($F3244,0,0,-$J$6)))","v":8.415929834386586E-2},null,"Long",{"$error":"#N/A"},{"$error":"#N/A"},null,1,0,"",null,1,null,-87.5,254663.23999999926,null,null,null,null,null,null,null,null,null,null,null,null,null,null,null,null,null,null,null,{"$f":"IF(NOT($AS3244=$AS3245),ROW(),\"\")","v":""},{"$f":"IF(NOT(AS3244=AS3245),AS3245,\"\")","v":""},{"$f":"INDEX($AB$15:$AM$15,MATCH($AS3244,$AB$11:$AM$11,0))","v":"out"},{"$f":"LEFT(AT3244,4)","v":"2012"},{"$f":"LEFT(B3244,6)","v":"201208"}]
[null,{"$f":"'Market Data'!B3231","v":20120830},{"$f":"'Market Data'!C3231","v":7123.5},{"$f":"'Market Data'!D3231","v":7135},{"$f":"'Market Data'!E3231","v":7024},{"$f":"'Market Data'!F3231","v":7061},null,3227,{"$f":"IF($H3245<($J$6+1),\"\",PFE(OFFSET($F3245,0,0,-$J$6)))","v":6.3952570425006017E-2},null,"Long",{"$error":"#N/A"},{"$error":"#N/A"},null,1,0,"",null,1,null,-3272.5,251390.73999999926,null,null,null,null,null,null,null,null,null,null,null,null,null,null,null,null,null,null,null,{"$f":"IF(NOT($AS3245=$AS3246),ROW(),\"\")","v":""},{"$f":"IF(NOT(AS3245=AS3246),AS3246,\"\")","v":""},{"$f":"INDEX($AB$15:$AM$15,MATCH($AS3245,$AB$11:$AM$11,0))","v":"out"},{"$f":"LEFT(AT3245,4)","v":"2012"},{"$f":"LEFT(B3245,6)","v":"201208"}]
[null,{"$f":"'Market Data'!B3232","v":20120831},{"$f":"'Market Data'!C3232","v":7060.5},{"$f":"'Market Data'!D3232","v":7167.5},{"$f":"'Market Data'!E3232","v":7043.5},{"$f":"'Market Data'!F3232","v":7123},null,3228,{"$f":"IF($H3246<($J$6+1),\"\",PFE(OFFSET($F3246,0,0,-$J$6)))","v":0.10051918749540117},null,"Long",{"$error":"#N/A"},{"$error":"#N/A"},null,1,0,"",null,1,null,2170,253560.73999999926,null,null,null,null,null,null,null,null,null,null,null,null,null,null,null,null,null,null,null,{"$f":"IF(NOT($AS3246=$AS3247),ROW(),\"\")","v":""},{"$f":"IF(NOT(AS3246=AS3247),AS3247,\"\")","v":""},{"$f":"INDEX($AB$15:$AM$15,MATCH($AS3246,$AB$11:$AM$11,0))","v":"out"},{"$f":"LEFT(AT3246,4)","v":"2012"},{"$f":"LEFT(B3246,6)","v":"201208"}]
[null,{"$f":"'Market Data'!B3233","v":20120903},{"$f":"'Market Data'!C3233","v":7123},{"$f":"'Market Data'!D3233","v":7173},{"$f":"'Market Data'!E3233","v":7093.5},{"$f":"'Market Data'!F3233","v":7165},null,3229,{"$f":"IF($H3247<($J$6+1),\"\",PFE(OFFSET($F3247,0,0,-$J$6)))","v":0.10313702081198863},null,"Long",{"$error":"#N/A"},{"$error":"#N/A"},null,1,0,"",null,1,null,1470,255030.73999999926,null,null,null,null,null,null,null,null,null,null,null,null,null,null,null,null,null,null,null,{"$f":"IF(NOT($AS3247=$AS3248),ROW(),\"\")","v":""},{"$f":"IF(NOT(AS3247=AS3248),AS3248,\"\")","v":""},{"$f":"INDEX($AB$15:$AM$15,MATCH($AS3247,$AB$11:$AM$11,0))","v":"out"},{"$f":"LEFT(AT3247,4)","v":"2012"},{"$f":"LEFT(B3247,6)","v":"201209"}]
[null,{"$f":"'Market Data'!B3234","v":20120904},{"$f":"'Market Data'!C3234","v":7156},{"$f":"'Market Data'!D3234","v":7172.5},{"$f":"'Market Data'!E3234","v":7073},{"$f":"'Market Data'!F3234","v":7095},null,3230,{"$f":"IF($H3248<($J$6+1),\"\",PFE(OFFSET($F3248,0,0,-$J$6)))","v":8.0678744360011448E-2},null,"Long",{"$error":"#N/A"},{"$error":"#N/A"},null,1,0,"",null,1,null,-2450,252580.73999999926,null,null,null,null,null,null,null,null,null,null,null,null,null,null,null,null,null,null,null,{"$f":"IF(NOT($AS3248=$AS3249),ROW(),\"\")","v":""},{"$f":"IF(NOT(AS3248=AS3249),AS3249,\"\")","v":""},{"$f":"INDEX($AB$15:$AM$15,MATCH($AS3248,$AB$11:$AM$11,0))","v":"out"},{"$f":"LEFT(AT3248,4)","v":"2012"},{"$f":"LEFT(B3248,6)","v":"201209"}]
[null,{"$f":"'Market Data'!B3235","v":20120905},{"$f":"'Market Data'!C3235","v":7097},{"$f":"'Market Data'!D3235","v":7157.5},{"$f":"'Market Data'!E3235","v":7046},{"$f":"'Market Data'!F3235","v":7120},null,3231,{"$f":"IF($H3249<($J$6+1),\"\",PFE(OFFSET($F3249,0,0,-$J$6)))","v":7.3731083454648738E-2},null,"Long",{"$error":"#N/A"},{"$error":"#N/A"},null,1,0,"",null,1,null,875,253455.73999999926,null,null,null,null,null,null,null,null,null,null,null,null,null,null,null,null,null,null,null,{"$f":"IF(NOT($AS3249=$AS3250),ROW(),\"\")","v":""},{"$f":"IF(NOT(AS3249=AS3250),AS3250,\"\")","v":""},{"$f":"INDEX($AB$15:$AM$15,MATCH($AS3249,$AB$11:$AM$11,0))","v":"out"},{"$f":"LEFT(AT3249,4)","v":"2012"},{"$f":"LEFT(B3249,6)","v":"201209"}]
[null,{"$f":"'Market Data'!B3236","v":20120906},{"$f":"'Market Data'!C3236","v":7144},{"$f":"'Market Data'!D3236","v":7328},{"$f":"'Market Data'!E3236","v":7131},{"$f":"'Market Data'!F3236","v":7312},null,3232,{"$f":"IF($H3250<($J$6+1),\"\",PFE(OFFSET($F3250,0,0,-$J$6)))","v":0.13011703363670163},null,"Long",{"$error":"#N/A"},{"$error":"#N/A"},null,1,0,"",null,1,null,6720,260175.73999999926,null,null,null,null,null,null,null,null,null,null,null,null,null,null,null,null,null,null,null,{"$f":"IF(NOT($AS3250=$AS3251),ROW(),\"\")","v":""},{"$f":"IF(NOT(AS3250=AS3251),AS3251,\"\")","v":""},{"$f":"INDEX($AB$15:$AM$15,MATCH($AS3250,$AB$11:$AM$11,0))","v":"out"},{"$f":"LEFT(AT3250,4)","v":"2012"},{"$f":"LEFT(B3250,6)","v":"201209"}]
[null,{"$f":"'Market Data'!B3237","v":20120907},{"$f":"'Market Data'!C3237","v":7319.5},{"$f":"'Market Data'!D3237","v":7403.5},{"$f":"'Market Data'!E3237","v":7318.5},{"$f":"'Market Data'!F3237","v":7376},null,3233,{"$f":"IF($H3251<($J$6+1),\"\",PFE(OFFSET($F3251,0,0,-$J$6)))","v":0.15613136509468839},null,"Long",{"$error":"#N/A"},{"$error":"#N/A"},null,1,0,"",null,1,null,2240,262415.73999999929,null,null,null,null,null,null,null,null,null,null,null,null,null,null,null,null,null,null,null,{"$f":"IF(NOT($AS3251=$AS3252),ROW(),\"\")","v":""},{"$f":"IF(NOT(AS3251=AS3252),AS3252,\"\")","v":""},{"$f":"INDEX($AB$15:$AM$15,MATCH($AS3251,$AB$11:$AM$11,0))","v":"out"},{"$f":"LEFT(AT3251,4)","v":"2012"},{"$f":"LEFT(B3251,6)","v":"201209"}]
[null,{"$f":"'Market Data'!B3238","v":20120910},{"$f":"'Market Data'!C3238","v":7361.5},{"$f":"'Market Data'!D3238","v":7388.5},{"$f":"'Market Data'!E3238","v":7339},{"$f":"'Market Data'!F3238","v":7369.5},null,3234,{"$f":"IF($H3252<($J$6+1),\"\",PFE(OFFSET($F3252,0,0,-$J$6)))","v":0.15548218553718907},null,"Long",{"$error":"#N/A"},{"$error":"#N/A"},null,1,0,"",null,1,null,-227.5,262188.23999999929,null,null,null,null,null,null,null,null,null,null,null,null,null,null,null,null,null,null,null,{"$f":"IF(NOT($AS3252=$AS3253),ROW(),\"\")","v":""},{"$f":"IF(NOT(AS3252=AS3253),AS3253,\"\")","v":""},{"$f":"INDEX($AB$15:$AM$15,MATCH($AS3252,$AB$11:$AM$11,0))","v":"out"},{"$f":"LEFT(AT3252,4)","v":"2012"},{"$f":"LEFT(B3252,6)","v":"201209"}]
[null,{"$f":"'Market Data'!B3239","v":20120911},{"$f":"'Market Data'!C3239","v":7335.5},{"$f":"'Market Data'!D3239","v":7468.5},{"$f":"'Market Data'!E3239","v":7327},{"$f":"'Market Data'!F3239","v":7466.5},null,3235,{"$f":"IF($H3253<($J$6+1),\"\",PFE(OFFSET($F3253,0,0,-$J$6)))","v":0.18644303467544965},null,"Long",{"$error":"#N/A"},{"$error":"#N/A"},null,1,0,"",null,1,null,3395,265583.23999999929,null,null,null,null,null,null,null,null,null,null,null,null,null,null,null,null,null,null,null,{"$f":"IF(NOT($AS3253=$AS3254),ROW(),\"\")","v":""},{"$f":"IF(NOT(AS3253=AS3254),AS3254,\"\")","v":""},{"$f":"INDEX($AB$15:$AM$15,MATCH($AS3253,$AB$11:$AM$11,0))","v":"out"},{"$f":"LEFT(AT3253,4)","v":"2012"},{"$f":"LEFT(B3253,6)","v":"201209"}]
[null,{"$f":"'Market Data'!B3240","v":20120912},{"$f":"'Market Data'!C3240","v":7466.5},{"$f":"'Market Data'!D3240","v":7565},{"$f":"'Market Data'!E3240","v":7460.5},{"$f":"'Market Data'!F3240","v":7505.5},null,3236,{"$f":"IF($H3254<($J$6+1),\"\",PFE(OFFSET($F3254,0,0,-$J$6)))","v":0.20215884617812677},null,"Long",{"$error":"#N/A"},{"$error":"#N/A"},null,1,0,"",null,1,null,1365,266948.23999999929,null,null,null,null,null,null,null,null,null,null,null,null,null,null,null,null,null,null,null,{"$f":"IF(NOT($AS3254=$AS3255),ROW(),\"\")","v":""},{"$f":"IF(NOT(AS3254=AS3255),AS3255,\"\")","v":""},{"$f":"INDEX($AB$15:$AM$15,MATCH($AS3254,$AB$11:$AM$11,0))","v":"out"},{"$f":"LEFT(AT3254,4)","v":"2012"},{"$f":"LEFT(B3254,6)","v":"201209"}]
[null,{"$f":"'Market Data'!B3241","v":20120913},{"$f":"'Market Data'!C3241","v":7493.5},{"$f":"'Market Data'!D3241","v":7559.5},{"$f":"'Market Data'!E3241","v":7433},{"$f":"'Market Data'!F3241","v":7468},null,3237,{"$f":"IF($H3255<($J$6+1),\"\",PFE(OFFSET($F3255,0,0,-$J$6)))","v":0.18422477541756591},null,"Long",{"$error":"#N/A"},{"$error":"#N/A"},null,1,0,"",null,1,null,-1312.5,265635.73999999929,null,null,null,null,null,null,null,null,null,null,null,null,null,null,null,null,null,null,null,{"$f":"IF(NOT($AS3255=$AS3256),ROW(),\"\")","v":""},{"$f":"IF(NOT(AS3255=AS3256),AS3256,\"\")","v":""},{"$f":"INDEX($AB$15:$AM$15,MATCH($AS3255,$AB$11:$AM$11,0))","v":"out"},{"$f":"LEFT(AT3255,4)","v":"2012"},{"$f":"LEFT(B3255,6)","v":"201209"}]
[null,{"$f":"'Market Data'!B3242","v":20120914},{"$f":"'Market Data'!C3242","v":7575},{"$f":"'Market Data'!D3242","v":7601},{"$f":"'Market Data'!E3242","v":7535.5},{"$f":"'Market Data'!F3242","v":7564},null,3238,{"$f":"IF($H3256<($J$6+1),\"\",PFE(OFFSET($F3256,0,0,-$J$6)))","v":0.18361114706783715},null,"Long",{"$error":"#N/A"},{"$error":"#N/A"},null,1,0,"",null,1,null,3360,268995.73999999929,null,null,null,null,null,null,null,null,null,null,null,null,null,null,null,null,null,null,null,{"$f":"IF(NOT($AS3256=$AS3257),ROW(),\"\")","v":""},{"$f":"IF(NOT(AS3256=AS3257),AS3257,\"\")","v":""},{"$f":"INDEX($AB$15:$AM$15,MATCH($AS3256,$AB$11:$AM$11,0))","v":"out"},{"$f":"LEFT(AT3256,4)","v":"2012"},{"$f":"LEFT(B3256,6)","v":"201209"}]
[null,{"$f":"'Market Data'!B3243","v":20120917},{"$f":"'Market Data'!C3243","v":7535.5},{"$f":"'Market Data'!D3243","v":7569.5},{"$f":"'Market Data'!E3243","v":7523},{"$f":"'Market Data'!F3243","v":7552},null,3239,{"$f":"IF($H3257<($J$6+1),\"\",PFE(OFFSET($F3257,0,0,-$J$6)))","v":0.21590861922242899},null,"Long",{"$error":"#N/A"},{"$error":"#N/A"},null,1,0,"",null,1,null,-420,268575.73999999929,null,null,null,null,null,null,null,null,null,null,null,null,null,null,null,null,null,null,null,{"$f":"IF(NOT($AS3257=$AS3258),ROW(),\"\")","v":""},{"$f":"IF(NOT(AS3257=AS3258),AS3258,\"\")","v":""},{"$f":"INDEX($AB$15:$AM$15,MATCH($AS3257,$AB$11:$AM$11,0))","v":"out"},{"$f":"LEFT(AT3257,4)","v":"2012"},{"$f":"LEFT(B3257,6)","v":"201209"}]
[null,{"$f":"'Market Data'!B3244","v":20120918},{"$f":"'Market Data'!C3244","v":7540.5},{"$f":"'Market Data'!D3244","v":7543},{"$f":"'Market Data'!E3244","v":7458.5},{"$f":"'Market Data'!F3244","v":7522.5},null,3240,{"$f":"IF($H3258<($J$6+1),\"\",PFE(OFFSET($F3258,0,0,-$J$6)))","v":0.20302926624967041},null,"Long",{"$error":"#N/A"},{"$error":"#N/A"},null,1,0,"",null,1,null,-1032.5,267543.23999999929,null,null,null,null,null,null,null,null,null,null,null,null,null,null,null,null,null,null,null,{"$f":"IF(NOT($AS3258=$AS3259),ROW(),\"\")","v":""},{"$f":"IF(NOT(AS3258=AS3259),AS3259,\"\")","v":""},{"$f":"INDEX($AB$15:$AM$15,MATCH($AS3258,$AB$11:$AM$11,0))","v":"out"},{"$f":"LEFT(AT3258,4)","v":"2012"},{"$f":"LEFT(B3258,6)","v":"201209"}]
[null,{"$f":"'Market Data'!B3245","v":20120919},{"$f":"'Market Data'!C3245","v":7547.5},{"$f":"'Market Data'!D3245","v":7556},{"$f":"'Market Data'!E3245","v":7479.5},{"$f":"'Market Data'!F3245","v":7546},null,3241,{"$f":"IF($H3259<($J$6+1),\"\",PFE(OFFSET($F3259,0,0,-$J$6)))","v":0.20341500442732766},null,"Long",{"$error":"#N/A"},{"$error":"#N/A"},null,1,0,"",null,1,null,822.5,268365.73999999929,null,null,null,null,null,null,null,null,null,null,null,null,null,null,null,null,null,null,null,{"$f":"IF(NOT($AS3259=$AS3260),ROW(),\"\")","v":""},{"$f":"IF(NOT(AS3259=AS3260),AS3260,\"\")","v":""},{"$f":"INDEX($AB$15:$AM$15,MATCH($AS3259,$AB$11:$AM$11,0))","v":"out"},{"$f":"LEFT(AT3259,4)","v":"2012"},{"$f":"LEFT(B3259,6)","v":"201209"}]
[null,{"$f":"'Market Data'!B3246","v":20120920},{"$f":"'Market Data'!C3246","v":7509},{"$f":"'Market Data'!D3246","v":7555},{"$f":"'Market Data'!E3246","v":7466},{"$f":"'Market Data'!F3246","v":7536.5},null,3242,{"$f":"IF($H3260<($J$6+1),\"\",PFE(OFFSET($F3260,0,0,-$J$6)))","v":0.20610217046556728},null,"Long",{"$error":"#N/A"},{"$error":"#N/A"},null,1,0,"",null,1,null,-332.5,268033.23999999929,null,null,null,null,null,null,null,null,null,null,null,null,null,null,null,null,null,null,null,{"$f":"IF(NOT($AS3260=$AS3261),ROW(),\"\")","v":""},{"$f":"IF(NOT(AS3260=AS3261),AS3261,\"\")","v":""},{"$f":"INDEX($AB$15:$AM$15,MATCH($AS3260,$AB$11:$AM$11,0))","v":"out"},{"$f":"LEFT(AT3260,4)","v":"2012"},{"$f":"LEFT(B3260,6)","v":"201209"}]
[null,{"$f":"'Market Data'!B3247","v":20120921},{"$f":"'Market Data'!C3247","v":7576.5},{"$f":"'Market Data'!D3247","v":7633},{"$f":"'Market Data'!E3247","v":7544},{"$f":"'Market Data'!F3247","v":7606},null,3243,{"$f":"IF($H3261<($J$6+1),\"\",PFE(OFFSET($F3261,0,0,-$J$6)))","v":0.20486812492112899},null,"Long",{"$error":"#N/A"},{"$error":"#N/A"},null,1,0,"",null,1,null,2432.5,270465.73999999929,null,null,null,null,null,null,null,null,null,null,null,null,null,null,null,null,null,null,null,{"$f":"IF(NOT($AS3261=$AS3262),ROW(),\"\")","v":""},{"$f":"IF(NOT(AS3261=AS3262),AS3262,\"\")","v":""},{"$f":"INDEX($AB$15:$AM$15,MATCH($AS3261,$AB$11:$AM$11,0))","v":"out"},{"$f":"LEFT(AT3261,4)","v":"2012"},{"$f":"LEFT(B3261,6)","v":"201209"}]
[null,{"$f":"'Market Data'!B3248","v":20120924},{"$f":"'Market Data'!C3248","v":7571.5},{"$f":"'Market Data'!D3248","v":7595},{"$f":"'Market Data'!E3248","v":7539.5},{"$f":"'Market Data'!F3248","v":7568},null,3244,{"$f":"IF($H3262<($J$6+1),\"\",PFE(OFFSET($F3262,0,0,-$J$6)))","v":0.22380041132498588},null,"Long",{"$error":"#N/A"},{"$error":"#N/A"},null,1,0,"",null,1,null,-1330,269135.73999999929,null,null,null,null,null,null,null,null,null,null,null,null,null,null,null,null,null,null,null,{"$f":"IF(NOT($AS3262=$AS3263),ROW(),\"\")","v":""},{"$f":"IF(NOT(AS3262=AS3263),AS3263,\"\")","v":""},{"$f":"INDEX($AB$15:$AM$15,MATCH($AS3262,$AB$11:$AM$11,0))","v":"out"},{"$f":"LEFT(AT3262,4)","v":"2012"},{"$f":"LEFT(B3262,6)","v":"201209"}]
[null,{"$f":"'Market Data'!B3249","v":20120925},{"$f":"'Market Data'!C3249","v":7584},{"$f":"'Market Data'!D3249","v":7593},{"$f":"'Market Data'!E3249","v":7501},{"$f":"'Market Data'!F3249","v":7575.5},null,3245,{"$f":"IF($H3263<($J$6+1),\"\",PFE(OFFSET($F3263,0,0,-$J$6)))","v":0.23580269780814808},null,"Long",{"$error":"#N/A"},{"$error":"#N/A"},null,1,0,"",null,1,null,262.5,269398.23999999929,null,null,null,null,null,null,null,null,null,null,null,null,null,null,null,null,null,null,null,{"$f":"IF(NOT($AS3263=$AS3264),ROW(),\"\")","v":""},{"$f":"IF(NOT(AS3263=AS3264),AS3264,\"\")","v":""},{"$f":"INDEX($AB$15:$AM$15,MATCH($AS3263,$AB$11:$AM$11,0))","v":"out"},{"$f":"LEFT(AT3263,4)","v":"2012"},{"$f":"LEFT(B3263,6)","v":"201209"}]
[null,{"$f":"'Market Data'!B3250","v":20120926},{"$f":"'Market Data'!C3250","v":7517},{"$f":"'Market Data'!D3250","v":7525.5},{"$f":"'Market Data'!E3250","v":7408},{"$f":"'Market Data'!F3250","v":7444},null,3246,{"$f":"IF($H3264<($J$6+1),\"\",PFE(OFFSET($F3264,0,0,-$J$6)))","v":0.24648008973584917},null,"Long",{"$error":"#N/A"},{"$error":"#N/A"},null,1,0,"",null,1,null,-4602.5,264795.73999999929,null,null,null,null,null,null,null,null,null,null,null,null,null,null,null,null,null,null,null,{"$f":"IF(NOT($AS3264=$AS3265),ROW(),\"\")","v":""},{"$f":"IF(NOT(AS3264=AS3265),AS3265,\"\")","v":""},{"$f":"INDEX($AB$15:$AM$15,MATCH($AS3264,$AB$11:$AM$11,0))","v":"out"},{"$f":"LEFT(AT3264,4)","v":"2012"},{"$f":"LEFT(B3264,6)","v":"201209"}]
[null,{"$f":"'Market Data'!B3251","v":20120927},{"$f":"'Market Data'!C3251","v":7480.5},{"$f":"'Market Data'!D3251","v":7500.5},{"$f":"'Market Data'!E3251","v":7421},{"$f":"'Market Data'!F3251","v":7441},null,3247,{"$f":"IF($H3265<($J$6+1),\"\",PFE(OFFSET($F3265,0,0,-$J$6)))","v":0.26735798060478938},null,"Long",{"$error":"#N/A"},{"$error":"#N/A"},null,1,0,"",null,1,null,-105,264690.73999999929,null,null,null,null,null,null,null,null,null,null,null,null,null,null,null,null,null,null,null,{"$f":"IF(NOT($AS3265=$AS3266),ROW(),\"\")","v":""},{"$f":"IF(NOT(AS3265=AS3266),AS3266,\"\")","v":""},{"$f":"INDEX($AB$15:$AM$15,MATCH($AS3265,$AB$11:$AM$11,0))","v":"out"},{"$f":"LEFT(AT3265,4)","v":"2012"},{"$f":"LEFT(B3265,6)","v":"201209"}]
[null,{"$f":"'Market Data'!B3252","v":20120928},{"$f":"'Market Data'!C3252","v":7497},{"$f":"'Market Data'!D3252","v":7504},{"$f":"'Market Data'!E3252","v":7369.5},{"$f":"'Market Data'!F3252","v":7388},null,3248,{"$f":"IF($H3266<($J$6+1),\"\",PFE(OFFSET($F3266,0,0,-$J$6)))","v":0.25708391289267873},null,"Long",{"$error":"#N/A"},{"$error":"#N/A"},null,1,0,"",null,1,null,-1855,262835.73999999929,null,null,null,null,null,null,null,null,null,null,null,null,null,null,null,null,null,null,null,{"$f":"IF(NOT($AS3266=$AS3267),ROW(),\"\")","v":""},{"$f":"IF(NOT(AS3266=AS3267),AS3267,\"\")","v":""},{"$f":"INDEX($AB$15:$AM$15,MATCH($AS3266,$AB$11:$AM$11,0))","v":"out"},{"$f":"LEFT(AT3266,4)","v":"2012"},{"$f":"LEFT(B3266,6)","v":"201209"}]
[null,{"$f":"'Market Data'!B3253","v":20121001},{"$f":"'Market Data'!C3253","v":7360.5},{"$f":"'Market Data'!D3253","v":7493},{"$f":"'Market Data'!E3253","v":7359},{"$f":"'Market Data'!F3253","v":7483},null,3249,{"$f":"IF($H3267<($J$6+1),\"\",PFE(OFFSET($F3267,0,0,-$J$6)))","v":0.25109559825313155},null,"Long",{"$error":"#N/A"},{"$error":"#N/A"},null,1,0,"",null,1,null,3325,266160.73999999929,null,null,null,null,null,null,null,null,null,null,null,null,null,null,null,null,null,null,null,{"$f":"IF(NOT($AS3267=$AS3268),ROW(),\"\")","v":""},{"$f":"IF(NOT(AS3267=AS3268),AS3268,\"\")","v":""},{"$f":"INDEX($AB$15:$AM$15,MATCH($AS3267,$AB$11:$AM$11,0))","v":"out"},{"$f":"LEFT(AT3267,4)","v":"2012"},{"$f":"LEFT(B3267,6)","v":"201210"}]
[null,{"$f":"'Market Data'!B3254","v":20121002},{"$f":"'Market Data'!C3254","v":7435.5},{"$f":"'Market Data'!D3254","v":7527.5},{"$f":"'Market Data'!E3254","v":7418.5},{"$f":"'Market Data'!F3254","v":7462},null,3250,{"$f":"IF($H3268<($J$6+1),\"\",PFE(OFFSET($F3268,0,0,-$J$6)))","v":0.23996086890656418},null,"Long",{"$error":"#N/A"},{"$error":"#N/A"},null,1,0,"",null,1,null,-735,265425.73999999929,null,null,null,null,null,null,null,null,null,null,null,null,null,null,null,null,null,null,null,{"$f":"IF(NOT($AS3268=$AS3269),ROW(),\"\")","v":""},{"$f":"IF(NOT(AS3268=AS3269),AS3269,\"\")","v":""},{"$f":"INDEX($AB$15:$AM$15,MATCH($AS3268,$AB$11:$AM$11,0))","v":"out"},{"$f":"LEFT(AT3268,4)","v":"2012"},{"$f":"LEFT(B3268,6)","v":"201210"}]
[null,{"$f":"'Market Data'!B3255","v":20121003},{"$f":"'Market Data'!C3255","v":7457.5},{"$f":"'Market Data'!D3255","v":7493},{"$f":"'Market Data'!E3255","v":7424.5},{"$f":"'Market Data'!F3255","v":7477.5},null,3251,{"$f":"IF($H3269<($J$6+1),\"\",PFE(OFFSET($F3269,0,0,-$J$6)))","v":0.24580109951883142},null,"Long",{"$error":"#N/A"},{"$error":"#N/A"},null,1,0,"",null,1,null,542.5,265968.23999999929,null,null,null,null,null,null,null,null,null,null,null,null,null,null,null,null,null,null,null,{"$f":"IF(NOT($AS3269=$AS3270),ROW(),\"\")","v":""},{"$f":"IF(NOT(AS3269=AS3270),AS3270,\"\")","v":""},{"$f":"INDEX($AB$15:$AM$15,MATCH($AS3269,$AB$11:$AM$11,0))","v":"out"},{"$f":"LEFT(AT3269,4)","v":"2012"},{"$f":"LEFT(B3269,6)","v":"201210"}]
[null,{"$f":"'Market Data'!B3256","v":20121004},{"$f":"'Market Data'!C3256","v":7502},{"$f":"'Market Data'!D3256","v":7527.5},{"$f":"'Market Data'!E3256","v":7434.5},{"$f":"'Market Data'!F3256","v":7453.5},null,3252,{"$f":"IF($H3270<($J$6+1),\"\",PFE(OFFSET($F3270,0,0,-$J$6)))","v":0.23784436973876938},null,"Long",{"$error":"#N/A"},{"$error":"#N/A"},null,1,0,"",null,1,null,-840,265128.23999999929,null,null,null,null,null,null,null,null,null,null,null,null,null,null,null,null,null,null,null,{"$f":"IF(NOT($AS3270=$AS3271),ROW(),\"\")","v":""},{"$f":"IF(NOT(AS3270=AS3271),AS3271,\"\")","v":""},{"$f":"INDEX($AB$15:$AM$15,MATCH($AS3270,$AB$11:$AM$11,0))","v":"out"},{"$f":"LEFT(AT3270,4)","v":"2012"},{"$f":"LEFT(B3270,6)","v":"201210"}]
[null,{"$f":"'Market Data'!B3257","v":20121005},{"$f":"'Market Data'!C3257","v":7487.5},{"$f":"'Market Data'!D3257","v":7562},{"$f":"'Market Data'!E3257","v":7464.5},{"$f":"'Market Data'!F3257","v":7542},null,3253,{"$f":"IF($H3271<($J$6+1),\"\",PFE(OFFSET($F3271,0,0,-$J$6)))","v":0.2468383135902556},null,"Long",{"$error":"#N/A"},{"$error":"#N/A"},null,1,0,"",null,1,null,3097.5,268225.73999999929,null,null,null,null,null,null,null,null,null,null,null,null,null,null,null,null,null,null,null,{"$f":"IF(NOT($AS3271=$AS3272),ROW(),\"\")","v":""},{"$f":"IF(NOT(AS3271=AS3272),AS3272,\"\")","v":""},{"$f":"INDEX($AB$15:$AM$15,MATCH($AS3271,$AB$11:$AM$11,0))","v":"out"},{"$f":"LEFT(AT3271,4)","v":"2012"},{"$f":"LEFT(B3271,6)","v":"201210"}]
[null,{"$f":"'Market Data'!B3258","v":20121008},{"$f":"'Market Data'!C3258","v":7502},{"$f":"'Market Data'!D3258","v":7508.5},{"$f":"'Market Data'!E3258","v":7436.5},{"$f":"'Market Data'!F3258","v":7449.5},null,3254,{"$f":"IF($H3272<($J$6+1),\"\",PFE(OFFSET($F3272,0,0,-$J$6)))","v":0.23240307525539119},null,"Long",{"$error":"#N/A"},{"$error":"#N/A"},null,1,0,"",null,1,null,-3237.5,264988.23999999929,null,null,null,null,null,null,null,null,null,null,null,null,null,null,null,null,null,null,null,{"$f":"IF(NOT($AS3272=$AS3273),ROW(),\"\")","v":""},{"$f":"IF(NOT(AS3272=AS3273),AS3273,\"\")","v":""},{"$f":"INDEX($AB$15:$AM$15,MATCH($AS3272,$AB$11:$AM$11,0))","v":"out"},{"$f":"LEFT(AT3272,4)","v":"2012"},{"$f":"LEFT(B3272,6)","v":"201210"}]
[null,{"$f":"'Market Data'!B3259","v":20121009},{"$f":"'Market Data'!C3259","v":7477.5},{"$f":"'Market Data'!D3259","v":7478.5},{"$f":"'Market Data'!E3259","v":7370.5},{"$f":"'Market Data'!F3259","v":7377.5},null,3255,{"$f":"IF($H3273<($J$6+1),\"\",PFE(OFFSET($F3273,0,0,-$J$6)))","v":0.21433391970380108},null,"Long",{"$error":"#N/A"},{"$error":"#N/A"},null,1,0,"",null,1,null,-2520,262468.23999999929,null,null,null,null,null,null,null,null,null,null,null,null,null,null,null,null,null,null,null,{"$f":"IF(NOT($AS3273=$AS3274),ROW(),\"\")","v":""},{"$f":"IF(NOT(AS3273=AS3274),AS3274,\"\")","v":""},{"$f":"INDEX($AB$15:$AM$15,MATCH($AS3273,$AB$11:$AM$11,0))","v":"out"},{"$f":"LEFT(AT3273,4)","v":"2012"},{"$f":"LEFT(B3273,6)","v":"201210"}]
[null,{"$f":"'Market Data'!B3260","v":20121010},{"$f":"'Market Data'!C3260","v":7374.5},{"$f":"'Market Data'!D3260","v":7398.5},{"$f":"'Market Data'!E3260","v":7335},{"$f":"'Market Data'!F3260","v":7367},null,3256,{"$f":"IF($H3274<($J$6+1),\"\",PFE(OFFSET($F3274,0,0,-$J$6)))","v":0.19758544414086235},null,"Long",{"$error":"#N/A"},{"$error":"#N/A"},null,1,0,"",null,1,null,-367.5,262100.73999999929,null,null,null,null,null,null,null,null,null,null,null,null,null,null,null,null,null,null,null,{"$f":"IF(NOT($AS3274=$AS3275),ROW(),\"\")","v":""},{"$f":"IF(NOT(AS3274=AS3275),AS3275,\"\")","v":""},{"$f":"INDEX($AB$15:$AM$15,MATCH($AS3274,$AB$11:$AM$11,0))","v":"out"},{"$f":"LEFT(AT3274,4)","v":"2012"},{"$f":"LEFT(B3274,6)","v":"201210"}]
[null,{"$f":"'Market Data'!B3261","v":20121011},{"$f":"'Market Data'!C3261","v":7343},{"$f":"'Market Data'!D3261","v":7458},{"$f":"'Market Data'!E3261","v":7332.5},{"$f":"'Market Data'!F3261","v":7435},null,3257,{"$f":"IF($H3275<($J$6+1),\"\",PFE(OFFSET($F3275,0,0,-$J$6)))","v":0.20575241086072807},null,"Long",{"$error":"#N/A"},{"$error":"#N/A"},null,1,0,"",null,1,null,2380,264480.73999999929,null,null,null,null,null,null,null,null,null,null,null,null,null,null,null,null,null,null,null,{"$f":"IF(NOT($AS3275=$AS3276),ROW(),\"\")","v":""},{"$f":"IF(NOT(AS3275=AS3276),AS3276,\"\")","v":""},{"$f":"INDEX($AB$15:$AM$15,MATCH($AS3275,$AB$11:$AM$11,0))","v":"out"},{"$f":"LEFT(AT3275,4)","v":"2012"},{"$f":"LEFT(B3275,6)","v":"201210"}]
[null,{"$f":"'Market Data'!B3262","v":20121012},{"$f":"'Market Data'!C3262","v":7420},{"$f":"'Market Data'!D3262","v":7444},{"$f":"'Market Data'!E3262","v":7382},{"$f":"'Market Data'!F3262","v":7395},null,3258,{"$f":"IF($H3276<($J$6+1),\"\",PFE(OFFSET($F3276,0,0,-$J$6)))","v":0.17750769340409667},null,"Long",{"$error":"#N/A"},{"$error":"#N/A"},null,1,0,"",null,1,null,-1400,263080.73999999929,null,null,null,null,null,null,null,null,null,null,null,null,null,null,null,null,null,null,null,{"$f":"IF(NOT($AS3276=$AS3277),ROW(),\"\")","v":""},{"$f":"IF(NOT(AS3276=AS3277),AS3277,\"\")","v":""},{"$f":"INDEX($AB$15:$AM$15,MATCH($AS3276,$AB$11:$AM$11,0))","v":"out"},{"$f":"LEFT(AT3276,4)","v":"2012"},{"$f":"LEFT(B3276,6)","v":"201210"}]
[null,{"$f":"'Market Data'!B3263","v":20121015},{"$f":"'Market Data'!C3263","v":7384.5},{"$f":"'Market Data'!D3263","v":7455.5},{"$f":"'Market Data'!E3263","v":7371.5},{"$f":"'Market Data'!F3263","v":7414.5},null,3259,{"$f":"IF($H3277<($J$6+1),\"\",PFE(OFFSET($F3277,0,0,-$J$6)))","v":0.1758557780984257},null,"Long",{"$error":"#N/A"},{"$error":"#N/A"},null,1,0,"",null,1,null,682.5,263763.23999999929,null,null,null,null,null,null,null,null,null,null,null,null,null,null,null,null,null,null,null,{"$f":"IF(NOT($AS3277=$AS3278),ROW(),\"\")","v":""},{"$f":"IF(NOT(AS3277=AS3278),AS3278,\"\")","v":""},{"$f":"INDEX($AB$15:$AM$15,MATCH($AS3277,$AB$11:$AM$11,0))","v":"out"},{"$f":"LEFT(AT3277,4)","v":"2012"},{"$f":"LEFT(B3277,6)","v":"201210"}]
[null,{"$f":"'Market Data'!B3264","v":20121016},{"$f":"'Market Data'!C3264","v":7462.5},{"$f":"'Market Data'!D3264","v":7543.5},{"$f":"'Market Data'!E3264","v":7445.5},{"$f":"'Market Data'!F3264","v":7530},null,3260,{"$f":"IF($H3278<($J$6+1),\"\",PFE(OFFSET($F3278,0,0,-$J$6)))","v":0.20366353401816478},null,"Long",{"$error":"#N/A"},{"$error":"#N/A"},null,1,0,"",null,1,null,4042.5,267805.73999999929,null,null,null,null,null,null,null,null,null,null,null,null,null,null,null,null,null,null,null,{"$f":"IF(NOT($AS3278=$AS3279),ROW(),\"\")","v":""},{"$f":"IF(NOT(AS3278=AS3279),AS3279,\"\")","v":""},{"$f":"INDEX($AB$15:$AM$15,MATCH($AS3278,$AB$11:$AM$11,0))","v":"out"},{"$f":"LEFT(AT3278,4)","v":"2012"},{"$f":"LEFT(B3278,6)","v":"201210"}]
[null,{"$f":"'Market Data'!B3265","v":20121017},{"$f":"'Market Data'!C3265","v":7539.5},{"$f":"'Market Data'!D3265","v":7554},{"$f":"'Market Data'!E3265","v":7519},{"$f":"'Market Data'!F3265","v":7548},null,3261,{"$f":"IF($H3279<($J$6+1),\"\",PFE(OFFSET($F3279,0,0,-$J$6)))","v":0.22945323718277003},null,"Long",{"$error":"#N/A"},{"$error":"#N/A"},null,1,0,"",null,1,null,630,268435.73999999929,null,null,null,null,null,null,null,null,null,null,null,null,null,null,null,null,null,null,null,{"$f":"IF(NOT($AS3279=$AS3280),ROW(),\"\")","v":""},{"$f":"IF(NOT(AS3279=AS3280),AS3280,\"\")","v":""},{"$f":"INDEX($AB$15:$AM$15,MATCH($AS3279,$AB$11:$AM$11,0))","v":"out"},{"$f":"LEFT(AT3279,4)","v":"2012"},{"$f":"LEFT(B3279,6)","v":"201210"}]
[null,{"$f":"'Market Data'!B3266","v":20121018},{"$f":"'Market Data'!C3266","v":7557.5},{"$f":"'Market Data'!D3266","v":7599},{"$f":"'Market Data'!E3266","v":7540.5},{"$f":"'Market Data'!F3266","v":7590.5},null,3262,{"$f":"IF($H3280<($J$6+1),\"\",PFE(OFFSET($F3280,0,0,-$J$6)))","v":0.26402105617587301},null,"Long",{"$error":"#N/A"},{"$error":"#N/A"},null,1,0,"",null,1,null,1487.5,269923.23999999929,null,null,null,null,null,null,null,null,null,null,null,null,null,null,null,null,null,null,null,{"$f":"IF(NOT($AS3280=$AS3281),ROW(),\"\")","v":""},{"$f":"IF(NOT(AS3280=AS3281),AS3281,\"\")","v":""},{"$f":"INDEX($AB$15:$AM$15,MATCH($AS3280,$AB$11:$AM$11,0))","v":"out"},{"$f":"LEFT(AT3280,4)","v":"2012"},{"$f":"LEFT(B3280,6)","v":"201210"}]
[null,{"$f":"'Market Data'!B3267","v":20121019},{"$f":"'Market Data'!C3267","v":7565.5},{"$f":"'Market Data'!D3267","v":7583},{"$f":"'Market Data'!E3267","v":7480},{"$f":"'Market Data'!F3267","v":7517},null,3263,{"$f":"IF($H3281<($J$6+1),\"\",PFE(OFFSET($F3281,0,0,-$J$6)))","v":0.24745317784640414},null,"Long",{"$error":"#N/A"},{"$error":"#N/A"},null,1,{"$f":"$O3281-S3281","v":0},"",null,1,null,-2572.5,267350.73999999929,null,null,null,null,null,null,null,null,null,null,null,null,null,null,null,null,null,null,null,{"$f":"IF(NOT($AS3281=$AS3282),ROW(),\"\")","v":""},{"$f":"IF(NOT(AS3281=AS3282),AS3282,\"\")","v":""},{"$f":"INDEX($AB$15:$AM$15,MATCH($AS3281,$AB$11:$AM$11,0))","v":"out"},{"$f":"LEFT(AT3281,4)","v":"2012"},{"$f":"LEFT(B3281,6)","v":"201210"}]
[null,{"$f":"'Market Data'!B3268","v":20121022},{"$f":"'Market Data'!C3268","v":7516},{"$f":"'Market Data'!D3268","v":7542.5},{"$f":"'Market Data'!E3268","v":7453},{"$f":"'Market Data'!F3268","v":7473},null,3264,{"$f":"IF($H3282<($J$6+1),\"\",PFE(OFFSET($F3282,0,0,-$J$6)))","v":0.22440933748376202},null,"Long",{"$error":"#N/A"},{"$error":"#N/A"},null,1,0,"",null,{"$f":"IF($Q3281=\"Fill\",$O3281,$S3281)","v":1},null,-1540,265810.73999999929,null,null,null,null,null,null,null,null,null,null,null,null,null,null,null,null,null,null,null,{"$f":"IF(NOT($AS3282=$AS3283),ROW(),\"\")","v":""},{"$f":"IF(NOT(AS3282=AS3283),AS3283,\"\")","v":""},{"$f":"INDEX($AB$15:$AM$15,MATCH($AS3282,$AB$11:$AM$11,0))","v":"out"},{"$f":"LEFT(AT3282,4)","v":"2012"},{"$f":"LEFT(B3282,6)","v":"201210"}]
[null,{"$f":"'Market Data'!B3269","v":20121023},{"$f":"'Market Data'!C3269","v":7488},{"$f":"'Market Data'!D3269","v":7496},{"$f":"'Market Data'!E3269","v":7303.5},{"$f":"'Market Data'!F3269","v":7327},null,3265,{"$f":"IF($H3283<($J$6+1),\"\",PFE(OFFSET($F3283,0,0,-$J$6)))","v":0.20545258672210467},null,"Long",{"$f":"IF(AND($K3283=\"Long\",$K3282<>\"Long\"),$F3283,NA())","v":{"$error":"#N/A"}},{"$f":"IF(AND($K3283=\"Short\",$K3282<>\"Short\"),$F3283,NA())","v":{"$error":"#N/A"}},null,1,0,{"$f":"IF(NOT($P3283=0),\"Fill\",\"\")","v":""},null,1,null,-5110,{"$f":"V3282+U3283","v":260700.73999999929},null,null,null,null,null,null,null,null,null,null,null,null,null,null,null,null,null,null,null,{"$f":"IF(NOT($AS3283=$AS3284),ROW(),\"\")","v":""},{"$f":"IF(NOT(AS3283=AS3284),AS3284,\"\")","v":""},{"$f":"INDEX($AB$15:$AM$15,MATCH($AS3283,$AB$11:$AM$11,0))","v":"out"},{"$f":"LEFT(AT3283,4)","v":"2012"},{"$f":"LEFT(B3283,6)","v":"201210"}]
[null,{"$f":"'Market Data'!B3270","v":20121024},{"$f":"'Market Data'!C3270","v":7365},{"$f":"'Market Data'!D3270","v":7367.5},{"$f":"'Market Data'!E3270","v":7269.5},{"$f":"'Market Data'!F3270","v":7345},null,{"$f":"ROW()-ROW(H$18)","v":3266},{"$f":"IF($H3284<($J$6+1),\"\",PFE(OFFSET($F3284,0,0,-$J$6)))","v":0.16511282236022623},null,{"$f":"IF($I3284=\"\",\"\",IF($I3284>$J$4,\"Long\",IF($I3284<$J$5,\"Short\",\"\")))","v":"Long"},{"$error":"#N/A"},{"$error":"#N/A"},null,{"$f":"IF($K3284=\"Short\",-1,IF($K3284=\"Long\",1,0))","v":1},0,"",null,1,null,630,261330.73999999929,null,null,null,null,null,null,null,null,null,null,null,null,null,null,null,null,null,null,null,{"$f":"IF(NOT($AS3284=$AS3285),ROW(),\"\")","v":""},{"$f":"IF(NOT(AS3284=AS3285),AS3285,\"\")","v":""},{"$f":"INDEX($AB$15:$AM$15,MATCH($AS3284,$AB$11:$AM$11,0))","v":"out"},{"$f":"LEFT(AT3284,4)","v":"2012"},{"$f":"LEFT(B3284,6)","v":"201210"}]
[null,{"$f":"'Market Data'!B3271","v":20121025},{"$f":"'Market Data'!C3271","v":7359.5},{"$f":"'Market Data'!D3271","v":7409},{"$f":"'Market Data'!E3271","v":7332.5},{"$f":"'Market Data'!F3271","v":7348.5},null,3267,{"$f":"IF($H3285<($J$6+1),\"\",PFE(OFFSET($F3285,0,0,-$J$6)))","v":0.15199604487912383},null,"Long",{"$error":"#N/A"},{"$error":"#N/A"},null,1,0,"",null,1,null,122.5,261453.23999999929,null,null,null,null,null,null,null,null,null,null,null,null,null,null,null,null,null,null,null,{"$f":"IF(NOT($AS3285=$AS3286),ROW(),\"\")","v":""},{"$f":"IF(NOT(AS3285=AS3286),AS3286,\"\")","v":""},{"$f":"INDEX($AB$15:$AM$15,MATCH($AS3285,$AB$11:$AM$11,0))","v":"out"},{"$f":"LEFT(AT3285,4)","v":"2012"},{"$f":"LEFT(B3285,6)","v":"201210"}]
[null,{"$f":"'Market Data'!B3272","v":20121026},{"$f":"'Market Data'!C3272","v":7303},{"$f":"'Market Data'!D3272","v":7408.5},{"$f":"'Market Data'!E3272","v":7295},{"$f":"'Market Data'!F3272","v":7381.5},null,3268,{"$f":"IF($H3286<($J$6+1),\"\",PFE(OFFSET($F3286,0,0,-$J$6)))","v":0.14199269365063258},null,"Long",{"$error":"#N/A"},{"$error":"#N/A"},null,1,0,"",null,1,null,{"$f":"IF(OR($S3285&$O3285=\"01\",$S3285&$O3285=\"0-1\"),(($F3286-$C3286)*$V$4*$O3285)-(ABS($P3285)*$V$5),IF(OR($S3285&$O3285=\"10\",$S3285&$O3285=\"-10\"),(($C3286-$F3285)*$V$4*$S3285)-(ABS($P3285)*$V$5),IF(OR($S3285&$O3285=\"1-1\",$S3285&$O3285=\"-11\"),(($C3286-$F3285)*$V$4*$S3285)-(ABS($P3285)*$V$5)+(($F3286-$C3286)*$V$4*$S3286),IF(OR($S3285&$O3285=\"11\",$S3285&$O3285=\"-1-1\"),(($F3286-$F3285)*$V$4*$S3286),0))))","v":1155},262608.23999999929,null,null,null,null,null,null,null,null,null,null,null,null,null,null,null,null,null,null,null,{"$f":"IF(NOT($AS3286=$AS3287),ROW(),\"\")","v":""},{"$f":"IF(NOT(AS3286=AS3287),AS3287,\"\")","v":""},{"$f":"INDEX($AB$15:$AM$15,MATCH($AS3286,$AB$11:$AM$11,0))","v":"out"},{"$f":"LEFT(AT3286,4)","v":"2012"},{"$f":"LEFT(B3286,6)","v":"201210"}]
[null,{"$f":"'Market Data'!B3273","v":20121029},{"$f":"'Market Data'!C3273","v":7376.5},{"$f":"'Market Data'!D3273","v":7377.5},{"$f":"'Market Data'!E3273","v":7322},{"$f":"'Market Data'!F3273","v":7356},null,3269,{"$f":"IF($H3287<($J$6+1),\"\",PFE(OFFSET($F3287,0,0,-$J$6)))","v":0.13954515866894135},null,"Long",{"$error":"#N/A"},{"$error":"#N/A"},null,1,0,"",null,1,null,-892.5,261715.73999999929,null,null,null,null,null,null,null,null,null,null,null,null,null,null,null,null,null,null,null,{"$f":"IF(NOT($AS3287=$AS3288),ROW(),\"\")","v":""},{"$f":"IF(NOT(AS3287=AS3288),AS3288,\"\")","v":""},{"$f":"INDEX($AB$15:$AM$15,MATCH($AS3287,$AB$11:$AM$11,0))","v":"out"},{"$f":"LEFT(AT3287,4)","v":"2012"},{"$f":"LEFT(B3287,6)","v":"201210"}]
[null,{"$f":"'Market Data'!B3274","v":20121030},{"$f":"'Market Data'!C3274","v":7347.5},{"$f":"'Market Data'!D3274","v":7444.5},{"$f":"'Market Data'!E3274","v":7347.5},{"$f":"'Market Data'!F3274","v":7426},null,3270,{"$f":"IF($H3288<($J$6+1),\"\",PFE(OFFSET($F3288,0,0,-$J$6)))","v":0.15799972446025853},null,"Long",{"$error":"#N/A"},{"$error":"#N/A"},null,1,0,"",null,1,null,2450,264165.73999999929,null,null,null,null,null,null,null,null,null,null,null,null,null,null,null,null,null,null,null,{"$f":"IF(NOT($AS3288=$AS3289),ROW(),\"\")","v":""},{"$f":"IF(NOT(AS3288=AS3289),AS3289,\"\")","v":""},{"$f":"INDEX($AB$15:$AM$15,MATCH($AS3288,$AB$11:$AM$11,0))","v":"out"},{"$f":"LEFT(AT3288,4)","v":"2012"},{"$f":"LEFT(B3288,6)","v":"201210"}]
[null,{"$f":"'Market Data'!B3275","v":20121031},{"$f":"'Market Data'!C3275","v":7437},{"$f":"'Market Data'!D3275","v":7499.5},{"$f":"'Market Data'!E3275","v":7404},{"$f":"'Market Data'!F3275","v":7420.5},null,3271,{"$f":"IF($H3289<($J$6+1),\"\",PFE(OFFSET($F3289,0,0,-$J$6)))","v":0.18781863004810667},null,"Long",{"$error":"#N/A"},{"$error":"#N/A"},null,1,0,"",null,1,null,-192.5,263973.23999999929,null,null,null,null,null,null,null,null,null,null,null,null,null,null,null,null,null,null,null,{"$f":"IF(NOT($AS3289=$AS3290),ROW(),\"\")","v":""},{"$f":"IF(NOT(AS3289=AS3290),AS3290,\"\")","v":""},{"$f":"INDEX($AB$15:$AM$15,MATCH($AS3289,$AB$11:$AM$11,0))","v":"out"},{"$f":"LEFT(AT3289,4)","v":"2012"},{"$f":"LEFT(B3289,6)","v":"201210"}]
[null,{"$f":"'Market Data'!B3276","v":20121101},{"$f":"'Market Data'!C3276","v":7418},{"$f":"'Market Data'!D3276","v":7509},{"$f":"'Market Data'!E3276","v":7395.5},{"$f":"'Market Data'!F3276","v":7483},null,3272,{"$f":"IF($H3290<($J$6+1),\"\",PFE(OFFSET($F3290,0,0,-$J$6)))","v":0.20262993100776203},null,"Long",{"$error":"#N/A"},{"$error":"#N/A"},null,1,0,"",null,1,null,2187.5,266160.73999999929,null,null,null,null,null,null,null,null,null,null,null,null,null,null,null,null,null,null,null,{"$f":"IF(NOT($AS3290=$AS3291),ROW(),\"\")","v":""},{"$f":"IF(NOT(AS3290=AS3291),AS3291,\"\")","v":""},{"$f":"INDEX($AB$15:$AM$15,MATCH($AS3290,$AB$11:$AM$11,0))","v":"out"},{"$f":"LEFT(AT3290,4)","v":"2012"},{"$f":"LEFT(B3290,6)","v":"201211"}]
[null,{"$f":"'Market Data'!B3277","v":20121102},{"$f":"'Market Data'!C3277","v":7498.5},{"$f":"'Market Data'!D3277","v":7542},{"$f":"'Market Data'!E3277","v":7463},{"$f":"'Market Data'!F3277","v":7510},null,3273,{"$f":"IF($H3291<($J$6+1),\"\",PFE(OFFSET($F3291,0,0,-$J$6)))","v":0.19856298302757025},null,"Long",{"$error":"#N/A"},{"$error":"#N/A"},null,1,0,"",null,1,null,945,267105.73999999929,null,null,null,null,null,null,null,null,null,null,null,null,null,null,null,null,null,null,null,{"$f":"IF(NOT($AS3291=$AS3292),ROW(),\"\")","v":""},{"$f":"IF(NOT(AS3291=AS3292),AS3292,\"\")","v":""},{"$f":"INDEX($AB$15:$AM$15,MATCH($AS3291,$AB$11:$AM$11,0))","v":"out"},{"$f":"LEFT(AT3291,4)","v":"2012"},{"$f":"LEFT(B3291,6)","v":"201211"}]
[null,{"$f":"'Market Data'!B3278","v":20121105},{"$f":"'Market Data'!C3278","v":7472},{"$f":"'Market Data'!D3278","v":7504.5},{"$f":"'Market Data'!E3278","v":7455.5},{"$f":"'Market Data'!F3278","v":7477.5},null,3274,{"$f":"IF($H3292<($J$6+1),\"\",PFE(OFFSET($F3292,0,0,-$J$6)))","v":0.18990636036900402},null,"Long",{"$error":"#N/A"},{"$error":"#N/A"},null,1,0,"",null,1,null,-1137.5,265968.23999999929,null,null,null,null,null,null,null,null,null,null,null,null,null,null,null,null,null,null,null,{"$f":"IF(NOT($AS3292=$AS3293),ROW(),\"\")","v":""},{"$f":"IF(NOT(AS3292=AS3293),AS3293,\"\")","v":""},{"$f":"INDEX($AB$15:$AM$15,MATCH($AS3292,$AB$11:$AM$11,0))","v":"out"},{"$f":"LEFT(AT3292,4)","v":"2012"},{"$f":"LEFT(B3292,6)","v":"201211"}]
[null,{"$f":"'Market Data'!B3279","v":20121106},{"$f":"'Market Data'!C3279","v":7506},{"$f":"'Market Data'!D3279","v":7569.5},{"$f":"'Market Data'!E3279","v":7469.5},{"$f":"'Market Data'!F3279","v":7525},null,3275,{"$f":"IF($H3293<($J$6+1),\"\",PFE(OFFSET($F3293,0,0,-$J$6)))","v":0.20494201001024062},null,"Long",{"$error":"#N/A"},{"$error":"#N/A"},null,1,0,"",null,1,null,1662.5,267630.73999999929,null,null,null,null,null,null,null,null,null,null,null,null,null,null,null,null,null,null,null,{"$f":"IF(NOT($AS3293=$AS3294),ROW(),\"\")","v":""},{"$f":"IF(NOT(AS3293=AS3294),AS3294,\"\")","v":""},{"$f":"INDEX($AB$15:$AM$15,MATCH($AS3293,$AB$11:$AM$11,0))","v":"out"},{"$f":"LEFT(AT3293,4)","v":"2012"},{"$f":"LEFT(B3293,6)","v":"201211"}]
[null,{"$f":"'Market Data'!B3280","v":20121107},{"$f":"'Market Data'!C3280","v":7566},{"$f":"'Market Data'!D3280","v":7589.5},{"$f":"'Market Data'!E3280","v":7373},{"$f":"'Market Data'!F3280","v":7380.5},null,3276,{"$f":"IF($H3294<($J$6+1),\"\",PFE(OFFSET($F3294,0,0,-$J$6)))","v":0.14786590050420689},null,"Long",{"$error":"#N/A"},{"$error":"#N/A"},null,1,0,"",null,1,null,-5057.5,262573.23999999929,null,null,null,null,null,null,null,null,null,null,null,null,null,null,null,null,null,null,null,{"$f":"IF(NOT($AS3294=$AS3295),ROW(),\"\")","v":""},{"$f":"IF(NOT(AS3294=AS3295),AS3295,\"\")","v":""},{"$f":"INDEX($AB$15:$AM$15,MATCH($AS3294,$AB$11:$AM$11,0))","v":"out"},{"$f":"LEFT(AT3294,4)","v":"2012"},{"$f":"LEFT(B3294,6)","v":"201211"}]
[null,{"$f":"'Market Data'!B3281","v":20121108},{"$f":"'Market Data'!C3281","v":7410},{"$f":"'Market Data'!D3281","v":7439},{"$f":"'Market Data'!E3281","v":7333.5},{"$f":"'Market Data'!F3281","v":7359.5},null,3277,{"$f":"IF($H3295<($J$6+1),\"\",PFE(OFFSET($F3295,0,0,-$J$6)))","v":0.13663666022679935},null,"Long",{"$error":"#N/A"},{"$error":"#N/A"},null,1,0,"",null,1,null,-735,261838.23999999929,null,null,null,null,null,null,null,null,null,null,null,null,null,null,null,null,null,null,null,{"$f":"IF(NOT($AS3295=$AS3296),ROW(),\"\")","v":""},{"$f":"IF(NOT(AS3295=AS3296),AS3296,\"\")","v":""},{"$f":"INDEX($AB$15:$AM$15,MATCH($AS3295,$AB$11:$AM$11,0))","v":"out"},{"$f":"LEFT(AT3295,4)","v":"2012"},{"$f":"LEFT(B3295,6)","v":"201211"}]
[null,{"$f":"'Market Data'!B3282","v":20121109},{"$f":"'Market Data'!C3282","v":7382.5},{"$f":"'Market Data'!D3282","v":7387.5},{"$f":"'Market Data'!E3282","v":7213},{"$f":"'Market Data'!F3282","v":7319.5},null,3278,{"$f":"IF($H3296<($J$6+1),\"\",PFE(OFFSET($F3296,0,0,-$J$6)))","v":0.12893212508328711},null,"Long",{"$error":"#N/A"},{"$error":"#N/A"},null,1,0,"",null,1,null,-1400,260438.23999999929,null,null,null,null,null,null,null,null,null,null,null,null,null,null,null,null,null,null,null,{"$f":"IF(NOT($AS3296=$AS3297),ROW(),\"\")","v":""},{"$f":"IF(NOT(AS3296=AS3297),AS3297,\"\")","v":""},{"$f":"INDEX($AB$15:$AM$15,MATCH($AS3296,$AB$11:$AM$11,0))","v":"out"},{"$f":"LEFT(AT3296,4)","v":"2012"},{"$f":"LEFT(B3296,6)","v":"201211"}]
[null,{"$f":"'Market Data'!B3283","v":20121112},{"$f":"'Market Data'!C3283","v":7317},{"$f":"'Market Data'!D3283","v":7352},{"$f":"'Market Data'!E3283","v":7287},{"$f":"'Market Data'!F3283","v":7321},null,3279,{"$f":"IF($H3297<($J$6+1),\"\",PFE(OFFSET($F3297,0,0,-$J$6)))","v":0.10786516415395139},null,"Long",{"$error":"#N/A"},{"$error":"#N/A"},null,1,0,"",null,1,null,52.5,260490.73999999929,null,null,null,null,null,null,null,null,null,null,null,null,null,null,null,null,null,null,null,{"$f":"IF(NOT($AS3297=$AS3298),ROW(),\"\")","v":""},{"$f":"IF(NOT(AS3297=AS3298),AS3298,\"\")","v":""},{"$f":"INDEX($AB$15:$AM$15,MATCH($AS3297,$AB$11:$AM$11,0))","v":"out"},{"$f":"LEFT(AT3297,4)","v":"2012"},{"$f":"LEFT(B3297,6)","v":"201211"}]
[null,{"$f":"'Market Data'!B3284","v":20121113},{"$f":"'Market Data'!C3284","v":7296},{"$f":"'Market Data'!D3284","v":7337},{"$f":"'Market Data'!E3284","v":7225},{"$f":"'Market Data'!F3284","v":7325},null,3280,{"$f":"IF($H3298<($J$6+1),\"\",PFE(OFFSET($F3298,0,0,-$J$6)))","v":9.4738206941217318E-2},null,"Long",{"$error":"#N/A"},{"$error":"#N/A"},null,1,0,"",null,1,null,140,260630.73999999929,null,null,null,null,null,null,null,null,null,null,null,null,null,null,null,null,null,null,null,{"$f":"IF(NOT($AS3298=$AS3299),ROW(),\"\")","v":""},{"$f":"IF(NOT(AS3298=AS3299),AS3299,\"\")","v":""},{"$f":"INDEX($AB$15:$AM$15,MATCH($AS3298,$AB$11:$AM$11,0))","v":"out"},{"$f":"LEFT(AT3298,4)","v":"2012"},{"$f":"LEFT(B3298,6)","v":"201211"}]
[null,{"$f":"'Market Data'!B3285","v":20121114},{"$f":"'Market Data'!C3285","v":7302.5},{"$f":"'Market Data'!D3285","v":7334.5},{"$f":"'Market Data'!E3285","v":7181},{"$f":"'Market Data'!F3285","v":7265.5},null,3281,{"$f":"IF($H3299<($J$6+1),\"\",PFE(OFFSET($F3299,0,0,-$J$6)))","v":0.10929388864163568},null,"Long",{"$error":"#N/A"},{"$error":"#N/A"},null,1,0,"",null,1,null,-2082.5,258548.23999999929,null,null,null,null,null,null,null,null,null,null,null,null,null,null,null,null,null,null,null,{"$f":"IF(NOT($AS3299=$AS3300),ROW(),\"\")","v":""},{"$f":"IF(NOT(AS3299=AS3300),AS3300,\"\")","v":""},{"$f":"INDEX($AB$15:$AM$15,MATCH($AS3299,$AB$11:$AM$11,0))","v":"out"},{"$f":"LEFT(AT3299,4)","v":"2012"},{"$f":"LEFT(B3299,6)","v":"201211"}]
[null,{"$f":"'Market Data'!B3286","v":20121115},{"$f":"'Market Data'!C3286","v":7199.5},{"$f":"'Market Data'!D3286","v":7229.5},{"$f":"'Market Data'!E3286","v":7161},{"$f":"'Market Data'!F3286","v":7195},null,3282,{"$f":"IF($H3300<($J$6+1),\"\",PFE(OFFSET($F3300,0,0,-$J$6)))","v":0.14395409559429326},null,"Long",{"$error":"#N/A"},{"$error":"#N/A"},null,1,0,"",null,1,null,-2467.5,256080.73999999929,null,null,null,null,null,null,null,null,null,null,null,null,null,null,null,null,null,null,null,{"$f":"IF(NOT($AS3300=$AS3301),ROW(),\"\")","v":""},{"$f":"IF(NOT(AS3300=AS3301),AS3301,\"\")","v":""},{"$f":"INDEX($AB$15:$AM$15,MATCH($AS3300,$AB$11:$AM$11,0))","v":"out"},{"$f":"LEFT(AT3300,4)","v":"2012"},{"$f":"LEFT(B3300,6)","v":"201211"}]
[null,{"$f":"'Market Data'!B3287","v":20121116},{"$f":"'Market Data'!C3287","v":7183.5},{"$f":"'Market Data'!D3287","v":7209.5},{"$f":"'Market Data'!E3287","v":7097.5},{"$f":"'Market Data'!F3287","v":7108},null,3283,{"$f":"IF($H3301<($J$6+1),\"\",PFE(OFFSET($F3301,0,0,-$J$6)))","v":0.12697070141013955},null,"Long",{"$error":"#N/A"},{"$error":"#N/A"},null,1,0,"",null,1,null,-3045,253035.73999999929,null,null,null,null,null,null,null,null,null,null,null,null,null,null,null,null,null,null,null,{"$f":"IF(NOT($AS3301=$AS3302),ROW(),\"\")","v":""},{"$f":"IF(NOT(AS3301=AS3302),AS3302,\"\")","v":""},{"$f":"INDEX($AB$15:$AM$15,MATCH($AS3301,$AB$11:$AM$11,0))","v":"out"},{"$f":"LEFT(AT3301,4)","v":"2012"},{"$f":"LEFT(B3301,6)","v":"201211"}]
[null,{"$f":"'Market Data'!B3288","v":20121119},{"$f":"'Market Data'!C3288","v":7161.5},{"$f":"'Market Data'!D3288","v":7280.5},{"$f":"'Market Data'!E3288","v":7155.5},{"$f":"'Market Data'!F3288","v":7274.5},null,3284,{"$f":"IF($H3302<($J$6+1),\"\",PFE(OFFSET($F3302,0,0,-$J$6)))","v":0.15944203331529289},null,"Long",{"$error":"#N/A"},{"$error":"#N/A"},null,1,0,"",null,1,null,5827.5,258863.23999999929,null,null,null,null,null,null,null,null,null,null,null,null,null,null,null,null,null,null,null,{"$f":"IF(NOT($AS3302=$AS3303),ROW(),\"\")","v":""},{"$f":"IF(NOT(AS3302=AS3303),AS3303,\"\")","v":""},{"$f":"INDEX($AB$15:$AM$15,MATCH($AS3302,$AB$11:$AM$11,0))","v":"out"},{"$f":"LEFT(AT3302,4)","v":"2012"},{"$f":"LEFT(B3302,6)","v":"201211"}]
[null,{"$f":"'Market Data'!B3289","v":20121120},{"$f":"'Market Data'!C3289","v":7253},{"$f":"'Market Data'!D3289","v":7337.5},{"$f":"'Market Data'!E3289","v":7242},{"$f":"'Market Data'!F3289","v":7324},null,3285,{"$f":"IF($H3303<($J$6+1),\"\",PFE(OFFSET($F3303,0,0,-$J$6)))","v":0.13623691095730842},null,"Long",{"$error":"#N/A"},{"$error":"#N/A"},null,1,0,"",null,1,null,1732.5,260595.73999999929,null,null,null,null,null,null,null,null,null,null,null,null,null,null,null,null,null,null,null,{"$f":"IF(NOT($AS3303=$AS3304),ROW(),\"\")","v":""},{"$f":"IF(NOT(AS3303=AS3304),AS3304,\"\")","v":""},{"$f":"INDEX($AB$15:$AM$15,MATCH($AS3303,$AB$11:$AM$11,0))","v":"out"},{"$f":"LEFT(AT3303,4)","v":"2012"},{"$f":"LEFT(B3303,6)","v":"201211"}]
[null,{"$f":"'Market Data'!B3290","v":20121121},{"$f":"'Market Data'!C3290","v":7292},{"$f":"'Market Data'!D3290","v":7345.5},{"$f":"'Market Data'!E3290","v":7285.5},{"$f":"'Market Data'!F3290","v":7337},null,3286,{"$f":"IF($H3304<($J$6+1),\"\",PFE(OFFSET($F3304,0,0,-$J$6)))","v":0.11758427967257118},null,"Long",{"$error":"#N/A"},{"$error":"#N/A"},null,1,0,"",null,1,null,455,261050.73999999929,null,null,null,null,null,null,null,null,null,null,null,null,null,null,null,null,null,null,null,{"$f":"IF(NOT($AS3304=$AS3305),ROW(),\"\")","v":""},{"$f":"IF(NOT(AS3304=AS3305),AS3305,\"\")","v":""},{"$f":"INDEX($AB$15:$AM$15,MATCH($AS3304,$AB$11:$AM$11,0))","v":"out"},{"$f":"LEFT(AT3304,4)","v":"2012"},{"$f":"LEFT(B3304,6)","v":"201211"}]
[null,{"$f":"'Market Data'!B3291","v":20121122},{"$f":"'Market Data'!C3291","v":7360.5},{"$f":"'Market Data'!D3291","v":7404.5},{"$f":"'Market Data'!E3291","v":7356},{"$f":"'Market Data'!F3291","v":7397.5},null,3287,{"$f":"IF($H3305<($J$6+1),\"\",PFE(OFFSET($F3305,0,0,-$J$6)))","v":0.10957367233566305},null,"Long",{"$error":"#N/A"},{"$error":"#N/A"},null,1,0,"",null,1,null,2117.5,263168.23999999929,null,null,null,null,null,null,null,null,null,null,null,null,null,null,null,null,null,null,null,{"$f":"IF(NOT($AS3305=$AS3306),ROW(),\"\")","v":""},{"$f":"IF(NOT(AS3305=AS3306),AS3306,\"\")","v":""},{"$f":"INDEX($AB$15:$AM$15,MATCH($AS3305,$AB$11:$AM$11,0))","v":"out"},{"$f":"LEFT(AT3305,4)","v":"2012"},{"$f":"LEFT(B3305,6)","v":"201211"}]
[null,{"$f":"'Market Data'!B3292","v":20121123},{"$f":"'Market Data'!C3292","v":7407.5},{"$f":"'Market Data'!D3292","v":7485.5},{"$f":"'Market Data'!E3292","v":7370},{"$f":"'Market Data'!F3292","v":7456},null,3288,{"$f":"IF($H3306<($J$6+1),\"\",PFE(OFFSET($F3306,0,0,-$J$6)))","v":0.12110105884975698},null,"Long",{"$error":"#N/A"},{"$error":"#N/A"},null,1,0,"",null,1,null,2047.5,265215.73999999929,null,null,null,null,null,null,null,null,null,null,null,null,null,null,null,null,null,null,null,{"$f":"IF(NOT($AS3306=$AS3307),ROW(),\"\")","v":""},{"$f":"IF(NOT(AS3306=AS3307),AS3307,\"\")","v":""},{"$f":"INDEX($AB$15:$AM$15,MATCH($AS3306,$AB$11:$AM$11,0))","v":"out"},{"$f":"LEFT(AT3306,4)","v":"2012"},{"$f":"LEFT(B3306,6)","v":"201211"}]
[null,{"$f":"'Market Data'!B3293","v":20121126},{"$f":"'Market Data'!C3293","v":7441.5},{"$f":"'Market Data'!D3293","v":7465},{"$f":"'Market Data'!E3293","v":7423.5},{"$f":"'Market Data'!F3293","v":7442.5},null,3289,{"$f":"IF($H3307<($J$6+1),\"\",PFE(OFFSET($F3307,0,0,-$J$6)))","v":0.12430630029034516},null,"Long",{"$error":"#N/A"},{"$error":"#N/A"},null,1,0,"",null,1,null,-472.5,264743.23999999929,null,null,null,null,null,null,null,null,null,null,null,null,null,null,null,null,null,null,null,{"$f":"IF(NOT($AS3307=$AS3308),ROW(),\"\")","v":""},{"$f":"IF(NOT(AS3307=AS3308),AS3308,\"\")","v":""},{"$f":"INDEX($AB$15:$AM$15,MATCH($AS3307,$AB$11:$AM$11,0))","v":"out"},{"$f":"LEFT(AT3307,4)","v":"2012"},{"$f":"LEFT(B3307,6)","v":"201211"}]
[null,{"$f":"'Market Data'!B3294","v":20121127},{"$f":"'Market Data'!C3294","v":7480},{"$f":"'Market Data'!D3294","v":7514.5},{"$f":"'Market Data'!E3294","v":7456},{"$f":"'Market Data'!F3294","v":7488},null,3290,{"$f":"IF($H3308<($J$6+1),\"\",PFE(OFFSET($F3308,0,0,-$J$6)))","v":0.17193279284871882},null,"Long",{"$error":"#N/A"},{"$error":"#N/A"},null,1,0,"",null,1,null,1592.5,266335.73999999929,null,null,null,null,null,null,null,null,null,null,null,null,null,null,null,null,null,null,null,{"$f":"IF(NOT($AS3308=$AS3309),ROW(),\"\")","v":""},{"$f":"IF(NOT(AS3308=AS3309),AS3309,\"\")","v":""},{"$f":"INDEX($AB$15:$AM$15,MATCH($AS3308,$AB$11:$AM$11,0))","v":"out"},{"$f":"LEFT(AT3308,4)","v":"2012"},{"$f":"LEFT(B3308,6)","v":"201211"}]
[null,{"$f":"'Market Data'!B3295","v":20121128},{"$f":"'Market Data'!C3295","v":7464.5},{"$f":"'Market Data'!D3295","v":7536.5},{"$f":"'Market Data'!E3295","v":7414.5},{"$f":"'Market Data'!F3295","v":7498.5},null,3291,{"$f":"IF($H3309<($J$6+1),\"\",PFE(OFFSET($F3309,0,0,-$J$6)))","v":0.12176991881370416},null,"Long",{"$error":"#N/A"},{"$error":"#N/A"},null,1,0,"",null,1,null,367.5,266703.23999999929,null,null,null,null,null,null,null,null,null,null,null,null,null,null,null,null,null,null,null,{"$f":"IF(NOT($AS3309=$AS3310),ROW(),\"\")","v":""},{"$f":"IF(NOT(AS3309=AS3310),AS3310,\"\")","v":""},{"$f":"INDEX($AB$15:$AM$15,MATCH($AS3309,$AB$11:$AM$11,0))","v":"out"},{"$f":"LEFT(AT3309,4)","v":"2012"},{"$f":"LEFT(B3309,6)","v":"201211"}]
[null,{"$f":"'Market Data'!B3296","v":20121129},{"$f":"'Market Data'!C3296","v":7540.5},{"$f":"'Market Data'!D3296","v":7568},{"$f":"'Market Data'!E3296","v":7520.5},{"$f":"'Market Data'!F3296","v":7550.5},null,3292,{"$f":"IF($H3310<($J$6+1),\"\",PFE(OFFSET($F3310,0,0,-$J$6)))","v":0.1214443920929409},null,"Long",{"$error":"#N/A"},{"$error":"#N/A"},null,1,0,"",null,1,null,1820,268523.23999999929,null,null,null,null,null,null,null,null,null,null,null,null,null,null,null,null,null,null,null,{"$f":"IF(NOT($AS3310=$AS3311),ROW(),\"\")","v":""},{"$f":"IF(NOT(AS3310=AS3311),AS3311,\"\")","v":""},{"$f":"INDEX($AB$15:$AM$15,MATCH($AS3310,$AB$11:$AM$11,0))","v":"out"},{"$f":"LEFT(AT3310,4)","v":"2012"},{"$f":"LEFT(B3310,6)","v":"201211"}]
[null,{"$f":"'Market Data'!B3297","v":20121130},{"$f":"'Market Data'!C3297","v":7545.5},{"$f":"'Market Data'!D3297","v":7594.5},{"$f":"'Market Data'!E3297","v":7540},{"$f":"'Market Data'!F3297","v":7568.5},null,3293,{"$f":"IF($H3311<($J$6+1),\"\",PFE(OFFSET($F3311,0,0,-$J$6)))","v":0.11587789767975341},null,"Long",{"$error":"#N/A"},{"$error":"#N/A"},null,1,0,"",null,1,null,630,269153.23999999929,null,null,null,null,null,null,null,null,null,null,null,null,null,null,null,null,null,null,null,{"$f":"IF(NOT($AS3311=$AS3312),ROW(),\"\")","v":""},{"$f":"IF(NOT(AS3311=AS3312),AS3312,\"\")","v":""},{"$f":"INDEX($AB$15:$AM$15,MATCH($AS3311,$AB$11:$AM$11,0))","v":"out"},{"$f":"LEFT(AT3311,4)","v":"2012"},{"$f":"LEFT(B3311,6)","v":"201211"}]
[null,{"$f":"'Market Data'!B3298","v":20121203},{"$f":"'Market Data'!C3298","v":7578.5},{"$f":"'Market Data'!D3298","v":7638.5},{"$f":"'Market Data'!E3298","v":7566.5},{"$f":"'Market Data'!F3298","v":7585},null,3294,{"$f":"IF($H3312<($J$6+1),\"\",PFE(OFFSET($F3312,0,0,-$J$6)))","v":0.12046409312008334},null,"Long",{"$error":"#N/A"},{"$error":"#N/A"},null,1,0,"",null,1,null,577.5,269730.73999999929,null,null,null,null,null,null,null,null,null,null,null,null,null,null,null,null,null,null,null,{"$f":"IF(NOT($AS3312=$AS3313),ROW(),\"\")","v":""},{"$f":"IF(NOT(AS3312=AS3313),AS3313,\"\")","v":""},{"$f":"INDEX($AB$15:$AM$15,MATCH($AS3312,$AB$11:$AM$11,0))","v":"out"},{"$f":"LEFT(AT3312,4)","v":"2012"},{"$f":"LEFT(B3312,6)","v":"201212"}]
[null,{"$f":"'Market Data'!B3299","v":20121204},{"$f":"'Market Data'!C3299","v":7568},{"$f":"'Market Data'!D3299","v":7617.5},{"$f":"'Market Data'!E3299","v":7563},{"$f":"'Market Data'!F3299","v":7578},null,3295,{"$f":"IF($H3313<($J$6+1),\"\",PFE(OFFSET($F3313,0,0,-$J$6)))","v":0.11867231147437103},null,"Long",{"$error":"#N/A"},{"$error":"#N/A"},null,1,0,"",null,1,null,-245,269485.73999999929,null,null,null,null,null,null,null,null,null,null,null,null,null,null,null,null,null,null,null,{"$f":"IF(NOT($AS3313=$AS3314),ROW(),\"\")","v":""},{"$f":"IF(NOT(AS3313=AS3314),AS3314,\"\")","v":""},{"$f":"INDEX($AB$15:$AM$15,MATCH($AS3313,$AB$11:$AM$11,0))","v":"out"},{"$f":"LEFT(AT3313,4)","v":"2012"},{"$f":"LEFT(B3313,6)","v":"201212"}]
[null,{"$f":"'Market Data'!B3300","v":20121205},{"$f":"'Market Data'!C3300","v":7649},{"$f":"'Market Data'!D3300","v":7656.5},{"$f":"'Market Data'!E3300","v":7578},{"$f":"'Market Data'!F3300","v":7594.5},null,3296,{"$f":"IF($H3314<($J$6+1),\"\",PFE(OFFSET($F3314,0,0,-$J$6)))","v":0.12476228019820336},null,"Long",{"$error":"#N/A"},{"$error":"#N/A"},null,1,0,"",null,1,null,577.5,270063.23999999929,null,null,null,null,null,null,null,null,null,null,null,null,null,null,null,null,null,null,null,{"$f":"IF(NOT($AS3314=$AS3315),ROW(),\"\")","v":""},{"$f":"IF(NOT(AS3314=AS3315),AS3315,\"\")","v":""},{"$f":"INDEX($AB$15:$AM$15,MATCH($AS3314,$AB$11:$AM$11,0))","v":"out"},{"$f":"LEFT(AT3314,4)","v":"2012"},{"$f":"LEFT(B3314,6)","v":"201212"}]
[null,{"$f":"'Market Data'!B3301","v":20121206},{"$f":"'Market Data'!C3301","v":7617.5},{"$f":"'Market Data'!D3301","v":7707.5},{"$f":"'Market Data'!E3301","v":7610.5},{"$f":"'Market Data'!F3301","v":7687},null,3297,{"$f":"IF($H3315<($J$6+1),\"\",PFE(OFFSET($F3315,0,0,-$J$6)))","v":0.15492435776638952},null,"Long",{"$error":"#N/A"},{"$error":"#N/A"},null,1,0,"",null,1,null,3237.5,273300.73999999929,null,null,null,null,null,null,null,null,null,null,null,null,null,null,null,null,null,null,null,{"$f":"IF(NOT($AS3315=$AS3316),ROW(),\"\")","v":""},{"$f":"IF(NOT(AS3315=AS3316),AS3316,\"\")","v":""},{"$f":"INDEX($AB$15:$AM$15,MATCH($AS3315,$AB$11:$AM$11,0))","v":"out"},{"$f":"LEFT(AT3315,4)","v":"2012"},{"$f":"LEFT(B3315,6)","v":"201212"}]
[null,{"$f":"'Market Data'!B3302","v":20121207},{"$f":"'Market Data'!C3302","v":7696},{"$f":"'Market Data'!D3302","v":7704.5},{"$f":"'Market Data'!E3302","v":7637},{"$f":"'Market Data'!F3302","v":7658.5},null,3298,{"$f":"IF($H3316<($J$6+1),\"\",PFE(OFFSET($F3316,0,0,-$J$6)))","v":0.13522121529375292},null,"Long",{"$error":"#N/A"},{"$error":"#N/A"},null,1,0,"",null,1,null,-997.5,272303.23999999929,null,null,null,null,null,null,null,null,null,null,null,null,null,null,null,null,null,null,null,{"$f":"IF(NOT($AS3316=$AS3317),ROW(),\"\")","v":""},{"$f":"IF(NOT(AS3316=AS3317),AS3317,\"\")","v":""},{"$f":"INDEX($AB$15:$AM$15,MATCH($AS3316,$AB$11:$AM$11,0))","v":"out"},{"$f":"LEFT(AT3316,4)","v":"2012"},{"$f":"LEFT(B3316,6)","v":"201212"}]
[null,{"$f":"'Market Data'!B3303","v":20121210},{"$f":"'Market Data'!C3303","v":7672},{"$f":"'Market Data'!D3303","v":7691},{"$f":"'Market Data'!E3303","v":7607},{"$f":"'Market Data'!F3303","v":7681},null,3299,{"$f":"IF($H3317<($J$6+1),\"\",PFE(OFFSET($F3317,0,0,-$J$6)))","v":0.14491229498504246},null,"Long",{"$error":"#N/A"},{"$error":"#N/A"},null,1,0,"",null,1,null,787.5,273090.73999999929,null,null,null,null,null,null,null,null,null,null,null,null,null,null,null,null,null,null,null,{"$f":"IF(NOT($AS3317=$AS3318),ROW(),\"\")","v":""},{"$f":"IF(NOT(AS3317=AS3318),AS3318,\"\")","v":""},{"$f":"INDEX($AB$15:$AM$15,MATCH($AS3317,$AB$11:$AM$11,0))","v":"out"},{"$f":"LEFT(AT3317,4)","v":"2012"},{"$f":"LEFT(B3317,6)","v":"201212"}]
[null,{"$f":"'Market Data'!B3304","v":20121211},{"$f":"'Market Data'!C3304","v":7683.5},{"$f":"'Market Data'!D3304","v":7748},{"$f":"'Market Data'!E3304","v":7670.5},{"$f":"'Market Data'!F3304","v":7742},null,3300,{"$f":"IF($H3318<($J$6+1),\"\",PFE(OFFSET($F3318,0,0,-$J$6)))","v":0.14920867059451637},null,"Long",{"$error":"#N/A"},{"$error":"#N/A"},null,1,0,"",null,1,null,2135,275225.73999999929,null,null,null,null,null,null,null,null,null,null,null,null,null,null,null,null,null,null,null,{"$f":"IF(NOT($AS3318=$AS3319),ROW(),\"\")","v":""},{"$f":"IF(NOT(AS3318=AS3319),AS3319,\"\")","v":""},{"$f":"INDEX($AB$15:$AM$15,MATCH($AS3318,$AB$11:$AM$11,0))","v":"out"},{"$f":"LEFT(AT3318,4)","v":"2012"},{"$f":"LEFT(B3318,6)","v":"201212"}]
[null,{"$f":"'Market Data'!B3305","v":20121212},{"$f":"'Market Data'!C3305","v":7746},{"$f":"'Market Data'!D3305","v":7793.5},{"$f":"'Market Data'!E3305","v":7736.5},{"$f":"'Market Data'!F3305","v":7764.5},null,3301,{"$f":"IF($H3319<($J$6+1),\"\",PFE(OFFSET($F3319,0,0,-$J$6)))","v":0.1449120624986088},null,"Long",{"$error":"#N/A"},{"$error":"#N/A"},null,1,0,"",null,1,null,787.5,276013.23999999929,null,null,null,null,null,null,null,null,null,null,null,null,null,null,null,null,null,null,null,{"$f":"IF(NOT($AS3319=$AS3320),ROW(),\"\")","v":""},{"$f":"IF(NOT(AS3319=AS3320),AS3320,\"\")","v":""},{"$f":"INDEX($AB$15:$AM$15,MATCH($AS3319,$AB$11:$AM$11,0))","v":"out"},{"$f":"LEFT(AT3319,4)","v":"2012"},{"$f":"LEFT(B3319,6)","v":"201212"}]
[null,{"$f":"'Market Data'!B3306","v":20121213},{"$f":"'Market Data'!C3306","v":7747},{"$f":"'Market Data'!D3306","v":7771},{"$f":"'Market Data'!E3306","v":7711},{"$f":"'Market Data'!F3306","v":7721.5},null,3302,{"$f":"IF($H3320<($J$6+1),\"\",PFE(OFFSET($F3320,0,0,-$J$6)))","v":0.13304790247207079},null,"Long",{"$error":"#N/A"},{"$error":"#N/A"},null,1,0,"",null,1,null,-1505,274508.23999999929,null,null,null,null,null,null,null,null,null,null,null,null,null,null,null,null,null,null,null,{"$f":"IF(NOT($AS3320=$AS3321),ROW(),\"\")","v":""},{"$f":"IF(NOT(AS3320=AS3321),AS3321,\"\")","v":""},{"$f":"INDEX($AB$15:$AM$15,MATCH($AS3320,$AB$11:$AM$11,0))","v":"out"},{"$f":"LEFT(AT3320,4)","v":"2012"},{"$f":"LEFT(B3320,6)","v":"201212"}]
[null,{"$f":"'Market Data'!B3307","v":20121214},{"$f":"'Market Data'!C3307","v":7741.5},{"$f":"'Market Data'!D3307","v":7771.5},{"$f":"'Market Data'!E3307","v":7720.5},{"$f":"'Market Data'!F3307","v":7744.5},null,3303,{"$f":"IF($H3321<($J$6+1),\"\",PFE(OFFSET($F3321,0,0,-$J$6)))","v":0.12560904033823905},null,"Long",{"$error":"#N/A"},{"$error":"#N/A"},null,1,0,"",null,1,null,805,275313.23999999929,null,null,null,null,null,null,null,null,null,null,null,null,null,null,null,null,null,null,null,{"$f":"IF(NOT($AS3321=$AS3322),ROW(),\"\")","v":""},{"$f":"IF(NOT(AS3321=AS3322),AS3322,\"\")","v":""},{"$f":"INDEX($AB$15:$AM$15,MATCH($AS3321,$AB$11:$AM$11,0))","v":"out"},{"$f":"LEFT(AT3321,4)","v":"2012"},{"$f":"LEFT(B3321,6)","v":"201212"}]
[null,{"$f":"'Market Data'!B3308","v":20121217},{"$f":"'Market Data'!C3308","v":7760},{"$f":"'Market Data'!D3308","v":7778.5},{"$f":"'Market Data'!E3308","v":7715},{"$f":"'Market Data'!F3308","v":7749},null,3304,{"$f":"IF($H3322<($J$6+1),\"\",PFE(OFFSET($F3322,0,0,-$J$6)))","v":0.14630480932111908},null,"Long",{"$error":"#N/A"},{"$error":"#N/A"},null,1,0,"",null,1,null,157.5,275470.73999999929,null,null,null,null,null,null,null,null,null,null,null,null,null,null,null,null,null,null,null,{"$f":"IF(NOT($AS3322=$AS3323),ROW(),\"\")","v":""},{"$f":"IF(NOT(AS3322=AS3323),AS3323,\"\")","v":""},{"$f":"INDEX($AB$15:$AM$15,MATCH($AS3322,$AB$11:$AM$11,0))","v":"out"},{"$f":"LEFT(AT3322,4)","v":"2012"},{"$f":"LEFT(B3322,6)","v":"201212"}]
[null,{"$f":"'Market Data'!B3309","v":20121218},{"$f":"'Market Data'!C3309","v":7791.5},{"$f":"'Market Data'!D3309","v":7823.5},{"$f":"'Market Data'!E3309","v":7774.5},{"$f":"'Market Data'!F3309","v":7811},null,3305,{"$f":"IF($H3323<($J$6+1),\"\",PFE(OFFSET($F3323,0,0,-$J$6)))","v":0.1768065902621066},null,"Long",{"$error":"#N/A"},{"$error":"#N/A"},null,1,0,"",null,1,null,2170,277640.73999999929,null,null,null,null,null,null,null,null,null,null,null,null,null,null,null,null,null,null,null,{"$f":"IF(NOT($AS3323=$AS3324),ROW(),\"\")","v":""},{"$f":"IF(NOT(AS3323=AS3324),AS3324,\"\")","v":""},{"$f":"INDEX($AB$15:$AM$15,MATCH($AS3323,$AB$11:$AM$11,0))","v":"out"},{"$f":"LEFT(AT3323,4)","v":"2012"},{"$f":"LEFT(B3323,6)","v":"201212"}]
[null,{"$f":"'Market Data'!B3310","v":20121219},{"$f":"'Market Data'!C3310","v":7823},{"$f":"'Market Data'!D3310","v":7831.5},{"$f":"'Market Data'!E3310","v":7804.5},{"$f":"'Market Data'!F3310","v":7822.5},null,3306,{"$f":"IF($H3324<($J$6+1),\"\",PFE(OFFSET($F3324,0,0,-$J$6)))","v":0.17608347305512362},null,"Long",{"$error":"#N/A"},{"$error":"#N/A"},null,1,0,"",null,1,null,402.5,278043.23999999929,null,null,null,null,null,null,null,null,null,null,null,null,null,null,null,null,null,null,null,{"$f":"IF(NOT($AS3324=$AS3325),ROW(),\"\")","v":""},{"$f":"IF(NOT(AS3324=AS3325),AS3325,\"\")","v":""},{"$f":"INDEX($AB$15:$AM$15,MATCH($AS3324,$AB$11:$AM$11,0))","v":"out"},{"$f":"LEFT(AT3324,4)","v":"2012"},{"$f":"LEFT(B3324,6)","v":"201212"}]
[null,{"$f":"'Market Data'!B3311","v":20121220},{"$f":"'Market Data'!C3311","v":7796.5},{"$f":"'Market Data'!D3311","v":7845.5},{"$f":"'Market Data'!E3311","v":7787},{"$f":"'Market Data'!F3311","v":7823.5},null,3307,{"$f":"IF($H3325<($J$6+1),\"\",PFE(OFFSET($F3325,0,0,-$J$6)))","v":0.16220863871505681},null,"Long",{"$error":"#N/A"},{"$error":"#N/A"},null,1,0,"",null,1,null,35,278078.23999999929,null,null,null,null,null,null,null,null,null,null,null,null,null,null,null,null,null,null,null,{"$f":"IF(NOT($AS3325=$AS3326),ROW(),\"\")","v":""},{"$f":"IF(NOT(AS3325=AS3326),AS3326,\"\")","v":""},{"$f":"INDEX($AB$15:$AM$15,MATCH($AS3325,$AB$11:$AM$11,0))","v":"out"},{"$f":"LEFT(AT3325,4)","v":"2012"},{"$f":"LEFT(B3325,6)","v":"201212"}]
[null,{"$f":"'Market Data'!B3312","v":20121221},{"$f":"'Market Data'!C3312","v":7759.5},{"$f":"'Market Data'!D3312","v":7809.5},{"$f":"'Market Data'!E3312","v":7747},{"$f":"'Market Data'!F3312","v":7795},null,3308,{"$f":"IF($H3326<($J$6+1),\"\",PFE(OFFSET($F3326,0,0,-$J$6)))","v":0.16607992524677681},null,"Long",{"$error":"#N/A"},{"$error":"#N/A"},null,1,0,"",null,1,null,-997.5,277080.73999999929,null,null,null,null,null,null,null,null,null,null,null,null,null,null,null,null,null,null,null,{"$f":"IF(NOT($AS3326=$AS3327),ROW(),\"\")","v":""},{"$f":"IF(NOT(AS3326=AS3327),AS3327,\"\")","v":""},{"$f":"INDEX($AB$15:$AM$15,MATCH($AS3326,$AB$11:$AM$11,0))","v":"out"},{"$f":"LEFT(AT3326,4)","v":"2012"},{"$f":"LEFT(B3326,6)","v":"201212"}]
[null,{"$f":"'Market Data'!B3313","v":20121227},{"$f":"'Market Data'!C3313","v":7773},{"$f":"'Market Data'!D3313","v":7827},{"$f":"'Market Data'!E3313","v":7771.5},{"$f":"'Market Data'!F3313","v":7799},null,3309,{"$f":"IF($H3327<($J$6+1),\"\",PFE(OFFSET($F3327,0,0,-$J$6)))","v":0.16768202118351058},null,"Long",{"$error":"#N/A"},{"$error":"#N/A"},null,1,0,"",null,1,null,140,277220.73999999929,null,null,null,null,null,null,null,null,null,null,null,null,null,null,null,null,null,null,null,{"$f":"IF(NOT($AS3327=$AS3328),ROW(),\"\")","v":""},{"$f":"IF(NOT(AS3327=AS3328),AS3328,\"\")","v":""},{"$f":"INDEX($AB$15:$AM$15,MATCH($AS3327,$AB$11:$AM$11,0))","v":"out"},{"$f":"LEFT(AT3327,4)","v":"2012"},{"$f":"LEFT(B3327,6)","v":"201212"}]
[null,{"$f":"'Market Data'!B3314","v":20121228},{"$f":"'Market Data'!C3314","v":7808},{"$f":"'Market Data'!D3314","v":7817},{"$f":"'Market Data'!E3314","v":7753},{"$f":"'Market Data'!F3314","v":7760},null,3310,{"$f":"IF($H3328<($J$6+1),\"\",PFE(OFFSET($F3328,0,0,-$J$6)))","v":0.18422957549209829},null,"Long",{"$error":"#N/A"},{"$error":"#N/A"},null,1,0,"",null,1,null,-1365,275855.73999999929,null,null,null,null,null,null,null,null,null,null,null,null,null,null,null,null,null,null,null,{"$f":"IF(NOT($AS3328=$AS3329),ROW(),\"\")","v":3328},{"$f":"IF(NOT(AS3328=AS3329),AS3329,\"\")","v":"2013"},{"$f":"INDEX($AB$15:$AM$15,MATCH($AS3328,$AB$11:$AM$11,0))","v":"out"},{"$f":"LEFT(AT3328,4)","v":"2012"},{"$f":"LEFT(B3328,6)","v":"201212"}]
[null,{"$f":"'Market Data'!B3315","v":20130102},{"$f":"'Market Data'!C3315","v":7886},{"$f":"'Market Data'!D3315","v":7947},{"$f":"'Market Data'!E3315","v":7868.5},{"$f":"'Market Data'!F3315","v":7920},null,3311,{"$f":"IF($H3329<($J$6+1),\"\",PFE(OFFSET($F3329,0,0,-$J$6)))","v":0.20447697464127107},null,"Long",{"$error":"#N/A"},{"$error":"#N/A"},null,1,0,"",null,1,null,5600,281455.73999999929,null,null,null,null,null,null,null,null,null,null,null,null,null,null,null,null,null,null,null,{"$f":"IF(NOT($AS3329=$AS3330),ROW(),\"\")","v":3329},{"$f":"IF(NOT(AS3329=AS3330),AS3330,\"\")","v":0},{"$f":"INDEX($AB$15:$AM$15,MATCH($AS3329,$AB$11:$AM$11,0))","v":{"$error":"#N/A"}},{"$f":"LEFT(AT3329,4)","v":"2013"},{"$f":"LEFT(B3329,6)","v":"201301"}]